{"text_format":"1","workbook":"xlsx","n_sheets":14,"sheets":["Uebersicht","Jan","Feb","Mrz","Apr","Mai","Jun","Jul","Aug","Sep","Okt","Nov","Dez","X"],"not_rendered":{"charts":0,"images":0,"macros":1,"external_links":0,"defined_names":107,"comments":1,"pivot_tables":0},"unopened":[],"bounds":{"document_bytes":16777216,"sheet_cells":100000,"rows_first":2000,"rows_last":500,"rows_between":2000,"halvings":0,"cell_chars":16384,"cell_head_chars":4096},"cells_cut":0,"cells_raw":0,"read":"whole","date_system":"1900"}

{"sheet":"Uebersicht","index":0,"n_rows":43,"n_cols":66,"rows_kept":43,"cut":false,"hidden":false,"merged":[[6,8,12,8],[35,3,38,6],[33,0,33,8],[3,6,4,6],[8,3,8,4],[9,3,9,4],[13,6,14,6],[11,6,12,6],[9,6,10,6],[10,3,10,4],[14,3,14,4],[13,3,13,4],[12,3,12,4],[11,3,11,4],[3,0,4,0],[3,1,4,2],[2,1,2,2],[0,47,0,48],[0,52,0,56],[0,57,0,61],[4,3,4,4],[3,3,3,4],[2,8,4,8]]}
["Zeiterfassungsbogen für wissenschaftliche Hilfskräfte",null,null,null,null,null,null,{"$f":"IF(I1=\"\",\"\",\"Jahr\")","v":""},{"$f":"IF(C7=\"\",\"\",YEAR(C7))","v":""},null,null,null,null,null,null,null,null,null,null,null,null,null,null,null,null,null,null,null,null,null,null,null,null,null,null,null,null,null,null,null,null,null,null,null,null,null,"Monat","Stunden",null,"Urlaub",null,null,"bis 14.",null,null,null,null,"ab 15."]
[null,null,null,null,null,null,null,null,null,null,null,null,null,null,null,null,null,null,null,null,null,null,null,null,null,null,null,null,null,null,null,null,null,null,null,null,null,null,null,null,null,null,null,null,null,null,null,"bis 14.","ab 15.",null,null,null,"Mo","Di","Mi","Do","Fr","Mo","Di","Mi","Do","Fr",null,null,null,"Incoming / Exchange"]
["Name","Vorname",null,"Struktureinheit/en",null,"Stunden","Übertrag",null,{"$f":"IF(OR(A4=\"\",B4=\"\",D4=\"\",F4=\"\",C7=\"\",C8=\"\"),\"Bitte Felder ausfüllen zur Aktivierung!\",\"\")","v":"Bitte Felder ausfüllen zur Aktivierung!"},null,null,null,null,null,null,null,null,1,1.5,2,2.5,3,3.5,4,4.5,5,5.5,6,6.5,7,7.5,8,8.5,9,9.5,10,10.5,11,11.5,12,null,null,null,null,null,null,1,{"$f":"SUM(SUMIFS($AQ$5:$AQ$28,$AO$5:$AO$28,AU3),SUMIFS($AP$5:$AP$28,$AO$5:$AO$28,AU3))","v":0},{"$f":"SUM(SUMIFS($AP$5:$AP$28,$AO$5:$AO$28,AU3+0.5),SUMIFS($AQ$5:$AQ$28,$AO$5:$AO$28,AU3+0.5))","v":0},{"$f":"IF(AND(C7=\"\",C8=\"\"),\"\",SUM(AT4:AT22))","v":""},1,{"$f":"SUM(BA3:BE3)","v":0},{"$f":"IF(AV3=0,0,IF(C36=\"\",IF(Jan!T4=\"\",0,Jan!T4),C36))","v":0},{"$f":"IF(AV3=0,0,IF(C37=\"\",IF(Jan!T5=\"\",0,Jan!T5),C37))","v":0},{"$f":"IF(AV3=0,0,IF(C38=\"\",IF(Jan!T6=\"\",0,Jan!T6),C38))","v":0},{"$f":"IF(AV3=0,0,IF(C39=\"\",IF(Jan!T7=\"\",0,Jan!T7),C39))","v":0},{"$f":"IF(AV3=0,0,IF(C40=\"\",IF(Jan!T8=\"\",0,Jan!T8),C40))","v":0},{"$f":"IF(AW3=0,0,IF(AV3=AW3,0,Jan!T12))","v":0},{"$f":"IF(AW3=0,0,IF(AV3=AW3,0,Jan!T13))","v":0},{"$f":"IF(AW3=0,0,IF(AW3=AV3,0,Jan!T14))","v":0},{"$f":"IF(AW3=0,0,IF(AV3=AW3,0,Jan!T15))","v":0},{"$f":"IF(AW3=0,0,IF(AW3=AV3,0,Jan!T16))","v":0},1,{"$f":"IF(AV3=AW3,AZ3,SUM(BF3:BJ3))","v":0},{"$f":"TEXT(DATE($I$1,AU3,1),\"MMM\")","v":{"$error":"#VALUE!"}},"Incoming / Degree"]
[null,null,null,null,null,null,null,null,null,null,{"$f":"LOOKUP(Jul!C6,K7:K15,M7:M14)","v":{"$error":"#VALUE!"}},null,null,null,null,null,1,0.25,{"$f":"((T4-R4)/2)+R4","v":0.375},0.5,{"$f":"((V4-T4)/2)+T4","v":0.75},1,{"$f":"((X4-V4)/2)+V4","v":1.125},1.25,{"$f":"((Z4-X4)/2)+X4","v":1.375},1.5,{"$f":"((AB4-Z4)/2)+Z4","v":1.75},2,{"$f":"((AD4-AB4)/2)+AB4","v":2.125},2.25,{"$f":"((AF4-AD4)/2)+AD4","v":2.375},2.5,{"$f":"((AH4-AF4)/2)+AF4","v":2.75},3,{"$f":"((AJ4-AH4)/2)+AH4","v":3.125},3.25,{"$f":"((AL4-AJ4)/2)+AJ4","v":3.375},3.5,{"$f":"((AN4-AL4)/2)+AL4","v":3.75},4,"M","Stunden",null,1,{"$f":"(COUNTIFS($AW$3:$AW$14,Q4)*0.5)+(COUNTIFS($AV$3:$AV$14,Q4)*0.5)","v":0},{"$f":"IF(ISNA(INDEX($R$4:$AN$22,MATCH(AR4,$Q$4:$Q$22,0),MATCH(AS4,$R$3:$AN$3,0))),\"\",INDEX($R$4:$AN$22,MATCH(AR4,$Q$4:$Q$22,0),MATCH(AS4,$R$3:$AN$3,0)))","v":""},2,{"$f":"SUM(SUMIFS($AQ$5:$AQ$28,$AO$5:$AO$28,AU4),SUMIFS($AP$5:$AP$28,$AO$5:$AO$28,AU4))","v":0},{"$f":"SUM(SUMIFS($AP$5:$AP$28,$AO$5:$AO$28,AU4+0.5),SUMIFS($AQ$5:$AQ$28,$AO$5:$AO$28,AU4+0.5))","v":0},null,{"$f":"IF(AND(AV4=AV3,BA4=BA3,BB4=BB3,BC4=BC3,BD4=BD3,BE4=BE3),AY3,AY3+1)","v":{"$error":"#VALUE!"}},{"$f":"SUM(BA4:BE4)","v":{"$error":"#VALUE!"}},{"$f":"IF(INDIRECT(\"'\"&$BM4&\"'!\"&\"BK$15\")>0,INDIRECT(\"'\"&$BM4&\"'!\"&\"BK$15\"),IF($AV3=$AV4,BA$3,IF($AV4=$AW3,BF3,0)))","v":{"$error":"#VALUE!"}},{"$f":"IF(INDIRECT(\"'\"&$BM4&\"'!\"&\"BK$15\")>0,INDIRECT(\"'\"&$BM4&\"'!\"&\"BK$15\"),IF($AV3=$AV4,BB$3,IF($AV4=$AW3,BG3,0)))","v":{"$error":"#VALUE!"}},{"$error":"#VALUE!"},{"$error":"#VALUE!"},{"$error":"#VALUE!"},{"$f":"IF(AW4=0,0,IF(INDIRECT(\"'\"&$BM4&\"'!\"&\"BE$15\")>0,INDIRECT(\"'\"&$BM4&\"'!\"&\"BE$15\"),IF(AV4=AW4,0,IF(AND(SUM(BF3:BJ3)>0,AW3=AW4),BF3,IF($AW4=$AV$3,BA3,IF(AND(SUM($AV$3:$AV4)=0,AW3=0),$C$36,0))))))","v":0},{"$f":"IF(AX4=0,0,IF(INDIRECT(\"'\"&$BM4&\"'!\"&\"BE$15\")>0,INDIRECT(\"'\"&$BM4&\"'!\"&\"BE$15\"),IF(AW4=AX4,0,IF(AND(SUM(BG3:BK3)>0,AX3=AX4),BG3,IF($AW4=$AV$3,BB3,IF(AND(SUM($AV$3:$AV4)=0,AX3=0),$C$36,0))))))","v":0},{"$f":"IF(AY4=0,0,IF(INDIRECT(\"'\"&$BM4&\"'!\"&\"BE$15\")>0,INDIRECT(\"'\"&$BM4&\"'!\"&\"BE$15\"),IF(AX4=AY4,0,IF(AND(SUM(BH3:BL3)>0,AY3=AY4),BH3,IF($AW4=$AV$3,BC3,IF(AND(SUM($AV$3:$AV4)=0,AY3=0),$C$36,0))))))","v":{"$error":"#VALUE!"}},{"$f":"IF(AZ4=0,0,IF(INDIRECT(\"'\"&$BM4&\"'!\"&\"BE$15\")>0,INDIRECT(\"'\"&$BM4&\"'!\"&\"BE$15\"),IF(AY4=AZ4,0,IF(AND(SUM(BI3:BM3)>0,AZ3=AZ4),BI3,IF($AW4=$AV$3,BD3,IF(AND(SUM($AV$3:$AV4)=0,AZ3=0),$C$36,0))))))","v":{"$error":"#VALUE!"}},{"$f":"IF(BA4=0,0,IF(INDIRECT(\"'\"&$BM4&\"'!\"&\"BE$15\")>0,INDIRECT(\"'\"&$BM4&\"'!\"&\"BE$15\"),IF(AZ4=BA4,0,IF(AND(SUM(BJ3:BN3)>0,BA3=BA4),BJ3,IF($AW4=$AV$3,BE3,IF(AND(SUM($AV$3:$AV4)=0,BA3=0),$C$36,0))))))","v":{"$error":"#VALUE!"}},{"$f":"IF(AND(AW4=AW3,OR(BF4=BF3,BG4=BG3,BH4=BH3,BI4=BI3,BJ4=BJ3),BL4=BL3),BK3,BK3+1)","v":{"$error":"#VALUE!"}},{"$f":"IF(AV4=AW4,AZ4,SUM(BF4:BJ4))","v":{"$error":"#VALUE!"}},{"$f":"TEXT(DATE($I$1,AU4,1),\"MMM\")","v":{"$error":"#VALUE!"}},"Welcome Center"]
[null,null,null,null,null,null,null,null,null,null,null,null,null,null,null,null,2,0.5,{"$f":"((T5-R5)/2)+R5","v":0.875},1.25,{"$f":"((V5-T5)/2)+T5","v":1.625},2,{"$f":"((X5-V5)/2)+V5","v":2.25},2.5,{"$f":"((Z5-X5)/2)+X5","v":2.875},3.25,{"$f":"((AB5-Z5)/2)+Z5","v":3.625},4,{"$f":"((AD5-AB5)/2)+AB5","v":4.125},4.25,{"$f":"((AF5-AD5)/2)+AD5","v":4.75},5.25,{"$f":"((AH5-AF5)/2)+AF5","v":5.625},6,{"$f":"((AJ5-AH5)/2)+AH5","v":6.25},6.5,{"$f":"((AL5-AJ5)/2)+AJ5","v":6.875},7.25,{"$f":"((AN5-AL5)/2)+AL5","v":7.625},8,1,{"$f":"IF(AND($K$14<=AO5,$K$15>=AO5),$F$14,IF(AND($K$12<=AO5,$K$13>=AO5),$F$12,IF(AND($K$10<=AO5,$K$11>=AO5),$F$10,IF(AND($K$7<=AO5,$K$8>=AO5),$F$4,0))))","v":0},{"$f":"IF(AND($K$14<=AO5,$K$15>=AO5),$F$15,IF(AND($K$12<=AO5,$K$13>=AO5),$F$13,IF(AND($K$10<=AO5,$K$11>=AO5),$F$11,IF(AND($K$7<=AO5,$K$8>=AO5),$F$5,0))))","v":0},2,0,"",3,0,0,null,{"$f":"IF(AND(AV5=AV4,BA5=BA4,BB5=BB4,BC5=BC4,BD5=BD4,BE5=BE4),AY4,AY4+1)","v":{"$error":"#VALUE!"}},{"$error":"#VALUE!"},{"$f":"IF(INDIRECT(\"'\"&$BM5&\"'!\"&\"AZ15\")>0,INDIRECT(\"'\"&$BM5&\"'!\"&\"AZ15\"),IF(SUM($AV$3:$AV4,$AW$3:$AW4)=0,$C$36,IF($AV5=$AV4,BA4,IF(MATCH(AV5,$AV$3:$AV4,0)=1,INDEX($BA$3:$BE4,MATCH(MAX(IF($AV$3:$AV4=AV5,$AW$3:$AW4)),$AW$3:$AW4,0),1),IF(MATCH(AV5,$AW$3:$AW4,0)=1,INDEX($BF$3:$BJ4,MATCH(MAX(IF($AW$3:$AW4=$AV5,$AW$3:$AW4)),$AW$3:$AW4,0),1),0)))))","v":{"$error":"#VALUE!"}},{"$f":"IF(INDIRECT(\"'\"&$BM5&\"'!\"&\"BA15\")>0,INDIRECT(\"'\"&$BM5&\"'!\"&\"BA15\"),IF(SUM($AV$3:$AV4,$AW$3:$AW4)=0,$C$37,IF($AV5=$AV4,BB4,IF(MATCH(AV5,$AV$3:$AV4,0)=1,INDEX($BA$3:$BE4,MATCH(MAX(IF($AV$3:$AV4=AV5,$AW$3:$AW4)),$AW$3:$AW4,0),2),IF(MATCH(AV5,$AW$3:$AW4,0)=1,INDEX($BF$3:$BJ4,MATCH(MAX(IF($AW$3:$AW4=AV5,$AW$3:$AW4)),$AW$3:$AW4,0),2),0)))))","v":{"$error":"#VALUE!"}},{"$f":"IF(INDIRECT(\"'\"&$BM5&\"'!\"&\"BB15\")>0,INDIRECT(\"'\"&$BM5&\"'!\"&\"BB15\"),IF(SUM($AV$3:$AV4,$AW$3:$AW4)=0,$C$38,IF($AV5=$AV4,BC4,IF(MATCH(AV5,$AV$3:$AV4,0)=1,INDEX($BA$3:$BE4,MATCH(MAX(IF($AV$3:$AV4=AV5,$AW$3:$AW4)),$AW$3:$AW4,0),3),IF(MATCH(AV5,$AW$3:$AW4,0)=1,INDEX($BF$3:$BJ4,MATCH(MAX(IF($AW$3:$AW4=AV5,$AW$3:$AW4)),$AW$3:$AW4,0),3),0)))))","v":{"$error":"#VALUE!"}},{"$f":"IF(INDIRECT(\"'\"&$BM5&\"'!\"&\"BC15\")>0,INDIRECT(\"'\"&$BM5&\"'!\"&\"BC15\"),IF(SUM($AV$3:$AV4,$AW$3:$AW4)=0,$C$39,IF($AV5=$AV4,BD4,IF(MATCH(AV5,$AV$3:$AV4,0)=1,INDEX($BA$3:$BE4,MATCH(MAX(IF($AV$3:$AV4=AV5,$AW$3:$AW4)),$AW$3:$AW4,0),4),IF(MATCH(AV5,$AW$3:$AW4,0)=1,INDEX($BF$3:$BJ4,MATCH(MAX(IF($AW$3:$AW4=AV5,$AW$3:$AW4)),$AW$3:$AW4,0),4),0)))))","v":{"$error":"#VALUE!"}},{"$f":"IF(INDIRECT(\"'\"&$BM5&\"'!\"&\"BD15\")>0,INDIRECT(\"'\"&$BM5&\"'!\"&\"BD15\"),IF(SUM($AV$3:$AV4,$AW$3:$AW4)=0,$C$40,IF($AV5=$AV4,BE4,IF(MATCH(AV5,$AV$3:$AV4,0)=1,INDEX($BA$3:$BE4,MATCH(MAX(IF($AV$3:$AV4=AV5,$AW$3:$AW4)),$AW$3:$AW4,0),5),IF(MATCH(AV5,$AW$3:$AW4,0)=1,INDEX($BF$3:$BG4,MATCH(MAX(IF($AW$3:$AW4=AV5,$AW$3:$AW4)),$AW$3:$AW4,0),5),0)))))","v":{"$error":"#VALUE!"}},{"$f":"IF(INDIRECT(\"'\"&$BM5&\"'!\"&\"BE$15\")>0,INDIRECT(\"'\"&$BM5&\"'!\"&\"BE$15\"),IF(SUM($AV$3:$AV4,$AW$3:$AW4)=0,$C$36,IF($AW5=$AV5,0,IF($AW4=$AW5,BF4,IF(MATCH($AW5,$AW$3:$AW4,0)=1,INDEX($BF$3:$BJ4,MATCH(MAX(IF($AW$3:$AW4=$AW5,$AW$3:$AW4)),$AW$3:$AW4,0),1),IF(MATCH($AW5,$AV$3:$AV3,0)=1,INDEX($BA$3:$BE4,MATCH(MAX(IF($AV$3:$AV4=$AW5,$AV$3:$AV4)),$AV$3:$AV4,0),1),0))))))","v":{"$error":"#VALUE!"}},{"$f":"IF(INDIRECT(\"'\"&$BM5&\"'!\"&\"BF$15\")>0,INDIRECT(\"'\"&$BM5&\"'!\"&\"BF$15\"),IF(SUM($AV$3:$AV4,$AW$3:$AW4)=0,$C$37,IF($AW5=$AV5,0,IF($AW4=$AW5,BG4,IF(MATCH($AW5,$AW$3:$AW4,0)=1,INDEX($BF$3:$BJ4,MATCH(MAX(IF($AW$3:$AW4=$AW5,$AW$3:$AW4)),$AW$3:$AW4,0),2),IF(MATCH($AW5,$AV$3:$AV3,0)=1,INDEX($BA$3:$BE4,MATCH(MAX(IF($AV$3:$AV4=$AW5,$AV$3:$AV4)),$AV$3:$AV4,0),2),0))))))","v":{"$error":"#VALUE!"}},{"$f":"IF(INDIRECT(\"'\"&$BM5&\"'!\"&\"BG$15\")>0,INDIRECT(\"'\"&$BM5&\"'!\"&\"BG$15\"),IF(SUM($AV$3:$AV4,$AW$3:$AW4)=0,$C$38,IF($AW5=$AV5,0,IF($AW4=$AW5,BH4,IF(MATCH($AW5,$AW$3:$AW4,0)=1,INDEX($BF$3:$BJ4,MATCH(MAX(IF($AW$3:$AW4=$AW5,$AW$3:$AW4)),$AW$3:$AW4,0),3),IF(MATCH($AW5,$AV$3:$AV3,0)=1,INDEX($BA$3:$BE4,MATCH(MAX(IF($AV$3:$AV4=$AW5,$AV$3:$AV4)),$AV$3:$AV4,0),3),0))))))","v":{"$error":"#VALUE!"}},{"$f":"IF(INDIRECT(\"'\"&$BM5&\"'!\"&\"BH$15\")>0,INDIRECT(\"'\"&$BM5&\"'!\"&\"BH$15\"),IF(SUM($AV$3:$AV4,$AW$3:$AW4)=0,$C$39,IF($AW5=$AV5,0,IF($AW4=$AW5,BI4,IF(MATCH($AW5,$AW$3:$AW4,0)=1,INDEX($BF$3:$BJ4,MATCH(MAX(IF($AW$3:$AW4=$AW5,$AW$3:$AW4)),$AW$3:$AW4,0),4),IF(MATCH($AW5,$AV$3:$AV3,0)=1,INDEX($BA$3:$BE4,MATCH(MAX(IF($AV$3:$AV4=$AW5,$AV$3:$AV4)),$AV$3:$AV4,0),4),0))))))","v":{"$error":"#VALUE!"}},{"$f":"IF(INDIRECT(\"'\"&$BM5&\"'!\"&\"BI$15\")>0,INDIRECT(\"'\"&$BM5&\"'!\"&\"BI$15\"),IF(SUM($AV$3:$AV4,$AW$3:$AW4)=0,$C$40,IF($AW5=$AV5,0,IF($AW4=$AW5,BJ4,IF(MATCH($AW5,$AW$3:$AW4,0)=1,INDEX($BF$3:$BJ4,MATCH(MAX(IF($AW$3:$AW4=$AW5,$AW$3:$AW4)),$AW$3:$AW4,0),5),IF(MATCH($AW5,$AV$3:$AV3,0)=1,INDEX($BA$3:$BE4,MATCH(MAX(IF($AV$3:$AV4=$AW5,$AV$3:$AV4)),$AV$3:$AV4,0),5),0))))))","v":{"$error":"#VALUE!"}},{"$f":"IF(AND(AW5=AW4,OR(BF5=BF4,BG5=BG4,BH5=BH4,BI5=BI4,BJ5=BJ4),BL5=BL4),BK4,BK4+1)","v":{"$error":"#VALUE!"}},{"$f":"IF(AV5=AW5,AZ5,SUM(BF5:BJ5))","v":{"$error":"#VALUE!"}},{"$error":"#VALUE!"},"Outgoing / Praktika"]
[null,null,null,null,null,null,null,null,"Bitte bachten:",null,null,null,null,null,null,null,3,1,1.5,2,2.5,3,3.5,4,4.5,5,5.5,6,6.5,7,7.5,8,8.5,9,9.5,10,10.5,11,11.5,12,1.5,{"$f":"IF(AND($K$14<=AO6,$K$15>=AO6),$F$14,IF(AND($K$12<=AO6,$K$13>=AO6),$F$12,IF(AND($K$10<=AO6,$K$11>=AO6),$F$10,IF(AND($K$7<=AO6,$K$8>=AO6),$F$4,0))))","v":0},{"$f":"IF(AND($K$14<=AO6,$K$15>=AO6),$F$15,IF(AND($K$12<=AO6,$K$13>=AO6),$F$13,IF(AND($K$10<=AO6,$K$11>=AO6),$F$11,IF(AND($K$7<=AO6,$K$8>=AO6),$F$5,0))))","v":0},3,0,"",4,0,0,null,{"$f":"IF(AND(AV6=AV5,BA6=BA5,BB6=BB5,BC6=BC5,BD6=BD5,BE6=BE5),AY5,AY5+1)","v":{"$error":"#VALUE!"}},{"$error":"#VALUE!"},{"$f":"IF(INDIRECT(\"'\"&$BM6&\"'!\"&\"AZ15\")>0,INDIRECT(\"'\"&$BM6&\"'!\"&\"AZ15\"),IF(SUM($AV$3:$AV5,$AW$3:$AW5)=0,$C$36,IF($AV6=$AV5,BA5,IF(MATCH(AV6,$AV$3:$AV5,0)=1,INDEX($BA$3:$BE5,MATCH(MAX(IF($AV$3:$AV5=AV6,$AW$3:$AW5)),$AW$3:$AW5,0),1),IF(MATCH(AV6,$AW$3:$AW5,0)=1,INDEX($BF$3:$BJ5,MATCH(MAX(IF($AW$3:$AW5=$AV6,$AW$3:$AW5)),$AW$3:$AW5,0),1),0)))))","v":{"$error":"#VALUE!"}},{"$f":"IF(INDIRECT(\"'\"&$BM6&\"'!\"&\"BA15\")>0,INDIRECT(\"'\"&$BM6&\"'!\"&\"BA15\"),IF(SUM($AV$3:$AV5,$AW$3:$AW5)=0,$C$37,IF($AV6=$AV5,BB5,IF(MATCH(AV6,$AV$3:$AV5,0)=1,INDEX($BA$3:$BE5,MATCH(MAX(IF($AV$3:$AV5=AV6,$AW$3:$AW5)),$AW$3:$AW5,0),2),IF(MATCH(AV6,$AW$3:$AW5,0)=1,INDEX($BF$3:$BJ5,MATCH(MAX(IF($AW$3:$AW5=AV6,$AW$3:$AW5)),$AW$3:$AW5,0),2),0)))))","v":{"$error":"#VALUE!"}},{"$f":"IF(INDIRECT(\"'\"&$BM6&\"'!\"&\"BB15\")>0,INDIRECT(\"'\"&$BM6&\"'!\"&\"BB15\"),IF(SUM($AV$3:$AV5,$AW$3:$AW5)=0,$C$38,IF($AV6=$AV5,BC5,IF(MATCH(AV6,$AV$3:$AV5,0)=1,INDEX($BA$3:$BE5,MATCH(MAX(IF($AV$3:$AV5=AV6,$AW$3:$AW5)),$AW$3:$AW5,0),3),IF(MATCH(AV6,$AW$3:$AW5,0)=1,INDEX($BF$3:$BJ5,MATCH(MAX(IF($AW$3:$AW5=AV6,$AW$3:$AW5)),$AW$3:$AW5,0),3),0)))))","v":{"$error":"#VALUE!"}},{"$f":"IF(INDIRECT(\"'\"&$BM6&\"'!\"&\"BC15\")>0,INDIRECT(\"'\"&$BM6&\"'!\"&\"BC15\"),IF(SUM($AV$3:$AV5,$AW$3:$AW5)=0,$C$39,IF($AV6=$AV5,BD5,IF(MATCH(AV6,$AV$3:$AV5,0)=1,INDEX($BA$3:$BE5,MATCH(MAX(IF($AV$3:$AV5=AV6,$AW$3:$AW5)),$AW$3:$AW5,0),4),IF(MATCH(AV6,$AW$3:$AW5,0)=1,INDEX($BF$3:$BJ5,MATCH(MAX(IF($AW$3:$AW5=AV6,$AW$3:$AW5)),$AW$3:$AW5,0),4),0)))))","v":{"$error":"#VALUE!"}},{"$f":"IF(INDIRECT(\"'\"&$BM6&\"'!\"&\"BD15\")>0,INDIRECT(\"'\"&$BM6&\"'!\"&\"BD15\"),IF(SUM($AV$3:$AV5,$AW$3:$AW5)=0,$C$40,IF($AV6=$AV5,BE5,IF(MATCH(AV6,$AV$3:$AV5,0)=1,INDEX($BA$3:$BE5,MATCH(MAX(IF($AV$3:$AV5=AV6,$AW$3:$AW5)),$AW$3:$AW5,0),5),IF(MATCH(AV6,$AW$3:$AW5,0)=1,INDEX($BF$3:$BG5,MATCH(MAX(IF($AW$3:$AW5=AV6,$AW$3:$AW5)),$AW$3:$AW5,0),5),0)))))","v":{"$error":"#VALUE!"}},{"$f":"IF(INDIRECT(\"'\"&$BM6&\"'!\"&\"BE$15\")>0,INDIRECT(\"'\"&$BM6&\"'!\"&\"BE$15\"),IF(SUM($AV$3:$AV5,$AW$3:$AW5)=0,$C$36,IF($AW6=$AV6,0,IF($AW5=$AW6,BF5,IF(MATCH($AW6,$AW$3:$AW5,0)=1,INDEX($BF$3:$BJ5,MATCH(MAX(IF($AW$3:$AW5=$AW6,$AW$3:$AW5)),$AW$3:$AW5,0),1),IF(MATCH($AW6,$AV$3:$AV4,0)=1,INDEX($BA$3:$BE5,MATCH(MAX(IF($AV$3:$AV5=$AW6,$AV$3:$AV5)),$AV$3:$AV5,0),1),0))))))","v":{"$error":"#VALUE!"}},{"$f":"IF(INDIRECT(\"'\"&$BM6&\"'!\"&\"BF$15\")>0,INDIRECT(\"'\"&$BM6&\"'!\"&\"BF$15\"),IF(SUM($AV$3:$AV5,$AW$3:$AW5)=0,$C$37,IF($AW6=$AV6,0,IF($AW5=$AW6,BG5,IF(MATCH($AW6,$AW$3:$AW5,0)=1,INDEX($BF$3:$BJ5,MATCH(MAX(IF($AW$3:$AW5=$AW6,$AW$3:$AW5)),$AW$3:$AW5,0),2),IF(MATCH($AW6,$AV$3:$AV4,0)=1,INDEX($BA$3:$BE5,MATCH(MAX(IF($AV$3:$AV5=$AW6,$AV$3:$AV5)),$AV$3:$AV5,0),2),0))))))","v":{"$error":"#VALUE!"}},{"$f":"IF(INDIRECT(\"'\"&$BM6&\"'!\"&\"BG$15\")>0,INDIRECT(\"'\"&$BM6&\"'!\"&\"BG$15\"),IF(SUM($AV$3:$AV5,$AW$3:$AW5)=0,$C$38,IF($AW6=$AV6,0,IF($AW5=$AW6,BH5,IF(MATCH($AW6,$AW$3:$AW5,0)=1,INDEX($BF$3:$BJ5,MATCH(MAX(IF($AW$3:$AW5=$AW6,$AW$3:$AW5)),$AW$3:$AW5,0),3),IF(MATCH($AW6,$AV$3:$AV4,0)=1,INDEX($BA$3:$BE5,MATCH(MAX(IF($AV$3:$AV5=$AW6,$AV$3:$AV5)),$AV$3:$AV5,0),3),0))))))","v":{"$error":"#VALUE!"}},{"$f":"IF(INDIRECT(\"'\"&$BM6&\"'!\"&\"BH$15\")>0,INDIRECT(\"'\"&$BM6&\"'!\"&\"BH$15\"),IF(SUM($AV$3:$AV5,$AW$3:$AW5)=0,$C$39,IF($AW6=$AV6,0,IF($AW5=$AW6,BI5,IF(MATCH($AW6,$AW$3:$AW5,0)=1,INDEX($BF$3:$BJ5,MATCH(MAX(IF($AW$3:$AW5=$AW6,$AW$3:$AW5)),$AW$3:$AW5,0),4),IF(MATCH($AW6,$AV$3:$AV4,0)=1,INDEX($BA$3:$BE5,MATCH(MAX(IF($AV$3:$AV5=$AW6,$AV$3:$AV5)),$AV$3:$AV5,0),4),0))))))","v":{"$error":"#VALUE!"}},{"$f":"IF(INDIRECT(\"'\"&$BM6&\"'!\"&\"BI$15\")>0,INDIRECT(\"'\"&$BM6&\"'!\"&\"BI$15\"),IF(SUM($AV$3:$AV5,$AW$3:$AW5)=0,$C$40,IF($AW6=$AV6,0,IF($AW5=$AW6,BJ5,IF(MATCH($AW6,$AW$3:$AW5,0)=1,INDEX($BF$3:$BJ5,MATCH(MAX(IF($AW$3:$AW5=$AW6,$AW$3:$AW5)),$AW$3:$AW5,0),5),IF(MATCH($AW6,$AV$3:$AV4,0)=1,INDEX($BA$3:$BE5,MATCH(MAX(IF($AV$3:$AV5=$AW6,$AV$3:$AV5)),$AV$3:$AV5,0),5),0))))))","v":{"$error":"#VALUE!"}},{"$error":"#VALUE!"},{"$error":"#VALUE!"},{"$error":"#VALUE!"},"Outgoing / HSP"]
["Vertragslaufzeit Beginn:",null,null,"Dauer:",{"$f":"IF(C7=\"\",\"\",IF(P7>=17,O7+1,O7+0.5))","v":""},{"$f":"F4","v":0},null,null,"Vertragsende zur Mitte des Monats immer zum 14.\n\nBeginn zur Mitte des Monats immer zum 15.",{"$f":"IF(C7=\"\",\"\",IF(DAY(C7)=1,1,0.5))","v":""},{"$f":"IF(DAY(C7)=15,MONTH(C7)+0.5,MONTH(C7))","v":1},{"$f":"D4","v":0},{"$f":"IF(D5=\"\",D4,D5)","v":0},{"$f":"C8-C7","v":0},{"$f":"DATEDIF(C7,C8,\"ym\")","v":0},{"$f":"DATEDIF(C7,C8,\"md\")","v":0},4,1.25,1.875,2.5,3.25,4,4.625,5.25,5.875,6.5,7.25,8,8.625,9.25,9.875,10.5,11.25,12,12.625,13.25,13.875,14.5,15.25,16,2,0,{"$f":"IF(AND($K$14<=AO7,$K$15>=AO7),$F$15,IF(AND($K$12<=AO7,$K$13>=AO7),$F$13,IF(AND($K$10<=AO7,$K$11>=AO7),$F$11,IF(AND($K$7<=AO7,$K$8>=AO7),$F$5,0))))","v":0},4,0,"",5,0,0,null,{"$f":"IF(AND(AV7=AV6,BA7=BA6,BB7=BB6,BC7=BC6,BD7=BD6,BE7=BE6),AY6,AY6+1)","v":{"$error":"#VALUE!"}},{"$error":"#VALUE!"},{"$f":"IF(INDIRECT(\"'\"&$BM7&\"'!\"&\"AZ15\")>0,INDIRECT(\"'\"&$BM7&\"'!\"&\"AZ15\"),IF(SUM($AV$3:$AV6,$AW$3:$AW6)=0,$C$36,IF($AV7=$AV6,BA6,IF(MATCH(AV7,$AV$3:$AV6,0)=1,INDEX($BA$3:$BE6,MATCH(MAX(IF($AV$3:$AV6=AV7,$AW$3:$AW6)),$AW$3:$AW6,0),1),IF(MATCH(AV7,$AW$3:$AW6,0)=1,INDEX($BF$3:$BJ6,MATCH(MAX(IF($AW$3:$AW6=$AV7,$AW$3:$AW6)),$AW$3:$AW6,0),1),0)))))","v":{"$error":"#VALUE!"}},{"$f":"IF(INDIRECT(\"'\"&$BM7&\"'!\"&\"BA15\")>0,INDIRECT(\"'\"&$BM7&\"'!\"&\"BA15\"),IF(SUM($AV$3:$AV6,$AW$3:$AW6)=0,$C$37,IF($AV7=$AV6,BB6,IF(MATCH(AV7,$AV$3:$AV6,0)=1,INDEX($BA$3:$BE6,MATCH(MAX(IF($AV$3:$AV6=AV7,$AW$3:$AW6)),$AW$3:$AW6,0),2),IF(MATCH(AV7,$AW$3:$AW6,0)=1,INDEX($BF$3:$BJ6,MATCH(MAX(IF($AW$3:$AW6=AV7,$AW$3:$AW6)),$AW$3:$AW6,0),2),0)))))","v":{"$error":"#VALUE!"}},{"$f":"IF(INDIRECT(\"'\"&$BM7&\"'!\"&\"BB15\")>0,INDIRECT(\"'\"&$BM7&\"'!\"&\"BB15\"),IF(SUM($AV$3:$AV6,$AW$3:$AW6)=0,$C$38,IF($AV7=$AV6,BC6,IF(MATCH(AV7,$AV$3:$AV6,0)=1,INDEX($BA$3:$BE6,MATCH(MAX(IF($AV$3:$AV6=AV7,$AW$3:$AW6)),$AW$3:$AW6,0),3),IF(MATCH(AV7,$AW$3:$AW6,0)=1,INDEX($BF$3:$BJ6,MATCH(MAX(IF($AW$3:$AW6=AV7,$AW$3:$AW6)),$AW$3:$AW6,0),3),0)))))","v":{"$error":"#VALUE!"}},{"$f":"IF(INDIRECT(\"'\"&$BM7&\"'!\"&\"BC15\")>0,INDIRECT(\"'\"&$BM7&\"'!\"&\"BC15\"),IF(SUM($AV$3:$AV6,$AW$3:$AW6)=0,$C$39,IF($AV7=$AV6,BD6,IF(MATCH(AV7,$AV$3:$AV6,0)=1,INDEX($BA$3:$BE6,MATCH(MAX(IF($AV$3:$AV6=AV7,$AW$3:$AW6)),$AW$3:$AW6,0),4),IF(MATCH(AV7,$AW$3:$AW6,0)=1,INDEX($BF$3:$BJ6,MATCH(MAX(IF($AW$3:$AW6=AV7,$AW$3:$AW6)),$AW$3:$AW6,0),4),0)))))","v":{"$error":"#VALUE!"}},{"$f":"IF(INDIRECT(\"'\"&$BM7&\"'!\"&\"BD15\")>0,INDIRECT(\"'\"&$BM7&\"'!\"&\"BD15\"),IF(SUM($AV$3:$AV6,$AW$3:$AW6)=0,$C$40,IF($AV7=$AV6,BE6,IF(MATCH(AV7,$AV$3:$AV6,0)=1,INDEX($BA$3:$BE6,MATCH(MAX(IF($AV$3:$AV6=AV7,$AW$3:$AW6)),$AW$3:$AW6,0),5),IF(MATCH(AV7,$AW$3:$AW6,0)=1,INDEX($BF$3:$BG6,MATCH(MAX(IF($AW$3:$AW6=AV7,$AW$3:$AW6)),$AW$3:$AW6,0),5),0)))))","v":{"$error":"#VALUE!"}},{"$f":"IF(INDIRECT(\"'\"&$BM7&\"'!\"&\"BE$15\")>0,INDIRECT(\"'\"&$BM7&\"'!\"&\"BE$15\"),IF(SUM($AV$3:$AV6,$AW$3:$AW6)=0,$C$36,IF($AW7=$AV7,0,IF($AW6=$AW7,BF6,IF(MATCH($AW7,$AW$3:$AW6,0)=1,INDEX($BF$3:$BJ6,MATCH(MAX(IF($AW$3:$AW6=$AW7,$AW$3:$AW6)),$AW$3:$AW6,0),1),IF(MATCH($AW7,$AV$3:$AV5,0)=1,INDEX($BA$3:$BE6,MATCH(MAX(IF($AV$3:$AV6=$AW7,$AV$3:$AV6)),$AV$3:$AV6,0),1),0))))))","v":{"$error":"#VALUE!"}},{"$f":"IF(INDIRECT(\"'\"&$BM7&\"'!\"&\"BF$15\")>0,INDIRECT(\"'\"&$BM7&\"'!\"&\"BF$15\"),IF(SUM($AV$3:$AV6,$AW$3:$AW6)=0,$C$37,IF($AW7=$AV7,0,IF($AW6=$AW7,BG6,IF(MATCH($AW7,$AW$3:$AW6,0)=1,INDEX($BF$3:$BJ6,MATCH(MAX(IF($AW$3:$AW6=$AW7,$AW$3:$AW6)),$AW$3:$AW6,0),2),IF(MATCH($AW7,$AV$3:$AV5,0)=1,INDEX($BA$3:$BE6,MATCH(MAX(IF($AV$3:$AV6=$AW7,$AV$3:$AV6)),$AV$3:$AV6,0),2),0))))))","v":{"$error":"#VALUE!"}},{"$f":"IF(INDIRECT(\"'\"&$BM7&\"'!\"&\"BG$15\")>0,INDIRECT(\"'\"&$BM7&\"'!\"&\"BG$15\"),IF(SUM($AV$3:$AV6,$AW$3:$AW6)=0,$C$38,IF($AW7=$AV7,0,IF($AW6=$AW7,BH6,IF(MATCH($AW7,$AW$3:$AW6,0)=1,INDEX($BF$3:$BJ6,MATCH(MAX(IF($AW$3:$AW6=$AW7,$AW$3:$AW6)),$AW$3:$AW6,0),3),IF(MATCH($AW7,$AV$3:$AV5,0)=1,INDEX($BA$3:$BE6,MATCH(MAX(IF($AV$3:$AV6=$AW7,$AV$3:$AV6)),$AV$3:$AV6,0),3),0))))))","v":{"$error":"#VALUE!"}},{"$f":"IF(INDIRECT(\"'\"&$BM7&\"'!\"&\"BH$15\")>0,INDIRECT(\"'\"&$BM7&\"'!\"&\"BH$15\"),IF(SUM($AV$3:$AV6,$AW$3:$AW6)=0,$C$39,IF($AW7=$AV7,0,IF($AW6=$AW7,BI6,IF(MATCH($AW7,$AW$3:$AW6,0)=1,INDEX($BF$3:$BJ6,MATCH(MAX(IF($AW$3:$AW6=$AW7,$AW$3:$AW6)),$AW$3:$AW6,0),4),IF(MATCH($AW7,$AV$3:$AV5,0)=1,INDEX($BA$3:$BE6,MATCH(MAX(IF($AV$3:$AV6=$AW7,$AV$3:$AV6)),$AV$3:$AV6,0),4),0))))))","v":{"$error":"#VALUE!"}},{"$f":"IF(INDIRECT(\"'\"&$BM7&\"'!\"&\"BI$15\")>0,INDIRECT(\"'\"&$BM7&\"'!\"&\"BI$15\"),IF(SUM($AV$3:$AV6,$AW$3:$AW6)=0,$C$40,IF($AW7=$AV7,0,IF($AW6=$AW7,BJ6,IF(MATCH($AW7,$AW$3:$AW6,0)=1,INDEX($BF$3:$BJ6,MATCH(MAX(IF($AW$3:$AW6=$AW7,$AW$3:$AW6)),$AW$3:$AW6,0),5),IF(MATCH($AW7,$AV$3:$AV5,0)=1,INDEX($BA$3:$BE6,MATCH(MAX(IF($AV$3:$AV6=$AW7,$AV$3:$AV6)),$AV$3:$AV6,0),5),0))))))","v":{"$error":"#VALUE!"}},{"$error":"#VALUE!"},{"$f":"IF(AV7=AW7,AZ7,SUM(BF7:BJ7))","v":{"$error":"#VALUE!"}},{"$error":"#VALUE!"},"Outgoing / Programm"]
["Vertragslaufzeit Ende:",null,null,"Urlaub:",{"$f":"IF(AND(C7=\"\",C8=\"\"),\"\",AX3)","v":""},{"$f":"F5","v":0},null,null,null,{"$f":"IF(C8=\"\",\"\",IF(DAY(C8)=1,1,0.5))","v":""},{"$f":"IF(C8=\"\",0,IF(DAY(C8)=14,MONTH(C8),MONTH(C8)+0.5))","v":0},{"$f":"L7","v":0},{"$f":"M7","v":0},null,null,null,5,1.5,2.375,3.25,4.125,5,5.75,6.5,7.375,8.25,9.125,10,10.75,11.5,12.375,13.25,14.125,15,15.75,16.5,17.375,18.25,19.125,20,2.5,{"$f":"IF(AND($K$14<=AO8,$K$15>=AO8),$F$14,IF(AND($K$12<=AO8,$K$13>=AO8),$F$12,IF(AND($K$10<=AO8,$K$11>=AO8),$F$10,IF(AND($K$7<=AO8,$K$8>=AO8),$F$4,0))))","v":0},0,5,0,"",6,0,0,null,{"$f":"IF(AND(AV8=AV7,BA8=BA7,BB8=BB7,BC8=BC7,BD8=BD7,BE8=BE7),AY7,IF(AND(AV8=AV6,SUM(BA8:BE8)=0,SUM(BA6:BE6)>0),AY6,IF(AND(AV8=AV5,SUM(BA8:BE8)=0,SUM(BA5:BE5)>0),AY5,IF(AND(AV8=AV4,SUM(BA8:BE8)=0,SUM(BA4:BE4)>0),AY4,IF(AND(AV8=AV3,SUM(BA8:BE8)=0,SUM(BA3:BE3)>0),AY3,AY7+1)))))","v":{"$error":"#VALUE!"}},{"$error":"#VALUE!"},{"$f":"IF(INDIRECT(\"'\"&$BM8&\"'!\"&\"AZ15\")>0,INDIRECT(\"'\"&$BM8&\"'!\"&\"AZ15\"),IF(SUM($AV$3:$AV7,$AW$3:$AW7)=0,$C$36,IF($AV8=$AV7,BA7,IF(MATCH(AV8,$AV$3:$AV7,0)=1,INDEX($BA$3:$BE7,MATCH(MAX(IF($AV$3:$AV7=AV8,$AW$3:$AW7)),$AW$3:$AW7,0),1),IF(MATCH(AV8,$AW$3:$AW7,0)=1,INDEX($BF$3:$BJ7,MATCH(MAX(IF($AW$3:$AW7=$AV8,$AW$3:$AW7)),$AW$3:$AW7,0),1),0)))))","v":{"$error":"#VALUE!"}},{"$f":"IF(INDIRECT(\"'\"&$BM8&\"'!\"&\"BA15\")>0,INDIRECT(\"'\"&$BM8&\"'!\"&\"BA15\"),IF(SUM($AV$3:$AV7,$AW$3:$AW7)=0,$C$37,IF($AV8=$AV7,BB7,IF(MATCH(AV8,$AV$3:$AV7,0)=1,INDEX($BA$3:$BE7,MATCH(MAX(IF($AV$3:$AV7=AV8,$AW$3:$AW7)),$AW$3:$AW7,0),2),IF(MATCH(AV8,$AW$3:$AW7,0)=1,INDEX($BF$3:$BJ7,MATCH(MAX(IF($AW$3:$AW7=AV8,$AW$3:$AW7)),$AW$3:$AW7,0),2),0)))))","v":{"$error":"#VALUE!"}},{"$f":"IF(INDIRECT(\"'\"&$BM8&\"'!\"&\"BB15\")>0,INDIRECT(\"'\"&$BM8&\"'!\"&\"BB15\"),IF(SUM($AV$3:$AV7,$AW$3:$AW7)=0,$C$38,IF($AV8=$AV7,BC7,IF(MATCH(AV8,$AV$3:$AV7,0)=1,INDEX($BA$3:$BE7,MATCH(MAX(IF($AV$3:$AV7=AV8,$AW$3:$AW7)),$AW$3:$AW7,0),3),IF(MATCH(AV8,$AW$3:$AW7,0)=1,INDEX($BF$3:$BJ7,MATCH(MAX(IF($AW$3:$AW7=AV8,$AW$3:$AW7)),$AW$3:$AW7,0),3),0)))))","v":{"$error":"#VALUE!"}},{"$f":"IF(INDIRECT(\"'\"&$BM8&\"'!\"&\"BC15\")>0,INDIRECT(\"'\"&$BM8&\"'!\"&\"BC15\"),IF(SUM($AV$3:$AV7,$AW$3:$AW7)=0,$C$39,IF($AV8=$AV7,BD7,IF(MATCH(AV8,$AV$3:$AV7,0)=1,INDEX($BA$3:$BE7,MATCH(MAX(IF($AV$3:$AV7=AV8,$AW$3:$AW7)),$AW$3:$AW7,0),4),IF(MATCH(AV8,$AW$3:$AW7,0)=1,INDEX($BF$3:$BJ7,MATCH(MAX(IF($AW$3:$AW7=AV8,$AW$3:$AW7)),$AW$3:$AW7,0),4),0)))))","v":{"$error":"#VALUE!"}},{"$f":"IF(INDIRECT(\"'\"&$BM8&\"'!\"&\"BD15\")>0,INDIRECT(\"'\"&$BM8&\"'!\"&\"BD15\"),IF(SUM($AV$3:$AV7,$AW$3:$AW7)=0,$C$40,IF($AV8=$AV7,BE7,IF(MATCH(AV8,$AV$3:$AV7,0)=1,INDEX($BA$3:$BE7,MATCH(MAX(IF($AV$3:$AV7=AV8,$AW$3:$AW7)),$AW$3:$AW7,0),5),IF(MATCH(AV8,$AW$3:$AW7,0)=1,INDEX($BF$3:$BG7,MATCH(MAX(IF($AW$3:$AW7=AV8,$AW$3:$AW7)),$AW$3:$AW7,0),5),0)))))","v":{"$error":"#VALUE!"}},{"$f":"IF(INDIRECT(\"'\"&$BM8&\"'!\"&\"BE$15\")>0,INDIRECT(\"'\"&$BM8&\"'!\"&\"BE$15\"),IF(SUM($AV$3:$AV7,$AW$3:$AW7)=0,$C$36,IF($AW8=$AV8,0,IF($AW7=$AW8,BF7,IF(MATCH($AW8,$AW$3:$AW7,0)=1,INDEX($BF$3:$BJ7,MATCH(MAX(IF($AW$3:$AW7=$AW8,$AW$3:$AW7)),$AW$3:$AW7,0),1),IF(MATCH($AW8,$AV$3:$AV6,0)=1,INDEX($BA$3:$BE7,MATCH(MAX(IF($AV$3:$AV7=$AW8,$AV$3:$AV7)),$AV$3:$AV7,0),1),0))))))","v":{"$error":"#VALUE!"}},{"$f":"IF(INDIRECT(\"'\"&$BM8&\"'!\"&\"BF$15\")>0,INDIRECT(\"'\"&$BM8&\"'!\"&\"BF$15\"),IF(SUM($AV$3:$AV7,$AW$3:$AW7)=0,$C$37,IF($AW8=$AV8,0,IF($AW7=$AW8,BG7,IF(MATCH($AW8,$AW$3:$AW7,0)=1,INDEX($BF$3:$BJ7,MATCH(MAX(IF($AW$3:$AW7=$AW8,$AW$3:$AW7)),$AW$3:$AW7,0),2),IF(MATCH($AW8,$AV$3:$AV6,0)=1,INDEX($BA$3:$BE7,MATCH(MAX(IF($AV$3:$AV7=$AW8,$AV$3:$AV7)),$AV$3:$AV7,0),2),0))))))","v":{"$error":"#VALUE!"}},{"$f":"IF(INDIRECT(\"'\"&$BM8&\"'!\"&\"BG$15\")>0,INDIRECT(\"'\"&$BM8&\"'!\"&\"BG$15\"),IF(SUM($AV$3:$AV7,$AW$3:$AW7)=0,$C$38,IF($AW8=$AV8,0,IF($AW7=$AW8,BH7,IF(MATCH($AW8,$AW$3:$AW7,0)=1,INDEX($BF$3:$BJ7,MATCH(MAX(IF($AW$3:$AW7=$AW8,$AW$3:$AW7)),$AW$3:$AW7,0),3),IF(MATCH($AW8,$AV$3:$AV6,0)=1,INDEX($BA$3:$BE7,MATCH(MAX(IF($AV$3:$AV7=$AW8,$AV$3:$AV7)),$AV$3:$AV7,0),3),0))))))","v":{"$error":"#VALUE!"}},{"$f":"IF(INDIRECT(\"'\"&$BM8&\"'!\"&\"BH$15\")>0,INDIRECT(\"'\"&$BM8&\"'!\"&\"BH$15\"),IF(SUM($AV$3:$AV7,$AW$3:$AW7)=0,$C$39,IF($AW8=$AV8,0,IF($AW7=$AW8,BI7,IF(MATCH($AW8,$AW$3:$AW7,0)=1,INDEX($BF$3:$BJ7,MATCH(MAX(IF($AW$3:$AW7=$AW8,$AW$3:$AW7)),$AW$3:$AW7,0),4),IF(MATCH($AW8,$AV$3:$AV6,0)=1,INDEX($BA$3:$BE7,MATCH(MAX(IF($AV$3:$AV7=$AW8,$AV$3:$AV7)),$AV$3:$AV7,0),4),0))))))","v":{"$error":"#VALUE!"}},{"$f":"IF(INDIRECT(\"'\"&$BM8&\"'!\"&\"BI$15\")>0,INDIRECT(\"'\"&$BM8&\"'!\"&\"BI$15\"),IF(SUM($AV$3:$AV7,$AW$3:$AW7)=0,$C$40,IF($AW8=$AV8,0,IF($AW7=$AW8,BJ7,IF(MATCH($AW8,$AW$3:$AW7,0)=1,INDEX($BF$3:$BJ7,MATCH(MAX(IF($AW$3:$AW7=$AW8,$AW$3:$AW7)),$AW$3:$AW7,0),5),IF(MATCH($AW8,$AV$3:$AV6,0)=1,INDEX($BA$3:$BE7,MATCH(MAX(IF($AV$3:$AV7=$AW8,$AV$3:$AV7)),$AV$3:$AV7,0),5),0))))))","v":{"$error":"#VALUE!"}},{"$error":"#VALUE!"},{"$error":"#VALUE!"},{"$error":"#VALUE!"},"Refugees"]
["Änderungen",null,null,"Struktureinheit",null,"Stunden","Monate",null,null,null,null,null,null,null,null,null,6,2,3,4,5,6,7,8,9,10,11,12,13,14,15,16,17,18,19,20,21,22,23,24,3,{"$f":"IF(AND($K$14<=AO9,$K$15>=AO9),$F$14,IF(AND($K$12<=AO9,$K$13>=AO9),$F$12,IF(AND($K$10<=AO9,$K$11>=AO9),$F$10,IF(AND($K$7<=AO9,$K$8>=AO9),$F$4,0))))","v":0},0,6,0,"",7,0,0,null,{"$f":"IF(AND(AV9=AV8,BA9=BA8,BB9=BB8,BC9=BC8,BD9=BD8,BE9=BE8),AY8,IF(AND(AV9=AV7,SUM(BA9:BE9)=0,SUM(BA7:BE7)>0),AY7,IF(AND(AV9=AV6,SUM(BA9:BE9)=0,SUM(BA6:BE6)>0),AY6,IF(AND(AV9=AV5,SUM(BA9:BE9)=0,SUM(BA5:BE5)>0),AY5,IF(AND(AV9=AV4,SUM(BA9:BE9)=0,SUM(BA4:BE4)>0),AY4,IF(AND(AV9=AV3,SUM(BA9:BE9)=0,SUM(BA3:BE3)>0),AY3,AY8+1))))))","v":{"$error":"#VALUE!"}},{"$error":"#VALUE!"},{"$f":"IF(INDIRECT(\"'\"&$BM9&\"'!\"&\"AZ15\")>0,INDIRECT(\"'\"&$BM9&\"'!\"&\"AZ15\"),IF(SUM($AV$3:$AV8,$AW$3:$AW8)=0,$C$36,IF($AV9=$AV8,BA8,IF(MATCH(AV9,$AV$3:$AV8,0)=1,INDEX($BA$3:$BE8,MATCH(MAX(IF($AV$3:$AV8=AV9,$AW$3:$AW8)),$AW$3:$AW8,0),1),IF(MATCH(AV9,$AW$3:$AW8,0)=1,INDEX($BF$3:$BJ8,MATCH(MAX(IF($AW$3:$AW8=$AV9,$AW$3:$AW8)),$AW$3:$AW8,0),1),0)))))","v":{"$error":"#VALUE!"}},{"$f":"IF(INDIRECT(\"'\"&$BM9&\"'!\"&\"BA15\")>0,INDIRECT(\"'\"&$BM9&\"'!\"&\"BA15\"),IF(SUM($AV$3:$AV8,$AW$3:$AW8)=0,$C$37,IF($AV9=$AV8,BB8,IF(MATCH(AV9,$AV$3:$AV8,0)=1,INDEX($BA$3:$BE8,MATCH(MAX(IF($AV$3:$AV8=AV9,$AW$3:$AW8)),$AW$3:$AW8,0),2),IF(MATCH(AV9,$AW$3:$AW8,0)=1,INDEX($BF$3:$BJ8,MATCH(MAX(IF($AW$3:$AW8=AV9,$AW$3:$AW8)),$AW$3:$AW8,0),2),0)))))","v":{"$error":"#VALUE!"}},{"$f":"IF(INDIRECT(\"'\"&$BM9&\"'!\"&\"BB15\")>0,INDIRECT(\"'\"&$BM9&\"'!\"&\"BB15\"),IF(SUM($AV$3:$AV8,$AW$3:$AW8)=0,$C$38,IF($AV9=$AV8,BC8,IF(MATCH(AV9,$AV$3:$AV8,0)=1,INDEX($BA$3:$BE8,MATCH(MAX(IF($AV$3:$AV8=AV9,$AW$3:$AW8)),$AW$3:$AW8,0),3),IF(MATCH(AV9,$AW$3:$AW8,0)=1,INDEX($BF$3:$BJ8,MATCH(MAX(IF($AW$3:$AW8=AV9,$AW$3:$AW8)),$AW$3:$AW8,0),3),0)))))","v":{"$error":"#VALUE!"}},{"$f":"IF(INDIRECT(\"'\"&$BM9&\"'!\"&\"BC15\")>0,INDIRECT(\"'\"&$BM9&\"'!\"&\"BC15\"),IF(SUM($AV$3:$AV8,$AW$3:$AW8)=0,$C$39,IF($AV9=$AV8,BD8,IF(MATCH(AV9,$AV$3:$AV8,0)=1,INDEX($BA$3:$BE8,MATCH(MAX(IF($AV$3:$AV8=AV9,$AW$3:$AW8)),$AW$3:$AW8,0),4),IF(MATCH(AV9,$AW$3:$AW8,0)=1,INDEX($BF$3:$BJ8,MATCH(MAX(IF($AW$3:$AW8=AV9,$AW$3:$AW8)),$AW$3:$AW8,0),4),0)))))","v":{"$error":"#VALUE!"}},{"$f":"IF(INDIRECT(\"'\"&$BM9&\"'!\"&\"BD15\")>0,INDIRECT(\"'\"&$BM9&\"'!\"&\"BD15\"),IF(SUM($AV$3:$AV8,$AW$3:$AW8)=0,$C$40,IF($AV9=$AV8,BE8,IF(MATCH(AV9,$AV$3:$AV8,0)=1,INDEX($BA$3:$BE8,MATCH(MAX(IF($AV$3:$AV8=AV9,$AW$3:$AW8)),$AW$3:$AW8,0),5),IF(MATCH(AV9,$AW$3:$AW8,0)=1,INDEX($BF$3:$BG8,MATCH(MAX(IF($AW$3:$AW8=AV9,$AW$3:$AW8)),$AW$3:$AW8,0),5),0)))))","v":{"$error":"#VALUE!"}},{"$f":"IF(INDIRECT(\"'\"&$BM9&\"'!\"&\"BE$15\")>0,INDIRECT(\"'\"&$BM9&\"'!\"&\"BE$15\"),IF(SUM($AV$3:$AV8,$AW$3:$AW8)=0,$C$36,IF($AW9=$AV9,0,IF($AW8=$AW9,BF8,IF(MATCH($AW9,$AW$3:$AW8,0)=1,INDEX($BF$3:$BJ8,MATCH(MAX(IF($AW$3:$AW8=$AW9,$AW$3:$AW8)),$AW$3:$AW8,0),1),IF(MATCH($AW9,$AV$3:$AV7,0)=1,INDEX($BA$3:$BE8,MATCH(MAX(IF($AV$3:$AV8=$AW9,$AV$3:$AV8)),$AV$3:$AV8,0),1),0))))))","v":{"$error":"#VALUE!"}},{"$f":"IF(INDIRECT(\"'\"&$BM9&\"'!\"&\"BF$15\")>0,INDIRECT(\"'\"&$BM9&\"'!\"&\"BF$15\"),IF(SUM($AV$3:$AV8,$AW$3:$AW8)=0,$C$37,IF($AW9=$AV9,0,IF($AW8=$AW9,BG8,IF(MATCH($AW9,$AW$3:$AW8,0)=1,INDEX($BF$3:$BJ8,MATCH(MAX(IF($AW$3:$AW8=$AW9,$AW$3:$AW8)),$AW$3:$AW8,0),2),IF(MATCH($AW9,$AV$3:$AV7,0)=1,INDEX($BA$3:$BE8,MATCH(MAX(IF($AV$3:$AV8=$AW9,$AV$3:$AV8)),$AV$3:$AV8,0),2),0))))))","v":{"$error":"#VALUE!"}},{"$f":"IF(INDIRECT(\"'\"&$BM9&\"'!\"&\"BG$15\")>0,INDIRECT(\"'\"&$BM9&\"'!\"&\"BG$15\"),IF(SUM($AV$3:$AV8,$AW$3:$AW8)=0,$C$38,IF($AW9=$AV9,0,IF($AW8=$AW9,BH8,IF(MATCH($AW9,$AW$3:$AW8,0)=1,INDEX($BF$3:$BJ8,MATCH(MAX(IF($AW$3:$AW8=$AW9,$AW$3:$AW8)),$AW$3:$AW8,0),3),IF(MATCH($AW9,$AV$3:$AV7,0)=1,INDEX($BA$3:$BE8,MATCH(MAX(IF($AV$3:$AV8=$AW9,$AV$3:$AV8)),$AV$3:$AV8,0),3),0))))))","v":{"$error":"#VALUE!"}},{"$f":"IF(INDIRECT(\"'\"&$BM9&\"'!\"&\"BH$15\")>0,INDIRECT(\"'\"&$BM9&\"'!\"&\"BH$15\"),IF(SUM($AV$3:$AV8,$AW$3:$AW8)=0,$C$39,IF($AW9=$AV9,0,IF($AW8=$AW9,BI8,IF(MATCH($AW9,$AW$3:$AW8,0)=1,INDEX($BF$3:$BJ8,MATCH(MAX(IF($AW$3:$AW8=$AW9,$AW$3:$AW8)),$AW$3:$AW8,0),4),IF(MATCH($AW9,$AV$3:$AV7,0)=1,INDEX($BA$3:$BE8,MATCH(MAX(IF($AV$3:$AV8=$AW9,$AV$3:$AV8)),$AV$3:$AV8,0),4),0))))))","v":{"$error":"#VALUE!"}},{"$f":"IF(INDIRECT(\"'\"&$BM9&\"'!\"&\"BI$15\")>0,INDIRECT(\"'\"&$BM9&\"'!\"&\"BI$15\"),IF(SUM($AV$3:$AV8,$AW$3:$AW8)=0,$C$40,IF($AW9=$AV9,0,IF($AW8=$AW9,BJ8,IF(MATCH($AW9,$AW$3:$AW8,0)=1,INDEX($BF$3:$BJ8,MATCH(MAX(IF($AW$3:$AW8=$AW9,$AW$3:$AW8)),$AW$3:$AW8,0),5),IF(MATCH($AW9,$AV$3:$AV7,0)=1,INDEX($BA$3:$BE8,MATCH(MAX(IF($AV$3:$AV8=$AW9,$AV$3:$AV8)),$AV$3:$AV8,0),5),0))))))","v":{"$error":"#VALUE!"}},{"$error":"#VALUE!"},{"$error":"#VALUE!"},{"$error":"#VALUE!"},"Kursbüro"]
["Beginn:",null,null,null,null,null,{"$f":"IF(C10=\"\",\"\",IF(P10>=17,O10+1,O10+0.5))","v":""},null,null,{"$f":"IF(C10=\"\",0,IF(DAY(C10)>15,1,0.5))","v":0},{"$f":"IF(C10=0,0,IF(DAY(C10)=15,MONTH(C10)+0.5,MONTH(C10)))","v":0},{"$f":"IF(J10=0,\"\",IF(D10=\"\",D4,D10))","v":""},{"$f":"IF(OR(F11=\"\",J10=\"\"),\"\",IF(AND(D11=\"\",D5=\"\"),IF(D10=\"\",D4,D10),IF(AND(D5=\"\",D11>0),D11,D5)))","v":""},{"$f":"C11-C10","v":0},{"$f":"DATEDIF(C10,C11,\"ym\")","v":0},{"$f":"DATEDIF(C10,C11,\"md\")","v":0},7,2,3.25,4.5,5.75,7,8.125,9.25,10.375,11.5,12.75,14,15.125,16.25,17.375,18.5,19.75,21,22.125,23.25,24.375,25.5,26.75,28,3.5,0,0,7,0,"",8,0,0,null,{"$f":"IF(AND(AV10=AV9,BA10=BA9,BB10=BB9,BC10=BC9,BD10=BD9,BE10=BE9),AY9,IF(AND(AV10=AV8,SUM(BA10:BE10)=0,SUM(BA8:BE8)>0),AY8,IF(AND(AV10=AV7,SUM(BA10:BE10)=0,SUM(BA7:BE7)>0),AY7,IF(AND(AV10=AV6,SUM(BA10:BE10)=0,SUM(BA6:BE6)>0),AY6,IF(AND(AV10=AV5,SUM(BA10:BE10)=0,SUM(BA5:BE5)>0),AY5,IF(AND(AV10=AV4,SUM(BA10:BE10)=0,SUM(BA4:BE4)>0),AY4,IF(AND(AV10=AV3,SUM(BA10:BE10)=0,SUM(BA3:BE3)>0),AY3,AY9+1)))))))","v":{"$error":"#VALUE!"}},{"$error":"#VALUE!"},{"$f":"IF(INDIRECT(\"'\"&$BM10&\"'!\"&\"AZ15\")>0,INDIRECT(\"'\"&$BM10&\"'!\"&\"AZ15\"),IF(SUM($AV$3:$AV9,$AW$3:$AW9)=0,$C$36,IF($AV10=$AV9,BA9,IF(MATCH(AV10,$AV$3:$AV9,0)=1,INDEX($BA$3:$BE9,MATCH(MAX(IF($AV$3:$AV9=AV10,$AW$3:$AW9)),$AW$3:$AW9,0),1),IF(MATCH(AV10,$AW$3:$AW9,0)=1,INDEX($BF$3:$BJ9,MATCH(MAX(IF($AW$3:$AW9=$AV10,$AW$3:$AW9)),$AW$3:$AW9,0),1),0)))))","v":{"$error":"#VALUE!"}},{"$f":"IF(INDIRECT(\"'\"&$BM10&\"'!\"&\"BA15\")>0,INDIRECT(\"'\"&$BM10&\"'!\"&\"BA15\"),IF(SUM($AV$3:$AV9,$AW$3:$AW9)=0,$C$37,IF($AV10=$AV9,BB9,IF(MATCH(AV10,$AV$3:$AV9,0)=1,INDEX($BA$3:$BE9,MATCH(MAX(IF($AV$3:$AV9=AV10,$AW$3:$AW9)),$AW$3:$AW9,0),2),IF(MATCH(AV10,$AW$3:$AW9,0)=1,INDEX($BF$3:$BJ9,MATCH(MAX(IF($AW$3:$AW9=AV10,$AW$3:$AW9)),$AW$3:$AW9,0),2),0)))))","v":{"$error":"#VALUE!"}},{"$f":"IF(INDIRECT(\"'\"&$BM10&\"'!\"&\"BB15\")>0,INDIRECT(\"'\"&$BM10&\"'!\"&\"BB15\"),IF(SUM($AV$3:$AV9,$AW$3:$AW9)=0,$C$38,IF($AV10=$AV9,BC9,IF(MATCH(AV10,$AV$3:$AV9,0)=1,INDEX($BA$3:$BE9,MATCH(MAX(IF($AV$3:$AV9=AV10,$AW$3:$AW9)),$AW$3:$AW9,0),3),IF(MATCH(AV10,$AW$3:$AW9,0)=1,INDEX($BF$3:$BJ9,MATCH(MAX(IF($AW$3:$AW9=AV10,$AW$3:$AW9)),$AW$3:$AW9,0),3),0)))))","v":{"$error":"#VALUE!"}},{"$f":"IF(INDIRECT(\"'\"&$BM10&\"'!\"&\"BC15\")>0,INDIRECT(\"'\"&$BM10&\"'!\"&\"BC15\"),IF(SUM($AV$3:$AV9,$AW$3:$AW9)=0,$C$39,IF($AV10=$AV9,BD9,IF(MATCH(AV10,$AV$3:$AV9,0)=1,INDEX($BA$3:$BE9,MATCH(MAX(IF($AV$3:$AV9=AV10,$AW$3:$AW9)),$AW$3:$AW9,0),4),IF(MATCH(AV10,$AW$3:$AW9,0)=1,INDEX($BF$3:$BJ9,MATCH(MAX(IF($AW$3:$AW9=AV10,$AW$3:$AW9)),$AW$3:$AW9,0),4),0)))))","v":{"$error":"#VALUE!"}},{"$f":"IF(INDIRECT(\"'\"&$BM10&\"'!\"&\"BD15\")>0,INDIRECT(\"'\"&$BM10&\"'!\"&\"BD15\"),IF(SUM($AV$3:$AV9,$AW$3:$AW9)=0,$C$40,IF($AV10=$AV9,BE9,IF(MATCH(AV10,$AV$3:$AV9,0)=1,INDEX($BA$3:$BE9,MATCH(MAX(IF($AV$3:$AV9=AV10,$AW$3:$AW9)),$AW$3:$AW9,0),5),IF(MATCH(AV10,$AW$3:$AW9,0)=1,INDEX($BF$3:$BG9,MATCH(MAX(IF($AW$3:$AW9=AV10,$AW$3:$AW9)),$AW$3:$AW9,0),5),0)))))","v":{"$error":"#VALUE!"}},{"$f":"IF(INDIRECT(\"'\"&$BM10&\"'!\"&\"BE$15\")>0,INDIRECT(\"'\"&$BM10&\"'!\"&\"BE$15\"),IF(SUM($AV$3:$AV9,$AW$3:$AW9)=0,$C$36,IF($AW10=$AV10,0,IF($AW9=$AW10,BF9,IF(MATCH($AW10,$AW$3:$AW9,0)=1,INDEX($BF$3:$BJ9,MATCH(MAX(IF($AW$3:$AW9=$AW10,$AW$3:$AW9)),$AW$3:$AW9,0),1),IF(MATCH($AW10,$AV$3:$AV8,0)=1,INDEX($BA$3:$BE9,MATCH(MAX(IF($AV$3:$AV9=$AW10,$AV$3:$AV9)),$AV$3:$AV9,0),1),0))))))","v":{"$error":"#VALUE!"}},{"$f":"IF(INDIRECT(\"'\"&$BM10&\"'!\"&\"BF$15\")>0,INDIRECT(\"'\"&$BM10&\"'!\"&\"BF$15\"),IF(SUM($AV$3:$AV9,$AW$3:$AW9)=0,$C$37,IF($AW10=$AV10,0,IF($AW9=$AW10,BG9,IF(MATCH($AW10,$AW$3:$AW9,0)=1,INDEX($BF$3:$BJ9,MATCH(MAX(IF($AW$3:$AW9=$AW10,$AW$3:$AW9)),$AW$3:$AW9,0),2),IF(MATCH($AW10,$AV$3:$AV8,0)=1,INDEX($BA$3:$BE9,MATCH(MAX(IF($AV$3:$AV9=$AW10,$AV$3:$AV9)),$AV$3:$AV9,0),2),0))))))","v":{"$error":"#VALUE!"}},{"$f":"IF(INDIRECT(\"'\"&$BM10&\"'!\"&\"BG$15\")>0,INDIRECT(\"'\"&$BM10&\"'!\"&\"BG$15\"),IF(SUM($AV$3:$AV9,$AW$3:$AW9)=0,$C$38,IF($AW10=$AV10,0,IF($AW9=$AW10,BH9,IF(MATCH($AW10,$AW$3:$AW9,0)=1,INDEX($BF$3:$BJ9,MATCH(MAX(IF($AW$3:$AW9=$AW10,$AW$3:$AW9)),$AW$3:$AW9,0),3),IF(MATCH($AW10,$AV$3:$AV8,0)=1,INDEX($BA$3:$BE9,MATCH(MAX(IF($AV$3:$AV9=$AW10,$AV$3:$AV9)),$AV$3:$AV9,0),3),0))))))","v":{"$error":"#VALUE!"}},{"$f":"IF(INDIRECT(\"'\"&$BM10&\"'!\"&\"BH$15\")>0,INDIRECT(\"'\"&$BM10&\"'!\"&\"BH$15\"),IF(SUM($AV$3:$AV9,$AW$3:$AW9)=0,$C$39,IF($AW10=$AV10,0,IF($AW9=$AW10,BI9,IF(MATCH($AW10,$AW$3:$AW9,0)=1,INDEX($BF$3:$BJ9,MATCH(MAX(IF($AW$3:$AW9=$AW10,$AW$3:$AW9)),$AW$3:$AW9,0),4),IF(MATCH($AW10,$AV$3:$AV8,0)=1,INDEX($BA$3:$BE9,MATCH(MAX(IF($AV$3:$AV9=$AW10,$AV$3:$AV9)),$AV$3:$AV9,0),4),0))))))","v":{"$error":"#VALUE!"}},{"$f":"IF(INDIRECT(\"'\"&$BM10&\"'!\"&\"BI$15\")>0,INDIRECT(\"'\"&$BM10&\"'!\"&\"BI$15\"),IF(SUM($AV$3:$AV9,$AW$3:$AW9)=0,$C$40,IF($AW10=$AV10,0,IF($AW9=$AW10,BJ9,IF(MATCH($AW10,$AW$3:$AW9,0)=1,INDEX($BF$3:$BJ9,MATCH(MAX(IF($AW$3:$AW9=$AW10,$AW$3:$AW9)),$AW$3:$AW9,0),5),IF(MATCH($AW10,$AV$3:$AV8,0)=1,INDEX($BA$3:$BE9,MATCH(MAX(IF($AV$3:$AV9=$AW10,$AV$3:$AV9)),$AV$3:$AV9,0),5),0))))))","v":{"$error":"#VALUE!"}},{"$error":"#VALUE!"},{"$error":"#VALUE!"},{"$error":"#VALUE!"}]
["Ende:",null,null,null,null,null,null,null,null,0,{"$f":"IF(C11=0,0,IF(DAY(C11)=14,MONTH(C11),MONTH(C11)+0.5))","v":0},{"$f":"IF(J11=0,\"\",L10)","v":""},{"$f":"M10","v":""},null,null,null,8,2.5,3.875,5.25,6.625,8,9.25,10.5,11.875,13.25,14.625,16,17.25,18.5,19.875,21.25,22.625,24,25.25,26.5,27.875,29.25,30.625,32,4,0,0,8,0,"",9,0,0,null,{"$f":"IF(AND(AV11=AV10,BA11=BA10,BB11=BB10,BC11=BC10,BD11=BD10,BE11=BE10),AY10,IF(AND(AV11=AV9,SUM(BA11:BE11)=0,SUM(BA9:BE9)>0),AY9,IF(AND(AV11=AV8,SUM(BA11:BE11)=0,SUM(BA8:BE8)>0),AY8,IF(AND(AV11=AV7,SUM(BA11:BE11)=0,SUM(BA7:BE7)>0),AY7,IF(AND(AV11=AV6,SUM(BA11:BE11)=0,SUM(BA6:BE6)>0),AY6,IF(AND(AV11=AV5,SUM(BA11:BE11)=0,SUM(BA5:BE5)>0),AY5,IF(AND(AV11=AV4,SUM(BA11:BE11)=0,SUM(BA4:BE4)>0),AY4,IF(AND(AV11=AV3,SUM(BA11:BE11)=0,SUM(BA3:BE3)>0),AY3,AY10+1))))))))","v":{"$error":"#VALUE!"}},{"$error":"#VALUE!"},{"$f":"IF(INDIRECT(\"'\"&$BM11&\"'!\"&\"AZ15\")>0,INDIRECT(\"'\"&$BM11&\"'!\"&\"AZ15\"),IF(SUM($AV$3:$AV10,$AW$3:$AW10)=0,$C$36,IF($AV11=$AV10,BA10,IF(MATCH(AV11,$AV$3:$AV10,0)=1,INDEX($BA$3:$BE10,MATCH(MAX(IF($AV$3:$AV10=AV11,$AW$3:$AW10)),$AW$3:$AW10,0),1),IF(MATCH(AV11,$AW$3:$AW10,0)=1,INDEX($BF$3:$BJ10,MATCH(MAX(IF($AW$3:$AW10=$AV11,$AW$3:$AW10)),$AW$3:$AW10,0),1),0)))))","v":{"$error":"#VALUE!"}},{"$f":"IF(INDIRECT(\"'\"&$BM11&\"'!\"&\"BA15\")>0,INDIRECT(\"'\"&$BM11&\"'!\"&\"BA15\"),IF(SUM($AV$3:$AV10,$AW$3:$AW10)=0,$C$37,IF($AV11=$AV10,BB10,IF(MATCH(AV11,$AV$3:$AV10,0)=1,INDEX($BA$3:$BE10,MATCH(MAX(IF($AV$3:$AV10=AV11,$AW$3:$AW10)),$AW$3:$AW10,0),2),IF(MATCH(AV11,$AW$3:$AW10,0)=1,INDEX($BF$3:$BJ10,MATCH(MAX(IF($AW$3:$AW10=AV11,$AW$3:$AW10)),$AW$3:$AW10,0),2),0)))))","v":{"$error":"#VALUE!"}},{"$f":"IF(INDIRECT(\"'\"&$BM11&\"'!\"&\"BB15\")>0,INDIRECT(\"'\"&$BM11&\"'!\"&\"BB15\"),IF(SUM($AV$3:$AV10,$AW$3:$AW10)=0,$C$38,IF($AV11=$AV10,BC10,IF(MATCH(AV11,$AV$3:$AV10,0)=1,INDEX($BA$3:$BE10,MATCH(MAX(IF($AV$3:$AV10=AV11,$AW$3:$AW10)),$AW$3:$AW10,0),3),IF(MATCH(AV11,$AW$3:$AW10,0)=1,INDEX($BF$3:$BJ10,MATCH(MAX(IF($AW$3:$AW10=AV11,$AW$3:$AW10)),$AW$3:$AW10,0),3),0)))))","v":{"$error":"#VALUE!"}},{"$f":"IF(INDIRECT(\"'\"&$BM11&\"'!\"&\"BC15\")>0,INDIRECT(\"'\"&$BM11&\"'!\"&\"BC15\"),IF(SUM($AV$3:$AV10,$AW$3:$AW10)=0,$C$39,IF($AV11=$AV10,BD10,IF(MATCH(AV11,$AV$3:$AV10,0)=1,INDEX($BA$3:$BE10,MATCH(MAX(IF($AV$3:$AV10=AV11,$AW$3:$AW10)),$AW$3:$AW10,0),4),IF(MATCH(AV11,$AW$3:$AW10,0)=1,INDEX($BF$3:$BJ10,MATCH(MAX(IF($AW$3:$AW10=AV11,$AW$3:$AW10)),$AW$3:$AW10,0),4),0)))))","v":{"$error":"#VALUE!"}},{"$f":"IF(INDIRECT(\"'\"&$BM11&\"'!\"&\"BD15\")>0,INDIRECT(\"'\"&$BM11&\"'!\"&\"BD15\"),IF(SUM($AV$3:$AV10,$AW$3:$AW10)=0,$C$40,IF($AV11=$AV10,BE10,IF(MATCH(AV11,$AV$3:$AV10,0)=1,INDEX($BA$3:$BE10,MATCH(MAX(IF($AV$3:$AV10=AV11,$AW$3:$AW10)),$AW$3:$AW10,0),5),IF(MATCH(AV11,$AW$3:$AW10,0)=1,INDEX($BF$3:$BG10,MATCH(MAX(IF($AW$3:$AW10=AV11,$AW$3:$AW10)),$AW$3:$AW10,0),5),0)))))","v":{"$error":"#VALUE!"}},{"$f":"IF(INDIRECT(\"'\"&$BM11&\"'!\"&\"BE$15\")>0,INDIRECT(\"'\"&$BM11&\"'!\"&\"BE$15\"),IF(SUM($AV$3:$AV10,$AW$3:$AW10)=0,$C$36,IF($AW11=$AV11,0,IF($AW10=$AW11,BF10,IF(MATCH($AW11,$AW$3:$AW10,0)=1,INDEX($BF$3:$BJ10,MATCH(MAX(IF($AW$3:$AW10=$AW11,$AW$3:$AW10)),$AW$3:$AW10,0),1),IF(MATCH($AW11,$AV$3:$AV9,0)=1,INDEX($BA$3:$BE10,MATCH(MAX(IF($AV$3:$AV10=$AW11,$AV$3:$AV10)),$AV$3:$AV10,0),1),0))))))","v":{"$error":"#VALUE!"}},{"$f":"IF(INDIRECT(\"'\"&$BM11&\"'!\"&\"BF$15\")>0,INDIRECT(\"'\"&$BM11&\"'!\"&\"BF$15\"),IF(SUM($AV$3:$AV10,$AW$3:$AW10)=0,$C$37,IF($AW11=$AV11,0,IF($AW10=$AW11,BG10,IF(MATCH($AW11,$AW$3:$AW10,0)=1,INDEX($BF$3:$BJ10,MATCH(MAX(IF($AW$3:$AW10=$AW11,$AW$3:$AW10)),$AW$3:$AW10,0),2),IF(MATCH($AW11,$AV$3:$AV9,0)=1,INDEX($BA$3:$BE10,MATCH(MAX(IF($AV$3:$AV10=$AW11,$AV$3:$AV10)),$AV$3:$AV10,0),2),0))))))","v":{"$error":"#VALUE!"}},{"$f":"IF(INDIRECT(\"'\"&$BM11&\"'!\"&\"BG$15\")>0,INDIRECT(\"'\"&$BM11&\"'!\"&\"BG$15\"),IF(SUM($AV$3:$AV10,$AW$3:$AW10)=0,$C$38,IF($AW11=$AV11,0,IF($AW10=$AW11,BH10,IF(MATCH($AW11,$AW$3:$AW10,0)=1,INDEX($BF$3:$BJ10,MATCH(MAX(IF($AW$3:$AW10=$AW11,$AW$3:$AW10)),$AW$3:$AW10,0),3),IF(MATCH($AW11,$AV$3:$AV9,0)=1,INDEX($BA$3:$BE10,MATCH(MAX(IF($AV$3:$AV10=$AW11,$AV$3:$AV10)),$AV$3:$AV10,0),3),0))))))","v":{"$error":"#VALUE!"}},{"$f":"IF(INDIRECT(\"'\"&$BM11&\"'!\"&\"BH$15\")>0,INDIRECT(\"'\"&$BM11&\"'!\"&\"BH$15\"),IF(SUM($AV$3:$AV10,$AW$3:$AW10)=0,$C$39,IF($AW11=$AV11,0,IF($AW10=$AW11,BI10,IF(MATCH($AW11,$AW$3:$AW10,0)=1,INDEX($BF$3:$BJ10,MATCH(MAX(IF($AW$3:$AW10=$AW11,$AW$3:$AW10)),$AW$3:$AW10,0),4),IF(MATCH($AW11,$AV$3:$AV9,0)=1,INDEX($BA$3:$BE10,MATCH(MAX(IF($AV$3:$AV10=$AW11,$AV$3:$AV10)),$AV$3:$AV10,0),4),0))))))","v":{"$error":"#VALUE!"}},{"$f":"IF(INDIRECT(\"'\"&$BM11&\"'!\"&\"BI$15\")>0,INDIRECT(\"'\"&$BM11&\"'!\"&\"BI$15\"),IF(SUM($AV$3:$AV10,$AW$3:$AW10)=0,$C$40,IF($AW11=$AV11,0,IF($AW10=$AW11,BJ10,IF(MATCH($AW11,$AW$3:$AW10,0)=1,INDEX($BF$3:$BJ10,MATCH(MAX(IF($AW$3:$AW10=$AW11,$AW$3:$AW10)),$AW$3:$AW10,0),5),IF(MATCH($AW11,$AV$3:$AV9,0)=1,INDEX($BA$3:$BE10,MATCH(MAX(IF($AV$3:$AV10=$AW11,$AV$3:$AV10)),$AV$3:$AV10,0),5),0))))))","v":{"$error":"#VALUE!"}},{"$error":"#VALUE!"},{"$error":"#VALUE!"},{"$error":"#VALUE!"}]
["Beginn:",null,null,null,null,null,null,null,null,0,{"$f":"IF(C12=0,0,IF(DAY(C12)=15,MONTH(C12)+0.5,MONTH(C12)))","v":0},{"$f":"IF(J12=0,\"\",IF(AND(D12=\"\",D10=\"\"),D4,IF(AND(D12=\"\",D10>0),D10,D12)))","v":""},{"$f":"IF(OR(F13=\"\",J12=\"\"),\"\",IF(AND(D13=\"\",D11=\"\",D5=\"\"),D4,IF(AND(D13=\"\",D11=\"\",D5>0),D5,IF(AND(D5=\"\",D11>0,D13=\"\"),D11,D13))))","v":""},{"$f":"C13-C12","v":0},{"$f":"DATEDIF(C12,C13,\"ym\")","v":0},{"$f":"DATEDIF(C12,C13,\"md\")","v":0},9,3,4.5,6,7.5,9,10.5,12,13.5,15,16.5,18,19.5,21,22.5,24,25.5,27,28.5,30,31.5,33,34.5,36,4.5,0,0,9,0,"",10,0,0,null,{"$f":"IF(AND(AV12=AV11,BA12=BA11,BB12=BB11,BC12=BC11,BD12=BD11,BE12=BE11),AY11,IF(AND(AV12=AV10,SUM(BA12:BE12)=0,SUM(BA10:BE10)>0),AY10,IF(AND(AV12=AV9,SUM(BA12:BE12)=0,SUM(BA9:BE9)>0),AY9,IF(AND(AV12=AV8,SUM(BA12:BE12)=0,SUM(BA8:BE8)>0),AY8,IF(AND(AV12=AV7,SUM(BA12:BE12)=0,SUM(BA7:BE7)>0),AY7,IF(AND(AV12=AV6,SUM(BA12:BE12)=0,SUM(BA6:BE6)>0),AY6,IF(AND(AV12=AV5,SUM(BA12:BE12)=0,SUM(BA5:BE5)>0),AY5,IF(AND(AV12=AV4,SUM(BA12:BE12)=0,SUM(BA4:BE4)>0),AY4,IF(AND(AV12=AV3,SUM(BA12:BE12)=0,SUM(BA3:BE3)>0),AY3,AY11+1)))))))))","v":{"$error":"#VALUE!"}},{"$error":"#VALUE!"},{"$f":"IF(INDIRECT(\"'\"&$BM12&\"'!\"&\"AZ15\")>0,INDIRECT(\"'\"&$BM12&\"'!\"&\"AZ15\"),IF(SUM($AV$3:$AV11,$AW$3:$AW11)=0,$C$36,IF($AV12=$AV11,BA11,IF(MATCH(AV12,$AV$3:$AV11,0)=1,INDEX($BA$3:$BE11,MATCH(MAX(IF($AV$3:$AV11=AV12,$AW$3:$AW11)),$AW$3:$AW11,0),1),IF(MATCH(AV12,$AW$3:$AW11,0)=1,INDEX($BF$3:$BJ11,MATCH(MAX(IF($AW$3:$AW11=$AV12,$AW$3:$AW11)),$AW$3:$AW11,0),1),0)))))","v":{"$error":"#VALUE!"}},{"$f":"IF(INDIRECT(\"'\"&$BM12&\"'!\"&\"BA15\")>0,INDIRECT(\"'\"&$BM12&\"'!\"&\"BA15\"),IF(SUM($AV$3:$AV11,$AW$3:$AW11)=0,$C$37,IF($AV12=$AV11,BB11,IF(MATCH(AV12,$AV$3:$AV11,0)=1,INDEX($BA$3:$BE11,MATCH(MAX(IF($AV$3:$AV11=AV12,$AW$3:$AW11)),$AW$3:$AW11,0),2),IF(MATCH(AV12,$AW$3:$AW11,0)=1,INDEX($BF$3:$BJ11,MATCH(MAX(IF($AW$3:$AW11=AV12,$AW$3:$AW11)),$AW$3:$AW11,0),2),0)))))","v":{"$error":"#VALUE!"}},{"$f":"IF(INDIRECT(\"'\"&$BM12&\"'!\"&\"BB15\")>0,INDIRECT(\"'\"&$BM12&\"'!\"&\"BB15\"),IF(SUM($AV$3:$AV11,$AW$3:$AW11)=0,$C$38,IF($AV12=$AV11,BC11,IF(MATCH(AV12,$AV$3:$AV11,0)=1,INDEX($BA$3:$BE11,MATCH(MAX(IF($AV$3:$AV11=AV12,$AW$3:$AW11)),$AW$3:$AW11,0),3),IF(MATCH(AV12,$AW$3:$AW11,0)=1,INDEX($BF$3:$BJ11,MATCH(MAX(IF($AW$3:$AW11=AV12,$AW$3:$AW11)),$AW$3:$AW11,0),3),0)))))","v":{"$error":"#VALUE!"}},{"$f":"IF(INDIRECT(\"'\"&$BM12&\"'!\"&\"BC15\")>0,INDIRECT(\"'\"&$BM12&\"'!\"&\"BC15\"),IF(SUM($AV$3:$AV11,$AW$3:$AW11)=0,$C$39,IF($AV12=$AV11,BD11,IF(MATCH(AV12,$AV$3:$AV11,0)=1,INDEX($BA$3:$BE11,MATCH(MAX(IF($AV$3:$AV11=AV12,$AW$3:$AW11)),$AW$3:$AW11,0),4),IF(MATCH(AV12,$AW$3:$AW11,0)=1,INDEX($BF$3:$BJ11,MATCH(MAX(IF($AW$3:$AW11=AV12,$AW$3:$AW11)),$AW$3:$AW11,0),4),0)))))","v":{"$error":"#VALUE!"}},{"$f":"IF(INDIRECT(\"'\"&$BM12&\"'!\"&\"BD15\")>0,INDIRECT(\"'\"&$BM12&\"'!\"&\"BD15\"),IF(SUM($AV$3:$AV11,$AW$3:$AW11)=0,$C$40,IF($AV12=$AV11,BE11,IF(MATCH(AV12,$AV$3:$AV11,0)=1,INDEX($BA$3:$BE11,MATCH(MAX(IF($AV$3:$AV11=AV12,$AW$3:$AW11)),$AW$3:$AW11,0),5),IF(MATCH(AV12,$AW$3:$AW11,0)=1,INDEX($BF$3:$BG11,MATCH(MAX(IF($AW$3:$AW11=AV12,$AW$3:$AW11)),$AW$3:$AW11,0),5),0)))))","v":{"$error":"#VALUE!"}},{"$f":"IF(INDIRECT(\"'\"&$BM12&\"'!\"&\"BE$15\")>0,INDIRECT(\"'\"&$BM12&\"'!\"&\"BE$15\"),IF(SUM($AV$3:$AV11,$AW$3:$AW11)=0,$C$36,IF($AW12=$AV12,0,IF($AW11=$AW12,BF11,IF(MATCH($AW12,$AW$3:$AW11,0)=1,INDEX($BF$3:$BJ11,MATCH(MAX(IF($AW$3:$AW11=$AW12,$AW$3:$AW11)),$AW$3:$AW11,0),1),IF(MATCH($AW12,$AV$3:$AV10,0)=1,INDEX($BA$3:$BE11,MATCH(MAX(IF($AV$3:$AV11=$AW12,$AV$3:$AV11)),$AV$3:$AV11,0),1),0))))))","v":{"$error":"#VALUE!"}},{"$f":"IF(INDIRECT(\"'\"&$BM12&\"'!\"&\"BF$15\")>0,INDIRECT(\"'\"&$BM12&\"'!\"&\"BF$15\"),IF(SUM($AV$3:$AV11,$AW$3:$AW11)=0,$C$37,IF($AW12=$AV12,0,IF($AW11=$AW12,BG11,IF(MATCH($AW12,$AW$3:$AW11,0)=1,INDEX($BF$3:$BJ11,MATCH(MAX(IF($AW$3:$AW11=$AW12,$AW$3:$AW11)),$AW$3:$AW11,0),2),IF(MATCH($AW12,$AV$3:$AV10,0)=1,INDEX($BA$3:$BE11,MATCH(MAX(IF($AV$3:$AV11=$AW12,$AV$3:$AV11)),$AV$3:$AV11,0),2),0))))))","v":{"$error":"#VALUE!"}},{"$f":"IF(INDIRECT(\"'\"&$BM12&\"'!\"&\"BG$15\")>0,INDIRECT(\"'\"&$BM12&\"'!\"&\"BG$15\"),IF(SUM($AV$3:$AV11,$AW$3:$AW11)=0,$C$38,IF($AW12=$AV12,0,IF($AW11=$AW12,BH11,IF(MATCH($AW12,$AW$3:$AW11,0)=1,INDEX($BF$3:$BJ11,MATCH(MAX(IF($AW$3:$AW11=$AW12,$AW$3:$AW11)),$AW$3:$AW11,0),3),IF(MATCH($AW12,$AV$3:$AV10,0)=1,INDEX($BA$3:$BE11,MATCH(MAX(IF($AV$3:$AV11=$AW12,$AV$3:$AV11)),$AV$3:$AV11,0),3),0))))))","v":{"$error":"#VALUE!"}},{"$f":"IF(INDIRECT(\"'\"&$BM12&\"'!\"&\"BH$15\")>0,INDIRECT(\"'\"&$BM12&\"'!\"&\"BH$15\"),IF(SUM($AV$3:$AV11,$AW$3:$AW11)=0,$C$39,IF($AW12=$AV12,0,IF($AW11=$AW12,BI11,IF(MATCH($AW12,$AW$3:$AW11,0)=1,INDEX($BF$3:$BJ11,MATCH(MAX(IF($AW$3:$AW11=$AW12,$AW$3:$AW11)),$AW$3:$AW11,0),4),IF(MATCH($AW12,$AV$3:$AV10,0)=1,INDEX($BA$3:$BE11,MATCH(MAX(IF($AV$3:$AV11=$AW12,$AV$3:$AV11)),$AV$3:$AV11,0),4),0))))))","v":{"$error":"#VALUE!"}},{"$f":"IF(INDIRECT(\"'\"&$BM12&\"'!\"&\"BI$15\")>0,INDIRECT(\"'\"&$BM12&\"'!\"&\"BI$15\"),IF(SUM($AV$3:$AV11,$AW$3:$AW11)=0,$C$40,IF($AW12=$AV12,0,IF($AW11=$AW12,BJ11,IF(MATCH($AW12,$AW$3:$AW11,0)=1,INDEX($BF$3:$BJ11,MATCH(MAX(IF($AW$3:$AW11=$AW12,$AW$3:$AW11)),$AW$3:$AW11,0),5),IF(MATCH($AW12,$AV$3:$AV10,0)=1,INDEX($BA$3:$BE11,MATCH(MAX(IF($AV$3:$AV11=$AW12,$AV$3:$AV11)),$AV$3:$AV11,0),5),0))))))","v":{"$error":"#VALUE!"}},{"$error":"#VALUE!"},{"$error":"#VALUE!"},{"$error":"#VALUE!"}]
["Ende:",null,null,null,null,null,null,null,null,{"$f":"IF(C13=\"\",0,IF(DAY(C13)>15,1,0.5))","v":0},{"$f":"IF(C13=0,0,IF(DAY(C13)=14,MONTH(C13),MONTH(C13)+0.5))","v":0},{"$f":"IF(J13=0,\"\",L12)","v":""},{"$f":"M12","v":""},null,null,null,10,3.25,4.875,6.5,8.25,10,11.625,13.25,14.875,16.5,18.25,20,21.625,23.25,24.875,26.5,28.25,30,31.625,33.25,34.875,36.5,38.25,40,5,0,0,10,0,"",11,0,0,null,{"$f":"IF(AND(AV13=AV12,BA13=BA12,BB13=BB12,BC13=BC12,BD13=BD12,BE13=BE12),AY12,IF(AND(AV13=AV11,SUM(BA13:BE13)=0,SUM(BA11:BE11)>0),AY11,IF(AND(AV13=AV10,SUM(BA13:BE13)=0,SUM(BA10:BE10)>0),AY10,IF(AND(AV13=AV9,SUM(BA13:BE13)=0,SUM(BA9:BE9)>0),AY9,IF(AND(AV13=AV8,SUM(BA13:BE13)=0,SUM(BA8:BE8)>0),AY8,IF(AND(AV13=AV7,SUM(BA13:BE13)=0,SUM(BA7:BE7)>0),AY7,IF(AND(AV13=AV6,SUM(BA13:BE13)=0,SUM(BA6:BE6)>0),AY6,IF(AND(AV13=AV5,SUM(BA13:BE13)=0,SUM(BA5:BE5)>0),AY5,IF(AND(AV13=AV4,SUM(BA13:BE13)=0,SUM(BA4:BE4)>0),AY4,IF(AND(AV13=AV3,SUM(BA13:BE13)=0,SUM(BA3:BE3)>0),AY3,AY12+1))))))))))","v":{"$error":"#VALUE!"}},{"$error":"#VALUE!"},{"$f":"IF(INDIRECT(\"'\"&$BM13&\"'!\"&\"AZ15\")>0,INDIRECT(\"'\"&$BM13&\"'!\"&\"AZ15\"),IF(SUM($AV$3:$AV12,$AW$3:$AW12)=0,$C$36,IF($AV13=$AV12,BA12,IF(MATCH(AV13,$AV$3:$AV12,0)=1,INDEX($BA$3:$BE12,MATCH(MAX(IF($AV$3:$AV12=AV13,$AW$3:$AW12)),$AW$3:$AW12,0),1),IF(MATCH(AV13,$AW$3:$AW12,0)=1,INDEX($BF$3:$BJ12,MATCH(MAX(IF($AW$3:$AW12=$AV13,$AW$3:$AW12)),$AW$3:$AW12,0),1),0)))))","v":{"$error":"#VALUE!"}},{"$f":"IF(INDIRECT(\"'\"&$BM13&\"'!\"&\"BA15\")>0,INDIRECT(\"'\"&$BM13&\"'!\"&\"BA15\"),IF(SUM($AV$3:$AV12,$AW$3:$AW12)=0,$C$37,IF($AV13=$AV12,BB12,IF(MATCH(AV13,$AV$3:$AV12,0)=1,INDEX($BA$3:$BE12,MATCH(MAX(IF($AV$3:$AV12=AV13,$AW$3:$AW12)),$AW$3:$AW12,0),2),IF(MATCH(AV13,$AW$3:$AW12,0)=1,INDEX($BF$3:$BJ12,MATCH(MAX(IF($AW$3:$AW12=AV13,$AW$3:$AW12)),$AW$3:$AW12,0),2),0)))))","v":{"$error":"#VALUE!"}},{"$f":"IF(INDIRECT(\"'\"&$BM13&\"'!\"&\"BB15\")>0,INDIRECT(\"'\"&$BM13&\"'!\"&\"BB15\"),IF(SUM($AV$3:$AV12,$AW$3:$AW12)=0,$C$38,IF($AV13=$AV12,BC12,IF(MATCH(AV13,$AV$3:$AV12,0)=1,INDEX($BA$3:$BE12,MATCH(MAX(IF($AV$3:$AV12=AV13,$AW$3:$AW12)),$AW$3:$AW12,0),3),IF(MATCH(AV13,$AW$3:$AW12,0)=1,INDEX($BF$3:$BJ12,MATCH(MAX(IF($AW$3:$AW12=AV13,$AW$3:$AW12)),$AW$3:$AW12,0),3),0)))))","v":{"$error":"#VALUE!"}},{"$f":"IF(INDIRECT(\"'\"&$BM13&\"'!\"&\"BC15\")>0,INDIRECT(\"'\"&$BM13&\"'!\"&\"BC15\"),IF(SUM($AV$3:$AV12,$AW$3:$AW12)=0,$C$39,IF($AV13=$AV12,BD12,IF(MATCH(AV13,$AV$3:$AV12,0)=1,INDEX($BA$3:$BE12,MATCH(MAX(IF($AV$3:$AV12=AV13,$AW$3:$AW12)),$AW$3:$AW12,0),4),IF(MATCH(AV13,$AW$3:$AW12,0)=1,INDEX($BF$3:$BJ12,MATCH(MAX(IF($AW$3:$AW12=AV13,$AW$3:$AW12)),$AW$3:$AW12,0),4),0)))))","v":{"$error":"#VALUE!"}},{"$f":"IF(INDIRECT(\"'\"&$BM13&\"'!\"&\"BD15\")>0,INDIRECT(\"'\"&$BM13&\"'!\"&\"BD15\"),IF(SUM($AV$3:$AV12,$AW$3:$AW12)=0,$C$40,IF($AV13=$AV12,BE12,IF(MATCH(AV13,$AV$3:$AV12,0)=1,INDEX($BA$3:$BE12,MATCH(MAX(IF($AV$3:$AV12=AV13,$AW$3:$AW12)),$AW$3:$AW12,0),5),IF(MATCH(AV13,$AW$3:$AW12,0)=1,INDEX($BF$3:$BG12,MATCH(MAX(IF($AW$3:$AW12=AV13,$AW$3:$AW12)),$AW$3:$AW12,0),5),0)))))","v":{"$error":"#VALUE!"}},{"$f":"IF(INDIRECT(\"'\"&$BM13&\"'!\"&\"BE$15\")>0,INDIRECT(\"'\"&$BM13&\"'!\"&\"BE$15\"),IF(SUM($AV$3:$AV12,$AW$3:$AW12)=0,$C$36,IF($AW13=$AV13,0,IF($AW12=$AW13,BF12,IF(MATCH($AW13,$AW$3:$AW12,0)=1,INDEX($BF$3:$BJ12,MATCH(MAX(IF($AW$3:$AW12=$AW13,$AW$3:$AW12)),$AW$3:$AW12,0),1),IF(MATCH($AW13,$AV$3:$AV11,0)=1,INDEX($BA$3:$BE12,MATCH(MAX(IF($AV$3:$AV12=$AW13,$AV$3:$AV12)),$AV$3:$AV12,0),1),0))))))","v":{"$error":"#VALUE!"}},{"$f":"IF(INDIRECT(\"'\"&$BM13&\"'!\"&\"BF$15\")>0,INDIRECT(\"'\"&$BM13&\"'!\"&\"BF$15\"),IF(SUM($AV$3:$AV12,$AW$3:$AW12)=0,$C$37,IF($AW13=$AV13,0,IF($AW12=$AW13,BG12,IF(MATCH($AW13,$AW$3:$AW12,0)=1,INDEX($BF$3:$BJ12,MATCH(MAX(IF($AW$3:$AW12=$AW13,$AW$3:$AW12)),$AW$3:$AW12,0),2),IF(MATCH($AW13,$AV$3:$AV11,0)=1,INDEX($BA$3:$BE12,MATCH(MAX(IF($AV$3:$AV12=$AW13,$AV$3:$AV12)),$AV$3:$AV12,0),2),0))))))","v":{"$error":"#VALUE!"}},{"$f":"IF(INDIRECT(\"'\"&$BM13&\"'!\"&\"BG$15\")>0,INDIRECT(\"'\"&$BM13&\"'!\"&\"BG$15\"),IF(SUM($AV$3:$AV12,$AW$3:$AW12)=0,$C$38,IF($AW13=$AV13,0,IF($AW12=$AW13,BH12,IF(MATCH($AW13,$AW$3:$AW12,0)=1,INDEX($BF$3:$BJ12,MATCH(MAX(IF($AW$3:$AW12=$AW13,$AW$3:$AW12)),$AW$3:$AW12,0),3),IF(MATCH($AW13,$AV$3:$AV11,0)=1,INDEX($BA$3:$BE12,MATCH(MAX(IF($AV$3:$AV12=$AW13,$AV$3:$AV12)),$AV$3:$AV12,0),3),0))))))","v":{"$error":"#VALUE!"}},{"$f":"IF(INDIRECT(\"'\"&$BM13&\"'!\"&\"BH$15\")>0,INDIRECT(\"'\"&$BM13&\"'!\"&\"BH$15\"),IF(SUM($AV$3:$AV12,$AW$3:$AW12)=0,$C$39,IF($AW13=$AV13,0,IF($AW12=$AW13,BI12,IF(MATCH($AW13,$AW$3:$AW12,0)=1,INDEX($BF$3:$BJ12,MATCH(MAX(IF($AW$3:$AW12=$AW13,$AW$3:$AW12)),$AW$3:$AW12,0),4),IF(MATCH($AW13,$AV$3:$AV11,0)=1,INDEX($BA$3:$BE12,MATCH(MAX(IF($AV$3:$AV12=$AW13,$AV$3:$AV12)),$AV$3:$AV12,0),4),0))))))","v":{"$error":"#VALUE!"}},{"$f":"IF(INDIRECT(\"'\"&$BM13&\"'!\"&\"BI$15\")>0,INDIRECT(\"'\"&$BM13&\"'!\"&\"BI$15\"),IF(SUM($AV$3:$AV12,$AW$3:$AW12)=0,$C$40,IF($AW13=$AV13,0,IF($AW12=$AW13,BJ12,IF(MATCH($AW13,$AW$3:$AW12,0)=1,INDEX($BF$3:$BJ12,MATCH(MAX(IF($AW$3:$AW12=$AW13,$AW$3:$AW12)),$AW$3:$AW12,0),5),IF(MATCH($AW13,$AV$3:$AV11,0)=1,INDEX($BA$3:$BE12,MATCH(MAX(IF($AV$3:$AV12=$AW13,$AV$3:$AV12)),$AV$3:$AV12,0),5),0))))))","v":{"$error":"#VALUE!"}},{"$error":"#VALUE!"},{"$error":"#VALUE!"},{"$error":"#VALUE!"}]
["Beginn:",null,null,null,null,null,null,null,null,{"$f":"IF(C14=\"\",0,IF(DAY(C14)>15,1,0.5))","v":0},{"$f":"IF(C14=0,0,IF(DAY(C14)=15,MONTH(C14)+0.5,MONTH(C14)))","v":0},{"$f":"IF(J14=0,\"\",IF(AND(D14=\"\",D12=\"\",D10=\"\"),D4,IF(AND(D14=\"\",D12=\"\",D10>1),D10,IF(AND(D14=\"\",D12>1),D12,D14))))","v":""},{"$f":"IF(OR(F13=\"\",J14=\"\"),\"\",IF(AND(D15=\"\",D13=\"\",D11=\"\",D5=\"\"),D4,IF(AND(D15=\"\",D13=\"\",D11>1),D11,IF(AND(D15=\"\",D13>1),D13,D15))))","v":""},{"$f":"C15-C14","v":0},{"$f":"DATEDIF(C14,C15,\"ym\")","v":0},{"$f":"DATEDIF(C14,C15,\"md\")","v":0},11,3.5,5.375,7.25,9.125,11,12.75,14.5,16.375,18.25,20.125,22,23.75,25.5,27.375,29.25,31.125,33,34.75,36.5,38.375,40.25,42.125,44,5.5,0,0,11,0,"",12,0,0,null,{"$f":"IF(AND(AV14=AV13,BA14=BA13,BB14=BB13,BC14=BC13,BD14=BD13,BE14=BE13),AY13,IF(AND(AV14=AV12,SUM(BA14:BE14)=0,SUM(BA12:BE12)>0),AY12,IF(AND(AV14=AV11,SUM(BA14:BE14)=0,SUM(BA11:BE11)>0),AY11,IF(AND(AV14=AV10,SUM(BA14:BE14)=0,SUM(BA10:BE10)>0),AY10,IF(AND(AV14=AV9,SUM(BA14:BE14)=0,SUM(BA9:BE9)>0),AY9,IF(AND(AV14=AV8,SUM(BA14:BE14)=0,SUM(BA8:BE8)>0),AY8,IF(AND(AV14=AV7,SUM(BA14:BE14)=0,SUM(BA7:BE7)>0),AY7,IF(AND(AV14=AV6,SUM(BA14:BE14)=0,SUM(BA6:BE6)>0),AY6,IF(AND(AV14=AV5,SUM(BA14:BE14)=0,SUM(BA5:BE5)>0),AY5,IF(AND(AV14=AV4,SUM(BA14:BE14)=0,SUM(BA4:BE4)>0),AY4,IF(AND(AV14=AV3,SUM(BA14:BE14)=0,SUM(BA3:BE3)>0),AY3,AY13+1)))))))))))","v":{"$error":"#VALUE!"}},{"$error":"#VALUE!"},{"$f":"IF(INDIRECT(\"'\"&$BM14&\"'!\"&\"AZ15\")>0,INDIRECT(\"'\"&$BM14&\"'!\"&\"AZ15\"),IF(SUM($AV$3:$AV13,$AW$3:$AW13)=0,$C$36,IF($AV14=$AV13,BA13,IF(MATCH(AV14,$AV$3:$AV13,0)=1,INDEX($BA$3:$BE13,MATCH(MAX(IF($AV$3:$AV13=AV14,$AW$3:$AW13)),$AW$3:$AW13,0),1),IF(MATCH(AV14,$AW$3:$AW13,0)=1,INDEX($BF$3:$BJ13,MATCH(MAX(IF($AW$3:$AW13=$AV14,$AW$3:$AW13)),$AW$3:$AW13,0),1),0)))))","v":{"$error":"#VALUE!"}},{"$f":"IF(INDIRECT(\"'\"&$BM14&\"'!\"&\"BA15\")>0,INDIRECT(\"'\"&$BM14&\"'!\"&\"BA15\"),IF(SUM($AV$3:$AV13,$AW$3:$AW13)=0,$C$37,IF($AV14=$AV13,BB13,IF(MATCH(AV14,$AV$3:$AV13,0)=1,INDEX($BA$3:$BE13,MATCH(MAX(IF($AV$3:$AV13=AV14,$AW$3:$AW13)),$AW$3:$AW13,0),2),IF(MATCH(AV14,$AW$3:$AW13,0)=1,INDEX($BF$3:$BJ13,MATCH(MAX(IF($AW$3:$AW13=AV14,$AW$3:$AW13)),$AW$3:$AW13,0),2),0)))))","v":{"$error":"#VALUE!"}},{"$f":"IF(INDIRECT(\"'\"&$BM14&\"'!\"&\"BB15\")>0,INDIRECT(\"'\"&$BM14&\"'!\"&\"BB15\"),IF(SUM($AV$3:$AV13,$AW$3:$AW13)=0,$C$38,IF($AV14=$AV13,BC13,IF(MATCH(AV14,$AV$3:$AV13,0)=1,INDEX($BA$3:$BE13,MATCH(MAX(IF($AV$3:$AV13=AV14,$AW$3:$AW13)),$AW$3:$AW13,0),3),IF(MATCH(AV14,$AW$3:$AW13,0)=1,INDEX($BF$3:$BJ13,MATCH(MAX(IF($AW$3:$AW13=AV14,$AW$3:$AW13)),$AW$3:$AW13,0),3),0)))))","v":{"$error":"#VALUE!"}},{"$f":"IF(INDIRECT(\"'\"&$BM14&\"'!\"&\"BC15\")>0,INDIRECT(\"'\"&$BM14&\"'!\"&\"BC15\"),IF(SUM($AV$3:$AV13,$AW$3:$AW13)=0,$C$39,IF($AV14=$AV13,BD13,IF(MATCH(AV14,$AV$3:$AV13,0)=1,INDEX($BA$3:$BE13,MATCH(MAX(IF($AV$3:$AV13=AV14,$AW$3:$AW13)),$AW$3:$AW13,0),4),IF(MATCH(AV14,$AW$3:$AW13,0)=1,INDEX($BF$3:$BJ13,MATCH(MAX(IF($AW$3:$AW13=AV14,$AW$3:$AW13)),$AW$3:$AW13,0),4),0)))))","v":{"$error":"#VALUE!"}},{"$f":"IF(INDIRECT(\"'\"&$BM14&\"'!\"&\"BD15\")>0,INDIRECT(\"'\"&$BM14&\"'!\"&\"BD15\"),IF(SUM($AV$3:$AV13,$AW$3:$AW13)=0,$C$40,IF($AV14=$AV13,BE13,IF(MATCH(AV14,$AV$3:$AV13,0)=1,INDEX($BA$3:$BE13,MATCH(MAX(IF($AV$3:$AV13=AV14,$AW$3:$AW13)),$AW$3:$AW13,0),5),IF(MATCH(AV14,$AW$3:$AW13,0)=1,INDEX($BF$3:$BG13,MATCH(MAX(IF($AW$3:$AW13=AV14,$AW$3:$AW13)),$AW$3:$AW13,0),5),0)))))","v":{"$error":"#VALUE!"}},{"$f":"IF(INDIRECT(\"'\"&$BM14&\"'!\"&\"BE$15\")>0,INDIRECT(\"'\"&$BM14&\"'!\"&\"BE$15\"),IF(SUM($AV$3:$AV13,$AW$3:$AW13)=0,$C$36,IF($AW14=$AV14,0,IF($AW13=$AW14,BF13,IF(MATCH($AW14,$AW$3:$AW13,0)=1,INDEX($BF$3:$BJ13,MATCH(MAX(IF($AW$3:$AW13=$AW14,$AW$3:$AW13)),$AW$3:$AW13,0),1),IF(MATCH($AW14,$AV$3:$AV12,0)=1,INDEX($BA$3:$BE13,MATCH(MAX(IF($AV$3:$AV13=$AW14,$AV$3:$AV13)),$AV$3:$AV13,0),1),0))))))","v":{"$error":"#VALUE!"}},{"$f":"IF(INDIRECT(\"'\"&$BM14&\"'!\"&\"BF$15\")>0,INDIRECT(\"'\"&$BM14&\"'!\"&\"BF$15\"),IF(SUM($AV$3:$AV13,$AW$3:$AW13)=0,$C$37,IF($AW14=$AV14,0,IF($AW13=$AW14,BG13,IF(MATCH($AW14,$AW$3:$AW13,0)=1,INDEX($BF$3:$BJ13,MATCH(MAX(IF($AW$3:$AW13=$AW14,$AW$3:$AW13)),$AW$3:$AW13,0),2),IF(MATCH($AW14,$AV$3:$AV12,0)=1,INDEX($BA$3:$BE13,MATCH(MAX(IF($AV$3:$AV13=$AW14,$AV$3:$AV13)),$AV$3:$AV13,0),2),0))))))","v":{"$error":"#VALUE!"}},{"$f":"IF(INDIRECT(\"'\"&$BM14&\"'!\"&\"BG$15\")>0,INDIRECT(\"'\"&$BM14&\"'!\"&\"BG$15\"),IF(SUM($AV$3:$AV13,$AW$3:$AW13)=0,$C$38,IF($AW14=$AV14,0,IF($AW13=$AW14,BH13,IF(MATCH($AW14,$AW$3:$AW13,0)=1,INDEX($BF$3:$BJ13,MATCH(MAX(IF($AW$3:$AW13=$AW14,$AW$3:$AW13)),$AW$3:$AW13,0),3),IF(MATCH($AW14,$AV$3:$AV12,0)=1,INDEX($BA$3:$BE13,MATCH(MAX(IF($AV$3:$AV13=$AW14,$AV$3:$AV13)),$AV$3:$AV13,0),3),0))))))","v":{"$error":"#VALUE!"}},{"$f":"IF(INDIRECT(\"'\"&$BM14&\"'!\"&\"BH$15\")>0,INDIRECT(\"'\"&$BM14&\"'!\"&\"BH$15\"),IF(SUM($AV$3:$AV13,$AW$3:$AW13)=0,$C$39,IF($AW14=$AV14,0,IF($AW13=$AW14,BI13,IF(MATCH($AW14,$AW$3:$AW13,0)=1,INDEX($BF$3:$BJ13,MATCH(MAX(IF($AW$3:$AW13=$AW14,$AW$3:$AW13)),$AW$3:$AW13,0),4),IF(MATCH($AW14,$AV$3:$AV12,0)=1,INDEX($BA$3:$BE13,MATCH(MAX(IF($AV$3:$AV13=$AW14,$AV$3:$AV13)),$AV$3:$AV13,0),4),0))))))","v":{"$error":"#VALUE!"}},{"$f":"IF(INDIRECT(\"'\"&$BM14&\"'!\"&\"BI$15\")>0,INDIRECT(\"'\"&$BM14&\"'!\"&\"BI$15\"),IF(SUM($AV$3:$AV13,$AW$3:$AW13)=0,$C$40,IF($AW14=$AV14,0,IF($AW13=$AW14,BJ13,IF(MATCH($AW14,$AW$3:$AW13,0)=1,INDEX($BF$3:$BJ13,MATCH(MAX(IF($AW$3:$AW13=$AW14,$AW$3:$AW13)),$AW$3:$AW13,0),5),IF(MATCH($AW14,$AV$3:$AV12,0)=1,INDEX($BA$3:$BE13,MATCH(MAX(IF($AV$3:$AV13=$AW14,$AV$3:$AV13)),$AV$3:$AV13,0),5),0))))))","v":{"$error":"#VALUE!"}},{"$error":"#VALUE!"},{"$error":"#VALUE!"},{"$error":"#VALUE!"}]
["Ende:",null,null,null,null,null,null,null,null,0,{"$f":"IF(C15=0,0,IF(DAY(C15)=14,MONTH(C15),MONTH(C15)+0.5))","v":0},{"$f":"L14","v":""},{"$f":"M14","v":""},null,null,null,12,4,6,8,10,12,14,16,18,20,22,24,26,28,30,32,34,36,38,40,42,44,46,48,6,0,0,12,0,"",null,null,null,null,null,null,"T4","T5","T6","T7","T8","T12","T13","T14","T15","T16"]
[null,null,null,null,null,null,null,null,null,null,null,null,null,null,null,null,13,4.25,6.375,8.5,10.75,13,15.125,17.25,19.375,21.5,23.75,26,28.125,30.25,32.375,34.5,36.75,39,41.125,43.25,45.375,47.5,49.75,52,6.5,0,0,13,0,""]
["Zusammenfassung",null,null,null,null,null,null,null,null,null,null,null,null,null,null,null,14,4.5,6.875,9.25,11.625,14,16.25,18.5,20.875,23.25,25.625,28,30.25,32.5,34.875,37.25,39.625,42,44.25,46.5,48.875,51.25,53.625,56,7,0,0,14,0,"",null,null,null,null,null,null,{"$f":"INDIRECT(\"'\"&BM3&\"'!\"&\"BK15\")","v":{"$error":"#VALUE!"}}]
["Monat",null,"Soll","IST"," +/-",null,"Urlaub",null,null,null,null,null,null,null,null,null,15,5,7.5,10,12.5,15,17.5,20,22.5,25,27.5,30,32.5,35,37.5,40,42.5,45,47.5,50,52.5,55,57.5,60,7.5,0,0,15,0,""]
["Januar",null,{"$f":"IF(I1=\"\",\"\",IF(INDIRECT(\"'\"&BM3&\"'!\"&\"L43\")<1,\"\",TEXT((INDIRECT(\"'\"&BM3&\"'!\"&\"L43\")/60)/24,\"[h]:mm\")))","v":""},{"$f":"IF(C19=\"\",\"\",TEXT((INDIRECT(\"'\"&BM3&\"'!\"&\"G42\")/60)/24,\"[h]:mm\"))","v":""},{"$f":"IF(F19=\"\",\"\",INDIRECT(\"'\"&BM3&\"'!\"&\"H43\"))","v":""},{"$f":"IF(C19=\"\",\"\",IF(AND(YEAR(TODAY())=$I$1,MONTH(TODAY())>=M19),IF(INDIRECT(\"'\"&BM3&\"'!\"&\"K44\")<0,TEXT(-(INDIRECT(\"'\"&BM3&\"'!\"&\"K44\")/60)/24,\"-[h]:mm\"),TEXT((INDIRECT(\"'\"&BM3&\"'!\"&\"K44\")/60)/24,\"[h]:mm\")),\"\"))","v":""},{"$f":"IF(C19=\"\",\"\",TEXT((IF(INDIRECT(\"'\"&BM3&\"'!\"&\"M41\")>0,INDIRECT(\"'\"&BM3&\"'!\"&\"M10\")-INDIRECT(\"'\"&BM3&\"'!\"&\"M41\"),0)/60)/24,\"[h]:mm\"))","v":""},null,null,null,null,null,1,null,null,null,16,5.25,7.875,10.5,13.25,16,18.625,21.25,23.875,26.5,29.25,32,34.625,37.25,39.875,42.5,45.25,48,50.625,53.25,55.875,58.5,61.25,64,8,0,0,16,0,""]
["Februar",null,{"$f":"IF(I1=\"\",\"\",IF(INDIRECT(\"'\"&BM4&\"'!\"&\"L43\")<1,\"\",TEXT((INDIRECT(\"'\"&BM4&\"'!\"&\"L43\")/60)/24,\"[h]:mm\")))","v":""},{"$f":"IF(C20=\"\",\"\",TEXT((INDIRECT(\"'\"&BM4&\"'!\"&\"G42\")/60)/24,\"[h]:mm\"))","v":""},{"$f":"IF(F20=\"\",\"\",INDIRECT(\"'\"&BM4&\"'!\"&\"H43\"))","v":""},"","",null,null,null,null,null,2,null,null,null,17,5.5,8.375,11.25,14.125,17,19.75,22.5,25.375,28.25,31.125,34,36.75,39.5,42.375,45.25,48.125,51,53.75,56.5,59.375,62.25,65.125,68,8.5,0,0,17,0,""]
["März",null,{"$f":"IF(I1=\"\",\"\",IF(INDIRECT(\"'\"&BM5&\"'!\"&\"L43\")<1,\"\",TEXT((INDIRECT(\"'\"&BM5&\"'!\"&\"L43\")/60)/24,\"[h]:mm\")))","v":""},{"$f":"IF(C21=\"\",\"\",TEXT((INDIRECT(\"'\"&BM5&\"'!\"&\"G42\")/60)/24,\"[h]:mm\"))","v":""},"","","",null,null,null,null,null,3,null,null,null,18,6,9,12,15,18,21,24,27,30,33,36,39,42,45,48,51,54,57,60,63,66,69,72,9,0,0,18,0,""]
["April",null,{"$f":"IF(I1=\"\",\"\",IF(INDIRECT(\"'\"&BM6&\"'!\"&\"L43\")<1,\"\",TEXT((INDIRECT(\"'\"&BM6&\"'!\"&\"L43\")/60)/24,\"[h]:mm\")))","v":""},"","","","",null,null,null,null,null,4,null,null,null,19,6.25,9.375,12.5,15.75,19,22.125,25.25,28.375,31.5,34.75,38,41.125,44.25,47.375,50.5,53.75,57,60.125,63.25,66.375,69.5,72.75,76,9.5,0,0,19,0]
["Mai",null,{"$f":"IF(I1=\"\",\"\",IF(INDIRECT(\"'\"&BM7&\"'!\"&\"L43\")<1,\"\",TEXT((INDIRECT(\"'\"&BM7&\"'!\"&\"L43\")/60)/24,\"[h]:mm\")))","v":""},"","","","",null,null,null,null,null,5,null,null,null,null,null,null,null,null,null,null,null,null,null,null,null,null,null,null,null,null,null,null,null,null,null,null,null,10,0,0]
["Juni",null,{"$f":"IF(I1=\"\",\"\",IF(INDIRECT(\"'\"&BM8&\"'!\"&\"L43\")<1,\"\",TEXT((INDIRECT(\"'\"&BM8&\"'!\"&\"L43\")/60)/24,\"[h]:mm\")))","v":""},"","","","",null,null,null,null,null,6,null,null,null,null,null,null,null,null,null,null,null,null,null,null,null,null,null,null,null,null,null,null,null,null,null,null,null,10.5,0,0]
["Juli",null,{"$f":"IF(I1=\"\",\"\",IF(INDIRECT(\"'\"&BM9&\"'!\"&\"L43\")<1,\"\",TEXT((INDIRECT(\"'\"&BM9&\"'!\"&\"L43\")/60)/24,\"[h]:mm\")))","v":""},"","","","",null,null,null,null,null,7,null,null,null,null,null,null,null,null,null,null,null,null,null,null,null,null,null,null,null,null,null,null,null,null,null,null,null,11,0,0]
["August",null,{"$f":"IF(I1=\"\",\"\",IF(INDIRECT(\"'\"&BM10&\"'!\"&\"L43\")<1,\"\",TEXT((INDIRECT(\"'\"&BM10&\"'!\"&\"L43\")/60)/24,\"[h]:mm\")))","v":""},"","","","",null,null,null,null,null,8,null,null,null,null,null,null,null,null,null,null,null,null,null,null,null,null,null,null,null,null,null,null,null,null,null,null,null,11.5,0,0]
["September",null,{"$f":"IF(I1=\"\",\"\",IF(INDIRECT(\"'\"&BM11&\"'!\"&\"L43\")<1,\"\",TEXT((INDIRECT(\"'\"&BM11&\"'!\"&\"L43\")/60)/24,\"[h]:mm\")))","v":""},"","","","",null,null,null,null,null,9,null,null,null,null,null,null,null,null,null,null,null,null,null,null,null,null,null,null,null,null,null,null,null,null,null,null,null,12,0,0]
["Oktober",null,{"$f":"IF(I1=\"\",\"\",IF(INDIRECT(\"'\"&BM12&\"'!\"&\"L43\")<1,\"\",TEXT((INDIRECT(\"'\"&BM12&\"'!\"&\"L43\")/60)/24,\"[h]:mm\")))","v":""},"","","","",null,null,null,null,null,10,null,null,null,null,null,null,null,null,null,null,null,null,null,null,null,null,null,null,null,null,null,null,null,null,null,null,null,12.5,0,0]
["November",null,{"$f":"IF(I1=\"\",\"\",IF(INDIRECT(\"'\"&BM13&\"'!\"&\"L43\")<1,\"\",TEXT((INDIRECT(\"'\"&BM13&\"'!\"&\"L43\")/60)/24,\"[h]:mm\")))","v":""},"","","","",null,null,null,null,null,11]
["Dezember",null,{"$f":"IF(I1=\"\",\"\",IF(INDIRECT(\"'\"&BM14&\"'!\"&\"L43\")<1,\"\",TEXT((INDIRECT(\"'\"&BM14&\"'!\"&\"L43\")/60)/24,\"[h]:mm\")))","v":""},"","","","",null,null,null,null,null,12]
["Gesamt:",null,{"$f":"IF(I1=\"\",\"\",TEXT((SUM(Jan!$L$43,Feb!L42,Mrz!$L$42,Apr!$L$42,Mai!$L$42,Jun!$L$42,Jul!$L$42,Aug!$L$42,Sep!$L$42,Okt!$L$42,Nov!L42,Dez!L42)/60)/24,\"[h]:mm\"))","v":""},{"$f":"IF(I1=\"\",\"\",TEXT((SUM(Jan!F42,Feb!F41,Mrz!F41,Apr!F41,Mai!F41,Jun!F41,Jul!F41,Aug!F41,Sep!F41,Okt!F41,Nov!F41,Dez!F41)/60)/24,\"[h]:mm\"))","v":""},null,{"$f":"IF(I1=\"\",\"\",IF(Dez!K44/60<0,TEXT(-(Dez!K44/60)/24,\"-[h]:mm\"),TEXT((Dez!K44/60)/24,\"[h]:mm\")))","v":""},{"$f":"IF(I1=\"\",\"\",TEXT((Dez!M41/60)/24,\"[h]:mm\"))","v":""},null,null,null,null,null,null,null,null,null,null,null,null,null,null,null,null,null,null,null,null,null,null,null,null,null,null,null,null,null,null,null,null,null,1,{"$f":"IF(AND($K$14<AO32,AO31<$K$15),$L$14,IF(AND($K$12<AO32,AO31<$K$13),$L$12,IF(AND($K$10<AO32,AO31<$K$11),$L$10,IF(AND($K$7<AO32,AO31<$K$8),$L$7,0))))","v":0},{"$f":"INDEX($K$7:$M$15,MATCH(IF(AND($K$14>0,$K$15>0,$K$14<=AO31,$K$15>=AO31),$K$14,IF(AND($K$12>0,$K$13>0,$K$12<=AO31,$K$13>=AO31),$K$12,IF(AND($K$10>0,$K$11>0,$K$10<=AO31,$K$11>=AO31),$K$10,IF(AND($K$7>0,$K$8>0,$K$7<=AO31,$K$8>=AO31),$K$7,0)))),$K$7:$K$15,0),3)","v":0}]
[null,null,null,null,null,null,null,null,null,null,null,null,null,null,null,null,null,null,null,null,null,null,null,null,null,null,null,null,null,null,null,null,null,null,null,null,null,null,null,null,2,0,{"$f":"INDEX($K$7:$M$15,MATCH(IF(AND($K$14>0,$K$15>0,$K$14<=AO32,$K$15>=AO32),$K$14,IF(AND($K$12>0,$K$13>0,$K$12<=AO32,$K$13>=AO32),$K$12,IF(AND($K$10>0,$K$11>0,$K$10<=AO32,$K$11>=AO32),$K$10,IF(AND($K$7>0,$K$8>0,$K$7<=AO32,$K$8>=AO32),$K$7,0)))),$K$7:$K$15,0),3)","v":0}]
["Wöchentliche Stunden & Arbeitstage",null,null,null,null,null,null,null,null,null,null,null,null,null,null,null,null,null,null,null,null,null,null,null,null,null,null,null,null,null,null,null,null,null,null,null,null,null,null,null,3,0,0]
["Bei fester Vereinbarung der Arbeitstage und Stunden, diese bitte hier eintragen. Bei Veränderungen dann bitte im jeweiligen Monat diese Angaben ändern. Wenn keine festen Tage vereinbart sind, bitte offen lassen.",null,null,null,null,null,null,null,null,null,null,null,null,null,null,null,null,null,null,null,null,null,null,null,null,null,null,null,null,null,null,null,null,null,null,null,null,null,null,null,4,0,0]
["Wöchentliche Arbeitszeit",null,"Stunden",null,null,null,null,null,null,null,null,null,null,null,null,null,null,null,null,null,null,null,null,null,null,null,null,null,null,null,null,null,null,null,null,null,null,null,null,null,5,0,0]
["Montag",null,null,"Es werden automatisch 30 Minuten Pause bei einer täglichen Arbeitszeit ab 6 Stunden berechnet.",null,null,null,null,null,null,null,null,null,null,null,null,null,null,null,null,null,null,null,null,null,null,null,null,null,null,null,null,null,null,null,null,null,null,null,null,6,0,0]
["Dienstag",null,null,null,null,null,null,null,null,null,null,null,null,null,null,null,null,null,null,null,null,null,null,null,null,null,null,null,null,null,null,null,null,null,null,null,null,null,null,null,7,0,0]
["Mittwoch",null,null,null,null,null,null,null,null,null,null,null,null,null,null,null,null,null,null,null,null,null,null,null,null,null,null,null,null,null,null,null,null,null,null,null,null,null,null,null,8,0,0]
["Donnerstag",null,null,null,null,null,null,null,null,null,null,null,null,null,null,null,null,null,null,null,null,null,null,null,null,null,null,null,null,null,null,null,null,null,null,null,null,null,null,null,9,0,0]
["Freitag",null,null,null,null,null,null,null,null,null,null,null,null,null,null,null,null,null,null,null,null,null,null,null,null,null,null,null,null,null,null,null,null,null,null,null,null,null,null,null,10,0,0]
[null,null,{"$f":"SUM(C36:C40)","v":0},{"$f":"IF(I1=\"\",\"\",IF(C41<SUM(F4:F5),\"zu wenig\",IF(C41>SUM(F4:F5),\"zu viel\",\"\")))","v":""},null,null,null,null,null,null,null,null,null,null,null,null,null,null,null,null,null,null,null,null,null,null,null,null,null,null,null,null,null,null,null,null,null,null,null,null,11,0,0]
[null,null,null,null,null,null,null,null,null,null,null,null,null,null,null,null,null,null,null,null,null,null,null,null,null,null,null,null,null,null,null,null,null,null,null,null,null,null,null,null,12,{"$f":"IF(AND($K$14<AO43,AO42<$K$15),$L$14,IF(AND($K$12<AO43,AO42<$K$13),$L$12,IF(AND($K$10<AO43,AO42<$K$11),$L$10,IF(AND($K$7<AO43,AO42<$K$8),$L$7,0))))","v":0},0]
[null,null,null,null,null,null,null,null,null,null,null,null,null,null,null,null,null,null,null,null,null,null,null,null,null,null,null,null,null,null,null,null,null,null,null,null,null,null,null,null,13,null,{"$f":"INDEX($K$7:$M$15,MATCH(IF(AND($K$14>0,$K$15>0,$K$14<=AO44,$K$15>=AO43),$K$14,IF(AND($K$12>0,$K$13>0,$K$12<=AO44,$K$13>=AO43),$K$12,IF(AND($K$10>0,$K$11>0,$K$10<=AO44,$K$11>=AO43),$K$10,IF(AND($K$7>0,$K$8>0,$K$7<=AO44,$K$8>=AO43),$K$7,0)))),$K$7:$K$15,0),3)","v":0}]

{"sheet":"Jan","index":1,"n_rows":58,"n_cols":22,"rows_kept":58,"cut":false,"hidden":false,"merged":[[1,0,2,8],[6,6,7,7],[6,5,7,5],[6,0,7,4],[3,6,4,9],[3,5,4,5],[6,8,7,8],[6,9,7,9],[8,18,8,19],[9,18,9,20],[16,18,16,19],[42,0,42,5],[3,13,4,15],[5,13,5,15],[3,0,4,1],[3,2,4,2],[3,3,4,4],[43,0,44,7],[43,8,44,8],[43,9,46,9],[45,0,45,7],[6,13,7,15]]}
["Zeiterfassungsbogen für studentische Hilfskräfte | International Office",null,null,null,null,null,null,null,null,null,null,null,null,null,null,null,null,null,null,null,null,"\"nein\" auswählen, wenn keine festen Tage mehr gelten sollen!"]
[{"$f":"IF(Uebersicht!A4=\"\",\"\",CONCATENATE(Uebersicht!B4,\" \",Uebersicht!A4))","v":""}]
[null,null,null,null,null,null,null,null,null,null,null,null,null,{"$f":"INDEX(Uebersicht!AO5:AQ28,MATCH(C4,Uebersicht!AO5:AO28,0),3)","v":0},{"$f":"INDEX(Uebersicht!AO5:AQ28,MATCH(C4+0.5,Uebersicht!AO5:AO28,0),3)","v":0},null,null,null,"Tag","h"]
[{"$f":"IF(D4=\"\",\"\",TEXT(DATE(D4,C4,1),\"MMM\"))","v":""},null,1,{"$f":"Uebersicht!I1","v":""},null,null,{"$f":"IF(INDEX(Uebersicht!AO31:AQ42,MATCH(C4,Uebersicht!AO31:AO43,0),2)=0,\"\",INDEX(Uebersicht!AO31:AQ42,MATCH(C4,Uebersicht!AO31:AO43,0),2))","v":""},null,null,null,null,null,null,{"$f":"INDEX(Uebersicht!AO31:AQ42,MATCH(C4,Uebersicht!AO31:AO43,0),3)","v":0},null,null,null,{"$f":"IF(OR($K$9=2,$K$9=0),1,IF(AND(OR($K$9=1,$K$9=3),OR(SUM($U$4:$U$8)=0,$U$1=\"nein\")),3,IF(AND($U$1=\"\",SUM($U$4:$U$8)>0,U4>=1,OR($K$9=3,$K$9=1)),4,1)))","v":1},"Mo",null,{"$f":"IF(OR($K$9=0,$U$1=\"nein\"),0,IF(T4>0,T4,INDEX(Uebersicht!$BA$3:$BE$14,$C$4,MATCH(S4,Uebersicht!$BA$2:$BE$2,0))))","v":0}]
[null,null,null,null,null,null,null,null,null,null,null,null,null,null,null,null,null,{"$f":"IF(OR($K$9=2,$K$9=0),1,IF(AND(OR($K$9=1,$K$9=3),OR(SUM($U$4:$U$8)=0,$U$1=\"nein\")),3,IF(AND($U$1=\"\",SUM($U$4:$U$8)>0,U5>=1,OR($K$9=3,$K$9=1)),4,1)))","v":1},"Di",null,{"$f":"IF(OR($K$9=0,$U$1=\"nein\"),0,IF(T5>0,T5,INDEX(Uebersicht!$BA$3:$BE$14,$C$4,MATCH(S5,Uebersicht!$BA$2:$BE$2,0))))","v":0}]
[null,null,{"$f":"DAY(DATE(D4,C4+1,1)-1)","v":{"$error":"#VALUE!"}},null,null,null,null,{"$f":"IF(N4=0,\"\",\"Arbeitsgebiet 1\")","v":""},{"$f":"IF(C4-1=0,Uebersicht!G4,INDIRECT(\"'\"&TEXT(DATE(D4,C4-1,1),\"MMM\")&\"'!K43\"))","v":0},null,"nein",null,null,{"$f":"IF(N4=\"\",\"\",\"Arbeitsgebiet 2\")","v":"Arbeitsgebiet 2"},null,null,null,{"$f":"IF(OR($K$9=2,$K$9=0),1,IF(AND(OR($K$9=1,$K$9=3),OR(SUM($U$4:$U$8)=0,$U$1=\"nein\")),3,IF(AND($U$1=\"\",SUM($U$4:$U$8)>0,U6>=1,OR($K$9=3,$K$9=1)),4,1)))","v":1},"Mi",null,{"$f":"IF(OR($K$9=0,$U$1=\"nein\"),0,IF(T6>0,T6,INDEX(Uebersicht!$BA$3:$BE$14,$C$4,MATCH(S6,Uebersicht!$BA$2:$BE$2,0))))","v":0}]
[{"$f":"IF(AND(H9>0,I9=0),CONCATENATE(H9,\" Wochenarbeitszeit (h)\"),IF(AND(H9=0,I9>0),CONCATENATE(I9,\" Wochenarbeitszeit (h)\"),IF(AND(H9>0,I9>0,H9<>I9),CONCATENATE(H9,\" h, ab 15. \",TEXT(DATE(D4,C4,1),\"MMMM\"),\" \",I9,\"h\"),\"\")))","v":""},null,null,null,null,{"$f":"IF(G4=\"\",\"\",IF(M42/60>0,TEXT((M42/60)/24,\"[h]:mm\"),0))","v":""},{"$f":"IF(F7=\"\",\"\",\"Urlaubsrest\")","v":""},null,{"$f":"IF(AND(YEAR(TODAY())=D4,MONTH(TODAY())>=C4,K9>0),IF(OR(I6=0,I6=\"\"),0,IF(I6<0,TEXT(-(I6/60)/24,\"-[h]:mm\"),TEXT((I6/60)/24,\"[h]:mm\"))),\"\")","v":""},{"$f":"IF(I7=\"\",\"\",CONCATENATE(\"h Übertrag aus \",IF(C6=1,\"Vorjahr\",\"Vormonat\")))","v":""},"Urlaub",null,null,{"$f":"IF(AND(N3>0,O3=0),CONCATENATE(N3,\" Stunden - Anteil pro Woche\"),IF(AND(N3=0,O3>0),CONCATENATE(O3,\" Stunden - Anteil pro Woche\"),IF(AND(N3>0,O3>0,O3<>N3),CONCATENATE(N3,\" h, ab 15. \",TEXT(DATE(D4,C4,1),\"MMMM\"),\" \",O3,\"h\"),IF(N3=O3,CONCATENATE(N3,\" Stunden - Anteil pro Woche\"),\"\"))))","v":"0 Stunden - Anteil pro Woche"},null,null,null,{"$f":"IF(OR($K$9=2,$K$9=0),1,IF(AND(OR($K$9=1,$K$9=3),OR(SUM($U$4:$U$8)=0,$U$1=\"nein\")),3,IF(AND($U$1=\"\",SUM($U$4:$U$8)>0,U7>=1,OR($K$9=3,$K$9=1)),4,1)))","v":1},"Do",null,{"$f":"IF(OR($K$9=0,$U$1=\"nein\"),0,IF(T7>0,T7,INDEX(Uebersicht!$BA$3:$BE$14,$C$4,MATCH(S7,Uebersicht!$BA$2:$BE$2,0))))","v":0}]
[null,null,null,null,null,null,null,null,null,null,"Krank",null,null,null,null,null,null,{"$f":"IF(OR($K$9=2,$K$9=0),1,IF(AND(OR($K$9=1,$K$9=3),OR(SUM($U$4:$U$8)=0,$U$1=\"nein\")),3,IF(AND($U$1=\"\",SUM($U$4:$U$8)>0,U8>=1,OR($K$9=3,$K$9=1)),4,1)))","v":1},"Fr",null,{"$f":"IF(OR($K$9=0,$U$1=\"nein\"),0,IF(T8>0,T8,INDEX(Uebersicht!$BA$3:$BE$14,$C$4,MATCH(S8,Uebersicht!$BA$2:$BE$2,0))))","v":0}]
[null,null,null,null,null,null,null,{"$f":"INDEX(Uebersicht!AU3:AW14,C4,2)","v":0},{"$f":"IF(INDEX(Uebersicht!AU3:AW14,C4,3)=H9,0,INDEX(Uebersicht!AU3:AW14,C4,3))","v":0},null,{"$f":"IF(AND(H9>0,I9=0),1,IF(AND(H9=0,I9>0),2,IF(AND(H9=0,I9=0),0,IF(H9<>I9,3,\"\"))))","v":0},null,null,null,{"$f":"IF(OR(N3>0,O3>0),IF(OR(K9=1,K9=2),(IF(K9=1,N3,IF(K9=2,O2,0))/5)*NETWORKDAYS(IF(K9=1,DATE(D4,C4,1),IF(K9=2,DATE(D4,C4,15),0)),IF(OR(K9=1,K9=2),DATE(D4,C4,MAX(A11:A41)),0),COUNTIFS(C11:C41,\"<>\"&2)),IF(K9=3,SUM(IF(N3>0,(N3/5)*NETWORKDAYS(DATE(D4,C4,1),DATE(D4,C4,14),2),0),IF(O3>0,(O3/5)*NETWORKDAYS(DATE(D4,C4,15),DATE(D4,C4,MAX(A11:A41)),2),0)),0)),\"\")","v":""},null,null,null,{"$f":"IF(SUM(U4:U8)=0,\"\",IF(SUM(U4:U8)>H9,\"zu viel!\",IF(SUM(U4:U8)<H9,\"zu wenig!\",\"\")))","v":""},null,{"$f":"IF(OR(U1=\"nein\",SUM(U4:U8)=0),\"ja\",IF(OR(SUM(Uebersicht!C36:C40)>0,SUM(T4:T8)>0,SUM(U4:U8)>0),\"nein\",\"ja\"))","v":"ja"}]
["Tag",null,null,"Beginn","Ende","Urlaub\nKrank","Stunden","Mehr/\nMinder","Saldo\nsummiert","Bemerkungen","Differenz","Soll",{"$f":"IF(C4-1=0,IF(Uebersicht!E8=\"\",0,Uebersicht!E8*60),INDIRECT(\"'\"&TEXT(DATE(D4,C4-1,1),\"MMM\")&\"'!M42\"))","v":0},"Stunden","Rest","Bemerkungen","Gesamt",null,"Änderung im laufenden Monat"]
[1,{"$f":"IF($D$4=\"\",\"\",TEXT(DATE($D$4,$C$4,A11),\"ttt\"))","v":""},{"$f":"IF(OR($K$9=0,AND($K$9=2,A11<=14)),1,IF(IF(ISNA(INDEX(X!$W$7:$W$20,MATCH(DATE($D$4,$C$4,A11),X!$AC$7:$AC$20,0))),1,2)=2,2,IF(OR(B11=\"Sa\",B11=\"So\"),2,IF($K$9=1,SUMIFS($R$4:$R$8,$S$4:$S$8,B11),IF(AND($K$9=2,A11<15),SUMIFS($R$4:$R$8,$S$4:$S$8,B11),IF(AND($K$9=2,A11>14),SUMIFS($R$12:$R$16,$S$12:$S$16,B11),IF(AND($K$9=3,A11>14),SUMIFS($R$12:$R$16,$S$12:$S$16,B11),IF(AND($K$9=3,A11<15),SUMIFS($R$4:$R$8,$S$4:$S$8,B11),1))))))))","v":1},null,null,null,{"$f":"IF(AND(D11=\"\",E11=\"\"),\"\",IF(N11=\"\",IF(((HOUR(E11)*60+MINUTE(E11))-(HOUR(D11)*60+MINUTE(D11)))>360,TEXT(((((HOUR(E11)*60+MINUTE(E11))-(HOUR(D11)*60+MINUTE(D11)))-30)/60)/24,\"[h]:mm\"),TEXT((((HOUR(E11)*60+MINUTE(E11))-(HOUR(D11)*60+MINUTE(D11)))/60)/24,\"[h]:mm\")),IF((((HOUR(E11)*60+MINUTE(E11))-(HOUR(D11)*60+MINUTE(D11)))-N11)>360,TEXT(((((((HOUR(E11)*60+MINUTE(E11))-(HOUR(D11)*60+MINUTE(D11)))-30))/60)-N11)/24,\"[h]:mm\"),TEXT(((((HOUR(E11)*60+MINUTE(E11))-(HOUR(D11)*60+MINUTE(D11)))/60)-N11)/24,\"[h]:mm\"))))","v":""},{"$f":"IF(K11=\"\",\"\",IF(TODAY()<=DATE($D$4,$C$4,A11),0,IF(K11>0,TEXT((K11/60)/24,\"[h]:mm\"),TEXT(-(K11/60)/24,\"-[h]:mm\"))))","v":""},{"$f":"IF($K$9>0,IF(SUM($K$11:$K11,I6)<0,TEXT(-(SUM($K$11:K11,I6)/60)/24,\"-[h]:mm\"),TEXT((SUM($K$11:K11,I6)/60)/24,\"[h]:mm\")),\"\")","v":""},null,{"$f":"IF(F11=\"\",IF(L11<0,L11+IF(G11=\" \",0,IF(((HOUR(E11)*60+MINUTE(E11))-(HOUR(D11)*60+MINUTE(D11)))>360,(HOUR(E11)*60+MINUTE(E11))-(HOUR(D11)*60+MINUTE(D11))-30,(HOUR(E11)*60+MINUTE(E11))-(HOUR(D11)*60+MINUTE(D11)))),IF(Q11=\"\",\"\",(Q11*60)*24)),\"\")","v":""},{"$f":"IF(OR(F11=\"krank\",F11=\"Urlaub\",C11=1,C11=2),0,IF($K$9=1,IF(SUM($U$4:$U$8)=0,$H$9/5,INDEX($S$4:$U$8,MATCH(B11,$S$4:$S$8,0),3)),IF($K$9=2,IF(AND(A11>14,SUM($U$12:$U$16)=0),$I$9/5,INDEX($S$12:$U$16,MATCH(B11,$S$12:$S$16,0),3)),IF($K$9=3,IF(A11<15,IF(SUM($U$4:$U$8)=0,$H$9/5,INDEX($S$4:$U$8,MATCH(B11,$S$4:$S$8,0),3))),IF(A11>14,IF(SUM($U$12:$U$16)=0,$I$9/5,INDEX($S$12:$U$16,MATCH(B11,$S$12:$S$16,0),3))))))*-60)","v":0},{"$f":"M10-(IF(OR(C11=1,C11=2),0,IF(C11=3,IF(AND($K$9=1,F11=\"Urlaub\"),$H$9/5,IF($K$9=2,IF(AND(A11<15,F11=\"Urlaub\"),$I$9/5,IF(AND($K$9=3,A11<15,F11=\"Urlaub\"),$H$9/5,IF(AND($K$9=3,A11>14,F11=\"Urlaub\"),$I$9/5))))),IF(C11=4,IF(AND(F11=\"Urlaub\",$K$9=1),SUMIFS($U$4:$U$8,$S$4:$S$8,B11),IF(AND(F11=\"Urlaub\",$K$9=2,A11>14),SUMIFS($U$12:$U$16,$S$12:$S$16,B11),IF(AND(F11=\"Urlaub\",$K$9=3,A11<15),SUMIFS($U$4:$U$8,$S$4:$S$8,B11),IF(AND(F11=\"Urlaub\",$K$9=3,A11>14),SUMIFS($U$12:$U$16,$S$12:$S$16,B11),0)))))))*60)","v":0},null,{"$f":"IF(OR($O$3=\"\",$N11=\"\"),\"\",IF($O$9-SUM($N10:N$11)-N11<0,TEXT(-(($O$9-SUM($N10:N$11)-N11)/24),\"-[hh]:mm\"),TEXT(($O$9-SUM($N10:N$11)-N11)/24,\"[hh]:mm\")))","v":""},null,{"$f":"IF(AND(D11=\"\",E11=\"\"),\"\",IF(((HOUR(E11)*60+MINUTE(E11))-(HOUR(D11)*60+MINUTE(D11)))>360,TEXT(((((HOUR(E11)*60+MINUTE(E11))-(HOUR(D11)*60+MINUTE(D11)))-30)/60)/24,\"[h]:mm\"),TEXT((((HOUR(E11)*60+MINUTE(E11))-(HOUR(D11)*60+MINUTE(D11)))/60)/24,\"[h]:mm\")))","v":""}]
[{"$f":"IF(OR(A11=\"\",$D$4=\"\"),\"\",IF(A11+1<=$C$6,A11+1,\"\"))","v":""},{"$f":"IF(OR(A11=\"\",$D$4=\"\"),\"\",TEXT(DATE($D$4,$C$4,A12),\"ttt\"))","v":""},{"$f":"IF(OR($K$9=0,AND($K$9=2,A12<=14)),1,IF(IF(ISNA(INDEX(X!$W$7:$W$20,MATCH(DATE($D$4,$C$4,A12),X!$AC$7:$AC$20,0))),1,2)=2,2,IF(OR(B12=\"Sa\",B12=\"So\"),2,IF($K$9=1,SUMIFS($R$4:$R$8,$S$4:$S$8,B12),IF(AND($K$9=2,A12<15),SUMIFS($R$4:$R$8,$S$4:$S$8,B12),IF(AND($K$9=2,A12>14),SUMIFS($R$12:$R$16,$S$12:$S$16,B12),IF(AND($K$9=3,A12>14),SUMIFS($R$12:$R$16,$S$12:$S$16,B12),IF(AND($K$9=3,A12<15),SUMIFS($R$4:$R$8,$S$4:$S$8,B12),1))))))))","v":1},null,null,null,"","",{"$f":"IF($K$9>0,IF(SUM($K$11:$K12,$I$6)<0,TEXT(-(SUM($K$11:K12,$I$6)/60)/24,\"-[h]:mm\"),TEXT((SUM($K$11:K12,$I$6)/60)/24,\"[h]:mm\")),\"\")","v":""},null,{"$f":"IF(F12=\"\",IF(L12<0,L12+IF(G12=\" \",0,IF(((HOUR(E12)*60+MINUTE(E12))-(HOUR(D12)*60+MINUTE(D12)))>360,(HOUR(E12)*60+MINUTE(E12))-(HOUR(D12)*60+MINUTE(D12))-30,(HOUR(E12)*60+MINUTE(E12))-(HOUR(D12)*60+MINUTE(D12)))),IF(Q12=\"\",\"\",(Q12*60)*24)),\"\")","v":""},{"$f":"IF(OR(F12=\"krank\",F12=\"Urlaub\",C12=1,C12=2),0,IF($K$9=1,IF(SUM($U$4:$U$8)=0,$H$9/5,INDEX($S$4:$U$8,MATCH(B12,$S$4:$S$8,0),3)),IF($K$9=2,IF(AND(A12>14,SUM($U$12:$U$16)=0),$I$9/5,INDEX($S$12:$U$16,MATCH(B12,$S$12:$S$16,0),3)),IF($K$9=3,IF(A12<15,IF(SUM($U$4:$U$8)=0,$H$9/5,INDEX($S$4:$U$8,MATCH(B12,$S$4:$S$8,0),3)),IF(SUM($U$12:$U$16)=0,$I$9/5,INDEX($S$12:$U$16,MATCH(B12,$S$12:$S$16,0),3)))))))*-60","v":0},0,null,{"$f":"IF(OR($O$3=\"\",$N12=\"\"),\"\",IF($O$9-SUM($N$11:N11)-N12<0,TEXT(-(($O$9-SUM($N$11:N11)-N12)/24),\"-[hh]:mm\"),TEXT(($O$9-SUM($N$11:N11)-N12)/24,\"[hh]:mm\")))","v":""},null,"",{"$f":"IF($K$9=0,1,IF($K$9=1,R4,IF(AND($K$9=3,OR(SUM($U$12:$U$16)=0,$U$1=\"nein\")),3,IF(AND($U$1=\"\",SUM($U$12:$U$16)>0,U12>=1,OR($K$9=3,$K$9=2)),4,1))))","v":1},"Mo",null,{"$f":"IF(OR($K$9=0,$U$1=\"nein\"),0,IF(T12>0,T12,INDEX(Uebersicht!$BF$3:$BJ$14,$C$4,MATCH(S12,Uebersicht!$BF$2:$BJ$2,0))))","v":0}]
[{"$f":"IF(OR(A12=\"\",$D$4=\"\"),\"\",IF(A12+1<=$C$6,A12+1,\"\"))","v":""},"",{"$f":"IF(OR($K$9=0,AND($K$9=2,A13<=14)),1,IF(IF(ISNA(INDEX(X!$W$7:$W$20,MATCH(DATE($D$4,$C$4,A13),X!$AC$7:$AC$20,0))),1,2)=2,2,IF(OR(B13=\"Sa\",B13=\"So\"),2,IF($K$9=1,SUMIFS($R$4:$R$8,$S$4:$S$8,B13),IF(AND($K$9=2,A13<15),SUMIFS($R$4:$R$8,$S$4:$S$8,B13),IF(AND($K$9=2,A13>14),SUMIFS($R$12:$R$16,$S$12:$S$16,B13),IF(AND($K$9=3,A13>14),SUMIFS($R$12:$R$16,$S$12:$S$16,B13),IF(AND($K$9=3,A13<15),SUMIFS($R$4:$R$8,$S$4:$S$8,B13),1))))))))","v":1},null,null,null,"","",{"$f":"IF($K$9>0,IF(SUM($K$11:$K13,$I$6)<0,TEXT(-(SUM($K$11:K13,$I$6)/60)/24,\"-[h]:mm\"),TEXT((SUM($K$11:K13,$I$6)/60)/24,\"[h]:mm\")),\"\")","v":""},null,{"$f":"IF(F13=\"\",IF(L13<0,L13+IF(G13=\" \",0,IF(((HOUR(E13)*60+MINUTE(E13))-(HOUR(D13)*60+MINUTE(D13)))>360,(HOUR(E13)*60+MINUTE(E13))-(HOUR(D13)*60+MINUTE(D13))-30,(HOUR(E13)*60+MINUTE(E13))-(HOUR(D13)*60+MINUTE(D13)))),IF(Q13=\"\",\"\",(Q13*60)*24)),\"\")","v":""},0,0,null,{"$f":"IF(OR($O$3=\"\",$N13=\"\"),\"\",IF($O$9-SUM($N$11:N12)-N13<0,TEXT(-(($O$9-SUM($N$11:N12)-N13)/24),\"-[hh]:mm\"),TEXT(($O$9-SUM($N$11:N12)-N13)/24,\"[hh]:mm\")))","v":""},null,"",{"$f":"IF($K$9=0,1,IF($K$9=1,R5,IF(AND($K$9=3,OR(SUM($U$12:$U$16)=0,$U$1=\"nein\")),3,IF(AND($U$1=\"\",SUM($U$12:$U$16)>0,U13>=1,OR($K$9=3,$K$9=2)),4,1))))","v":1},"Di",null,{"$f":"IF(OR($K$9=0,$U$1=\"nein\"),0,IF(T13>0,T13,INDEX(Uebersicht!$BF$3:$BJ$14,$C$4,MATCH(S13,Uebersicht!$BF$2:$BJ$2,0))))","v":0}]
["","",{"$f":"IF(OR($K$9=0,AND($K$9=2,A14<=14)),1,IF(IF(ISNA(INDEX(X!$W$7:$W$20,MATCH(DATE($D$4,$C$4,A14),X!$AC$7:$AC$20,0))),1,2)=2,2,IF(OR(B14=\"Sa\",B14=\"So\"),2,IF($K$9=1,SUMIFS($R$4:$R$8,$S$4:$S$8,B14),IF(AND($K$9=2,A14<15),SUMIFS($R$4:$R$8,$S$4:$S$8,B14),IF(AND($K$9=2,A14>14),SUMIFS($R$12:$R$16,$S$12:$S$16,B14),IF(AND($K$9=3,A14>14),SUMIFS($R$12:$R$16,$S$12:$S$16,B14),IF(AND($K$9=3,A14<15),SUMIFS($R$4:$R$8,$S$4:$S$8,B14),1))))))))","v":1},null,null,null,"","",{"$f":"IF($K$9>0,IF(SUM($K$11:$K14,$I$6)<0,TEXT(-(SUM($K$11:K14,$I$6)/60)/24,\"-[h]:mm\"),TEXT((SUM($K$11:K14,$I$6)/60)/24,\"[h]:mm\")),\"\")","v":""},null,"",0,0,null,{"$f":"IF(OR($O$3=\"\",$N14=\"\"),\"\",IF($O$9-SUM($N$11:N13)-N14<0,TEXT(-(($O$9-SUM($N$11:N13)-N14)/24),\"-[hh]:mm\"),TEXT(($O$9-SUM($N$11:N13)-N14)/24,\"[hh]:mm\")))","v":""},null,"",{"$f":"IF($K$9=0,1,IF($K$9=1,R6,IF(AND($K$9=3,OR(SUM($U$12:$U$16)=0,$U$1=\"nein\")),3,IF(AND($U$1=\"\",SUM($U$12:$U$16)>0,U14>=1,OR($K$9=3,$K$9=2)),4,1))))","v":1},"Mi",null,{"$f":"IF(OR($K$9=0,$U$1=\"nein\"),0,IF(T14>0,T14,INDEX(Uebersicht!$BF$3:$BJ$14,$C$4,MATCH(S14,Uebersicht!$BF$2:$BJ$2,0))))","v":0}]
["","",{"$f":"IF(OR($K$9=0,AND($K$9=2,A15<=14)),1,IF(IF(ISNA(INDEX(X!$W$7:$W$20,MATCH(DATE($D$4,$C$4,A15),X!$AC$7:$AC$20,0))),1,2)=2,2,IF(OR(B15=\"Sa\",B15=\"So\"),2,IF($K$9=1,SUMIFS($R$4:$R$8,$S$4:$S$8,B15),IF(AND($K$9=2,A15<15),SUMIFS($R$4:$R$8,$S$4:$S$8,B15),IF(AND($K$9=2,A15>14),SUMIFS($R$12:$R$16,$S$12:$S$16,B15),IF(AND($K$9=3,A15>14),SUMIFS($R$12:$R$16,$S$12:$S$16,B15),IF(AND($K$9=3,A15<15),SUMIFS($R$4:$R$8,$S$4:$S$8,B15),1))))))))","v":1},null,null,null,"","",{"$f":"IF($K$9>0,IF(SUM($K$11:$K15,$I$6)<0,TEXT(-(SUM($K$11:K15,$I$6)/60)/24,\"-[h]:mm\"),TEXT((SUM($K$11:K15,$I$6)/60)/24,\"[h]:mm\")),\"\")","v":""},null,"",0,0,null,{"$f":"IF(OR($O$3=\"\",$N15=\"\"),\"\",IF($O$9-SUM($N$11:N14)-N15<0,TEXT(-(($O$9-SUM($N$11:N14)-N15)/24),\"-[hh]:mm\"),TEXT(($O$9-SUM($N$11:N14)-N15)/24,\"[hh]:mm\")))","v":""},null,"",{"$f":"IF($K$9=0,1,IF($K$9=1,R7,IF(AND($K$9=3,OR(SUM($U$12:$U$16)=0,$U$1=\"nein\")),3,IF(AND($U$1=\"\",SUM($U$12:$U$16)>0,U15>=1,OR($K$9=3,$K$9=2)),4,1))))","v":1},"Do",null,{"$f":"IF(OR($K$9=0,$U$1=\"nein\"),0,IF(T15>0,T15,INDEX(Uebersicht!$BF$3:$BJ$14,$C$4,MATCH(S15,Uebersicht!$BF$2:$BJ$2,0))))","v":0}]
["","",{"$f":"IF(OR($K$9=0,AND($K$9=2,A16<=14)),1,IF(IF(ISNA(INDEX(X!$W$7:$W$20,MATCH(DATE($D$4,$C$4,A16),X!$AC$7:$AC$20,0))),1,2)=2,2,IF(OR(B16=\"Sa\",B16=\"So\"),2,IF($K$9=1,SUMIFS($R$4:$R$8,$S$4:$S$8,B16),IF(AND($K$9=2,A16<15),SUMIFS($R$4:$R$8,$S$4:$S$8,B16),IF(AND($K$9=2,A16>14),SUMIFS($R$12:$R$16,$S$12:$S$16,B16),IF(AND($K$9=3,A16>14),SUMIFS($R$12:$R$16,$S$12:$S$16,B16),IF(AND($K$9=3,A16<15),SUMIFS($R$4:$R$8,$S$4:$S$8,B16),1))))))))","v":1},null,null,null,"","",{"$f":"IF($K$9>0,IF(SUM($K$11:$K16,$I$6)<0,TEXT(-(SUM($K$11:K16,$I$6)/60)/24,\"-[h]:mm\"),TEXT((SUM($K$11:K16,$I$6)/60)/24,\"[h]:mm\")),\"\")","v":""},null,"",0,0,null,{"$f":"IF(OR($O$3=\"\",$N16=\"\"),\"\",IF($O$9-SUM($N$11:N15)-N16<0,TEXT(-(($O$9-SUM($N$11:N15)-N16)/24),\"-[hh]:mm\"),TEXT(($O$9-SUM($N$11:N15)-N16)/24,\"[hh]:mm\")))","v":""},null,"",{"$f":"IF($K$9=0,1,IF($K$9=1,R8,IF(AND($K$9=3,OR(SUM($U$12:$U$16)=0,$U$1=\"nein\")),3,IF(AND($U$1=\"\",SUM($U$12:$U$16)>0,U16>=1,OR($K$9=3,$K$9=2)),4,1))))","v":1},"Fr",null,{"$f":"IF(OR($K$9=0,$U$1=\"nein\"),0,IF(T16>0,T16,INDEX(Uebersicht!$BF$3:$BJ$14,$C$4,MATCH(S16,Uebersicht!$BF$2:$BJ$2,0))))","v":0}]
["","",{"$f":"IF(OR($K$9=0,AND($K$9=2,A17<=14)),1,IF(IF(ISNA(INDEX(X!$W$7:$W$20,MATCH(DATE($D$4,$C$4,A17),X!$AC$7:$AC$20,0))),1,2)=2,2,IF(OR(B17=\"Sa\",B17=\"So\"),2,IF($K$9=1,SUMIFS($R$4:$R$8,$S$4:$S$8,B17),IF(AND($K$9=2,A17<15),SUMIFS($R$4:$R$8,$S$4:$S$8,B17),IF(AND($K$9=2,A17>14),SUMIFS($R$12:$R$16,$S$12:$S$16,B17),IF(AND($K$9=3,A17>14),SUMIFS($R$12:$R$16,$S$12:$S$16,B17),IF(AND($K$9=3,A17<15),SUMIFS($R$4:$R$8,$S$4:$S$8,B17),1))))))))","v":1},null,null,null,"","",{"$f":"IF($K$9>0,IF(SUM($K$11:$K17,$I$6)<0,TEXT(-(SUM($K$11:K17,$I$6)/60)/24,\"-[h]:mm\"),TEXT((SUM($K$11:K17,$I$6)/60)/24,\"[h]:mm\")),\"\")","v":""},null,"",0,0,null,{"$f":"IF(OR($O$3=\"\",$N17=\"\"),\"\",IF($O$9-SUM($N$11:N16)-N17<0,TEXT(-(($O$9-SUM($N$11:N16)-N17)/24),\"-[hh]:mm\"),TEXT(($O$9-SUM($N$11:N16)-N17)/24,\"[hh]:mm\")))","v":""},null,"",null,{"$f":"IF(I9=\"\",\"\",IF(SUM(U12:U16)>I9,\"zu viel!\",IF(SUM(U12:U16)<I9,\"zu wenig!\",\"\")))","v":""},null,{"$f":"IF(OR(U9=\"nein\",SUM(U12:U16)=0),\"ja\",IF(OR(SUM(Uebersicht!C43:C47)>0,SUM(T12:T16)>0,SUM(U12:U16)>0),\"nein\",\"ja\"))","v":"ja"}]
["","",{"$f":"IF(OR($K$9=0,AND($K$9=2,A18<=14)),1,IF(IF(ISNA(INDEX(X!$W$7:$W$20,MATCH(DATE($D$4,$C$4,A18),X!$AC$7:$AC$20,0))),1,2)=2,2,IF(OR(B18=\"Sa\",B18=\"So\"),2,IF($K$9=1,SUMIFS($R$4:$R$8,$S$4:$S$8,B18),IF(AND($K$9=2,A18<15),SUMIFS($R$4:$R$8,$S$4:$S$8,B18),IF(AND($K$9=2,A18>14),SUMIFS($R$12:$R$16,$S$12:$S$16,B18),IF(AND($K$9=3,A18>14),SUMIFS($R$12:$R$16,$S$12:$S$16,B18),IF(AND($K$9=3,A18<15),SUMIFS($R$4:$R$8,$S$4:$S$8,B18),1))))))))","v":1},null,null,null,"","",{"$f":"IF($K$9>0,IF(SUM($K$11:$K18,$I$6)<0,TEXT(-(SUM($K$11:K18,$I$6)/60)/24,\"-[h]:mm\"),TEXT((SUM($K$11:K18,$I$6)/60)/24,\"[h]:mm\")),\"\")","v":""},null,"",0,0,null,{"$f":"IF(OR($O$3=\"\",$N18=\"\"),\"\",IF($O$9-SUM($N$11:N17)-N18<0,TEXT(-(($O$9-SUM($N$11:N17)-N18)/24),\"-[hh]:mm\"),TEXT(($O$9-SUM($N$11:N17)-N18)/24,\"[hh]:mm\")))","v":""},null,""]
["","",{"$f":"IF(OR($K$9=0,AND($K$9=2,A19<=14)),1,IF(IF(ISNA(INDEX(X!$W$7:$W$20,MATCH(DATE($D$4,$C$4,A19),X!$AC$7:$AC$20,0))),1,2)=2,2,IF(OR(B19=\"Sa\",B19=\"So\"),2,IF($K$9=1,SUMIFS($R$4:$R$8,$S$4:$S$8,B19),IF(AND($K$9=2,A19<15),SUMIFS($R$4:$R$8,$S$4:$S$8,B19),IF(AND($K$9=2,A19>14),SUMIFS($R$12:$R$16,$S$12:$S$16,B19),IF(AND($K$9=3,A19>14),SUMIFS($R$12:$R$16,$S$12:$S$16,B19),IF(AND($K$9=3,A19<15),SUMIFS($R$4:$R$8,$S$4:$S$8,B19),1))))))))","v":1},null,null,null,"","",{"$f":"IF($K$9>0,IF(SUM($K$11:$K19,$I$6)<0,TEXT(-(SUM($K$11:K19,$I$6)/60)/24,\"-[h]:mm\"),TEXT((SUM($K$11:K19,$I$6)/60)/24,\"[h]:mm\")),\"\")","v":""},null,"",0,0,null,{"$f":"IF(OR($O$3=\"\",$N19=\"\"),\"\",IF($O$9-SUM($N$11:N18)-N19<0,TEXT(-(($O$9-SUM($N$11:N18)-N19)/24),\"-[hh]:mm\"),TEXT(($O$9-SUM($N$11:N18)-N19)/24,\"[hh]:mm\")))","v":""},null,""]
["","",{"$f":"IF(OR($K$9=0,AND($K$9=2,A20<=14)),1,IF(IF(ISNA(INDEX(X!$W$7:$W$20,MATCH(DATE($D$4,$C$4,A20),X!$AC$7:$AC$20,0))),1,2)=2,2,IF(OR(B20=\"Sa\",B20=\"So\"),2,IF($K$9=1,SUMIFS($R$4:$R$8,$S$4:$S$8,B20),IF(AND($K$9=2,A20<15),SUMIFS($R$4:$R$8,$S$4:$S$8,B20),IF(AND($K$9=2,A20>14),SUMIFS($R$12:$R$16,$S$12:$S$16,B20),IF(AND($K$9=3,A20>14),SUMIFS($R$12:$R$16,$S$12:$S$16,B20),IF(AND($K$9=3,A20<15),SUMIFS($R$4:$R$8,$S$4:$S$8,B20),1))))))))","v":1},null,null,null,"","",{"$f":"IF($K$9>0,IF(SUM($K$11:$K20,$I$6)<0,TEXT(-(SUM($K$11:K20,$I$6)/60)/24,\"-[h]:mm\"),TEXT((SUM($K$11:K20,$I$6)/60)/24,\"[h]:mm\")),\"\")","v":""},null,"",0,0,null,{"$f":"IF(OR($O$3=\"\",$N20=\"\"),\"\",IF($O$9-SUM($N$11:N19)-N20<0,TEXT(-(($O$9-SUM($N$11:N19)-N20)/24),\"-[hh]:mm\"),TEXT(($O$9-SUM($N$11:N19)-N20)/24,\"[hh]:mm\")))","v":""},null,""]
["","",{"$f":"IF(OR($K$9=0,AND($K$9=2,A21<=14)),1,IF(IF(ISNA(INDEX(X!$W$7:$W$20,MATCH(DATE($D$4,$C$4,A21),X!$AC$7:$AC$20,0))),1,2)=2,2,IF(OR(B21=\"Sa\",B21=\"So\"),2,IF($K$9=1,SUMIFS($R$4:$R$8,$S$4:$S$8,B21),IF(AND($K$9=2,A21<15),SUMIFS($R$4:$R$8,$S$4:$S$8,B21),IF(AND($K$9=2,A21>14),SUMIFS($R$12:$R$16,$S$12:$S$16,B21),IF(AND($K$9=3,A21>14),SUMIFS($R$12:$R$16,$S$12:$S$16,B21),IF(AND($K$9=3,A21<15),SUMIFS($R$4:$R$8,$S$4:$S$8,B21),1))))))))","v":1},null,null,null,"","",{"$f":"IF($K$9>0,IF(SUM($K$11:$K21,$I$6)<0,TEXT(-(SUM($K$11:K21,$I$6)/60)/24,\"-[h]:mm\"),TEXT((SUM($K$11:K21,$I$6)/60)/24,\"[h]:mm\")),\"\")","v":""},null,"",0,0,null,{"$f":"IF(OR($O$3=\"\",$N21=\"\"),\"\",IF($O$9-SUM($N$11:N20)-N21<0,TEXT(-(($O$9-SUM($N$11:N20)-N21)/24),\"-[hh]:mm\"),TEXT(($O$9-SUM($N$11:N20)-N21)/24,\"[hh]:mm\")))","v":""},null,""]
["","",{"$f":"IF(OR($K$9=0,AND($K$9=2,A22<=14)),1,IF(IF(ISNA(INDEX(X!$W$7:$W$20,MATCH(DATE($D$4,$C$4,A22),X!$AC$7:$AC$20,0))),1,2)=2,2,IF(OR(B22=\"Sa\",B22=\"So\"),2,IF($K$9=1,SUMIFS($R$4:$R$8,$S$4:$S$8,B22),IF(AND($K$9=2,A22<15),SUMIFS($R$4:$R$8,$S$4:$S$8,B22),IF(AND($K$9=2,A22>14),SUMIFS($R$12:$R$16,$S$12:$S$16,B22),IF(AND($K$9=3,A22>14),SUMIFS($R$12:$R$16,$S$12:$S$16,B22),IF(AND($K$9=3,A22<15),SUMIFS($R$4:$R$8,$S$4:$S$8,B22),1))))))))","v":1},null,null,null,"","",{"$f":"IF($K$9>0,IF(SUM($K$11:$K22,$I$6)<0,TEXT(-(SUM($K$11:K22,$I$6)/60)/24,\"-[h]:mm\"),TEXT((SUM($K$11:K22,$I$6)/60)/24,\"[h]:mm\")),\"\")","v":""},null,"",0,0,null,{"$f":"IF(OR($O$3=\"\",$N22=\"\"),\"\",IF($O$9-SUM($N$11:N21)-N22<0,TEXT(-(($O$9-SUM($N$11:N21)-N22)/24),\"-[hh]:mm\"),TEXT(($O$9-SUM($N$11:N21)-N22)/24,\"[hh]:mm\")))","v":""},null,""]
["","",{"$f":"IF(OR($K$9=0,AND($K$9=2,A23<=14)),1,IF(IF(ISNA(INDEX(X!$W$7:$W$20,MATCH(DATE($D$4,$C$4,A23),X!$AC$7:$AC$20,0))),1,2)=2,2,IF(OR(B23=\"Sa\",B23=\"So\"),2,IF($K$9=1,SUMIFS($R$4:$R$8,$S$4:$S$8,B23),IF(AND($K$9=2,A23<15),SUMIFS($R$4:$R$8,$S$4:$S$8,B23),IF(AND($K$9=2,A23>14),SUMIFS($R$12:$R$16,$S$12:$S$16,B23),IF(AND($K$9=3,A23>14),SUMIFS($R$12:$R$16,$S$12:$S$16,B23),IF(AND($K$9=3,A23<15),SUMIFS($R$4:$R$8,$S$4:$S$8,B23),1))))))))","v":1},null,null,null,"","",{"$f":"IF($K$9>0,IF(SUM($K$11:$K23,$I$6)<0,TEXT(-(SUM($K$11:K23,$I$6)/60)/24,\"-[h]:mm\"),TEXT((SUM($K$11:K23,$I$6)/60)/24,\"[h]:mm\")),\"\")","v":""},null,"",0,0,null,{"$f":"IF(OR($O$3=\"\",$N23=\"\"),\"\",IF($O$9-SUM($N$11:N22)-N23<0,TEXT(-(($O$9-SUM($N$11:N22)-N23)/24),\"-[hh]:mm\"),TEXT(($O$9-SUM($N$11:N22)-N23)/24,\"[hh]:mm\")))","v":""},null,""]
["","",{"$f":"IF(OR($K$9=0,AND($K$9=2,A24<=14)),1,IF(IF(ISNA(INDEX(X!$W$7:$W$20,MATCH(DATE($D$4,$C$4,A24),X!$AC$7:$AC$20,0))),1,2)=2,2,IF(OR(B24=\"Sa\",B24=\"So\"),2,IF($K$9=1,SUMIFS($R$4:$R$8,$S$4:$S$8,B24),IF(AND($K$9=2,A24<15),SUMIFS($R$4:$R$8,$S$4:$S$8,B24),IF(AND($K$9=2,A24>14),SUMIFS($R$12:$R$16,$S$12:$S$16,B24),IF(AND($K$9=3,A24>14),SUMIFS($R$12:$R$16,$S$12:$S$16,B24),IF(AND($K$9=3,A24<15),SUMIFS($R$4:$R$8,$S$4:$S$8,B24),1))))))))","v":1},null,null,null,"","",{"$f":"IF($K$9>0,IF(SUM($K$11:$K24,$I$6)<0,TEXT(-(SUM($K$11:K24,$I$6)/60)/24,\"-[h]:mm\"),TEXT((SUM($K$11:K24,$I$6)/60)/24,\"[h]:mm\")),\"\")","v":""},null,"",0,0,null,{"$f":"IF(OR($O$3=\"\",$N24=\"\"),\"\",IF($O$9-SUM($N$11:N23)-N24<0,TEXT(-(($O$9-SUM($N$11:N23)-N24)/24),\"-[hh]:mm\"),TEXT(($O$9-SUM($N$11:N23)-N24)/24,\"[hh]:mm\")))","v":""},null,""]
["","",{"$f":"IF(OR($K$9=0,AND($K$9=2,A25<=14)),1,IF(IF(ISNA(INDEX(X!$W$7:$W$20,MATCH(DATE($D$4,$C$4,A25),X!$AC$7:$AC$20,0))),1,2)=2,2,IF(OR(B25=\"Sa\",B25=\"So\"),2,IF($K$9=1,SUMIFS($R$4:$R$8,$S$4:$S$8,B25),IF(AND($K$9=2,A25<15),SUMIFS($R$4:$R$8,$S$4:$S$8,B25),IF(AND($K$9=2,A25>14),SUMIFS($R$12:$R$16,$S$12:$S$16,B25),IF(AND($K$9=3,A25>14),SUMIFS($R$12:$R$16,$S$12:$S$16,B25),IF(AND($K$9=3,A25<15),SUMIFS($R$4:$R$8,$S$4:$S$8,B25),1))))))))","v":1},null,null,null,"","",{"$f":"IF($K$9>0,IF(SUM($K$11:$K25,$I$6)<0,TEXT(-(SUM($K$11:K25,$I$6)/60)/24,\"-[h]:mm\"),TEXT((SUM($K$11:K25,$I$6)/60)/24,\"[h]:mm\")),\"\")","v":""},null,"",0,0,null,{"$f":"IF(OR($O$3=\"\",$N25=\"\"),\"\",IF($O$9-SUM($N$11:N24)-N25<0,TEXT(-(($O$9-SUM($N$11:N24)-N25)/24),\"-[hh]:mm\"),TEXT(($O$9-SUM($N$11:N24)-N25)/24,\"[hh]:mm\")))","v":""},null,""]
["","",{"$f":"IF(OR($K$9=0,AND($K$9=2,A26<=14)),1,IF(IF(ISNA(INDEX(X!$W$7:$W$20,MATCH(DATE($D$4,$C$4,A26),X!$AC$7:$AC$20,0))),1,2)=2,2,IF(OR(B26=\"Sa\",B26=\"So\"),2,IF($K$9=1,SUMIFS($R$4:$R$8,$S$4:$S$8,B26),IF(AND($K$9=2,A26<15),SUMIFS($R$4:$R$8,$S$4:$S$8,B26),IF(AND($K$9=2,A26>14),SUMIFS($R$12:$R$16,$S$12:$S$16,B26),IF(AND($K$9=3,A26>14),SUMIFS($R$12:$R$16,$S$12:$S$16,B26),IF(AND($K$9=3,A26<15),SUMIFS($R$4:$R$8,$S$4:$S$8,B26),1))))))))","v":1},null,null,null,"","",{"$f":"IF($K$9>0,IF(SUM($K$11:$K26,$I$6)<0,TEXT(-(SUM($K$11:K26,$I$6)/60)/24,\"-[h]:mm\"),TEXT((SUM($K$11:K26,$I$6)/60)/24,\"[h]:mm\")),\"\")","v":""},null,"",0,0,null,{"$f":"IF(OR($O$3=\"\",$N26=\"\"),\"\",IF($O$9-SUM($N$11:N25)-N26<0,TEXT(-(($O$9-SUM($N$11:N25)-N26)/24),\"-[hh]:mm\"),TEXT(($O$9-SUM($N$11:N25)-N26)/24,\"[hh]:mm\")))","v":""},null,""]
["","",{"$f":"IF(OR($K$9=0,AND($K$9=2,A27<=14)),1,IF(IF(ISNA(INDEX(X!$W$7:$W$20,MATCH(DATE($D$4,$C$4,A27),X!$AC$7:$AC$20,0))),1,2)=2,2,IF(OR(B27=\"Sa\",B27=\"So\"),2,IF($K$9=1,SUMIFS($R$4:$R$8,$S$4:$S$8,B27),IF(AND($K$9=2,A27<15),SUMIFS($R$4:$R$8,$S$4:$S$8,B27),IF(AND($K$9=2,A27>14),SUMIFS($R$12:$R$16,$S$12:$S$16,B27),IF(AND($K$9=3,A27>14),SUMIFS($R$12:$R$16,$S$12:$S$16,B27),IF(AND($K$9=3,A27<15),SUMIFS($R$4:$R$8,$S$4:$S$8,B27),1))))))))","v":1},null,null,null,"","",{"$f":"IF($K$9>0,IF(SUM($K$11:$K27,$I$6)<0,TEXT(-(SUM($K$11:K27,$I$6)/60)/24,\"-[h]:mm\"),TEXT((SUM($K$11:K27,$I$6)/60)/24,\"[h]:mm\")),\"\")","v":""},null,"",0,0,null,{"$f":"IF(OR($O$3=\"\",$N27=\"\"),\"\",IF($O$9-SUM($N$11:N26)-N27<0,TEXT(-(($O$9-SUM($N$11:N26)-N27)/24),\"-[hh]:mm\"),TEXT(($O$9-SUM($N$11:N26)-N27)/24,\"[hh]:mm\")))","v":""},null,""]
["","",{"$f":"IF(OR($K$9=0,AND($K$9=2,A28<=14)),1,IF(IF(ISNA(INDEX(X!$W$7:$W$20,MATCH(DATE($D$4,$C$4,A28),X!$AC$7:$AC$20,0))),1,2)=2,2,IF(OR(B28=\"Sa\",B28=\"So\"),2,IF($K$9=1,SUMIFS($R$4:$R$8,$S$4:$S$8,B28),IF(AND($K$9=2,A28<15),SUMIFS($R$4:$R$8,$S$4:$S$8,B28),IF(AND($K$9=2,A28>14),SUMIFS($R$12:$R$16,$S$12:$S$16,B28),IF(AND($K$9=3,A28>14),SUMIFS($R$12:$R$16,$S$12:$S$16,B28),IF(AND($K$9=3,A28<15),SUMIFS($R$4:$R$8,$S$4:$S$8,B28),1))))))))","v":1},null,null,null,"","",{"$f":"IF($K$9>0,IF(SUM($K$11:$K28,$I$6)<0,TEXT(-(SUM($K$11:K28,$I$6)/60)/24,\"-[h]:mm\"),TEXT((SUM($K$11:K28,$I$6)/60)/24,\"[h]:mm\")),\"\")","v":""},null,"",0,0,null,{"$f":"IF(OR($O$3=\"\",$N28=\"\"),\"\",IF($O$9-SUM($N$11:N27)-N28<0,TEXT(-(($O$9-SUM($N$11:N27)-N28)/24),\"-[hh]:mm\"),TEXT(($O$9-SUM($N$11:N27)-N28)/24,\"[hh]:mm\")))","v":""},null,""]
["","",{"$f":"IF(OR($K$9=0,AND($K$9=2,A29<=14)),1,IF(IF(ISNA(INDEX(X!$W$7:$W$20,MATCH(DATE($D$4,$C$4,A29),X!$AC$7:$AC$20,0))),1,2)=2,2,IF(OR(B29=\"Sa\",B29=\"So\"),2,IF($K$9=1,SUMIFS($R$4:$R$8,$S$4:$S$8,B29),IF(AND($K$9=2,A29<15),SUMIFS($R$4:$R$8,$S$4:$S$8,B29),IF(AND($K$9=2,A29>14),SUMIFS($R$12:$R$16,$S$12:$S$16,B29),IF(AND($K$9=3,A29>14),SUMIFS($R$12:$R$16,$S$12:$S$16,B29),IF(AND($K$9=3,A29<15),SUMIFS($R$4:$R$8,$S$4:$S$8,B29),1))))))))","v":1},null,null,null,"","",{"$f":"IF($K$9>0,IF(SUM($K$11:$K29,$I$6)<0,TEXT(-(SUM($K$11:K29,$I$6)/60)/24,\"-[h]:mm\"),TEXT((SUM($K$11:K29,$I$6)/60)/24,\"[h]:mm\")),\"\")","v":""},null,"",0,0,null,{"$f":"IF(OR($O$3=\"\",$N29=\"\"),\"\",IF($O$9-SUM($N$11:N28)-N29<0,TEXT(-(($O$9-SUM($N$11:N28)-N29)/24),\"-[hh]:mm\"),TEXT(($O$9-SUM($N$11:N28)-N29)/24,\"[hh]:mm\")))","v":""},null,""]
["","",{"$f":"IF(OR($K$9=0,AND($K$9=2,A30<=14)),1,IF(IF(ISNA(INDEX(X!$W$7:$W$20,MATCH(DATE($D$4,$C$4,A30),X!$AC$7:$AC$20,0))),1,2)=2,2,IF(OR(B30=\"Sa\",B30=\"So\"),2,IF($K$9=1,SUMIFS($R$4:$R$8,$S$4:$S$8,B30),IF(AND($K$9=2,A30<15),SUMIFS($R$4:$R$8,$S$4:$S$8,B30),IF(AND($K$9=2,A30>14),SUMIFS($R$12:$R$16,$S$12:$S$16,B30),IF(AND($K$9=3,A30>14),SUMIFS($R$12:$R$16,$S$12:$S$16,B30),IF(AND($K$9=3,A30<15),SUMIFS($R$4:$R$8,$S$4:$S$8,B30),1))))))))","v":1},null,null,null,"","",{"$f":"IF($K$9>0,IF(SUM($K$11:$K30,$I$6)<0,TEXT(-(SUM($K$11:K30,$I$6)/60)/24,\"-[h]:mm\"),TEXT((SUM($K$11:K30,$I$6)/60)/24,\"[h]:mm\")),\"\")","v":""},null,"",0,0,null,{"$f":"IF(OR($O$3=\"\",$N30=\"\"),\"\",IF($O$9-SUM($N$11:N29)-N30<0,TEXT(-(($O$9-SUM($N$11:N29)-N30)/24),\"-[hh]:mm\"),TEXT(($O$9-SUM($N$11:N29)-N30)/24,\"[hh]:mm\")))","v":""},null,""]
["","",{"$f":"IF(OR($K$9=0,AND($K$9=2,A31<=14)),1,IF(IF(ISNA(INDEX(X!$W$7:$W$20,MATCH(DATE($D$4,$C$4,A31),X!$AC$7:$AC$20,0))),1,2)=2,2,IF(OR(B31=\"Sa\",B31=\"So\"),2,IF($K$9=1,SUMIFS($R$4:$R$8,$S$4:$S$8,B31),IF(AND($K$9=2,A31<15),SUMIFS($R$4:$R$8,$S$4:$S$8,B31),IF(AND($K$9=2,A31>14),SUMIFS($R$12:$R$16,$S$12:$S$16,B31),IF(AND($K$9=3,A31>14),SUMIFS($R$12:$R$16,$S$12:$S$16,B31),IF(AND($K$9=3,A31<15),SUMIFS($R$4:$R$8,$S$4:$S$8,B31),1))))))))","v":1},null,null,null,"","",{"$f":"IF($K$9>0,IF(SUM($K$11:$K31,$I$6)<0,TEXT(-(SUM($K$11:K31,$I$6)/60)/24,\"-[h]:mm\"),TEXT((SUM($K$11:K31,$I$6)/60)/24,\"[h]:mm\")),\"\")","v":""},null,"",0,0,null,{"$f":"IF(OR($O$3=\"\",$N31=\"\"),\"\",IF($O$9-SUM($N$11:N30)-N31<0,TEXT(-(($O$9-SUM($N$11:N30)-N31)/24),\"-[hh]:mm\"),TEXT(($O$9-SUM($N$11:N30)-N31)/24,\"[hh]:mm\")))","v":""},null,""]
["","",{"$f":"IF(OR($K$9=0,AND($K$9=2,A32<=14)),1,IF(IF(ISNA(INDEX(X!$W$7:$W$20,MATCH(DATE($D$4,$C$4,A32),X!$AC$7:$AC$20,0))),1,2)=2,2,IF(OR(B32=\"Sa\",B32=\"So\"),2,IF($K$9=1,SUMIFS($R$4:$R$8,$S$4:$S$8,B32),IF(AND($K$9=2,A32<15),SUMIFS($R$4:$R$8,$S$4:$S$8,B32),IF(AND($K$9=2,A32>14),SUMIFS($R$12:$R$16,$S$12:$S$16,B32),IF(AND($K$9=3,A32>14),SUMIFS($R$12:$R$16,$S$12:$S$16,B32),IF(AND($K$9=3,A32<15),SUMIFS($R$4:$R$8,$S$4:$S$8,B32),1))))))))","v":1},null,null,null,"","",{"$f":"IF($K$9>0,IF(SUM($K$11:$K32,$I$6)<0,TEXT(-(SUM($K$11:K32,$I$6)/60)/24,\"-[h]:mm\"),TEXT((SUM($K$11:K32,$I$6)/60)/24,\"[h]:mm\")),\"\")","v":""},null,"",0,0,null,{"$f":"IF(OR($O$3=\"\",$N32=\"\"),\"\",IF($O$9-SUM($N$11:N31)-N32<0,TEXT(-(($O$9-SUM($N$11:N31)-N32)/24),\"-[hh]:mm\"),TEXT(($O$9-SUM($N$11:N31)-N32)/24,\"[hh]:mm\")))","v":""},null,""]
["","",{"$f":"IF(OR($K$9=0,AND($K$9=2,A33<=14)),1,IF(IF(ISNA(INDEX(X!$W$7:$W$20,MATCH(DATE($D$4,$C$4,A33),X!$AC$7:$AC$20,0))),1,2)=2,2,IF(OR(B33=\"Sa\",B33=\"So\"),2,IF($K$9=1,SUMIFS($R$4:$R$8,$S$4:$S$8,B33),IF(AND($K$9=2,A33<15),SUMIFS($R$4:$R$8,$S$4:$S$8,B33),IF(AND($K$9=2,A33>14),SUMIFS($R$12:$R$16,$S$12:$S$16,B33),IF(AND($K$9=3,A33>14),SUMIFS($R$12:$R$16,$S$12:$S$16,B33),IF(AND($K$9=3,A33<15),SUMIFS($R$4:$R$8,$S$4:$S$8,B33),1))))))))","v":1},null,null,null,"","",{"$f":"IF($K$9>0,IF(SUM($K$11:$K33,$I$6)<0,TEXT(-(SUM($K$11:K33,$I$6)/60)/24,\"-[h]:mm\"),TEXT((SUM($K$11:K33,$I$6)/60)/24,\"[h]:mm\")),\"\")","v":""},null,"",0,0,null,{"$f":"IF(OR($O$3=\"\",$N33=\"\"),\"\",IF($O$9-SUM($N$11:N32)-N33<0,TEXT(-(($O$9-SUM($N$11:N32)-N33)/24),\"-[hh]:mm\"),TEXT(($O$9-SUM($N$11:N32)-N33)/24,\"[hh]:mm\")))","v":""},null,""]
["","",{"$f":"IF(OR($K$9=0,AND($K$9=2,A34<=14)),1,IF(IF(ISNA(INDEX(X!$W$7:$W$20,MATCH(DATE($D$4,$C$4,A34),X!$AC$7:$AC$20,0))),1,2)=2,2,IF(OR(B34=\"Sa\",B34=\"So\"),2,IF($K$9=1,SUMIFS($R$4:$R$8,$S$4:$S$8,B34),IF(AND($K$9=2,A34<15),SUMIFS($R$4:$R$8,$S$4:$S$8,B34),IF(AND($K$9=2,A34>14),SUMIFS($R$12:$R$16,$S$12:$S$16,B34),IF(AND($K$9=3,A34>14),SUMIFS($R$12:$R$16,$S$12:$S$16,B34),IF(AND($K$9=3,A34<15),SUMIFS($R$4:$R$8,$S$4:$S$8,B34),1))))))))","v":1},null,null,null,"","",{"$f":"IF($K$9>0,IF(SUM($K$11:$K34,$I$6)<0,TEXT(-(SUM($K$11:K34,$I$6)/60)/24,\"-[h]:mm\"),TEXT((SUM($K$11:K34,$I$6)/60)/24,\"[h]:mm\")),\"\")","v":""},null,"",0,0,null,{"$f":"IF(OR($O$3=\"\",$N34=\"\"),\"\",IF($O$9-SUM($N$11:N33)-N34<0,TEXT(-(($O$9-SUM($N$11:N33)-N34)/24),\"-[hh]:mm\"),TEXT(($O$9-SUM($N$11:N33)-N34)/24,\"[hh]:mm\")))","v":""},null,""]
["","",{"$f":"IF(OR($K$9=0,AND($K$9=2,A35<=14)),1,IF(IF(ISNA(INDEX(X!$W$7:$W$20,MATCH(DATE($D$4,$C$4,A35),X!$AC$7:$AC$20,0))),1,2)=2,2,IF(OR(B35=\"Sa\",B35=\"So\"),2,IF($K$9=1,SUMIFS($R$4:$R$8,$S$4:$S$8,B35),IF(AND($K$9=2,A35<15),SUMIFS($R$4:$R$8,$S$4:$S$8,B35),IF(AND($K$9=2,A35>14),SUMIFS($R$12:$R$16,$S$12:$S$16,B35),IF(AND($K$9=3,A35>14),SUMIFS($R$12:$R$16,$S$12:$S$16,B35),IF(AND($K$9=3,A35<15),SUMIFS($R$4:$R$8,$S$4:$S$8,B35),1))))))))","v":1},null,null,null,"","",{"$f":"IF($K$9>0,IF(SUM($K$11:$K35,$I$6)<0,TEXT(-(SUM($K$11:K35,$I$6)/60)/24,\"-[h]:mm\"),TEXT((SUM($K$11:K35,$I$6)/60)/24,\"[h]:mm\")),\"\")","v":""},null,"",0,0,null,{"$f":"IF(OR($O$3=\"\",$N35=\"\"),\"\",IF($O$9-SUM($N$11:N34)-N35<0,TEXT(-(($O$9-SUM($N$11:N34)-N35)/24),\"-[hh]:mm\"),TEXT(($O$9-SUM($N$11:N34)-N35)/24,\"[hh]:mm\")))","v":""},null,""]
["","",{"$f":"IF(OR($K$9=0,AND($K$9=2,A36<=14)),1,IF(IF(ISNA(INDEX(X!$W$7:$W$20,MATCH(DATE($D$4,$C$4,A36),X!$AC$7:$AC$20,0))),1,2)=2,2,IF(OR(B36=\"Sa\",B36=\"So\"),2,IF($K$9=1,SUMIFS($R$4:$R$8,$S$4:$S$8,B36),IF(AND($K$9=2,A36<15),SUMIFS($R$4:$R$8,$S$4:$S$8,B36),IF(AND($K$9=2,A36>14),SUMIFS($R$12:$R$16,$S$12:$S$16,B36),IF(AND($K$9=3,A36>14),SUMIFS($R$12:$R$16,$S$12:$S$16,B36),IF(AND($K$9=3,A36<15),SUMIFS($R$4:$R$8,$S$4:$S$8,B36),1))))))))","v":1},null,null,null,"","",{"$f":"IF($K$9>0,IF(SUM($K$11:$K36,$I$6)<0,TEXT(-(SUM($K$11:K36,$I$6)/60)/24,\"-[h]:mm\"),TEXT((SUM($K$11:K36,$I$6)/60)/24,\"[h]:mm\")),\"\")","v":""},null,"",0,0,null,{"$f":"IF(OR($O$3=\"\",$N36=\"\"),\"\",IF($O$9-SUM($N$11:N35)-N36<0,TEXT(-(($O$9-SUM($N$11:N35)-N36)/24),\"-[hh]:mm\"),TEXT(($O$9-SUM($N$11:N35)-N36)/24,\"[hh]:mm\")))","v":""},null,""]
["","",{"$f":"IF(OR($K$9=0,AND($K$9=2,A37<=14)),1,IF(IF(ISNA(INDEX(X!$W$7:$W$20,MATCH(DATE($D$4,$C$4,A37),X!$AC$7:$AC$20,0))),1,2)=2,2,IF(OR(B37=\"Sa\",B37=\"So\"),2,IF($K$9=1,SUMIFS($R$4:$R$8,$S$4:$S$8,B37),IF(AND($K$9=2,A37<15),SUMIFS($R$4:$R$8,$S$4:$S$8,B37),IF(AND($K$9=2,A37>14),SUMIFS($R$12:$R$16,$S$12:$S$16,B37),IF(AND($K$9=3,A37>14),SUMIFS($R$12:$R$16,$S$12:$S$16,B37),IF(AND($K$9=3,A37<15),SUMIFS($R$4:$R$8,$S$4:$S$8,B37),1))))))))","v":1},null,null,null,"","",{"$f":"IF($K$9>0,IF(SUM($K$11:$K37,$I$6)<0,TEXT(-(SUM($K$11:K37,$I$6)/60)/24,\"-[h]:mm\"),TEXT((SUM($K$11:K37,$I$6)/60)/24,\"[h]:mm\")),\"\")","v":""},null,"",0,0,null,{"$f":"IF(OR($O$3=\"\",$N37=\"\"),\"\",IF($O$9-SUM($N$11:N36)-N37<0,TEXT(-(($O$9-SUM($N$11:N36)-N37)/24),\"-[hh]:mm\"),TEXT(($O$9-SUM($N$11:N36)-N37)/24,\"[hh]:mm\")))","v":""},null,""]
["","",{"$f":"IF(OR($K$9=0,AND($K$9=2,A38<=14)),1,IF(IF(ISNA(INDEX(X!$W$7:$W$20,MATCH(DATE($D$4,$C$4,A38),X!$AC$7:$AC$20,0))),1,2)=2,2,IF(OR(B38=\"Sa\",B38=\"So\"),2,IF($K$9=1,SUMIFS($R$4:$R$8,$S$4:$S$8,B38),IF(AND($K$9=2,A38<15),SUMIFS($R$4:$R$8,$S$4:$S$8,B38),IF(AND($K$9=2,A38>14),SUMIFS($R$12:$R$16,$S$12:$S$16,B38),IF(AND($K$9=3,A38>14),SUMIFS($R$12:$R$16,$S$12:$S$16,B38),IF(AND($K$9=3,A38<15),SUMIFS($R$4:$R$8,$S$4:$S$8,B38),1))))))))","v":1},null,null,null,"","",{"$f":"IF($K$9>0,IF(SUM($K$11:$K38,$I$6)<0,TEXT(-(SUM($K$11:K38,$I$6)/60)/24,\"-[h]:mm\"),TEXT((SUM($K$11:K38,$I$6)/60)/24,\"[h]:mm\")),\"\")","v":""},null,"",0,0,null,{"$f":"IF(OR($O$3=\"\",$N38=\"\"),\"\",IF($O$9-SUM($N$11:N37)-N38<0,TEXT(-(($O$9-SUM($N$11:N37)-N38)/24),\"-[hh]:mm\"),TEXT(($O$9-SUM($N$11:N37)-N38)/24,\"[hh]:mm\")))","v":""},null,""]
["",{"$f":"IF(OR(A38=\"\",$D$4=\"\"),\"\",TEXT(DATE($D$4,$C$4,A39),\"ttt\"))","v":""},{"$f":"IF(OR($K$9=0,AND($K$9=2,A39<=14)),1,IF(IF(ISNA(INDEX(X!$W$7:$W$20,MATCH(DATE($D$4,$C$4,A39),X!$AC$7:$AC$20,0))),1,2)=2,2,IF(OR(B39=\"Sa\",B39=\"So\"),2,IF($K$9=1,SUMIFS($R$4:$R$8,$S$4:$S$8,B39),IF(AND($K$9=2,A39<15),SUMIFS($R$4:$R$8,$S$4:$S$8,B39),IF(AND($K$9=2,A39>14),SUMIFS($R$12:$R$16,$S$12:$S$16,B39),IF(AND($K$9=3,A39>14),SUMIFS($R$12:$R$16,$S$12:$S$16,B39),IF(AND($K$9=3,A39<15),SUMIFS($R$4:$R$8,$S$4:$S$8,B39),1))))))))","v":1},null,null,null,"","",{"$f":"IF($K$9>0,IF(SUM($K$11:$K39,$I$6)<0,TEXT(-(SUM($K$11:K39,$I$6)/60)/24,\"-[h]:mm\"),TEXT((SUM($K$11:K39,$I$6)/60)/24,\"[h]:mm\")),\"\")","v":""},null,"",0,0,null,{"$f":"IF(OR($O$3=\"\",$N39=\"\"),\"\",IF($O$9-SUM($N$11:N38)-N39<0,TEXT(-(($O$9-SUM($N$11:N38)-N39)/24),\"-[hh]:mm\"),TEXT(($O$9-SUM($N$11:N38)-N39)/24,\"[hh]:mm\")))","v":""},null,""]
["",{"$f":"IF(OR(A39=\"\",$D$4=\"\"),\"\",TEXT(DATE($D$4,$C$4,A40),\"ttt\"))","v":""},{"$f":"IF(OR($K$9=0,AND($K$9=2,A40<=14)),1,IF(IF(ISNA(INDEX(X!$W$7:$W$20,MATCH(DATE($D$4,$C$4,A40),X!$AC$7:$AC$20,0))),1,2)=2,2,IF(OR(B40=\"Sa\",B40=\"So\"),2,IF($K$9=1,SUMIFS($R$4:$R$8,$S$4:$S$8,B40),IF(AND($K$9=2,A40<15),SUMIFS($R$4:$R$8,$S$4:$S$8,B40),IF(AND($K$9=2,A40>14),SUMIFS($R$12:$R$16,$S$12:$S$16,B40),IF(AND($K$9=3,A40>14),SUMIFS($R$12:$R$16,$S$12:$S$16,B40),IF(AND($K$9=3,A40<15),SUMIFS($R$4:$R$8,$S$4:$S$8,B40),1))))))))","v":1},null,null,null,"","",{"$f":"IF($K$9>0,IF(SUM($K$11:$K40,$I$6)<0,TEXT(-(SUM($K$11:K40,$I$6)/60)/24,\"-[h]:mm\"),TEXT((SUM($K$11:K40,$I$6)/60)/24,\"[h]:mm\")),\"\")","v":""},null,"",0,0,null,{"$f":"IF(OR($O$3=\"\",$N40=\"\"),\"\",IF($O$9-SUM($N$11:N39)-N40<0,TEXT(-(($O$9-SUM($N$11:N39)-N40)/24),\"-[hh]:mm\"),TEXT(($O$9-SUM($N$11:N39)-N40)/24,\"[hh]:mm\")))","v":""},null,""]
["","",{"$f":"IF(OR($K$9=0,AND($K$9=2,A41<=14)),1,IF(IF(ISNA(INDEX(X!$W$7:$W$20,MATCH(DATE($D$4,$C$4,A41),X!$AC$7:$AC$20,0))),1,2)=2,2,IF(OR(B41=\"Sa\",B41=\"So\"),2,IF($K$9=1,SUMIFS($R$4:$R$8,$S$4:$S$8,B41),IF(AND($K$9=2,A41<15),SUMIFS($R$4:$R$8,$S$4:$S$8,B41),IF(AND($K$9=2,A41>14),SUMIFS($R$12:$R$16,$S$12:$S$16,B41),IF(AND($K$9=3,A41>14),SUMIFS($R$12:$R$16,$S$12:$S$16,B41),IF(AND($K$9=3,A41<15),SUMIFS($R$4:$R$8,$S$4:$S$8,B41),1))))))))","v":1},null,null,null,"","",{"$f":"IF($K$9>0,IF(SUM($K$11:$K41,$I$6)<0,TEXT(-(SUM($K$11:K41,$I$6)/60)/24,\"-[h]:mm\"),TEXT((SUM($K$11:K41,$I$6)/60)/24,\"[h]:mm\")),\"\")","v":""},null,"",0,0,null,{"$f":"IF(OR($O$3=\"\",$N41=\"\"),\"\",IF($O$9-SUM($N$11:N40)-N41<0,TEXT(-(($O$9-SUM($N$11:N40)-N41)/24),\"-[hh]:mm\"),TEXT(($O$9-SUM($N$11:N40)-N41)/24,\"[hh]:mm\")))","v":""},null,""]
[null,null,null,null,null,null,{"$f":"L42+K42","v":0},{"$f":"K42","v":0},null,null,{"$f":"SUM(K11:K41)","v":0},{"$f":"-SUM(L11:L41)","v":0},{"$f":"M41","v":0},{"$f":"SUM(N11:N41)*60","v":0},null,null,{"$f":"IF((G42/60)<0,TEXT(-((G42/60)/24),\"-[hh]:mm\"),TEXT((G42/60)/24,\"[hh]:mm\"))","v":"00:00"}]
[{"$f":"IF(G4=\"\",\"\",\"Ergebnis\")","v":""},null,null,null,null,null,{"$f":"IF(G4=\"\",\"\",IF(((G42-N42)/60)<0,TEXT(-(((G42-N42)/60)/24),\"-[hh]:mm\"),TEXT(((G42-N42)/60)/24,\"[hh]:mm\")))","v":""},{"$f":"IF(G4=\"\",\"\",IF(H42<0,TEXT(-((H42/60)/24),\"-[hh]:mm\"),IF((H42/60)>24,TEXT((((H42/60)-24)/24)+(24/24),\"[hh]:mm\"),(H42/60)/24)))","v":""},{"$f":"IF($K$9>0,IF(SUM(I6,K43)<0,TEXT(-(SUM(I6,K43)/60)/24,\"-[h]:mm\"),TEXT((SUM(I6,K43)/60)/24,\"[h]:mm\")),\"\")","v":""},null,{"$f":"IF(L42<>L43,G42-L43,K42)","v":0},{"$f":"IF(AND(K9=1,SUM(U4:U8)<>H9),((H9/5)*COUNTIFS(C11:C41,\"<>\"&2,F11:F41,\"\"))*60,IF(AND(K9=2,SUM(U12:U16)<>I9),((I9/5)*COUNTIFS(C11:C41,\"<>\"&2,F11:F41,\"\"))*60,IF(AND(K9=3,OR(SUM(U4:U8)<>H9,SUM(U12:U16)<>I9)),SUM(IF(SUM(U4:U8)<>H9,((H9/5)*COUNTIFS(C11:C41,\"<>\"&2,A11:A41,\"<\"&15,F11:F41,\"\"))*60,-SUMIFS(L11:L41,A11:A41,\"<\"&15,F11:F41,\"\")),IF(SUM(U12:U16)<>I9,((I9/5)*COUNTIFS(C11:C41,\"<>\"&2,A11:A41,\">\"&14,F11:F41,\"\"))*60,-SUMIFS(L11:L41,A11:A41,\">\"&14,F11:F41,\"\"))),-SUM(L11:L41))))","v":0},null,{"$f":"IF(N42<0,TEXT(-((N42/60)/24),\"-[hh]:mm\"),TEXT((N42/60)/24,\"[hh]:mm\"))","v":"00:00"},null,null,{"$f":"Q42","v":"00:00"}]
[{"$f":"IF(G4=\"\",\"\",\"Saldo / Übertrag:\")","v":""},null,null,null,null,null,null,null,{"$f":"I43","v":""},{"$f":"IF(K42<>K43,\"automatische Nachberechnung der Sollarbeitszeit, da wöchentlicher Stundenumfang nicht eingehalten wurde.\",\"\")","v":""},{"$f":"K43+I6","v":0},"Übertrag"]
[]
[{"$f":"IF(I46=\"\",\"\",\"Korrektur der Stunden\")","v":""},null,null,null,null,null,null,null,{"$f":"IF(K9>0,IF(K42-K43<>0,IF(K43-K42<0,TEXT(-((K43-K42)/60)/24,\"-[h]:mm\"),TEXT(((K43-K42)/60)/24,\"[h]:mm\")),\"\"),\"\")","v":""}]
[]
[]
[]
[]
[]
[]
[]
[]
[]
[]
[{"$f":"D4","v":""},{"$f":"C4","v":1},{"$f":"Uebersicht!A4","v":0},{"$f":"Uebersicht!B4","v":0},{"$f":"L43","v":0},{"$f":"K42","v":0},{"$f":"K43","v":0},{"$f":"M10","v":0},{"$f":"M42","v":0}]
[{"$f":"CELL(\"Dateiname\",A1)","v":"R:\\SHKs AAA\\SHK Persoenlich\\Zeiterfassung Vorlage\\[Zeiterfassung_WHK_IO.xlsm]Jan"}]

{"sheet":"Feb","index":2,"n_rows":57,"n_cols":22,"rows_kept":57,"cut":false,"hidden":false,"merged":[[8,18,8,19],[9,18,9,20],[16,18,16,19],[42,0,42,5],[3,13,4,15],[5,13,5,15],[6,0,7,4],[6,5,7,5],[6,6,7,7],[6,8,7,8],[6,9,7,9],[6,13,7,15],[3,0,4,1],[3,2,4,2],[3,3,4,4],[3,5,4,5],[43,0,44,7],[43,8,44,8],[43,9,46,9],[45,0,45,7],[1,0,2,8],[3,6,4,9]]}
["Zeiterfassungsbogen für studentische Hilfskräfte | International Office",null,null,null,null,null,null,null,null,null,null,null,null,null,null,null,null,null,null,null,null,"\"nein\" auswählen, wenn keine festen Tage mehr gelten sollen!"]
[{"$f":"IF(Uebersicht!A4=\"\",\"\",CONCATENATE(Uebersicht!B4,\" \",Uebersicht!A4))","v":""}]
[null,null,null,null,null,null,null,null,null,null,null,null,null,{"$f":"INDEX(Uebersicht!AO5:AQ28,MATCH(C4,Uebersicht!AO5:AO28,0),3)","v":0},{"$f":"INDEX(Uebersicht!AO5:AQ28,MATCH(C4+0.5,Uebersicht!AO5:AO28,0),3)","v":0},null,null,null,"Tag","h"]
[{"$f":"IF(D4=\"\",\"\",TEXT(DATE(D4,C4,1),\"MMM\"))","v":""},null,2,{"$f":"Uebersicht!I1","v":""},null,null,{"$f":"IF(INDEX(Uebersicht!AO31:AQ42,MATCH(C4,Uebersicht!AO31:AO43,0),2)=0,\"\",INDEX(Uebersicht!AO31:AQ42,MATCH(C4,Uebersicht!AO31:AO43,0),2))","v":""},null,null,null,null,null,null,{"$f":"INDEX(Uebersicht!AO31:AQ42,MATCH(C4,Uebersicht!AO31:AO43,0),3)","v":0},null,null,null,{"$f":"IF(OR($K$9=2,$K$9=0),1,IF(AND(OR($K$9=1,$K$9=3),OR(SUM($U$4:$U$8)=0,$U$1=\"nein\")),3,IF(AND($U$1=\"\",SUM($U$4:$U$8)>0,U4>=1,OR($K$9=3,$K$9=1)),4,1)))","v":1},"Mo",null,{"$f":"IF(AND(H9=0,I9=0),0,IF(OR($K$9=0,INDIRECT(\"'\"&TEXT(DATE(D4,$C$4-1,1),\"MMM\")&\"'!$U$1\")=\"nein\",$U$1=\"nein\"),0,IF(T4>0,T4,INDEX(Uebersicht!$BA$3:$BE$14,$C$4,MATCH(S4,Uebersicht!$BA$2:$BE$2,0)))))","v":0}]
[null,null,null,null,null,null,null,null,null,null,null,null,null,null,null,null,null,{"$f":"IF(OR($K$9=2,$K$9=0),1,IF(AND(OR($K$9=1,$K$9=3),OR(SUM($U$4:$U$8)=0,$U$1=\"nein\")),3,IF(AND($U$1=\"\",SUM($U$4:$U$8)>0,U5>=1,OR($K$9=3,$K$9=1)),4,1)))","v":1},"Di",null,{"$f":"IF(OR($K$9=0,INDIRECT(\"'\"&TEXT(DATE(D5,$C$4-1,1),\"MMM\")&\"'!$U$1\")=\"nein\",$U$1=\"nein\"),0,IF(T5>0,T5,INDEX(Uebersicht!$BA$3:$BE$14,$C$4,MATCH(S5,Uebersicht!$BA$2:$BE$2,0))))","v":0}]
[null,null,{"$f":"DAY(DATE(D4,C4+1,1)-1)","v":{"$error":"#VALUE!"}},null,null,null,null,{"$f":"IF(N4=0,\"\",\"Arbeitsgebiet 1\")","v":""},{"$f":"IF(AND(I9=0,H9=0),0,IF(C4-1=0,Uebersicht!G4,INDIRECT(\"'\"&TEXT(DATE(D4,C4-1,1),\"MMM\")&\"'!K44\")))","v":0},null,"nein",null,null,{"$f":"IF(N4=\"\",\"\",\"Arbeitsgebiet 2\")","v":"Arbeitsgebiet 2"},null,null,null,{"$f":"IF(OR($K$9=2,$K$9=0),1,IF(AND(OR($K$9=1,$K$9=3),OR(SUM($U$4:$U$8)=0,$U$1=\"nein\")),3,IF(AND($U$1=\"\",SUM($U$4:$U$8)>0,U6>=1,OR($K$9=3,$K$9=1)),4,1)))","v":1},"Mi",null,{"$f":"IF(OR($K$9=0,INDIRECT(\"'\"&TEXT(DATE(D6,$C$4-1,1),\"MMM\")&\"'!$U$1\")=\"nein\",$U$1=\"nein\"),0,IF(T6>0,T6,INDEX(Uebersicht!$BA$3:$BE$14,$C$4,MATCH(S6,Uebersicht!$BA$2:$BE$2,0))))","v":0}]
[{"$f":"IF(AND(H9>0,I9=0),CONCATENATE(H9,\" Wochenarbeitszeit (h)\"),IF(AND(H9=0,I9>0),CONCATENATE(I9,\" Wochenarbeitszeit (h)\"),IF(AND(H9>0,I9>0,H9<>I9),CONCATENATE(H9,\" h, ab 15. \",TEXT(DATE(D4,C4,1),\"MMMM\"),\" \",I9,\"h\"),\"\")))","v":""},null,null,null,null,{"$f":"IF(G4=\"\",\"\",IF(M42/60>0,TEXT((M42/60)/24,\"[h]:mm\"),0))","v":""},{"$f":"IF(F7=\"\",\"\",\"Urlaubsrest\")","v":""},null,{"$f":"IF(AND(YEAR(TODAY())=D4,MONTH(TODAY())>=C4,K9>0),IF(OR(I6=0,I6=\"\"),0,IF(I6<0,TEXT(-(I6/60)/24,\"-[h]:mm\"),TEXT((I6/60)/24,\"[h]:mm\"))),\"\")","v":""},{"$f":"IF(I7=\"\",\"\",CONCATENATE(\"h Übertrag aus \",IF(C6=1,\"Vorjahr\",\"Vormonat\")))","v":""},"Urlaub",null,null,{"$f":"IF(AND(N3>0,O3=0),CONCATENATE(N3,\" Stunden - Anteil pro Woche\"),IF(AND(N3=0,O3>0),CONCATENATE(O3,\" Stunden - Anteil pro Woche\"),IF(AND(N3>0,O3>0,O3<>N3),CONCATENATE(N3,\" h, ab 15. \",TEXT(DATE(D4,C4,1),\"MMMM\"),\" \",O3,\"h\"),IF(N3=O3,CONCATENATE(N3,\" Stunden - Anteil pro Woche\"),\"\"))))","v":"0 Stunden - Anteil pro Woche"},null,null,null,{"$f":"IF(OR($K$9=2,$K$9=0),1,IF(AND(OR($K$9=1,$K$9=3),OR(SUM($U$4:$U$8)=0,$U$1=\"nein\")),3,IF(AND($U$1=\"\",SUM($U$4:$U$8)>0,U7>=1,OR($K$9=3,$K$9=1)),4,1)))","v":1},"Do",null,{"$f":"IF(OR($K$9=0,INDIRECT(\"'\"&TEXT(DATE(D7,$C$4-1,1),\"MMM\")&\"'!$U$1\")=\"nein\",$U$1=\"nein\"),0,IF(T7>0,T7,INDEX(Uebersicht!$BA$3:$BE$14,$C$4,MATCH(S7,Uebersicht!$BA$2:$BE$2,0))))","v":0}]
[null,null,null,null,null,null,null,null,null,null,"Krank",null,null,null,null,null,null,{"$f":"IF(OR($K$9=2,$K$9=0),1,IF(AND(OR($K$9=1,$K$9=3),OR(SUM($U$4:$U$8)=0,$U$1=\"nein\")),3,IF(AND($U$1=\"\",SUM($U$4:$U$8)>0,U8>=1,OR($K$9=3,$K$9=1)),4,1)))","v":1},"Fr",null,{"$f":"IF(OR($K$9=0,INDIRECT(\"'\"&TEXT(DATE(D8,$C$4-1,1),\"MMM\")&\"'!$U$1\")=\"nein\",$U$1=\"nein\"),0,IF(T8>0,T8,INDEX(Uebersicht!$BA$3:$BE$14,$C$4,MATCH(S8,Uebersicht!$BA$2:$BE$2,0))))","v":0}]
[null,null,null,null,null,null,null,{"$f":"INDEX(Uebersicht!AU3:AW14,C4,2)","v":0},{"$f":"IF(INDEX(Uebersicht!AU3:AW14,C4,3)=H9,0,INDEX(Uebersicht!AU3:AW14,C4,3))","v":0},null,{"$f":"IF(AND(H9>0,I9=0),1,IF(AND(H9=0,I9>0),2,IF(AND(H9=0,I9=0),0,IF(H9<>I9,3,\"\"))))","v":0},null,null,null,{"$f":"IF(OR(N3>0,O3>0),IF(OR(K9=1,K9=2),(IF(K9=1,N3,IF(K9=2,O2,0))/5)*NETWORKDAYS(IF(K9=1,DATE(D4,C4,1),IF(K9=2,DATE(D4,C4,15),0)),IF(OR(K9=1,K9=2),DATE(D4,C4,MAX(A11:A41)),0),COUNTIFS(C11:C41,\"<>\"&2)),IF(K9=3,SUM(IF(N3>0,(N3/5)*NETWORKDAYS(DATE(D4,C4,1),DATE(D4,C4,14),2),0),IF(O3>0,(O3/5)*NETWORKDAYS(DATE(D4,C4,15),DATE(D4,C4,MAX(A11:A41)),2),0)),0)),\"\")","v":""},null,null,null,{"$f":"IF(SUM(U4:U8)=0,\"\",IF(SUM(U4:U8)>H9,\"zu viel!\",IF(SUM(U4:U8)<H9,\"zu wenig!\",\"\")))","v":""},null,{"$f":"IF(OR(U1=\"nein\",SUM(U4:U8)=0),\"ja\",IF(OR(SUM(Uebersicht!C36:C40)>0,SUM(T4:T8)>0,SUM(U4:U8)>0),\"nein\",\"ja\"))","v":"ja"}]
["Tag",null,null,"Beginn","Ende","Urlaub\nKrank","Stunden","Mehr/\nMinder","Saldo\nsummiert","Bemerkungen","Differenz","Soll",{"$f":"IF(AND(I9=0,H9=0),0,IF(C4-1=0,IF(Uebersicht!E8=\"\",0,Uebersicht!E8*60),INDIRECT(\"'\"&TEXT(DATE(D4,C4-1,1),\"MMM\")&\"'!M42\")))","v":0},"Stunden","Rest","Bemerkungen","Gesamt",null,"Änderung im laufenden Monat"]
[1,{"$f":"IF(OR(A11=\"\",$D$4=\"\"),\"\",TEXT(DATE($D$4,$C$4,A11),\"ttt\"))","v":""},{"$f":"IF(OR($K$9=0,AND($K$9=2,A11<=14)),1,IF(IF(ISNA(INDEX(X!$W$7:$W$20,MATCH(DATE($D$4,$C$4,A11),X!$AC$7:$AC$20,0))),1,2)=2,2,IF(OR(B11=\"Sa\",B11=\"So\"),2,IF($K$9=1,SUMIFS($R$4:$R$8,$S$4:$S$8,B11),IF(AND($K$9=2,A11<15),SUMIFS($R$4:$R$8,$S$4:$S$8,B11),IF(AND($K$9=2,A11>14),SUMIFS($R$12:$R$16,$S$12:$S$16,B11),IF(AND($K$9=3,A11>14),SUMIFS($R$12:$R$16,$S$12:$S$16,B11),IF(AND($K$9=3,A11<15),SUMIFS($R$4:$R$8,$S$4:$S$8,B11),1))))))))","v":1},null,null,null,{"$f":"IF(AND(D11=\"\",E11=\"\"),\"\",IF(N11=\"\",IF(((HOUR(E11)*60+MINUTE(E11))-(HOUR(D11)*60+MINUTE(D11)))>360,TEXT(((((HOUR(E11)*60+MINUTE(E11))-(HOUR(D11)*60+MINUTE(D11)))-30)/60)/24,\"[h]:mm\"),TEXT((((HOUR(E11)*60+MINUTE(E11))-(HOUR(D11)*60+MINUTE(D11)))/60)/24,\"[h]:mm\")),IF((((HOUR(E11)*60+MINUTE(E11))-(HOUR(D11)*60+MINUTE(D11)))-N11)>360,TEXT(((((((HOUR(E11)*60+MINUTE(E11))-(HOUR(D11)*60+MINUTE(D11)))-30))/60)-N11)/24,\"[h]:mm\"),TEXT(((((HOUR(E11)*60+MINUTE(E11))-(HOUR(D11)*60+MINUTE(D11)))/60)-N11)/24,\"[h]:mm\"))))","v":""},{"$f":"IF(K11=\"\",\"\",IF(TODAY()<=DATE($D$4,$C$4,A11),0,IF(K11>0,TEXT((K11/60)/24,\"[h]:mm\"),TEXT(-(K11/60)/24,\"-[h]:mm\"))))","v":""},{"$f":"IF($K$9>0,IF(SUM($K$11:$K11,I6)<0,TEXT(-(SUM($K$11:K11,I6)/60)/24,\"-[h]:mm\"),TEXT((SUM($K$11:K11,I6)/60)/24,\"[h]:mm\")),\"\")","v":""},null,{"$f":"IF(F11=\"\",IF(L11<0,L11+IF(G11=\" \",0,IF(((HOUR(E11)*60+MINUTE(E11))-(HOUR(D11)*60+MINUTE(D11)))>360,(HOUR(E11)*60+MINUTE(E11))-(HOUR(D11)*60+MINUTE(D11))-30,(HOUR(E11)*60+MINUTE(E11))-(HOUR(D11)*60+MINUTE(D11)))),IF(Q11=\"\",\"\",(Q11*60)*24)),\"\")","v":""},{"$f":"IF(OR(F11=\"krank\",F11=\"Urlaub\",C11=1,C11=2),0,IF($K$9=1,IF(SUM($U$4:$U$8)=0,$H$9/5,INDEX($S$4:$U$8,MATCH(B11,$S$4:$S$8,0),3)),IF($K$9=2,IF(AND(A11>14,SUM($U$12:$U$16)=0),$I$9/5,INDEX($S$12:$U$16,MATCH(B11,$S$12:$S$16,0),3)),IF($K$9=3,IF(A11<15,IF(SUM($U$4:$U$8)=0,$H$9/5,INDEX($S$4:$U$8,MATCH(B11,$S$4:$S$8,0),3))),IF(A11>14,IF(SUM($U$12:$U$16)=0,$I$9/5,INDEX($S$12:$U$16,MATCH(B11,$S$12:$S$16,0),3))))))*-60)","v":0},{"$f":"M10-(IF(OR(C11=1,C11=2),0,IF(C11=3,IF(AND($K$9=1,F11=\"Urlaub\"),$H$9/5,IF($K$9=2,IF(AND(A11<15,F11=\"Urlaub\"),$I$9/5,IF(AND($K$9=3,A11<15,F11=\"Urlaub\"),$H$9/5,IF(AND($K$9=3,A11>14,F11=\"Urlaub\"),$I$9/5))))),IF(C11=4,IF(AND(F11=\"Urlaub\",$K$9=1),SUMIFS($U$4:$U$8,$S$4:$S$8,B11),IF(AND(F11=\"Urlaub\",$K$9=2,A11>14),SUMIFS($U$12:$U$16,$S$12:$S$16,B11),IF(AND(F11=\"Urlaub\",$K$9=3,A11<15),SUMIFS($U$4:$U$8,$S$4:$S$8,B11),IF(AND(F11=\"Urlaub\",$K$9=3,A11>14),SUMIFS($U$12:$U$16,$S$12:$S$16,B11),0)))))))*60)","v":0},null,{"$f":"IF(OR($O$3=\"\",$N$3=\"\",N11=\"\"),\"\",IF($O$9-SUM($N10:N$11)-N11<0,TEXT(-(($O$9-SUM($N10:N$11)-N11)/24),\"-[hh]:mm\"),TEXT(($O$9-SUM($N10:N$11)-N11)/24,\"[hh]:mm\")))","v":""},null,{"$f":"IF(AND(D11=\"\",E11=\"\"),\"\",IF(((HOUR(E11)*60+MINUTE(E11))-(HOUR(D11)*60+MINUTE(D11)))>360,TEXT(((((HOUR(E11)*60+MINUTE(E11))-(HOUR(D11)*60+MINUTE(D11)))-30)/60)/24,\"[h]:mm\"),TEXT((((HOUR(E11)*60+MINUTE(E11))-(HOUR(D11)*60+MINUTE(D11)))/60)/24,\"[h]:mm\")))","v":""}]
[{"$f":"IF(OR(A11=\"\",$D$4=\"\"),\"\",IF(A11+1<=$C$6,A11+1,\"\"))","v":""},"",{"$f":"IF(OR($K$9=0,AND($K$9=2,A12<=14)),1,IF(IF(ISNA(INDEX(X!$W$7:$W$20,MATCH(DATE($D$4,$C$4,A12),X!$AC$7:$AC$20,0))),1,2)=2,2,IF(OR(B12=\"Sa\",B12=\"So\"),2,IF($K$9=1,SUMIFS($R$4:$R$8,$S$4:$S$8,B12),IF(AND($K$9=2,A12<15),SUMIFS($R$4:$R$8,$S$4:$S$8,B12),IF(AND($K$9=2,A12>14),SUMIFS($R$12:$R$16,$S$12:$S$16,B12),IF(AND($K$9=3,A12>14),SUMIFS($R$12:$R$16,$S$12:$S$16,B12),IF(AND($K$9=3,A12<15),SUMIFS($R$4:$R$8,$S$4:$S$8,B12),1))))))))","v":1},null,null,null,"","",{"$f":"IF($K$9>0,IF(SUM($K$11:$K12,$I$6)<0,TEXT(-(SUM($K$11:K12,$I$6)/60)/24,\"-[h]:mm\"),TEXT((SUM($K$11:K12,$I$6)/60)/24,\"[h]:mm\")),\"\")","v":""},null,{"$f":"IF(F12=\"\",IF(L12<0,L12+IF(G12=\" \",0,IF(((HOUR(E12)*60+MINUTE(E12))-(HOUR(D12)*60+MINUTE(D12)))>360,(HOUR(E12)*60+MINUTE(E12))-(HOUR(D12)*60+MINUTE(D12))-30,(HOUR(E12)*60+MINUTE(E12))-(HOUR(D12)*60+MINUTE(D12)))),IF(Q12=\"\",\"\",(Q12*60)*24)),\"\")","v":""},{"$f":"IF(OR(F12=\"krank\",F12=\"Urlaub\",C12=1,C12=2),0,IF($K$9=1,IF(SUM($U$4:$U$8)=0,$H$9/5,INDEX($S$4:$U$8,MATCH(B12,$S$4:$S$8,0),3)),IF($K$9=2,IF(AND(A12>14,SUM($U$12:$U$16)=0),$I$9/5,INDEX($S$12:$U$16,MATCH(B12,$S$12:$S$16,0),3)),IF($K$9=3,IF(A12<15,IF(SUM($U$4:$U$8)=0,$H$9/5,INDEX($S$4:$U$8,MATCH(B12,$S$4:$S$8,0),3)),IF(SUM($U$12:$U$16)=0,$I$9/5,INDEX($S$12:$U$16,MATCH(B12,$S$12:$S$16,0),3)))))))*-60","v":0},0,5.5,{"$f":"IF(OR($O$3=\"\",$N$3=\"\",N12=\"\"),\"\",IF($O$9-SUM($N$11:N11)-N12<0,TEXT(-(($O$9-SUM($N$11:N11)-N12)/24),\"-[hh]:mm\"),TEXT(($O$9-SUM($N$11:N11)-N12)/24,\"[hh]:mm\")))","v":{"$error":"#VALUE!"}},null,"",{"$f":"IF($K$9=0,1,IF($K$9=1,R4,IF(AND($K$9=3,OR(SUM($U$12:$U$16)=0,$U$1=\"nein\")),3,IF(AND($U$1=\"\",SUM($U$12:$U$16)>0,U12>=1,OR($K$9=3,$K$9=2)),4,1))))","v":1},"Mo",null,{"$f":"IF(AND(I9=0,H9=0),0,IF(OR($K$9=0,INDIRECT(\"'\"&TEXT(DATE(D4,$C$4-1,1),\"MMM\")&\"'!$U$1\")=\"nein\",$U$1=\"nein\"),0,IF(T12>0,T12,INDEX(Uebersicht!$BF$3:$BJ$14,$C$4,MATCH(S12,Uebersicht!$BF$2:$BJ$2,0)))))","v":0}]
[{"$f":"IF(OR(A12=\"\",$D$4=\"\"),\"\",IF(A12+1<=$C$6,A12+1,\"\"))","v":""},"",{"$f":"IF(OR($K$9=0,AND($K$9=2,A13<=14)),1,IF(IF(ISNA(INDEX(X!$W$7:$W$20,MATCH(DATE($D$4,$C$4,A13),X!$AC$7:$AC$20,0))),1,2)=2,2,IF(OR(B13=\"Sa\",B13=\"So\"),2,IF($K$9=1,SUMIFS($R$4:$R$8,$S$4:$S$8,B13),IF(AND($K$9=2,A13<15),SUMIFS($R$4:$R$8,$S$4:$S$8,B13),IF(AND($K$9=2,A13>14),SUMIFS($R$12:$R$16,$S$12:$S$16,B13),IF(AND($K$9=3,A13>14),SUMIFS($R$12:$R$16,$S$12:$S$16,B13),IF(AND($K$9=3,A13<15),SUMIFS($R$4:$R$8,$S$4:$S$8,B13),1))))))))","v":1},null,null,null,"","",{"$f":"IF($K$9>0,IF(SUM($K$11:$K13,$I$6)<0,TEXT(-(SUM($K$11:K13,$I$6)/60)/24,\"-[h]:mm\"),TEXT((SUM($K$11:K13,$I$6)/60)/24,\"[h]:mm\")),\"\")","v":""},null,"",0,0,null,{"$f":"IF(OR($O$3=\"\",$N$3=\"\",N13=\"\"),\"\",IF($O$9-SUM($N$11:N12)-N13<0,TEXT(-(($O$9-SUM($N$11:N12)-N13)/24),\"-[hh]:mm\"),TEXT(($O$9-SUM($N$11:N12)-N13)/24,\"[hh]:mm\")))","v":""},null,"",{"$f":"IF($K$9=0,1,IF($K$9=1,R5,IF(AND($K$9=3,OR(SUM($U$12:$U$16)=0,$U$1=\"nein\")),3,IF(AND($U$1=\"\",SUM($U$12:$U$16)>0,U13>=1,OR($K$9=3,$K$9=2)),4,1))))","v":1},"Di",null,{"$f":"IF(OR($K$9=0,INDIRECT(\"'\"&TEXT(DATE(D5,$C$4-1,1),\"MMM\")&\"'!$U$1\")=\"nein\",$U$1=\"nein\"),0,IF(T13>0,T13,INDEX(Uebersicht!$BF$3:$BJ$14,$C$4,MATCH(S13,Uebersicht!$BF$2:$BJ$2,0))))","v":0}]
["","",{"$f":"IF(OR($K$9=0,AND($K$9=2,A14<=14)),1,IF(IF(ISNA(INDEX(X!$W$7:$W$20,MATCH(DATE($D$4,$C$4,A14),X!$AC$7:$AC$20,0))),1,2)=2,2,IF(OR(B14=\"Sa\",B14=\"So\"),2,IF($K$9=1,SUMIFS($R$4:$R$8,$S$4:$S$8,B14),IF(AND($K$9=2,A14<15),SUMIFS($R$4:$R$8,$S$4:$S$8,B14),IF(AND($K$9=2,A14>14),SUMIFS($R$12:$R$16,$S$12:$S$16,B14),IF(AND($K$9=3,A14>14),SUMIFS($R$12:$R$16,$S$12:$S$16,B14),IF(AND($K$9=3,A14<15),SUMIFS($R$4:$R$8,$S$4:$S$8,B14),1))))))))","v":1},null,null,null,"","",{"$f":"IF($K$9>0,IF(SUM($K$11:$K14,$I$6)<0,TEXT(-(SUM($K$11:K14,$I$6)/60)/24,\"-[h]:mm\"),TEXT((SUM($K$11:K14,$I$6)/60)/24,\"[h]:mm\")),\"\")","v":""},null,"",0,0,null,{"$f":"IF(OR($O$3=\"\",$N$3=\"\",N14=\"\"),\"\",IF($O$9-SUM($N$11:N13)-N14<0,TEXT(-(($O$9-SUM($N$11:N13)-N14)/24),\"-[hh]:mm\"),TEXT(($O$9-SUM($N$11:N13)-N14)/24,\"[hh]:mm\")))","v":""},null,"",{"$f":"IF($K$9=0,1,IF($K$9=1,R6,IF(AND($K$9=3,OR(SUM($U$12:$U$16)=0,$U$1=\"nein\")),3,IF(AND($U$1=\"\",SUM($U$12:$U$16)>0,U14>=1,OR($K$9=3,$K$9=2)),4,1))))","v":1},"Mi",null,{"$f":"IF(OR($K$9=0,INDIRECT(\"'\"&TEXT(DATE(D6,$C$4-1,1),\"MMM\")&\"'!$U$1\")=\"nein\",$U$1=\"nein\"),0,IF(T14>0,T14,INDEX(Uebersicht!$BF$3:$BJ$14,$C$4,MATCH(S14,Uebersicht!$BF$2:$BJ$2,0))))","v":0}]
["","",{"$f":"IF(OR($K$9=0,AND($K$9=2,A15<=14)),1,IF(IF(ISNA(INDEX(X!$W$7:$W$20,MATCH(DATE($D$4,$C$4,A15),X!$AC$7:$AC$20,0))),1,2)=2,2,IF(OR(B15=\"Sa\",B15=\"So\"),2,IF($K$9=1,SUMIFS($R$4:$R$8,$S$4:$S$8,B15),IF(AND($K$9=2,A15<15),SUMIFS($R$4:$R$8,$S$4:$S$8,B15),IF(AND($K$9=2,A15>14),SUMIFS($R$12:$R$16,$S$12:$S$16,B15),IF(AND($K$9=3,A15>14),SUMIFS($R$12:$R$16,$S$12:$S$16,B15),IF(AND($K$9=3,A15<15),SUMIFS($R$4:$R$8,$S$4:$S$8,B15),1))))))))","v":1},null,null,null,"","",{"$f":"IF($K$9>0,IF(SUM($K$11:$K15,$I$6)<0,TEXT(-(SUM($K$11:K15,$I$6)/60)/24,\"-[h]:mm\"),TEXT((SUM($K$11:K15,$I$6)/60)/24,\"[h]:mm\")),\"\")","v":""},null,"",0,0,null,{"$f":"IF(OR($O$3=\"\",$N$3=\"\",N15=\"\"),\"\",IF($O$9-SUM($N$11:N14)-N15<0,TEXT(-(($O$9-SUM($N$11:N14)-N15)/24),\"-[hh]:mm\"),TEXT(($O$9-SUM($N$11:N14)-N15)/24,\"[hh]:mm\")))","v":""},null,"",{"$f":"IF($K$9=0,1,IF($K$9=1,R7,IF(AND($K$9=3,OR(SUM($U$12:$U$16)=0,$U$1=\"nein\")),3,IF(AND($U$1=\"\",SUM($U$12:$U$16)>0,U15>=1,OR($K$9=3,$K$9=2)),4,1))))","v":1},"Do",null,{"$f":"IF(OR($K$9=0,INDIRECT(\"'\"&TEXT(DATE(D7,$C$4-1,1),\"MMM\")&\"'!$U$1\")=\"nein\",$U$1=\"nein\"),0,IF(T15>0,T15,INDEX(Uebersicht!$BF$3:$BJ$14,$C$4,MATCH(S15,Uebersicht!$BF$2:$BJ$2,0))))","v":0}]
["","",{"$f":"IF(OR($K$9=0,AND($K$9=2,A16<=14)),1,IF(IF(ISNA(INDEX(X!$W$7:$W$20,MATCH(DATE($D$4,$C$4,A16),X!$AC$7:$AC$20,0))),1,2)=2,2,IF(OR(B16=\"Sa\",B16=\"So\"),2,IF($K$9=1,SUMIFS($R$4:$R$8,$S$4:$S$8,B16),IF(AND($K$9=2,A16<15),SUMIFS($R$4:$R$8,$S$4:$S$8,B16),IF(AND($K$9=2,A16>14),SUMIFS($R$12:$R$16,$S$12:$S$16,B16),IF(AND($K$9=3,A16>14),SUMIFS($R$12:$R$16,$S$12:$S$16,B16),IF(AND($K$9=3,A16<15),SUMIFS($R$4:$R$8,$S$4:$S$8,B16),1))))))))","v":1},null,null,null,"","",{"$f":"IF($K$9>0,IF(SUM($K$11:$K16,$I$6)<0,TEXT(-(SUM($K$11:K16,$I$6)/60)/24,\"-[h]:mm\"),TEXT((SUM($K$11:K16,$I$6)/60)/24,\"[h]:mm\")),\"\")","v":""},null,"",0,0,null,{"$f":"IF(OR($O$3=\"\",$N$3=\"\",N16=\"\"),\"\",IF($O$9-SUM($N$11:N15)-N16<0,TEXT(-(($O$9-SUM($N$11:N15)-N16)/24),\"-[hh]:mm\"),TEXT(($O$9-SUM($N$11:N15)-N16)/24,\"[hh]:mm\")))","v":""},null,"",{"$f":"IF($K$9=0,1,IF($K$9=1,R8,IF(AND($K$9=3,OR(SUM($U$12:$U$16)=0,$U$1=\"nein\")),3,IF(AND($U$1=\"\",SUM($U$12:$U$16)>0,U16>=1,OR($K$9=3,$K$9=2)),4,1))))","v":1},"Fr",null,{"$f":"IF(OR($K$9=0,INDIRECT(\"'\"&TEXT(DATE(D8,$C$4-1,1),\"MMM\")&\"'!$U$1\")=\"nein\",$U$1=\"nein\"),0,IF(T16>0,T16,INDEX(Uebersicht!$BF$3:$BJ$14,$C$4,MATCH(S16,Uebersicht!$BF$2:$BJ$2,0))))","v":0}]
["","",{"$f":"IF(OR($K$9=0,AND($K$9=2,A17<=14)),1,IF(IF(ISNA(INDEX(X!$W$7:$W$20,MATCH(DATE($D$4,$C$4,A17),X!$AC$7:$AC$20,0))),1,2)=2,2,IF(OR(B17=\"Sa\",B17=\"So\"),2,IF($K$9=1,SUMIFS($R$4:$R$8,$S$4:$S$8,B17),IF(AND($K$9=2,A17<15),SUMIFS($R$4:$R$8,$S$4:$S$8,B17),IF(AND($K$9=2,A17>14),SUMIFS($R$12:$R$16,$S$12:$S$16,B17),IF(AND($K$9=3,A17>14),SUMIFS($R$12:$R$16,$S$12:$S$16,B17),IF(AND($K$9=3,A17<15),SUMIFS($R$4:$R$8,$S$4:$S$8,B17),1))))))))","v":1},null,null,null,"","",{"$f":"IF($K$9>0,IF(SUM($K$11:$K17,$I$6)<0,TEXT(-(SUM($K$11:K17,$I$6)/60)/24,\"-[h]:mm\"),TEXT((SUM($K$11:K17,$I$6)/60)/24,\"[h]:mm\")),\"\")","v":""},null,"",0,0,null,{"$f":"IF(OR($O$3=\"\",$N$3=\"\",N17=\"\"),\"\",IF($O$9-SUM($N$11:N16)-N17<0,TEXT(-(($O$9-SUM($N$11:N16)-N17)/24),\"-[hh]:mm\"),TEXT(($O$9-SUM($N$11:N16)-N17)/24,\"[hh]:mm\")))","v":""},null,"",null,{"$f":"IF(I9=0,\"\",IF(SUM(U12:U16)>I9,\"zu viel!\",IF(SUM(U12:U16)<I9,\"zu wenig!\",\"\")))","v":""},null,{"$f":"IF(OR(U9=\"nein\",SUM(U12:U16)=0),\"ja\",IF(OR(SUM(Uebersicht!C43:C47)>0,SUM(T12:T16)>0,SUM(U12:U16)>0),\"nein\",\"ja\"))","v":"ja"}]
["","",{"$f":"IF(OR($K$9=0,AND($K$9=2,A18<=14)),1,IF(IF(ISNA(INDEX(X!$W$7:$W$20,MATCH(DATE($D$4,$C$4,A18),X!$AC$7:$AC$20,0))),1,2)=2,2,IF(OR(B18=\"Sa\",B18=\"So\"),2,IF($K$9=1,SUMIFS($R$4:$R$8,$S$4:$S$8,B18),IF(AND($K$9=2,A18<15),SUMIFS($R$4:$R$8,$S$4:$S$8,B18),IF(AND($K$9=2,A18>14),SUMIFS($R$12:$R$16,$S$12:$S$16,B18),IF(AND($K$9=3,A18>14),SUMIFS($R$12:$R$16,$S$12:$S$16,B18),IF(AND($K$9=3,A18<15),SUMIFS($R$4:$R$8,$S$4:$S$8,B18),1))))))))","v":1},null,null,null,"","",{"$f":"IF($K$9>0,IF(SUM($K$11:$K18,$I$6)<0,TEXT(-(SUM($K$11:K18,$I$6)/60)/24,\"-[h]:mm\"),TEXT((SUM($K$11:K18,$I$6)/60)/24,\"[h]:mm\")),\"\")","v":""},null,"",0,0,null,{"$f":"IF(OR($O$3=\"\",$N$3=\"\",N18=\"\"),\"\",IF($O$9-SUM($N$11:N17)-N18<0,TEXT(-(($O$9-SUM($N$11:N17)-N18)/24),\"-[hh]:mm\"),TEXT(($O$9-SUM($N$11:N17)-N18)/24,\"[hh]:mm\")))","v":""},null,""]
["","",{"$f":"IF(OR($K$9=0,AND($K$9=2,A19<=14)),1,IF(IF(ISNA(INDEX(X!$W$7:$W$20,MATCH(DATE($D$4,$C$4,A19),X!$AC$7:$AC$20,0))),1,2)=2,2,IF(OR(B19=\"Sa\",B19=\"So\"),2,IF($K$9=1,SUMIFS($R$4:$R$8,$S$4:$S$8,B19),IF(AND($K$9=2,A19<15),SUMIFS($R$4:$R$8,$S$4:$S$8,B19),IF(AND($K$9=2,A19>14),SUMIFS($R$12:$R$16,$S$12:$S$16,B19),IF(AND($K$9=3,A19>14),SUMIFS($R$12:$R$16,$S$12:$S$16,B19),IF(AND($K$9=3,A19<15),SUMIFS($R$4:$R$8,$S$4:$S$8,B19),1))))))))","v":1},null,null,null,"","",{"$f":"IF($K$9>0,IF(SUM($K$11:$K19,$I$6)<0,TEXT(-(SUM($K$11:K19,$I$6)/60)/24,\"-[h]:mm\"),TEXT((SUM($K$11:K19,$I$6)/60)/24,\"[h]:mm\")),\"\")","v":""},null,"",0,0,null,{"$f":"IF(OR($O$3=\"\",$N$3=\"\",N19=\"\"),\"\",IF($O$9-SUM($N$11:N18)-N19<0,TEXT(-(($O$9-SUM($N$11:N18)-N19)/24),\"-[hh]:mm\"),TEXT(($O$9-SUM($N$11:N18)-N19)/24,\"[hh]:mm\")))","v":""},null,""]
["","",{"$f":"IF(OR($K$9=0,AND($K$9=2,A20<=14)),1,IF(IF(ISNA(INDEX(X!$W$7:$W$20,MATCH(DATE($D$4,$C$4,A20),X!$AC$7:$AC$20,0))),1,2)=2,2,IF(OR(B20=\"Sa\",B20=\"So\"),2,IF($K$9=1,SUMIFS($R$4:$R$8,$S$4:$S$8,B20),IF(AND($K$9=2,A20<15),SUMIFS($R$4:$R$8,$S$4:$S$8,B20),IF(AND($K$9=2,A20>14),SUMIFS($R$12:$R$16,$S$12:$S$16,B20),IF(AND($K$9=3,A20>14),SUMIFS($R$12:$R$16,$S$12:$S$16,B20),IF(AND($K$9=3,A20<15),SUMIFS($R$4:$R$8,$S$4:$S$8,B20),1))))))))","v":1},null,null,null,"","",{"$f":"IF($K$9>0,IF(SUM($K$11:$K20,$I$6)<0,TEXT(-(SUM($K$11:K20,$I$6)/60)/24,\"-[h]:mm\"),TEXT((SUM($K$11:K20,$I$6)/60)/24,\"[h]:mm\")),\"\")","v":""},null,"",0,0,null,{"$f":"IF(OR($O$3=\"\",$N$3=\"\",N20=\"\"),\"\",IF($O$9-SUM($N$11:N19)-N20<0,TEXT(-(($O$9-SUM($N$11:N19)-N20)/24),\"-[hh]:mm\"),TEXT(($O$9-SUM($N$11:N19)-N20)/24,\"[hh]:mm\")))","v":""},null,""]
["","",{"$f":"IF(OR($K$9=0,AND($K$9=2,A21<=14)),1,IF(IF(ISNA(INDEX(X!$W$7:$W$20,MATCH(DATE($D$4,$C$4,A21),X!$AC$7:$AC$20,0))),1,2)=2,2,IF(OR(B21=\"Sa\",B21=\"So\"),2,IF($K$9=1,SUMIFS($R$4:$R$8,$S$4:$S$8,B21),IF(AND($K$9=2,A21<15),SUMIFS($R$4:$R$8,$S$4:$S$8,B21),IF(AND($K$9=2,A21>14),SUMIFS($R$12:$R$16,$S$12:$S$16,B21),IF(AND($K$9=3,A21>14),SUMIFS($R$12:$R$16,$S$12:$S$16,B21),IF(AND($K$9=3,A21<15),SUMIFS($R$4:$R$8,$S$4:$S$8,B21),1))))))))","v":1},null,null,null,"","",{"$f":"IF($K$9>0,IF(SUM($K$11:$K21,$I$6)<0,TEXT(-(SUM($K$11:K21,$I$6)/60)/24,\"-[h]:mm\"),TEXT((SUM($K$11:K21,$I$6)/60)/24,\"[h]:mm\")),\"\")","v":""},null,"",0,0,null,{"$f":"IF(OR($O$3=\"\",$N$3=\"\",N21=\"\"),\"\",IF($O$9-SUM($N$11:N20)-N21<0,TEXT(-(($O$9-SUM($N$11:N20)-N21)/24),\"-[hh]:mm\"),TEXT(($O$9-SUM($N$11:N20)-N21)/24,\"[hh]:mm\")))","v":""},null,""]
["","",{"$f":"IF(OR($K$9=0,AND($K$9=2,A22<=14)),1,IF(IF(ISNA(INDEX(X!$W$7:$W$20,MATCH(DATE($D$4,$C$4,A22),X!$AC$7:$AC$20,0))),1,2)=2,2,IF(OR(B22=\"Sa\",B22=\"So\"),2,IF($K$9=1,SUMIFS($R$4:$R$8,$S$4:$S$8,B22),IF(AND($K$9=2,A22<15),SUMIFS($R$4:$R$8,$S$4:$S$8,B22),IF(AND($K$9=2,A22>14),SUMIFS($R$12:$R$16,$S$12:$S$16,B22),IF(AND($K$9=3,A22>14),SUMIFS($R$12:$R$16,$S$12:$S$16,B22),IF(AND($K$9=3,A22<15),SUMIFS($R$4:$R$8,$S$4:$S$8,B22),1))))))))","v":1},null,null,null,"","",{"$f":"IF($K$9>0,IF(SUM($K$11:$K22,$I$6)<0,TEXT(-(SUM($K$11:K22,$I$6)/60)/24,\"-[h]:mm\"),TEXT((SUM($K$11:K22,$I$6)/60)/24,\"[h]:mm\")),\"\")","v":""},null,"",0,0,null,{"$f":"IF(OR($O$3=\"\",$N$3=\"\",N22=\"\"),\"\",IF($O$9-SUM($N$11:N21)-N22<0,TEXT(-(($O$9-SUM($N$11:N21)-N22)/24),\"-[hh]:mm\"),TEXT(($O$9-SUM($N$11:N21)-N22)/24,\"[hh]:mm\")))","v":""},null,""]
["","",{"$f":"IF(OR($K$9=0,AND($K$9=2,A23<=14)),1,IF(IF(ISNA(INDEX(X!$W$7:$W$20,MATCH(DATE($D$4,$C$4,A23),X!$AC$7:$AC$20,0))),1,2)=2,2,IF(OR(B23=\"Sa\",B23=\"So\"),2,IF($K$9=1,SUMIFS($R$4:$R$8,$S$4:$S$8,B23),IF(AND($K$9=2,A23<15),SUMIFS($R$4:$R$8,$S$4:$S$8,B23),IF(AND($K$9=2,A23>14),SUMIFS($R$12:$R$16,$S$12:$S$16,B23),IF(AND($K$9=3,A23>14),SUMIFS($R$12:$R$16,$S$12:$S$16,B23),IF(AND($K$9=3,A23<15),SUMIFS($R$4:$R$8,$S$4:$S$8,B23),1))))))))","v":1},null,null,null,"","",{"$f":"IF($K$9>0,IF(SUM($K$11:$K23,$I$6)<0,TEXT(-(SUM($K$11:K23,$I$6)/60)/24,\"-[h]:mm\"),TEXT((SUM($K$11:K23,$I$6)/60)/24,\"[h]:mm\")),\"\")","v":""},null,"",0,0,null,{"$f":"IF(OR($O$3=\"\",$N$3=\"\",N23=\"\"),\"\",IF($O$9-SUM($N$11:N22)-N23<0,TEXT(-(($O$9-SUM($N$11:N22)-N23)/24),\"-[hh]:mm\"),TEXT(($O$9-SUM($N$11:N22)-N23)/24,\"[hh]:mm\")))","v":""},null,""]
["","",{"$f":"IF(OR($K$9=0,AND($K$9=2,A24<=14)),1,IF(IF(ISNA(INDEX(X!$W$7:$W$20,MATCH(DATE($D$4,$C$4,A24),X!$AC$7:$AC$20,0))),1,2)=2,2,IF(OR(B24=\"Sa\",B24=\"So\"),2,IF($K$9=1,SUMIFS($R$4:$R$8,$S$4:$S$8,B24),IF(AND($K$9=2,A24<15),SUMIFS($R$4:$R$8,$S$4:$S$8,B24),IF(AND($K$9=2,A24>14),SUMIFS($R$12:$R$16,$S$12:$S$16,B24),IF(AND($K$9=3,A24>14),SUMIFS($R$12:$R$16,$S$12:$S$16,B24),IF(AND($K$9=3,A24<15),SUMIFS($R$4:$R$8,$S$4:$S$8,B24),1))))))))","v":1},null,null,null,"","",{"$f":"IF($K$9>0,IF(SUM($K$11:$K24,$I$6)<0,TEXT(-(SUM($K$11:K24,$I$6)/60)/24,\"-[h]:mm\"),TEXT((SUM($K$11:K24,$I$6)/60)/24,\"[h]:mm\")),\"\")","v":""},null,"",0,0,null,{"$f":"IF(OR($O$3=\"\",$N$3=\"\",N24=\"\"),\"\",IF($O$9-SUM($N$11:N23)-N24<0,TEXT(-(($O$9-SUM($N$11:N23)-N24)/24),\"-[hh]:mm\"),TEXT(($O$9-SUM($N$11:N23)-N24)/24,\"[hh]:mm\")))","v":""},null,""]
["","",{"$f":"IF(OR($K$9=0,AND($K$9=2,A25<=14)),1,IF(IF(ISNA(INDEX(X!$W$7:$W$20,MATCH(DATE($D$4,$C$4,A25),X!$AC$7:$AC$20,0))),1,2)=2,2,IF(OR(B25=\"Sa\",B25=\"So\"),2,IF($K$9=1,SUMIFS($R$4:$R$8,$S$4:$S$8,B25),IF(AND($K$9=2,A25<15),SUMIFS($R$4:$R$8,$S$4:$S$8,B25),IF(AND($K$9=2,A25>14),SUMIFS($R$12:$R$16,$S$12:$S$16,B25),IF(AND($K$9=3,A25>14),SUMIFS($R$12:$R$16,$S$12:$S$16,B25),IF(AND($K$9=3,A25<15),SUMIFS($R$4:$R$8,$S$4:$S$8,B25),1))))))))","v":1},null,null,null,"","",{"$f":"IF($K$9>0,IF(SUM($K$11:$K25,$I$6)<0,TEXT(-(SUM($K$11:K25,$I$6)/60)/24,\"-[h]:mm\"),TEXT((SUM($K$11:K25,$I$6)/60)/24,\"[h]:mm\")),\"\")","v":""},null,"",0,0,null,{"$f":"IF(OR($O$3=\"\",$N$3=\"\",N25=\"\"),\"\",IF($O$9-SUM($N$11:N24)-N25<0,TEXT(-(($O$9-SUM($N$11:N24)-N25)/24),\"-[hh]:mm\"),TEXT(($O$9-SUM($N$11:N24)-N25)/24,\"[hh]:mm\")))","v":""},null,""]
["","",{"$f":"IF(OR($K$9=0,AND($K$9=2,A26<=14)),1,IF(IF(ISNA(INDEX(X!$W$7:$W$20,MATCH(DATE($D$4,$C$4,A26),X!$AC$7:$AC$20,0))),1,2)=2,2,IF(OR(B26=\"Sa\",B26=\"So\"),2,IF($K$9=1,SUMIFS($R$4:$R$8,$S$4:$S$8,B26),IF(AND($K$9=2,A26<15),SUMIFS($R$4:$R$8,$S$4:$S$8,B26),IF(AND($K$9=2,A26>14),SUMIFS($R$12:$R$16,$S$12:$S$16,B26),IF(AND($K$9=3,A26>14),SUMIFS($R$12:$R$16,$S$12:$S$16,B26),IF(AND($K$9=3,A26<15),SUMIFS($R$4:$R$8,$S$4:$S$8,B26),1))))))))","v":1},null,null,null,"","",{"$f":"IF($K$9>0,IF(SUM($K$11:$K26,$I$6)<0,TEXT(-(SUM($K$11:K26,$I$6)/60)/24,\"-[h]:mm\"),TEXT((SUM($K$11:K26,$I$6)/60)/24,\"[h]:mm\")),\"\")","v":""},null,"",0,0,null,{"$f":"IF(OR($O$3=\"\",$N$3=\"\",N26=\"\"),\"\",IF($O$9-SUM($N$11:N25)-N26<0,TEXT(-(($O$9-SUM($N$11:N25)-N26)/24),\"-[hh]:mm\"),TEXT(($O$9-SUM($N$11:N25)-N26)/24,\"[hh]:mm\")))","v":""},null,""]
["","",{"$f":"IF(OR($K$9=0,AND($K$9=2,A27<=14)),1,IF(IF(ISNA(INDEX(X!$W$7:$W$20,MATCH(DATE($D$4,$C$4,A27),X!$AC$7:$AC$20,0))),1,2)=2,2,IF(OR(B27=\"Sa\",B27=\"So\"),2,IF($K$9=1,SUMIFS($R$4:$R$8,$S$4:$S$8,B27),IF(AND($K$9=2,A27<15),SUMIFS($R$4:$R$8,$S$4:$S$8,B27),IF(AND($K$9=2,A27>14),SUMIFS($R$12:$R$16,$S$12:$S$16,B27),IF(AND($K$9=3,A27>14),SUMIFS($R$12:$R$16,$S$12:$S$16,B27),IF(AND($K$9=3,A27<15),SUMIFS($R$4:$R$8,$S$4:$S$8,B27),1))))))))","v":1},null,null,null,"","",{"$f":"IF($K$9>0,IF(SUM($K$11:$K27,$I$6)<0,TEXT(-(SUM($K$11:K27,$I$6)/60)/24,\"-[h]:mm\"),TEXT((SUM($K$11:K27,$I$6)/60)/24,\"[h]:mm\")),\"\")","v":""},null,"",0,0,null,{"$f":"IF(OR($O$3=\"\",$N$3=\"\",N27=\"\"),\"\",IF($O$9-SUM($N$11:N26)-N27<0,TEXT(-(($O$9-SUM($N$11:N26)-N27)/24),\"-[hh]:mm\"),TEXT(($O$9-SUM($N$11:N26)-N27)/24,\"[hh]:mm\")))","v":""},null,""]
["","",{"$f":"IF(OR($K$9=0,AND($K$9=2,A28<=14)),1,IF(IF(ISNA(INDEX(X!$W$7:$W$20,MATCH(DATE($D$4,$C$4,A28),X!$AC$7:$AC$20,0))),1,2)=2,2,IF(OR(B28=\"Sa\",B28=\"So\"),2,IF($K$9=1,SUMIFS($R$4:$R$8,$S$4:$S$8,B28),IF(AND($K$9=2,A28<15),SUMIFS($R$4:$R$8,$S$4:$S$8,B28),IF(AND($K$9=2,A28>14),SUMIFS($R$12:$R$16,$S$12:$S$16,B28),IF(AND($K$9=3,A28>14),SUMIFS($R$12:$R$16,$S$12:$S$16,B28),IF(AND($K$9=3,A28<15),SUMIFS($R$4:$R$8,$S$4:$S$8,B28),1))))))))","v":1},null,null,null,"","",{"$f":"IF($K$9>0,IF(SUM($K$11:$K28,$I$6)<0,TEXT(-(SUM($K$11:K28,$I$6)/60)/24,\"-[h]:mm\"),TEXT((SUM($K$11:K28,$I$6)/60)/24,\"[h]:mm\")),\"\")","v":""},null,"",0,0,null,{"$f":"IF(OR($O$3=\"\",$N$3=\"\",N28=\"\"),\"\",IF($O$9-SUM($N$11:N27)-N28<0,TEXT(-(($O$9-SUM($N$11:N27)-N28)/24),\"-[hh]:mm\"),TEXT(($O$9-SUM($N$11:N27)-N28)/24,\"[hh]:mm\")))","v":""},null,""]
["","",{"$f":"IF(OR($K$9=0,AND($K$9=2,A29<=14)),1,IF(IF(ISNA(INDEX(X!$W$7:$W$20,MATCH(DATE($D$4,$C$4,A29),X!$AC$7:$AC$20,0))),1,2)=2,2,IF(OR(B29=\"Sa\",B29=\"So\"),2,IF($K$9=1,SUMIFS($R$4:$R$8,$S$4:$S$8,B29),IF(AND($K$9=2,A29<15),SUMIFS($R$4:$R$8,$S$4:$S$8,B29),IF(AND($K$9=2,A29>14),SUMIFS($R$12:$R$16,$S$12:$S$16,B29),IF(AND($K$9=3,A29>14),SUMIFS($R$12:$R$16,$S$12:$S$16,B29),IF(AND($K$9=3,A29<15),SUMIFS($R$4:$R$8,$S$4:$S$8,B29),1))))))))","v":1},null,null,null,"","",{"$f":"IF($K$9>0,IF(SUM($K$11:$K29,$I$6)<0,TEXT(-(SUM($K$11:K29,$I$6)/60)/24,\"-[h]:mm\"),TEXT((SUM($K$11:K29,$I$6)/60)/24,\"[h]:mm\")),\"\")","v":""},null,"",0,0,null,{"$f":"IF(OR($O$3=\"\",$N$3=\"\",N29=\"\"),\"\",IF($O$9-SUM($N$11:N28)-N29<0,TEXT(-(($O$9-SUM($N$11:N28)-N29)/24),\"-[hh]:mm\"),TEXT(($O$9-SUM($N$11:N28)-N29)/24,\"[hh]:mm\")))","v":""},null,""]
["","",{"$f":"IF(OR($K$9=0,AND($K$9=2,A30<=14)),1,IF(IF(ISNA(INDEX(X!$W$7:$W$20,MATCH(DATE($D$4,$C$4,A30),X!$AC$7:$AC$20,0))),1,2)=2,2,IF(OR(B30=\"Sa\",B30=\"So\"),2,IF($K$9=1,SUMIFS($R$4:$R$8,$S$4:$S$8,B30),IF(AND($K$9=2,A30<15),SUMIFS($R$4:$R$8,$S$4:$S$8,B30),IF(AND($K$9=2,A30>14),SUMIFS($R$12:$R$16,$S$12:$S$16,B30),IF(AND($K$9=3,A30>14),SUMIFS($R$12:$R$16,$S$12:$S$16,B30),IF(AND($K$9=3,A30<15),SUMIFS($R$4:$R$8,$S$4:$S$8,B30),1))))))))","v":1},null,null,null,"","",{"$f":"IF($K$9>0,IF(SUM($K$11:$K30,$I$6)<0,TEXT(-(SUM($K$11:K30,$I$6)/60)/24,\"-[h]:mm\"),TEXT((SUM($K$11:K30,$I$6)/60)/24,\"[h]:mm\")),\"\")","v":""},null,"",0,0,null,{"$f":"IF(OR($O$3=\"\",$N$3=\"\",N30=\"\"),\"\",IF($O$9-SUM($N$11:N29)-N30<0,TEXT(-(($O$9-SUM($N$11:N29)-N30)/24),\"-[hh]:mm\"),TEXT(($O$9-SUM($N$11:N29)-N30)/24,\"[hh]:mm\")))","v":""},null,""]
["","",{"$f":"IF(OR($K$9=0,AND($K$9=2,A31<=14)),1,IF(IF(ISNA(INDEX(X!$W$7:$W$20,MATCH(DATE($D$4,$C$4,A31),X!$AC$7:$AC$20,0))),1,2)=2,2,IF(OR(B31=\"Sa\",B31=\"So\"),2,IF($K$9=1,SUMIFS($R$4:$R$8,$S$4:$S$8,B31),IF(AND($K$9=2,A31<15),SUMIFS($R$4:$R$8,$S$4:$S$8,B31),IF(AND($K$9=2,A31>14),SUMIFS($R$12:$R$16,$S$12:$S$16,B31),IF(AND($K$9=3,A31>14),SUMIFS($R$12:$R$16,$S$12:$S$16,B31),IF(AND($K$9=3,A31<15),SUMIFS($R$4:$R$8,$S$4:$S$8,B31),1))))))))","v":1},null,null,null,"","",{"$f":"IF($K$9>0,IF(SUM($K$11:$K31,$I$6)<0,TEXT(-(SUM($K$11:K31,$I$6)/60)/24,\"-[h]:mm\"),TEXT((SUM($K$11:K31,$I$6)/60)/24,\"[h]:mm\")),\"\")","v":""},null,"",0,0,null,{"$f":"IF(OR($O$3=\"\",$N$3=\"\",N31=\"\"),\"\",IF($O$9-SUM($N$11:N30)-N31<0,TEXT(-(($O$9-SUM($N$11:N30)-N31)/24),\"-[hh]:mm\"),TEXT(($O$9-SUM($N$11:N30)-N31)/24,\"[hh]:mm\")))","v":""},null,""]
["","",{"$f":"IF(OR($K$9=0,AND($K$9=2,A32<=14)),1,IF(IF(ISNA(INDEX(X!$W$7:$W$20,MATCH(DATE($D$4,$C$4,A32),X!$AC$7:$AC$20,0))),1,2)=2,2,IF(OR(B32=\"Sa\",B32=\"So\"),2,IF($K$9=1,SUMIFS($R$4:$R$8,$S$4:$S$8,B32),IF(AND($K$9=2,A32<15),SUMIFS($R$4:$R$8,$S$4:$S$8,B32),IF(AND($K$9=2,A32>14),SUMIFS($R$12:$R$16,$S$12:$S$16,B32),IF(AND($K$9=3,A32>14),SUMIFS($R$12:$R$16,$S$12:$S$16,B32),IF(AND($K$9=3,A32<15),SUMIFS($R$4:$R$8,$S$4:$S$8,B32),1))))))))","v":1},null,null,null,"","",{"$f":"IF($K$9>0,IF(SUM($K$11:$K32,$I$6)<0,TEXT(-(SUM($K$11:K32,$I$6)/60)/24,\"-[h]:mm\"),TEXT((SUM($K$11:K32,$I$6)/60)/24,\"[h]:mm\")),\"\")","v":""},null,"",0,0,null,{"$f":"IF(OR($O$3=\"\",$N$3=\"\",N32=\"\"),\"\",IF($O$9-SUM($N$11:N31)-N32<0,TEXT(-(($O$9-SUM($N$11:N31)-N32)/24),\"-[hh]:mm\"),TEXT(($O$9-SUM($N$11:N31)-N32)/24,\"[hh]:mm\")))","v":""},null,""]
["","",{"$f":"IF(OR($K$9=0,AND($K$9=2,A33<=14)),1,IF(IF(ISNA(INDEX(X!$W$7:$W$20,MATCH(DATE($D$4,$C$4,A33),X!$AC$7:$AC$20,0))),1,2)=2,2,IF(OR(B33=\"Sa\",B33=\"So\"),2,IF($K$9=1,SUMIFS($R$4:$R$8,$S$4:$S$8,B33),IF(AND($K$9=2,A33<15),SUMIFS($R$4:$R$8,$S$4:$S$8,B33),IF(AND($K$9=2,A33>14),SUMIFS($R$12:$R$16,$S$12:$S$16,B33),IF(AND($K$9=3,A33>14),SUMIFS($R$12:$R$16,$S$12:$S$16,B33),IF(AND($K$9=3,A33<15),SUMIFS($R$4:$R$8,$S$4:$S$8,B33),1))))))))","v":1},null,null,null,"","",{"$f":"IF($K$9>0,IF(SUM($K$11:$K33,$I$6)<0,TEXT(-(SUM($K$11:K33,$I$6)/60)/24,\"-[h]:mm\"),TEXT((SUM($K$11:K33,$I$6)/60)/24,\"[h]:mm\")),\"\")","v":""},null,"",0,0,null,{"$f":"IF(OR($O$3=\"\",$N$3=\"\",N33=\"\"),\"\",IF($O$9-SUM($N$11:N32)-N33<0,TEXT(-(($O$9-SUM($N$11:N32)-N33)/24),\"-[hh]:mm\"),TEXT(($O$9-SUM($N$11:N32)-N33)/24,\"[hh]:mm\")))","v":""},null,""]
["","",{"$f":"IF(OR($K$9=0,AND($K$9=2,A34<=14)),1,IF(IF(ISNA(INDEX(X!$W$7:$W$20,MATCH(DATE($D$4,$C$4,A34),X!$AC$7:$AC$20,0))),1,2)=2,2,IF(OR(B34=\"Sa\",B34=\"So\"),2,IF($K$9=1,SUMIFS($R$4:$R$8,$S$4:$S$8,B34),IF(AND($K$9=2,A34<15),SUMIFS($R$4:$R$8,$S$4:$S$8,B34),IF(AND($K$9=2,A34>14),SUMIFS($R$12:$R$16,$S$12:$S$16,B34),IF(AND($K$9=3,A34>14),SUMIFS($R$12:$R$16,$S$12:$S$16,B34),IF(AND($K$9=3,A34<15),SUMIFS($R$4:$R$8,$S$4:$S$8,B34),1))))))))","v":1},null,null,null,"","",{"$f":"IF($K$9>0,IF(SUM($K$11:$K34,$I$6)<0,TEXT(-(SUM($K$11:K34,$I$6)/60)/24,\"-[h]:mm\"),TEXT((SUM($K$11:K34,$I$6)/60)/24,\"[h]:mm\")),\"\")","v":""},null,"",0,0,null,{"$f":"IF(OR($O$3=\"\",$N$3=\"\",N34=\"\"),\"\",IF($O$9-SUM($N$11:N33)-N34<0,TEXT(-(($O$9-SUM($N$11:N33)-N34)/24),\"-[hh]:mm\"),TEXT(($O$9-SUM($N$11:N33)-N34)/24,\"[hh]:mm\")))","v":""},null,""]
["","",{"$f":"IF(OR($K$9=0,AND($K$9=2,A35<=14)),1,IF(IF(ISNA(INDEX(X!$W$7:$W$20,MATCH(DATE($D$4,$C$4,A35),X!$AC$7:$AC$20,0))),1,2)=2,2,IF(OR(B35=\"Sa\",B35=\"So\"),2,IF($K$9=1,SUMIFS($R$4:$R$8,$S$4:$S$8,B35),IF(AND($K$9=2,A35<15),SUMIFS($R$4:$R$8,$S$4:$S$8,B35),IF(AND($K$9=2,A35>14),SUMIFS($R$12:$R$16,$S$12:$S$16,B35),IF(AND($K$9=3,A35>14),SUMIFS($R$12:$R$16,$S$12:$S$16,B35),IF(AND($K$9=3,A35<15),SUMIFS($R$4:$R$8,$S$4:$S$8,B35),1))))))))","v":1},null,null,null,"","",{"$f":"IF($K$9>0,IF(SUM($K$11:$K35,$I$6)<0,TEXT(-(SUM($K$11:K35,$I$6)/60)/24,\"-[h]:mm\"),TEXT((SUM($K$11:K35,$I$6)/60)/24,\"[h]:mm\")),\"\")","v":""},null,"",0,0,null,{"$f":"IF(OR($O$3=\"\",$N$3=\"\",N35=\"\"),\"\",IF($O$9-SUM($N$11:N34)-N35<0,TEXT(-(($O$9-SUM($N$11:N34)-N35)/24),\"-[hh]:mm\"),TEXT(($O$9-SUM($N$11:N34)-N35)/24,\"[hh]:mm\")))","v":""},null,""]
["","",{"$f":"IF(OR($K$9=0,AND($K$9=2,A36<=14)),1,IF(IF(ISNA(INDEX(X!$W$7:$W$20,MATCH(DATE($D$4,$C$4,A36),X!$AC$7:$AC$20,0))),1,2)=2,2,IF(OR(B36=\"Sa\",B36=\"So\"),2,IF($K$9=1,SUMIFS($R$4:$R$8,$S$4:$S$8,B36),IF(AND($K$9=2,A36<15),SUMIFS($R$4:$R$8,$S$4:$S$8,B36),IF(AND($K$9=2,A36>14),SUMIFS($R$12:$R$16,$S$12:$S$16,B36),IF(AND($K$9=3,A36>14),SUMIFS($R$12:$R$16,$S$12:$S$16,B36),IF(AND($K$9=3,A36<15),SUMIFS($R$4:$R$8,$S$4:$S$8,B36),1))))))))","v":1},null,null,null,"","",{"$f":"IF($K$9>0,IF(SUM($K$11:$K36,$I$6)<0,TEXT(-(SUM($K$11:K36,$I$6)/60)/24,\"-[h]:mm\"),TEXT((SUM($K$11:K36,$I$6)/60)/24,\"[h]:mm\")),\"\")","v":""},null,"",0,0,null,{"$f":"IF(OR($O$3=\"\",$N$3=\"\",N36=\"\"),\"\",IF($O$9-SUM($N$11:N35)-N36<0,TEXT(-(($O$9-SUM($N$11:N35)-N36)/24),\"-[hh]:mm\"),TEXT(($O$9-SUM($N$11:N35)-N36)/24,\"[hh]:mm\")))","v":""},null,""]
["","",{"$f":"IF(OR($K$9=0,AND($K$9=2,A37<=14)),1,IF(IF(ISNA(INDEX(X!$W$7:$W$20,MATCH(DATE($D$4,$C$4,A37),X!$AC$7:$AC$20,0))),1,2)=2,2,IF(OR(B37=\"Sa\",B37=\"So\"),2,IF($K$9=1,SUMIFS($R$4:$R$8,$S$4:$S$8,B37),IF(AND($K$9=2,A37<15),SUMIFS($R$4:$R$8,$S$4:$S$8,B37),IF(AND($K$9=2,A37>14),SUMIFS($R$12:$R$16,$S$12:$S$16,B37),IF(AND($K$9=3,A37>14),SUMIFS($R$12:$R$16,$S$12:$S$16,B37),IF(AND($K$9=3,A37<15),SUMIFS($R$4:$R$8,$S$4:$S$8,B37),1))))))))","v":1},null,null,null,"","",{"$f":"IF($K$9>0,IF(SUM($K$11:$K37,$I$6)<0,TEXT(-(SUM($K$11:K37,$I$6)/60)/24,\"-[h]:mm\"),TEXT((SUM($K$11:K37,$I$6)/60)/24,\"[h]:mm\")),\"\")","v":""},null,"",0,0,null,{"$f":"IF(OR($O$3=\"\",$N$3=\"\",N37=\"\"),\"\",IF($O$9-SUM($N$11:N36)-N37<0,TEXT(-(($O$9-SUM($N$11:N36)-N37)/24),\"-[hh]:mm\"),TEXT(($O$9-SUM($N$11:N36)-N37)/24,\"[hh]:mm\")))","v":""},null,""]
["","",{"$f":"IF(OR($K$9=0,AND($K$9=2,A38<=14)),1,IF(IF(ISNA(INDEX(X!$W$7:$W$20,MATCH(DATE($D$4,$C$4,A38),X!$AC$7:$AC$20,0))),1,2)=2,2,IF(OR(B38=\"Sa\",B38=\"So\"),2,IF($K$9=1,SUMIFS($R$4:$R$8,$S$4:$S$8,B38),IF(AND($K$9=2,A38<15),SUMIFS($R$4:$R$8,$S$4:$S$8,B38),IF(AND($K$9=2,A38>14),SUMIFS($R$12:$R$16,$S$12:$S$16,B38),IF(AND($K$9=3,A38>14),SUMIFS($R$12:$R$16,$S$12:$S$16,B38),IF(AND($K$9=3,A38<15),SUMIFS($R$4:$R$8,$S$4:$S$8,B38),1))))))))","v":1},null,null,null,"","",{"$f":"IF($K$9>0,IF(SUM($K$11:$K38,$I$6)<0,TEXT(-(SUM($K$11:K38,$I$6)/60)/24,\"-[h]:mm\"),TEXT((SUM($K$11:K38,$I$6)/60)/24,\"[h]:mm\")),\"\")","v":""},null,"",0,0,null,{"$f":"IF(OR($O$3=\"\",$N$3=\"\",N38=\"\"),\"\",IF($O$9-SUM($N$11:N37)-N38<0,TEXT(-(($O$9-SUM($N$11:N37)-N38)/24),\"-[hh]:mm\"),TEXT(($O$9-SUM($N$11:N37)-N38)/24,\"[hh]:mm\")))","v":""},null,""]
["",{"$f":"IF(OR(A39=\"\",$D$4=\"\"),\"\",TEXT(DATE($D$4,$C$4,A39),\"ttt\"))","v":""},{"$f":"IF(OR($K$9=0,AND($K$9=2,A39<=14)),1,IF(IF(ISNA(INDEX(X!$W$7:$W$20,MATCH(DATE($D$4,$C$4,A39),X!$AC$7:$AC$20,0))),1,2)=2,2,IF(OR(B39=\"Sa\",B39=\"So\"),2,IF($K$9=1,SUMIFS($R$4:$R$8,$S$4:$S$8,B39),IF(AND($K$9=2,A39<15),SUMIFS($R$4:$R$8,$S$4:$S$8,B39),IF(AND($K$9=2,A39>14),SUMIFS($R$12:$R$16,$S$12:$S$16,B39),IF(AND($K$9=3,A39>14),SUMIFS($R$12:$R$16,$S$12:$S$16,B39),IF(AND($K$9=3,A39<15),SUMIFS($R$4:$R$8,$S$4:$S$8,B39),1))))))))","v":1},null,null,null,"","",{"$f":"IF($K$9>0,IF(SUM($K$11:$K39,$I$6)<0,TEXT(-(SUM($K$11:K39,$I$6)/60)/24,\"-[h]:mm\"),TEXT((SUM($K$11:K39,$I$6)/60)/24,\"[h]:mm\")),\"\")","v":""},null,"",0,0,null,{"$f":"IF(OR($O$3=\"\",$N$3=\"\",N39=\"\"),\"\",IF($O$9-SUM($N$11:N38)-N39<0,TEXT(-(($O$9-SUM($N$11:N38)-N39)/24),\"-[hh]:mm\"),TEXT(($O$9-SUM($N$11:N38)-N39)/24,\"[hh]:mm\")))","v":""},null,""]
["",{"$f":"IF(OR(A40=\"\",$D$4=\"\"),\"\",TEXT(DATE($D$4,$C$4,A40),\"ttt\"))","v":""},{"$f":"IF(OR($K$9=0,AND($K$9=2,A40<=14)),1,IF(IF(ISNA(INDEX(X!$W$7:$W$20,MATCH(DATE($D$4,$C$4,A40),X!$AC$7:$AC$20,0))),1,2)=2,2,IF(OR(B40=\"Sa\",B40=\"So\"),2,IF($K$9=1,SUMIFS($R$4:$R$8,$S$4:$S$8,B40),IF(AND($K$9=2,A40<15),SUMIFS($R$4:$R$8,$S$4:$S$8,B40),IF(AND($K$9=2,A40>14),SUMIFS($R$12:$R$16,$S$12:$S$16,B40),IF(AND($K$9=3,A40>14),SUMIFS($R$12:$R$16,$S$12:$S$16,B40),IF(AND($K$9=3,A40<15),SUMIFS($R$4:$R$8,$S$4:$S$8,B40),1))))))))","v":1},null,null,null,"","",{"$f":"IF($K$9>0,IF(SUM($K$11:$K40,$I$6)<0,TEXT(-(SUM($K$11:K40,$I$6)/60)/24,\"-[h]:mm\"),TEXT((SUM($K$11:K40,$I$6)/60)/24,\"[h]:mm\")),\"\")","v":""},null,"",0,0,null,{"$f":"IF(OR($O$3=\"\",$N$3=\"\",N40=\"\"),\"\",IF($O$9-SUM($N$11:N39)-N40<0,TEXT(-(($O$9-SUM($N$11:N39)-N40)/24),\"-[hh]:mm\"),TEXT(($O$9-SUM($N$11:N39)-N40)/24,\"[hh]:mm\")))","v":""},null,""]
["","",{"$f":"IF(OR($K$9=0,AND($K$9=2,A41<=14)),1,IF(IF(ISNA(INDEX(X!$W$7:$W$20,MATCH(DATE($D$4,$C$4,A41),X!$AC$7:$AC$20,0))),1,2)=2,2,IF(OR(B41=\"Sa\",B41=\"So\"),2,IF($K$9=1,SUMIFS($R$4:$R$8,$S$4:$S$8,B41),IF(AND($K$9=2,A41<15),SUMIFS($R$4:$R$8,$S$4:$S$8,B41),IF(AND($K$9=2,A41>14),SUMIFS($R$12:$R$16,$S$12:$S$16,B41),IF(AND($K$9=3,A41>14),SUMIFS($R$12:$R$16,$S$12:$S$16,B41),IF(AND($K$9=3,A41<15),SUMIFS($R$4:$R$8,$S$4:$S$8,B41),1))))))))","v":1},null,null,null,"","",{"$f":"IF($K$9>0,IF(SUM($K$11:$K41,$I$6)<0,TEXT(-(SUM($K$11:K41,$I$6)/60)/24,\"-[h]:mm\"),TEXT((SUM($K$11:K41,$I$6)/60)/24,\"[h]:mm\")),\"\")","v":""},null,"",0,0,null,{"$f":"IF(OR($O$3=\"\",$N$3=\"\",N41=\"\"),\"\",IF($O$9-SUM($N$11:N40)-N41<0,TEXT(-(($O$9-SUM($N$11:N40)-N41)/24),\"-[hh]:mm\"),TEXT(($O$9-SUM($N$11:N40)-N41)/24,\"[hh]:mm\")))","v":""},null,""]
[null,null,null,null,null,null,{"$f":"L42+K42","v":0},{"$f":"K42","v":0},null,null,{"$f":"SUM(K11:K41)","v":0},{"$f":"-SUM(L11:L41)","v":0},{"$f":"M41","v":0},{"$f":"SUM(N11:N41)*60","v":330},null,null,{"$f":"IF((G42/60)<0,TEXT(-((G42/60)/24),\"-[hh]:mm\"),TEXT((G42/60)/24,\"[hh]:mm\"))","v":"00:00"}]
[{"$f":"IF(G4=\"\",\"\",\"Ergebnis\")","v":""},null,null,null,null,null,{"$f":"IF(G4=\"\",0,IF(((G42-N42)/60)<0,TEXT(-(((G42-N42)/60)/24),\"-[hh]:mm\"),TEXT(((G42-N42)/60)/24,\"[hh]:mm\")))","v":0},{"$f":"IF(G4=0,\"\",IF(H42<0,TEXT(-((H42/60)/24),\"-[hh]:mm\"),IF((H42/60)>24,TEXT((((H42/60)-24)/24)+(24/24),\"[hh]:mm\"),(H42/60)/24)))","v":0},{"$f":"IF($K$9>0,IF(SUM(I6,K43)<0,TEXT(-(SUM(I6,K43)/60)/24,\"-[h]:mm\"),TEXT((SUM(I6,K43)/60)/24,\"[h]:mm\")),\"\")","v":""},null,{"$f":"IF(L42<>L43,G42-L43,K42)","v":0},{"$f":"IF(AND(K9=1,SUM(U4:U8)<>H9),((H9/5)*COUNTIFS(C11:C41,\"<>\"&2,F11:F41,\"\"))*60,IF(AND(K9=2,SUM(U12:U16)<>I9),((I9/5)*COUNTIFS(C11:C41,\"<>\"&2,F11:F41,\"\"))*60,IF(AND(K9=3,OR(SUM(U4:U8)<>H9,SUM(U12:U16)<>I9)),SUM(IF(SUM(U4:U8)<>H9,((H9/5)*COUNTIFS(C11:C41,\"<>\"&2,A11:A41,\"<\"&15,F11:F41,\"\"))*60,-SUMIFS(L11:L41,A11:A41,\"<\"&15,F11:F41,\"\")),IF(SUM(U12:U16)<>I9,((I9/5)*COUNTIFS(C11:C41,\"<>\"&2,A11:A41,\">\"&14,F11:F41,\"\"))*60,-SUMIFS(L11:L41,A11:A41,\">\"&14,F11:F41,\"\"))),-SUM(L11:L41))))","v":0},null,{"$f":"IF(N42<0,TEXT(-((N42/60)/24),\"-[hh]:mm\"),TEXT((N42/60)/24,\"[hh]:mm\"))","v":"05:30"},{"$f":"IF(O9-SUM(N11:N41)<0,TEXT(-(O9-SUM(N11:N41))/24,\"-[h]:mm\"),TEXT((O9-SUM(N11:N41))/24,\"[h]:mm\"))","v":{"$error":"#VALUE!"}},null,{"$f":"Q42","v":"00:00"}]
[{"$f":"IF(G4=\"\",\"\",\"Saldo / Übertrag:\")","v":""},null,null,null,null,null,null,null,{"$f":"I43","v":""},{"$f":"IF(K42<>K43,\"automatische Nachberechnung der Sollarbeitszeit, da wöchentlicher Stundenumfang nicht eingehalten wurde.\",\"\")","v":""},{"$f":"K43+I6","v":0},"Übertrag"]
[]
[{"$f":"IF(I46=\"\",\"\",\"Korrektur der Stunden\")","v":""},null,null,null,null,null,null,null,{"$f":"IF(K9>0,IF(K42-K43<>0,IF(K43-K42<0,TEXT(-((K43-K42)/60)/24,\"-[h]:mm\"),TEXT(((K43-K42)/60)/24,\"[h]:mm\")),\"\"),\"\")","v":""}]
[]
[]
[]
[]
[]
[]
[]
[]
[]
[]
[{"$f":"D4","v":""},{"$f":"C4","v":2},{"$f":"Uebersicht!A4","v":0},{"$f":"Uebersicht!B4","v":0},{"$f":"L43","v":0},{"$f":"K42","v":0},{"$f":"K43","v":0},{"$f":"M10","v":0},{"$f":"M42","v":0}]

{"sheet":"Mrz","index":3,"n_rows":57,"n_cols":22,"rows_kept":57,"cut":false,"hidden":false,"merged":[[8,18,8,19],[9,18,9,20],[16,18,16,19],[42,0,42,5],[3,13,4,15],[5,13,5,15],[6,0,7,4],[6,5,7,5],[6,6,7,7],[6,8,7,8],[6,9,7,9],[6,13,7,15],[3,0,4,1],[3,2,4,2],[3,3,4,4],[3,5,4,5],[43,0,44,7],[43,8,44,8],[43,9,46,9],[45,0,45,7],[1,0,2,8],[3,6,4,9]]}
["Zeiterfassungsbogen für studentische Hilfskräfte | International Office",null,null,null,null,null,null,null,null,null,null,null,null,null,null,null,null,null,null,null,null,"\"nein\" auswählen, wenn keine festen Tage mehr gelten sollen!"]
[{"$f":"IF(Uebersicht!A4=\"\",\"\",CONCATENATE(Uebersicht!B4,\" \",Uebersicht!A4))","v":""}]
[null,null,null,null,null,null,null,null,null,null,null,null,null,{"$f":"INDEX(Uebersicht!AO5:AQ28,MATCH(C4,Uebersicht!AO5:AO28,0),3)","v":0},{"$f":"INDEX(Uebersicht!AO5:AQ28,MATCH(C4+0.5,Uebersicht!AO5:AO28,0),3)","v":0},null,null,null,"Tag","h"]
[{"$f":"IF(D4=\"\",\"\",TEXT(DATE(D4,C4,1),\"MMM\"))","v":""},null,3,{"$f":"Uebersicht!I1","v":""},null,null,{"$f":"IF(INDEX(Uebersicht!AO31:AQ42,MATCH(C4,Uebersicht!AO31:AO43,0),2)=0,\"\",INDEX(Uebersicht!AO31:AQ42,MATCH(C4,Uebersicht!AO31:AO43,0),2))","v":""},null,null,null,null,null,null,{"$f":"INDEX(Uebersicht!AO31:AQ42,MATCH(C4,Uebersicht!AO31:AO43,0),3)","v":0},null,null,null,{"$f":"IF(OR($K$9=2,$K$9=0),1,IF(AND(OR($K$9=1,$K$9=3),OR(SUM($U$4:$U$8)=0,$U$1=\"nein\")),3,IF(AND($U$1=\"\",SUM($U$4:$U$8)>0,U4>=1,OR($K$9=3,$K$9=1)),4,1)))","v":1},"Mo",null,{"$f":"IF(AND(H9=0,I9=0),0,IF(OR($K$9=0,INDIRECT(\"'\"&TEXT(DATE(D4,$C$4-1,1),\"MMM\")&\"'!$U$1\")=\"nein\",$U$1=\"nein\"),0,IF(T4>0,T4,INDEX(Uebersicht!$BA$3:$BE$14,$C$4,MATCH(S4,Uebersicht!$BA$2:$BE$2,0)))))","v":0}]
[null,null,null,null,null,null,null,null,null,null,null,null,null,null,null,null,null,{"$f":"IF(OR($K$9=2,$K$9=0),1,IF(AND(OR($K$9=1,$K$9=3),OR(SUM($U$4:$U$8)=0,$U$1=\"nein\")),3,IF(AND($U$1=\"\",SUM($U$4:$U$8)>0,U5>=1,OR($K$9=3,$K$9=1)),4,1)))","v":1},"Di",null,{"$f":"IF(OR($K$9=0,INDIRECT(\"'\"&TEXT(DATE(D5,$C$4-1,1),\"MMM\")&\"'!$U$1\")=\"nein\",$U$1=\"nein\"),0,IF(T5>0,T5,INDEX(Uebersicht!$BA$3:$BE$14,$C$4,MATCH(S5,Uebersicht!$BA$2:$BE$2,0))))","v":0}]
[null,null,{"$f":"DAY(DATE(D4,C4+1,1)-1)","v":{"$error":"#VALUE!"}},null,null,null,null,{"$f":"IF(N4=0,\"\",\"Arbeitsgebiet 1\")","v":""},{"$f":"IF(AND(I9=0,H9=0),0,IF(C4-1=0,Uebersicht!G4,INDIRECT(\"'\"&TEXT(DATE(D4,C4-1,1),\"MMM\")&\"'!K44\")))","v":0},null,"nein",null,null,{"$f":"IF(N4=\"\",\"\",\"Arbeitsgebiet 2\")","v":"Arbeitsgebiet 2"},null,null,null,{"$f":"IF(OR($K$9=2,$K$9=0),1,IF(AND(OR($K$9=1,$K$9=3),OR(SUM($U$4:$U$8)=0,$U$1=\"nein\")),3,IF(AND($U$1=\"\",SUM($U$4:$U$8)>0,U6>=1,OR($K$9=3,$K$9=1)),4,1)))","v":1},"Mi",null,{"$f":"IF(OR($K$9=0,INDIRECT(\"'\"&TEXT(DATE(D6,$C$4-1,1),\"MMM\")&\"'!$U$1\")=\"nein\",$U$1=\"nein\"),0,IF(T6>0,T6,INDEX(Uebersicht!$BA$3:$BE$14,$C$4,MATCH(S6,Uebersicht!$BA$2:$BE$2,0))))","v":0}]
[{"$f":"IF(AND(H9>0,I9=0),CONCATENATE(H9,\" Wochenarbeitszeit (h)\"),IF(AND(H9=0,I9>0),CONCATENATE(I9,\" Wochenarbeitszeit (h)\"),IF(AND(H9>0,I9>0,H9<>I9),CONCATENATE(H9,\" h, ab 15. \",TEXT(DATE(D4,C4,1),\"MMMM\"),\" \",I9,\"h\"),\"\")))","v":""},null,null,null,null,{"$f":"IF(G4=\"\",\"\",IF(M42/60>0,TEXT((M42/60)/24,\"[h]:mm\"),0))","v":""},{"$f":"IF(F7=\"\",\"\",\"Urlaubsrest\")","v":""},null,{"$f":"IF(AND(YEAR(TODAY())=D4,MONTH(TODAY())>=C4,K9>0),IF(OR(I6=0,I6=\"\"),0,IF(I6<0,TEXT(-(I6/60)/24,\"-[h]:mm\"),TEXT((I6/60)/24,\"[h]:mm\"))),\"\")","v":""},{"$f":"IF(I7=\"\",\"\",CONCATENATE(\"h Übertrag aus \",IF(C6=1,\"Vorjahr\",\"Vormonat\")))","v":""},"Urlaub",null,null,{"$f":"IF(AND(N3>0,O3=0),CONCATENATE(N3,\" Stunden - Anteil pro Woche\"),IF(AND(N3=0,O3>0),CONCATENATE(O3,\" Stunden - Anteil pro Woche\"),IF(AND(N3>0,O3>0,O3<>N3),CONCATENATE(N3,\" h, ab 15. \",TEXT(DATE(D4,C4,1),\"MMMM\"),\" \",O3,\"h\"),IF(N3=O3,CONCATENATE(N3,\" Stunden - Anteil pro Woche\"),\"\"))))","v":"0 Stunden - Anteil pro Woche"},null,null,null,{"$f":"IF(OR($K$9=2,$K$9=0),1,IF(AND(OR($K$9=1,$K$9=3),OR(SUM($U$4:$U$8)=0,$U$1=\"nein\")),3,IF(AND($U$1=\"\",SUM($U$4:$U$8)>0,U7>=1,OR($K$9=3,$K$9=1)),4,1)))","v":1},"Do",null,{"$f":"IF(OR($K$9=0,INDIRECT(\"'\"&TEXT(DATE(D7,$C$4-1,1),\"MMM\")&\"'!$U$1\")=\"nein\",$U$1=\"nein\"),0,IF(T7>0,T7,INDEX(Uebersicht!$BA$3:$BE$14,$C$4,MATCH(S7,Uebersicht!$BA$2:$BE$2,0))))","v":0}]
[null,null,null,null,null,null,null,null,null,null,"Krank",null,null,null,null,null,null,{"$f":"IF(OR($K$9=2,$K$9=0),1,IF(AND(OR($K$9=1,$K$9=3),OR(SUM($U$4:$U$8)=0,$U$1=\"nein\")),3,IF(AND($U$1=\"\",SUM($U$4:$U$8)>0,U8>=1,OR($K$9=3,$K$9=1)),4,1)))","v":1},"Fr",null,{"$f":"IF(OR($K$9=0,INDIRECT(\"'\"&TEXT(DATE(D8,$C$4-1,1),\"MMM\")&\"'!$U$1\")=\"nein\",$U$1=\"nein\"),0,IF(T8>0,T8,INDEX(Uebersicht!$BA$3:$BE$14,$C$4,MATCH(S8,Uebersicht!$BA$2:$BE$2,0))))","v":0}]
[null,null,null,null,null,null,null,{"$f":"INDEX(Uebersicht!AU3:AW14,C4,2)","v":0},{"$f":"IF(INDEX(Uebersicht!AU3:AW14,C4,3)=H9,0,INDEX(Uebersicht!AU3:AW14,C4,3))","v":0},null,{"$f":"IF(AND(H9>0,I9=0),1,IF(AND(H9=0,I9>0),2,IF(AND(H9=0,I9=0),0,IF(H9<>I9,3,\"\"))))","v":0},null,null,null,{"$f":"IF(OR(N3>0,O3>0),IF(OR(K9=1,K9=2),(IF(K9=1,N3,IF(K9=2,O2,0))/5)*NETWORKDAYS(IF(K9=1,DATE(D4,C4,1),IF(K9=2,DATE(D4,C4,15),0)),IF(OR(K9=1,K9=2),DATE(D4,C4,MAX(A11:A41)),0),COUNTIFS(C11:C41,\"<>\"&2)),IF(K9=3,SUM(IF(N3>0,(N3/5)*NETWORKDAYS(DATE(D4,C4,1),DATE(D4,C4,14),2),0),IF(O3>0,(O3/5)*NETWORKDAYS(DATE(D4,C4,15),DATE(D4,C4,MAX(A11:A41)),2),0)),0)),\"\")","v":""},null,null,null,{"$f":"IF(SUM(U4:U8)=0,\"\",IF(SUM(U4:U8)>H9,\"zu viel!\",IF(SUM(U4:U8)<H9,\"zu wenig!\",\"\")))","v":""},null,{"$f":"IF(OR(U1=\"nein\",SUM(U4:U8)=0),\"ja\",IF(OR(SUM(Uebersicht!C36:C40)>0,SUM(T4:T8)>0,SUM(U4:U8)>0),\"nein\",\"ja\"))","v":"ja"}]
["Tag",null,null,"Beginn","Ende","Urlaub\nKrank","Stunden","Mehr/\nMinder","Saldo\nsummiert","Bemerkungen","Differenz","Soll",{"$f":"IF(AND(I9=0,H9=0),0,IF(C4-1=0,IF(Uebersicht!E8=\"\",0,Uebersicht!E8*60),INDIRECT(\"'\"&TEXT(DATE(D4,C4-1,1),\"MMM\")&\"'!M42\")))","v":0},"Stunden","Rest","Bemerkungen","Gesamt",null,"Änderung im laufenden Monat"]
[1,{"$f":"IF(OR(A11=\"\",$D$4=\"\"),\"\",TEXT(DATE($D$4,$C$4,A11),\"ttt\"))","v":""},{"$f":"IF(OR($K$9=0,AND($K$9=2,A11<=14)),1,IF(IF(ISNA(INDEX(X!$W$7:$W$20,MATCH(DATE($D$4,$C$4,A11),X!$AC$7:$AC$20,0))),1,2)=2,2,IF(OR(B11=\"Sa\",B11=\"So\"),2,IF($K$9=1,SUMIFS($R$4:$R$8,$S$4:$S$8,B11),IF(AND($K$9=2,A11<15),SUMIFS($R$4:$R$8,$S$4:$S$8,B11),IF(AND($K$9=2,A11>14),SUMIFS($R$12:$R$16,$S$12:$S$16,B11),IF(AND($K$9=3,A11>14),SUMIFS($R$12:$R$16,$S$12:$S$16,B11),IF(AND($K$9=3,A11<15),SUMIFS($R$4:$R$8,$S$4:$S$8,B11),1))))))))","v":1},null,null,null,{"$f":"IF(AND(D11=\"\",E11=\"\"),\"\",IF(N11=\"\",IF(((HOUR(E11)*60+MINUTE(E11))-(HOUR(D11)*60+MINUTE(D11)))>360,TEXT(((((HOUR(E11)*60+MINUTE(E11))-(HOUR(D11)*60+MINUTE(D11)))-30)/60)/24,\"[h]:mm\"),TEXT((((HOUR(E11)*60+MINUTE(E11))-(HOUR(D11)*60+MINUTE(D11)))/60)/24,\"[h]:mm\")),IF((((HOUR(E11)*60+MINUTE(E11))-(HOUR(D11)*60+MINUTE(D11)))-N11)>360,TEXT(((((((HOUR(E11)*60+MINUTE(E11))-(HOUR(D11)*60+MINUTE(D11)))-30))/60)-N11)/24,\"[h]:mm\"),TEXT(((((HOUR(E11)*60+MINUTE(E11))-(HOUR(D11)*60+MINUTE(D11)))/60)-N11)/24,\"[h]:mm\"))))","v":""},{"$f":"IF(K11=\"\",\"\",IF(TODAY()<=DATE($D$4,$C$4,A11),0,IF(K11>0,TEXT((K11/60)/24,\"[h]:mm\"),TEXT(-(K11/60)/24,\"-[h]:mm\"))))","v":""},{"$f":"IF($K$9>0,IF(SUM($K$11:$K11,I6)<0,TEXT(-(SUM($K$11:K11,I6)/60)/24,\"-[h]:mm\"),TEXT((SUM($K$11:K11,I6)/60)/24,\"[h]:mm\")),\"\")","v":""},null,{"$f":"IF(F11=\"\",IF(L11<0,L11+IF(G11=\" \",0,IF(((HOUR(E11)*60+MINUTE(E11))-(HOUR(D11)*60+MINUTE(D11)))>360,(HOUR(E11)*60+MINUTE(E11))-(HOUR(D11)*60+MINUTE(D11))-30,(HOUR(E11)*60+MINUTE(E11))-(HOUR(D11)*60+MINUTE(D11)))),IF(Q11=\"\",\"\",(Q11*60)*24)),\"\")","v":""},{"$f":"IF(OR(F11=\"krank\",F11=\"Urlaub\",C11=1,C11=2),0,IF($K$9=1,IF(SUM($U$4:$U$8)=0,$H$9/5,INDEX($S$4:$U$8,MATCH(B11,$S$4:$S$8,0),3)),IF($K$9=2,IF(AND(A11>14,SUM($U$12:$U$16)=0),$I$9/5,INDEX($S$12:$U$16,MATCH(B11,$S$12:$S$16,0),3)),IF($K$9=3,IF(A11<15,IF(SUM($U$4:$U$8)=0,$H$9/5,INDEX($S$4:$U$8,MATCH(B11,$S$4:$S$8,0),3))),IF(A11>14,IF(SUM($U$12:$U$16)=0,$I$9/5,INDEX($S$12:$U$16,MATCH(B11,$S$12:$S$16,0),3))))))*-60)","v":0},{"$f":"M10-(IF(OR(C11=1,C11=2),0,IF(C11=3,IF(AND($K$9=1,F11=\"Urlaub\"),$H$9/5,IF($K$9=2,IF(AND(A11<15,F11=\"Urlaub\"),$I$9/5,IF(AND($K$9=3,A11<15,F11=\"Urlaub\"),$H$9/5,IF(AND($K$9=3,A11>14,F11=\"Urlaub\"),$I$9/5))))),IF(C11=4,IF(AND(F11=\"Urlaub\",$K$9=1),SUMIFS($U$4:$U$8,$S$4:$S$8,B11),IF(AND(F11=\"Urlaub\",$K$9=2,A11>14),SUMIFS($U$12:$U$16,$S$12:$S$16,B11),IF(AND(F11=\"Urlaub\",$K$9=3,A11<15),SUMIFS($U$4:$U$8,$S$4:$S$8,B11),IF(AND(F11=\"Urlaub\",$K$9=3,A11>14),SUMIFS($U$12:$U$16,$S$12:$S$16,B11),0)))))))*60)","v":0},null,{"$f":"IF(OR($O$3=\"\",$N$3=\"\",N11=\"\"),\"\",IF($O$9-SUM($N10:N$11)-N11<0,TEXT(-(($O$9-SUM($N10:N$11)-N11)/24),\"-[hh]:mm\"),TEXT(($O$9-SUM($N10:N$11)-N11)/24,\"[hh]:mm\")))","v":""},null,{"$f":"IF(AND(D11=\"\",E11=\"\"),\"\",IF(((HOUR(E11)*60+MINUTE(E11))-(HOUR(D11)*60+MINUTE(D11)))>360,TEXT(((((HOUR(E11)*60+MINUTE(E11))-(HOUR(D11)*60+MINUTE(D11)))-30)/60)/24,\"[h]:mm\"),TEXT((((HOUR(E11)*60+MINUTE(E11))-(HOUR(D11)*60+MINUTE(D11)))/60)/24,\"[h]:mm\")))","v":""}]
[{"$f":"IF(OR(A11=\"\",$D$4=\"\"),\"\",IF(A11+1<=$C$6,A11+1,\"\"))","v":""},"",{"$f":"IF(OR($K$9=0,AND($K$9=2,A12<=14)),1,IF(IF(ISNA(INDEX(X!$W$7:$W$20,MATCH(DATE($D$4,$C$4,A12),X!$AC$7:$AC$20,0))),1,2)=2,2,IF(OR(B12=\"Sa\",B12=\"So\"),2,IF($K$9=1,SUMIFS($R$4:$R$8,$S$4:$S$8,B12),IF(AND($K$9=2,A12<15),SUMIFS($R$4:$R$8,$S$4:$S$8,B12),IF(AND($K$9=2,A12>14),SUMIFS($R$12:$R$16,$S$12:$S$16,B12),IF(AND($K$9=3,A12>14),SUMIFS($R$12:$R$16,$S$12:$S$16,B12),IF(AND($K$9=3,A12<15),SUMIFS($R$4:$R$8,$S$4:$S$8,B12),1))))))))","v":1},null,null,null,"","",{"$f":"IF($K$9>0,IF(SUM($K$11:$K12,$I$6)<0,TEXT(-(SUM($K$11:K12,$I$6)/60)/24,\"-[h]:mm\"),TEXT((SUM($K$11:K12,$I$6)/60)/24,\"[h]:mm\")),\"\")","v":""},null,{"$f":"IF(F12=\"\",IF(L12<0,L12+IF(G12=\" \",0,IF(((HOUR(E12)*60+MINUTE(E12))-(HOUR(D12)*60+MINUTE(D12)))>360,(HOUR(E12)*60+MINUTE(E12))-(HOUR(D12)*60+MINUTE(D12))-30,(HOUR(E12)*60+MINUTE(E12))-(HOUR(D12)*60+MINUTE(D12)))),IF(Q12=\"\",\"\",(Q12*60)*24)),\"\")","v":""},{"$f":"IF(OR(F12=\"krank\",F12=\"Urlaub\",C12=1,C12=2),0,IF($K$9=1,IF(SUM($U$4:$U$8)=0,$H$9/5,INDEX($S$4:$U$8,MATCH(B12,$S$4:$S$8,0),3)),IF($K$9=2,IF(AND(A12>14,SUM($U$12:$U$16)=0),$I$9/5,INDEX($S$12:$U$16,MATCH(B12,$S$12:$S$16,0),3)),IF($K$9=3,IF(A12<15,IF(SUM($U$4:$U$8)=0,$H$9/5,INDEX($S$4:$U$8,MATCH(B12,$S$4:$S$8,0),3)),IF(SUM($U$12:$U$16)=0,$I$9/5,INDEX($S$12:$U$16,MATCH(B12,$S$12:$S$16,0),3)))))))*-60","v":0},0,null,{"$f":"IF(OR($O$3=\"\",$N$3=\"\",N12=\"\"),\"\",IF($O$9-SUM($N$11:N11)-N12<0,TEXT(-(($O$9-SUM($N$11:N11)-N12)/24),\"-[hh]:mm\"),TEXT(($O$9-SUM($N$11:N11)-N12)/24,\"[hh]:mm\")))","v":""},null,"",{"$f":"IF($K$9=0,1,IF($K$9=1,R4,IF(AND($K$9=3,OR(SUM($U$12:$U$16)=0,$U$1=\"nein\")),3,IF(AND($U$1=\"\",SUM($U$12:$U$16)>0,U12>=1,OR($K$9=3,$K$9=2)),4,1))))","v":1},"Mo",null,{"$f":"IF(AND(I9=0,H9=0),0,IF(OR($K$9=0,INDIRECT(\"'\"&TEXT(DATE(D4,$C$4-1,1),\"MMM\")&\"'!$U$1\")=\"nein\",$U$1=\"nein\"),0,IF(T12>0,T12,INDEX(Uebersicht!$BF$3:$BJ$14,$C$4,MATCH(S12,Uebersicht!$BF$2:$BJ$2,0)))))","v":0}]
[{"$f":"IF(OR(A12=\"\",$D$4=\"\"),\"\",IF(A12+1<=$C$6,A12+1,\"\"))","v":""},"",{"$f":"IF(OR($K$9=0,AND($K$9=2,A13<=14)),1,IF(IF(ISNA(INDEX(X!$W$7:$W$20,MATCH(DATE($D$4,$C$4,A13),X!$AC$7:$AC$20,0))),1,2)=2,2,IF(OR(B13=\"Sa\",B13=\"So\"),2,IF($K$9=1,SUMIFS($R$4:$R$8,$S$4:$S$8,B13),IF(AND($K$9=2,A13<15),SUMIFS($R$4:$R$8,$S$4:$S$8,B13),IF(AND($K$9=2,A13>14),SUMIFS($R$12:$R$16,$S$12:$S$16,B13),IF(AND($K$9=3,A13>14),SUMIFS($R$12:$R$16,$S$12:$S$16,B13),IF(AND($K$9=3,A13<15),SUMIFS($R$4:$R$8,$S$4:$S$8,B13),1))))))))","v":1},null,null,null,"","",{"$f":"IF($K$9>0,IF(SUM($K$11:$K13,$I$6)<0,TEXT(-(SUM($K$11:K13,$I$6)/60)/24,\"-[h]:mm\"),TEXT((SUM($K$11:K13,$I$6)/60)/24,\"[h]:mm\")),\"\")","v":""},null,"",0,0,null,{"$f":"IF(OR($O$3=\"\",$N$3=\"\",N13=\"\"),\"\",IF($O$9-SUM($N$11:N12)-N13<0,TEXT(-(($O$9-SUM($N$11:N12)-N13)/24),\"-[hh]:mm\"),TEXT(($O$9-SUM($N$11:N12)-N13)/24,\"[hh]:mm\")))","v":""},null,"",{"$f":"IF($K$9=0,1,IF($K$9=1,R5,IF(AND($K$9=3,OR(SUM($U$12:$U$16)=0,$U$1=\"nein\")),3,IF(AND($U$1=\"\",SUM($U$12:$U$16)>0,U13>=1,OR($K$9=3,$K$9=2)),4,1))))","v":1},"Di",null,{"$f":"IF(OR($K$9=0,INDIRECT(\"'\"&TEXT(DATE(D5,$C$4-1,1),\"MMM\")&\"'!$U$1\")=\"nein\",$U$1=\"nein\"),0,IF(T13>0,T13,INDEX(Uebersicht!$BF$3:$BJ$14,$C$4,MATCH(S13,Uebersicht!$BF$2:$BJ$2,0))))","v":0}]
["","",{"$f":"IF(OR($K$9=0,AND($K$9=2,A14<=14)),1,IF(IF(ISNA(INDEX(X!$W$7:$W$20,MATCH(DATE($D$4,$C$4,A14),X!$AC$7:$AC$20,0))),1,2)=2,2,IF(OR(B14=\"Sa\",B14=\"So\"),2,IF($K$9=1,SUMIFS($R$4:$R$8,$S$4:$S$8,B14),IF(AND($K$9=2,A14<15),SUMIFS($R$4:$R$8,$S$4:$S$8,B14),IF(AND($K$9=2,A14>14),SUMIFS($R$12:$R$16,$S$12:$S$16,B14),IF(AND($K$9=3,A14>14),SUMIFS($R$12:$R$16,$S$12:$S$16,B14),IF(AND($K$9=3,A14<15),SUMIFS($R$4:$R$8,$S$4:$S$8,B14),1))))))))","v":1},null,null,null,"","",{"$f":"IF($K$9>0,IF(SUM($K$11:$K14,$I$6)<0,TEXT(-(SUM($K$11:K14,$I$6)/60)/24,\"-[h]:mm\"),TEXT((SUM($K$11:K14,$I$6)/60)/24,\"[h]:mm\")),\"\")","v":""},null,"",0,0,null,{"$f":"IF(OR($O$3=\"\",$N$3=\"\",N14=\"\"),\"\",IF($O$9-SUM($N$11:N13)-N14<0,TEXT(-(($O$9-SUM($N$11:N13)-N14)/24),\"-[hh]:mm\"),TEXT(($O$9-SUM($N$11:N13)-N14)/24,\"[hh]:mm\")))","v":""},null,"",{"$f":"IF($K$9=0,1,IF($K$9=1,R6,IF(AND($K$9=3,OR(SUM($U$12:$U$16)=0,$U$1=\"nein\")),3,IF(AND($U$1=\"\",SUM($U$12:$U$16)>0,U14>=1,OR($K$9=3,$K$9=2)),4,1))))","v":1},"Mi",null,{"$f":"IF(OR($K$9=0,INDIRECT(\"'\"&TEXT(DATE(D6,$C$4-1,1),\"MMM\")&\"'!$U$1\")=\"nein\",$U$1=\"nein\"),0,IF(T14>0,T14,INDEX(Uebersicht!$BF$3:$BJ$14,$C$4,MATCH(S14,Uebersicht!$BF$2:$BJ$2,0))))","v":0}]
["","",{"$f":"IF(OR($K$9=0,AND($K$9=2,A15<=14)),1,IF(IF(ISNA(INDEX(X!$W$7:$W$20,MATCH(DATE($D$4,$C$4,A15),X!$AC$7:$AC$20,0))),1,2)=2,2,IF(OR(B15=\"Sa\",B15=\"So\"),2,IF($K$9=1,SUMIFS($R$4:$R$8,$S$4:$S$8,B15),IF(AND($K$9=2,A15<15),SUMIFS($R$4:$R$8,$S$4:$S$8,B15),IF(AND($K$9=2,A15>14),SUMIFS($R$12:$R$16,$S$12:$S$16,B15),IF(AND($K$9=3,A15>14),SUMIFS($R$12:$R$16,$S$12:$S$16,B15),IF(AND($K$9=3,A15<15),SUMIFS($R$4:$R$8,$S$4:$S$8,B15),1))))))))","v":1},null,null,null,"","",{"$f":"IF($K$9>0,IF(SUM($K$11:$K15,$I$6)<0,TEXT(-(SUM($K$11:K15,$I$6)/60)/24,\"-[h]:mm\"),TEXT((SUM($K$11:K15,$I$6)/60)/24,\"[h]:mm\")),\"\")","v":""},null,"",0,0,null,{"$f":"IF(OR($O$3=\"\",$N$3=\"\",N15=\"\"),\"\",IF($O$9-SUM($N$11:N14)-N15<0,TEXT(-(($O$9-SUM($N$11:N14)-N15)/24),\"-[hh]:mm\"),TEXT(($O$9-SUM($N$11:N14)-N15)/24,\"[hh]:mm\")))","v":""},null,"",{"$f":"IF($K$9=0,1,IF($K$9=1,R7,IF(AND($K$9=3,OR(SUM($U$12:$U$16)=0,$U$1=\"nein\")),3,IF(AND($U$1=\"\",SUM($U$12:$U$16)>0,U15>=1,OR($K$9=3,$K$9=2)),4,1))))","v":1},"Do",null,{"$f":"IF(OR($K$9=0,INDIRECT(\"'\"&TEXT(DATE(D7,$C$4-1,1),\"MMM\")&\"'!$U$1\")=\"nein\",$U$1=\"nein\"),0,IF(T15>0,T15,INDEX(Uebersicht!$BF$3:$BJ$14,$C$4,MATCH(S15,Uebersicht!$BF$2:$BJ$2,0))))","v":0}]
["","",{"$f":"IF(OR($K$9=0,AND($K$9=2,A16<=14)),1,IF(IF(ISNA(INDEX(X!$W$7:$W$20,MATCH(DATE($D$4,$C$4,A16),X!$AC$7:$AC$20,0))),1,2)=2,2,IF(OR(B16=\"Sa\",B16=\"So\"),2,IF($K$9=1,SUMIFS($R$4:$R$8,$S$4:$S$8,B16),IF(AND($K$9=2,A16<15),SUMIFS($R$4:$R$8,$S$4:$S$8,B16),IF(AND($K$9=2,A16>14),SUMIFS($R$12:$R$16,$S$12:$S$16,B16),IF(AND($K$9=3,A16>14),SUMIFS($R$12:$R$16,$S$12:$S$16,B16),IF(AND($K$9=3,A16<15),SUMIFS($R$4:$R$8,$S$4:$S$8,B16),1))))))))","v":1},null,null,null,"","",{"$f":"IF($K$9>0,IF(SUM($K$11:$K16,$I$6)<0,TEXT(-(SUM($K$11:K16,$I$6)/60)/24,\"-[h]:mm\"),TEXT((SUM($K$11:K16,$I$6)/60)/24,\"[h]:mm\")),\"\")","v":""},null,"",0,0,null,{"$f":"IF(OR($O$3=\"\",$N$3=\"\",N16=\"\"),\"\",IF($O$9-SUM($N$11:N15)-N16<0,TEXT(-(($O$9-SUM($N$11:N15)-N16)/24),\"-[hh]:mm\"),TEXT(($O$9-SUM($N$11:N15)-N16)/24,\"[hh]:mm\")))","v":""},null,"",{"$f":"IF($K$9=0,1,IF($K$9=1,R8,IF(AND($K$9=3,OR(SUM($U$12:$U$16)=0,$U$1=\"nein\")),3,IF(AND($U$1=\"\",SUM($U$12:$U$16)>0,U16>=1,OR($K$9=3,$K$9=2)),4,1))))","v":1},"Fr",null,{"$f":"IF(OR($K$9=0,INDIRECT(\"'\"&TEXT(DATE(D8,$C$4-1,1),\"MMM\")&\"'!$U$1\")=\"nein\",$U$1=\"nein\"),0,IF(T16>0,T16,INDEX(Uebersicht!$BF$3:$BJ$14,$C$4,MATCH(S16,Uebersicht!$BF$2:$BJ$2,0))))","v":0}]
["","",{"$f":"IF(OR($K$9=0,AND($K$9=2,A17<=14)),1,IF(IF(ISNA(INDEX(X!$W$7:$W$20,MATCH(DATE($D$4,$C$4,A17),X!$AC$7:$AC$20,0))),1,2)=2,2,IF(OR(B17=\"Sa\",B17=\"So\"),2,IF($K$9=1,SUMIFS($R$4:$R$8,$S$4:$S$8,B17),IF(AND($K$9=2,A17<15),SUMIFS($R$4:$R$8,$S$4:$S$8,B17),IF(AND($K$9=2,A17>14),SUMIFS($R$12:$R$16,$S$12:$S$16,B17),IF(AND($K$9=3,A17>14),SUMIFS($R$12:$R$16,$S$12:$S$16,B17),IF(AND($K$9=3,A17<15),SUMIFS($R$4:$R$8,$S$4:$S$8,B17),1))))))))","v":1},null,null,null,"","",{"$f":"IF($K$9>0,IF(SUM($K$11:$K17,$I$6)<0,TEXT(-(SUM($K$11:K17,$I$6)/60)/24,\"-[h]:mm\"),TEXT((SUM($K$11:K17,$I$6)/60)/24,\"[h]:mm\")),\"\")","v":""},null,"",0,0,null,{"$f":"IF(OR($O$3=\"\",$N$3=\"\",N17=\"\"),\"\",IF($O$9-SUM($N$11:N16)-N17<0,TEXT(-(($O$9-SUM($N$11:N16)-N17)/24),\"-[hh]:mm\"),TEXT(($O$9-SUM($N$11:N16)-N17)/24,\"[hh]:mm\")))","v":""},null,"",null,{"$f":"IF(I9=0,\"\",IF(SUM(U12:U16)>I9,\"zu viel!\",IF(SUM(U12:U16)<I9,\"zu wenig!\",\"\")))","v":""},null,{"$f":"IF(OR(U9=\"nein\",SUM(U12:U16)=0),\"ja\",IF(OR(SUM(Uebersicht!C43:C47)>0,SUM(T12:T16)>0,SUM(U12:U16)>0),\"nein\",\"ja\"))","v":"ja"}]
["","",{"$f":"IF(OR($K$9=0,AND($K$9=2,A18<=14)),1,IF(IF(ISNA(INDEX(X!$W$7:$W$20,MATCH(DATE($D$4,$C$4,A18),X!$AC$7:$AC$20,0))),1,2)=2,2,IF(OR(B18=\"Sa\",B18=\"So\"),2,IF($K$9=1,SUMIFS($R$4:$R$8,$S$4:$S$8,B18),IF(AND($K$9=2,A18<15),SUMIFS($R$4:$R$8,$S$4:$S$8,B18),IF(AND($K$9=2,A18>14),SUMIFS($R$12:$R$16,$S$12:$S$16,B18),IF(AND($K$9=3,A18>14),SUMIFS($R$12:$R$16,$S$12:$S$16,B18),IF(AND($K$9=3,A18<15),SUMIFS($R$4:$R$8,$S$4:$S$8,B18),1))))))))","v":1},null,null,null,"","",{"$f":"IF($K$9>0,IF(SUM($K$11:$K18,$I$6)<0,TEXT(-(SUM($K$11:K18,$I$6)/60)/24,\"-[h]:mm\"),TEXT((SUM($K$11:K18,$I$6)/60)/24,\"[h]:mm\")),\"\")","v":""},null,"",0,0,null,{"$f":"IF(OR($O$3=\"\",$N$3=\"\",N18=\"\"),\"\",IF($O$9-SUM($N$11:N17)-N18<0,TEXT(-(($O$9-SUM($N$11:N17)-N18)/24),\"-[hh]:mm\"),TEXT(($O$9-SUM($N$11:N17)-N18)/24,\"[hh]:mm\")))","v":""},null,""]
["","",{"$f":"IF(OR($K$9=0,AND($K$9=2,A19<=14)),1,IF(IF(ISNA(INDEX(X!$W$7:$W$20,MATCH(DATE($D$4,$C$4,A19),X!$AC$7:$AC$20,0))),1,2)=2,2,IF(OR(B19=\"Sa\",B19=\"So\"),2,IF($K$9=1,SUMIFS($R$4:$R$8,$S$4:$S$8,B19),IF(AND($K$9=2,A19<15),SUMIFS($R$4:$R$8,$S$4:$S$8,B19),IF(AND($K$9=2,A19>14),SUMIFS($R$12:$R$16,$S$12:$S$16,B19),IF(AND($K$9=3,A19>14),SUMIFS($R$12:$R$16,$S$12:$S$16,B19),IF(AND($K$9=3,A19<15),SUMIFS($R$4:$R$8,$S$4:$S$8,B19),1))))))))","v":1},null,null,null,"","",{"$f":"IF($K$9>0,IF(SUM($K$11:$K19,$I$6)<0,TEXT(-(SUM($K$11:K19,$I$6)/60)/24,\"-[h]:mm\"),TEXT((SUM($K$11:K19,$I$6)/60)/24,\"[h]:mm\")),\"\")","v":""},null,"",0,0,null,{"$f":"IF(OR($O$3=\"\",$N$3=\"\",N19=\"\"),\"\",IF($O$9-SUM($N$11:N18)-N19<0,TEXT(-(($O$9-SUM($N$11:N18)-N19)/24),\"-[hh]:mm\"),TEXT(($O$9-SUM($N$11:N18)-N19)/24,\"[hh]:mm\")))","v":""},null,""]
["","",{"$f":"IF(OR($K$9=0,AND($K$9=2,A20<=14)),1,IF(IF(ISNA(INDEX(X!$W$7:$W$20,MATCH(DATE($D$4,$C$4,A20),X!$AC$7:$AC$20,0))),1,2)=2,2,IF(OR(B20=\"Sa\",B20=\"So\"),2,IF($K$9=1,SUMIFS($R$4:$R$8,$S$4:$S$8,B20),IF(AND($K$9=2,A20<15),SUMIFS($R$4:$R$8,$S$4:$S$8,B20),IF(AND($K$9=2,A20>14),SUMIFS($R$12:$R$16,$S$12:$S$16,B20),IF(AND($K$9=3,A20>14),SUMIFS($R$12:$R$16,$S$12:$S$16,B20),IF(AND($K$9=3,A20<15),SUMIFS($R$4:$R$8,$S$4:$S$8,B20),1))))))))","v":1},null,null,null,"","",{"$f":"IF($K$9>0,IF(SUM($K$11:$K20,$I$6)<0,TEXT(-(SUM($K$11:K20,$I$6)/60)/24,\"-[h]:mm\"),TEXT((SUM($K$11:K20,$I$6)/60)/24,\"[h]:mm\")),\"\")","v":""},null,"",0,0,null,{"$f":"IF(OR($O$3=\"\",$N$3=\"\",N20=\"\"),\"\",IF($O$9-SUM($N$11:N19)-N20<0,TEXT(-(($O$9-SUM($N$11:N19)-N20)/24),\"-[hh]:mm\"),TEXT(($O$9-SUM($N$11:N19)-N20)/24,\"[hh]:mm\")))","v":""},null,""]
["","",{"$f":"IF(OR($K$9=0,AND($K$9=2,A21<=14)),1,IF(IF(ISNA(INDEX(X!$W$7:$W$20,MATCH(DATE($D$4,$C$4,A21),X!$AC$7:$AC$20,0))),1,2)=2,2,IF(OR(B21=\"Sa\",B21=\"So\"),2,IF($K$9=1,SUMIFS($R$4:$R$8,$S$4:$S$8,B21),IF(AND($K$9=2,A21<15),SUMIFS($R$4:$R$8,$S$4:$S$8,B21),IF(AND($K$9=2,A21>14),SUMIFS($R$12:$R$16,$S$12:$S$16,B21),IF(AND($K$9=3,A21>14),SUMIFS($R$12:$R$16,$S$12:$S$16,B21),IF(AND($K$9=3,A21<15),SUMIFS($R$4:$R$8,$S$4:$S$8,B21),1))))))))","v":1},null,null,null,"","",{"$f":"IF($K$9>0,IF(SUM($K$11:$K21,$I$6)<0,TEXT(-(SUM($K$11:K21,$I$6)/60)/24,\"-[h]:mm\"),TEXT((SUM($K$11:K21,$I$6)/60)/24,\"[h]:mm\")),\"\")","v":""},null,"",0,0,null,{"$f":"IF(OR($O$3=\"\",$N$3=\"\",N21=\"\"),\"\",IF($O$9-SUM($N$11:N20)-N21<0,TEXT(-(($O$9-SUM($N$11:N20)-N21)/24),\"-[hh]:mm\"),TEXT(($O$9-SUM($N$11:N20)-N21)/24,\"[hh]:mm\")))","v":""},null,""]
["","",{"$f":"IF(OR($K$9=0,AND($K$9=2,A22<=14)),1,IF(IF(ISNA(INDEX(X!$W$7:$W$20,MATCH(DATE($D$4,$C$4,A22),X!$AC$7:$AC$20,0))),1,2)=2,2,IF(OR(B22=\"Sa\",B22=\"So\"),2,IF($K$9=1,SUMIFS($R$4:$R$8,$S$4:$S$8,B22),IF(AND($K$9=2,A22<15),SUMIFS($R$4:$R$8,$S$4:$S$8,B22),IF(AND($K$9=2,A22>14),SUMIFS($R$12:$R$16,$S$12:$S$16,B22),IF(AND($K$9=3,A22>14),SUMIFS($R$12:$R$16,$S$12:$S$16,B22),IF(AND($K$9=3,A22<15),SUMIFS($R$4:$R$8,$S$4:$S$8,B22),1))))))))","v":1},null,null,null,"","",{"$f":"IF($K$9>0,IF(SUM($K$11:$K22,$I$6)<0,TEXT(-(SUM($K$11:K22,$I$6)/60)/24,\"-[h]:mm\"),TEXT((SUM($K$11:K22,$I$6)/60)/24,\"[h]:mm\")),\"\")","v":""},null,"",0,0,null,{"$f":"IF(OR($O$3=\"\",$N$3=\"\",N22=\"\"),\"\",IF($O$9-SUM($N$11:N21)-N22<0,TEXT(-(($O$9-SUM($N$11:N21)-N22)/24),\"-[hh]:mm\"),TEXT(($O$9-SUM($N$11:N21)-N22)/24,\"[hh]:mm\")))","v":""},null,""]
["","",{"$f":"IF(OR($K$9=0,AND($K$9=2,A23<=14)),1,IF(IF(ISNA(INDEX(X!$W$7:$W$20,MATCH(DATE($D$4,$C$4,A23),X!$AC$7:$AC$20,0))),1,2)=2,2,IF(OR(B23=\"Sa\",B23=\"So\"),2,IF($K$9=1,SUMIFS($R$4:$R$8,$S$4:$S$8,B23),IF(AND($K$9=2,A23<15),SUMIFS($R$4:$R$8,$S$4:$S$8,B23),IF(AND($K$9=2,A23>14),SUMIFS($R$12:$R$16,$S$12:$S$16,B23),IF(AND($K$9=3,A23>14),SUMIFS($R$12:$R$16,$S$12:$S$16,B23),IF(AND($K$9=3,A23<15),SUMIFS($R$4:$R$8,$S$4:$S$8,B23),1))))))))","v":1},null,null,null,"","",{"$f":"IF($K$9>0,IF(SUM($K$11:$K23,$I$6)<0,TEXT(-(SUM($K$11:K23,$I$6)/60)/24,\"-[h]:mm\"),TEXT((SUM($K$11:K23,$I$6)/60)/24,\"[h]:mm\")),\"\")","v":""},null,"",0,0,null,{"$f":"IF(OR($O$3=\"\",$N$3=\"\",N23=\"\"),\"\",IF($O$9-SUM($N$11:N22)-N23<0,TEXT(-(($O$9-SUM($N$11:N22)-N23)/24),\"-[hh]:mm\"),TEXT(($O$9-SUM($N$11:N22)-N23)/24,\"[hh]:mm\")))","v":""},null,""]
["","",{"$f":"IF(OR($K$9=0,AND($K$9=2,A24<=14)),1,IF(IF(ISNA(INDEX(X!$W$7:$W$20,MATCH(DATE($D$4,$C$4,A24),X!$AC$7:$AC$20,0))),1,2)=2,2,IF(OR(B24=\"Sa\",B24=\"So\"),2,IF($K$9=1,SUMIFS($R$4:$R$8,$S$4:$S$8,B24),IF(AND($K$9=2,A24<15),SUMIFS($R$4:$R$8,$S$4:$S$8,B24),IF(AND($K$9=2,A24>14),SUMIFS($R$12:$R$16,$S$12:$S$16,B24),IF(AND($K$9=3,A24>14),SUMIFS($R$12:$R$16,$S$12:$S$16,B24),IF(AND($K$9=3,A24<15),SUMIFS($R$4:$R$8,$S$4:$S$8,B24),1))))))))","v":1},null,null,null,"","",{"$f":"IF($K$9>0,IF(SUM($K$11:$K24,$I$6)<0,TEXT(-(SUM($K$11:K24,$I$6)/60)/24,\"-[h]:mm\"),TEXT((SUM($K$11:K24,$I$6)/60)/24,\"[h]:mm\")),\"\")","v":""},null,"",0,0,null,{"$f":"IF(OR($O$3=\"\",$N$3=\"\",N24=\"\"),\"\",IF($O$9-SUM($N$11:N23)-N24<0,TEXT(-(($O$9-SUM($N$11:N23)-N24)/24),\"-[hh]:mm\"),TEXT(($O$9-SUM($N$11:N23)-N24)/24,\"[hh]:mm\")))","v":""},null,""]
["","",{"$f":"IF(OR($K$9=0,AND($K$9=2,A25<=14)),1,IF(IF(ISNA(INDEX(X!$W$7:$W$20,MATCH(DATE($D$4,$C$4,A25),X!$AC$7:$AC$20,0))),1,2)=2,2,IF(OR(B25=\"Sa\",B25=\"So\"),2,IF($K$9=1,SUMIFS($R$4:$R$8,$S$4:$S$8,B25),IF(AND($K$9=2,A25<15),SUMIFS($R$4:$R$8,$S$4:$S$8,B25),IF(AND($K$9=2,A25>14),SUMIFS($R$12:$R$16,$S$12:$S$16,B25),IF(AND($K$9=3,A25>14),SUMIFS($R$12:$R$16,$S$12:$S$16,B25),IF(AND($K$9=3,A25<15),SUMIFS($R$4:$R$8,$S$4:$S$8,B25),1))))))))","v":1},null,null,null,"","",{"$f":"IF($K$9>0,IF(SUM($K$11:$K25,$I$6)<0,TEXT(-(SUM($K$11:K25,$I$6)/60)/24,\"-[h]:mm\"),TEXT((SUM($K$11:K25,$I$6)/60)/24,\"[h]:mm\")),\"\")","v":""},null,"",0,0,null,{"$f":"IF(OR($O$3=\"\",$N$3=\"\",N25=\"\"),\"\",IF($O$9-SUM($N$11:N24)-N25<0,TEXT(-(($O$9-SUM($N$11:N24)-N25)/24),\"-[hh]:mm\"),TEXT(($O$9-SUM($N$11:N24)-N25)/24,\"[hh]:mm\")))","v":""},null,""]
["","",{"$f":"IF(OR($K$9=0,AND($K$9=2,A26<=14)),1,IF(IF(ISNA(INDEX(X!$W$7:$W$20,MATCH(DATE($D$4,$C$4,A26),X!$AC$7:$AC$20,0))),1,2)=2,2,IF(OR(B26=\"Sa\",B26=\"So\"),2,IF($K$9=1,SUMIFS($R$4:$R$8,$S$4:$S$8,B26),IF(AND($K$9=2,A26<15),SUMIFS($R$4:$R$8,$S$4:$S$8,B26),IF(AND($K$9=2,A26>14),SUMIFS($R$12:$R$16,$S$12:$S$16,B26),IF(AND($K$9=3,A26>14),SUMIFS($R$12:$R$16,$S$12:$S$16,B26),IF(AND($K$9=3,A26<15),SUMIFS($R$4:$R$8,$S$4:$S$8,B26),1))))))))","v":1},null,null,null,"","",{"$f":"IF($K$9>0,IF(SUM($K$11:$K26,$I$6)<0,TEXT(-(SUM($K$11:K26,$I$6)/60)/24,\"-[h]:mm\"),TEXT((SUM($K$11:K26,$I$6)/60)/24,\"[h]:mm\")),\"\")","v":""},null,"",0,0,null,{"$f":"IF(OR($O$3=\"\",$N$3=\"\",N26=\"\"),\"\",IF($O$9-SUM($N$11:N25)-N26<0,TEXT(-(($O$9-SUM($N$11:N25)-N26)/24),\"-[hh]:mm\"),TEXT(($O$9-SUM($N$11:N25)-N26)/24,\"[hh]:mm\")))","v":""},null,""]
["","",{"$f":"IF(OR($K$9=0,AND($K$9=2,A27<=14)),1,IF(IF(ISNA(INDEX(X!$W$7:$W$20,MATCH(DATE($D$4,$C$4,A27),X!$AC$7:$AC$20,0))),1,2)=2,2,IF(OR(B27=\"Sa\",B27=\"So\"),2,IF($K$9=1,SUMIFS($R$4:$R$8,$S$4:$S$8,B27),IF(AND($K$9=2,A27<15),SUMIFS($R$4:$R$8,$S$4:$S$8,B27),IF(AND($K$9=2,A27>14),SUMIFS($R$12:$R$16,$S$12:$S$16,B27),IF(AND($K$9=3,A27>14),SUMIFS($R$12:$R$16,$S$12:$S$16,B27),IF(AND($K$9=3,A27<15),SUMIFS($R$4:$R$8,$S$4:$S$8,B27),1))))))))","v":1},null,null,null,"","",{"$f":"IF($K$9>0,IF(SUM($K$11:$K27,$I$6)<0,TEXT(-(SUM($K$11:K27,$I$6)/60)/24,\"-[h]:mm\"),TEXT((SUM($K$11:K27,$I$6)/60)/24,\"[h]:mm\")),\"\")","v":""},null,"",0,0,null,{"$f":"IF(OR($O$3=\"\",$N$3=\"\",N27=\"\"),\"\",IF($O$9-SUM($N$11:N26)-N27<0,TEXT(-(($O$9-SUM($N$11:N26)-N27)/24),\"-[hh]:mm\"),TEXT(($O$9-SUM($N$11:N26)-N27)/24,\"[hh]:mm\")))","v":""},null,""]
["","",{"$f":"IF(OR($K$9=0,AND($K$9=2,A28<=14)),1,IF(IF(ISNA(INDEX(X!$W$7:$W$20,MATCH(DATE($D$4,$C$4,A28),X!$AC$7:$AC$20,0))),1,2)=2,2,IF(OR(B28=\"Sa\",B28=\"So\"),2,IF($K$9=1,SUMIFS($R$4:$R$8,$S$4:$S$8,B28),IF(AND($K$9=2,A28<15),SUMIFS($R$4:$R$8,$S$4:$S$8,B28),IF(AND($K$9=2,A28>14),SUMIFS($R$12:$R$16,$S$12:$S$16,B28),IF(AND($K$9=3,A28>14),SUMIFS($R$12:$R$16,$S$12:$S$16,B28),IF(AND($K$9=3,A28<15),SUMIFS($R$4:$R$8,$S$4:$S$8,B28),1))))))))","v":1},null,null,null,"","",{"$f":"IF($K$9>0,IF(SUM($K$11:$K28,$I$6)<0,TEXT(-(SUM($K$11:K28,$I$6)/60)/24,\"-[h]:mm\"),TEXT((SUM($K$11:K28,$I$6)/60)/24,\"[h]:mm\")),\"\")","v":""},null,"",0,0,null,{"$f":"IF(OR($O$3=\"\",$N$3=\"\",N28=\"\"),\"\",IF($O$9-SUM($N$11:N27)-N28<0,TEXT(-(($O$9-SUM($N$11:N27)-N28)/24),\"-[hh]:mm\"),TEXT(($O$9-SUM($N$11:N27)-N28)/24,\"[hh]:mm\")))","v":""},null,""]
["","",{"$f":"IF(OR($K$9=0,AND($K$9=2,A29<=14)),1,IF(IF(ISNA(INDEX(X!$W$7:$W$20,MATCH(DATE($D$4,$C$4,A29),X!$AC$7:$AC$20,0))),1,2)=2,2,IF(OR(B29=\"Sa\",B29=\"So\"),2,IF($K$9=1,SUMIFS($R$4:$R$8,$S$4:$S$8,B29),IF(AND($K$9=2,A29<15),SUMIFS($R$4:$R$8,$S$4:$S$8,B29),IF(AND($K$9=2,A29>14),SUMIFS($R$12:$R$16,$S$12:$S$16,B29),IF(AND($K$9=3,A29>14),SUMIFS($R$12:$R$16,$S$12:$S$16,B29),IF(AND($K$9=3,A29<15),SUMIFS($R$4:$R$8,$S$4:$S$8,B29),1))))))))","v":1},null,null,null,"","",{"$f":"IF($K$9>0,IF(SUM($K$11:$K29,$I$6)<0,TEXT(-(SUM($K$11:K29,$I$6)/60)/24,\"-[h]:mm\"),TEXT((SUM($K$11:K29,$I$6)/60)/24,\"[h]:mm\")),\"\")","v":""},null,"",0,0,null,{"$f":"IF(OR($O$3=\"\",$N$3=\"\",N29=\"\"),\"\",IF($O$9-SUM($N$11:N28)-N29<0,TEXT(-(($O$9-SUM($N$11:N28)-N29)/24),\"-[hh]:mm\"),TEXT(($O$9-SUM($N$11:N28)-N29)/24,\"[hh]:mm\")))","v":""},null,""]
["","",{"$f":"IF(OR($K$9=0,AND($K$9=2,A30<=14)),1,IF(IF(ISNA(INDEX(X!$W$7:$W$20,MATCH(DATE($D$4,$C$4,A30),X!$AC$7:$AC$20,0))),1,2)=2,2,IF(OR(B30=\"Sa\",B30=\"So\"),2,IF($K$9=1,SUMIFS($R$4:$R$8,$S$4:$S$8,B30),IF(AND($K$9=2,A30<15),SUMIFS($R$4:$R$8,$S$4:$S$8,B30),IF(AND($K$9=2,A30>14),SUMIFS($R$12:$R$16,$S$12:$S$16,B30),IF(AND($K$9=3,A30>14),SUMIFS($R$12:$R$16,$S$12:$S$16,B30),IF(AND($K$9=3,A30<15),SUMIFS($R$4:$R$8,$S$4:$S$8,B30),1))))))))","v":1},null,null,null,"","",{"$f":"IF($K$9>0,IF(SUM($K$11:$K30,$I$6)<0,TEXT(-(SUM($K$11:K30,$I$6)/60)/24,\"-[h]:mm\"),TEXT((SUM($K$11:K30,$I$6)/60)/24,\"[h]:mm\")),\"\")","v":""},null,"",0,0,null,{"$f":"IF(OR($O$3=\"\",$N$3=\"\",N30=\"\"),\"\",IF($O$9-SUM($N$11:N29)-N30<0,TEXT(-(($O$9-SUM($N$11:N29)-N30)/24),\"-[hh]:mm\"),TEXT(($O$9-SUM($N$11:N29)-N30)/24,\"[hh]:mm\")))","v":""},null,""]
["","",{"$f":"IF(OR($K$9=0,AND($K$9=2,A31<=14)),1,IF(IF(ISNA(INDEX(X!$W$7:$W$20,MATCH(DATE($D$4,$C$4,A31),X!$AC$7:$AC$20,0))),1,2)=2,2,IF(OR(B31=\"Sa\",B31=\"So\"),2,IF($K$9=1,SUMIFS($R$4:$R$8,$S$4:$S$8,B31),IF(AND($K$9=2,A31<15),SUMIFS($R$4:$R$8,$S$4:$S$8,B31),IF(AND($K$9=2,A31>14),SUMIFS($R$12:$R$16,$S$12:$S$16,B31),IF(AND($K$9=3,A31>14),SUMIFS($R$12:$R$16,$S$12:$S$16,B31),IF(AND($K$9=3,A31<15),SUMIFS($R$4:$R$8,$S$4:$S$8,B31),1))))))))","v":1},null,null,null,"","",{"$f":"IF($K$9>0,IF(SUM($K$11:$K31,$I$6)<0,TEXT(-(SUM($K$11:K31,$I$6)/60)/24,\"-[h]:mm\"),TEXT((SUM($K$11:K31,$I$6)/60)/24,\"[h]:mm\")),\"\")","v":""},null,"",0,0,null,{"$f":"IF(OR($O$3=\"\",$N$3=\"\",N31=\"\"),\"\",IF($O$9-SUM($N$11:N30)-N31<0,TEXT(-(($O$9-SUM($N$11:N30)-N31)/24),\"-[hh]:mm\"),TEXT(($O$9-SUM($N$11:N30)-N31)/24,\"[hh]:mm\")))","v":""},null,""]
["","",{"$f":"IF(OR($K$9=0,AND($K$9=2,A32<=14)),1,IF(IF(ISNA(INDEX(X!$W$7:$W$20,MATCH(DATE($D$4,$C$4,A32),X!$AC$7:$AC$20,0))),1,2)=2,2,IF(OR(B32=\"Sa\",B32=\"So\"),2,IF($K$9=1,SUMIFS($R$4:$R$8,$S$4:$S$8,B32),IF(AND($K$9=2,A32<15),SUMIFS($R$4:$R$8,$S$4:$S$8,B32),IF(AND($K$9=2,A32>14),SUMIFS($R$12:$R$16,$S$12:$S$16,B32),IF(AND($K$9=3,A32>14),SUMIFS($R$12:$R$16,$S$12:$S$16,B32),IF(AND($K$9=3,A32<15),SUMIFS($R$4:$R$8,$S$4:$S$8,B32),1))))))))","v":1},null,null,null,"","",{"$f":"IF($K$9>0,IF(SUM($K$11:$K32,$I$6)<0,TEXT(-(SUM($K$11:K32,$I$6)/60)/24,\"-[h]:mm\"),TEXT((SUM($K$11:K32,$I$6)/60)/24,\"[h]:mm\")),\"\")","v":""},null,"",0,0,null,{"$f":"IF(OR($O$3=\"\",$N$3=\"\",N32=\"\"),\"\",IF($O$9-SUM($N$11:N31)-N32<0,TEXT(-(($O$9-SUM($N$11:N31)-N32)/24),\"-[hh]:mm\"),TEXT(($O$9-SUM($N$11:N31)-N32)/24,\"[hh]:mm\")))","v":""},null,""]
["","",{"$f":"IF(OR($K$9=0,AND($K$9=2,A33<=14)),1,IF(IF(ISNA(INDEX(X!$W$7:$W$20,MATCH(DATE($D$4,$C$4,A33),X!$AC$7:$AC$20,0))),1,2)=2,2,IF(OR(B33=\"Sa\",B33=\"So\"),2,IF($K$9=1,SUMIFS($R$4:$R$8,$S$4:$S$8,B33),IF(AND($K$9=2,A33<15),SUMIFS($R$4:$R$8,$S$4:$S$8,B33),IF(AND($K$9=2,A33>14),SUMIFS($R$12:$R$16,$S$12:$S$16,B33),IF(AND($K$9=3,A33>14),SUMIFS($R$12:$R$16,$S$12:$S$16,B33),IF(AND($K$9=3,A33<15),SUMIFS($R$4:$R$8,$S$4:$S$8,B33),1))))))))","v":1},null,null,null,"","",{"$f":"IF($K$9>0,IF(SUM($K$11:$K33,$I$6)<0,TEXT(-(SUM($K$11:K33,$I$6)/60)/24,\"-[h]:mm\"),TEXT((SUM($K$11:K33,$I$6)/60)/24,\"[h]:mm\")),\"\")","v":""},null,"",0,0,null,{"$f":"IF(OR($O$3=\"\",$N$3=\"\",N33=\"\"),\"\",IF($O$9-SUM($N$11:N32)-N33<0,TEXT(-(($O$9-SUM($N$11:N32)-N33)/24),\"-[hh]:mm\"),TEXT(($O$9-SUM($N$11:N32)-N33)/24,\"[hh]:mm\")))","v":""},null,""]
["","",{"$f":"IF(OR($K$9=0,AND($K$9=2,A34<=14)),1,IF(IF(ISNA(INDEX(X!$W$7:$W$20,MATCH(DATE($D$4,$C$4,A34),X!$AC$7:$AC$20,0))),1,2)=2,2,IF(OR(B34=\"Sa\",B34=\"So\"),2,IF($K$9=1,SUMIFS($R$4:$R$8,$S$4:$S$8,B34),IF(AND($K$9=2,A34<15),SUMIFS($R$4:$R$8,$S$4:$S$8,B34),IF(AND($K$9=2,A34>14),SUMIFS($R$12:$R$16,$S$12:$S$16,B34),IF(AND($K$9=3,A34>14),SUMIFS($R$12:$R$16,$S$12:$S$16,B34),IF(AND($K$9=3,A34<15),SUMIFS($R$4:$R$8,$S$4:$S$8,B34),1))))))))","v":1},null,null,null,"","",{"$f":"IF($K$9>0,IF(SUM($K$11:$K34,$I$6)<0,TEXT(-(SUM($K$11:K34,$I$6)/60)/24,\"-[h]:mm\"),TEXT((SUM($K$11:K34,$I$6)/60)/24,\"[h]:mm\")),\"\")","v":""},null,"",0,0,null,{"$f":"IF(OR($O$3=\"\",$N$3=\"\",N34=\"\"),\"\",IF($O$9-SUM($N$11:N33)-N34<0,TEXT(-(($O$9-SUM($N$11:N33)-N34)/24),\"-[hh]:mm\"),TEXT(($O$9-SUM($N$11:N33)-N34)/24,\"[hh]:mm\")))","v":""},null,""]
["","",{"$f":"IF(OR($K$9=0,AND($K$9=2,A35<=14)),1,IF(IF(ISNA(INDEX(X!$W$7:$W$20,MATCH(DATE($D$4,$C$4,A35),X!$AC$7:$AC$20,0))),1,2)=2,2,IF(OR(B35=\"Sa\",B35=\"So\"),2,IF($K$9=1,SUMIFS($R$4:$R$8,$S$4:$S$8,B35),IF(AND($K$9=2,A35<15),SUMIFS($R$4:$R$8,$S$4:$S$8,B35),IF(AND($K$9=2,A35>14),SUMIFS($R$12:$R$16,$S$12:$S$16,B35),IF(AND($K$9=3,A35>14),SUMIFS($R$12:$R$16,$S$12:$S$16,B35),IF(AND($K$9=3,A35<15),SUMIFS($R$4:$R$8,$S$4:$S$8,B35),1))))))))","v":1},null,null,null,"","",{"$f":"IF($K$9>0,IF(SUM($K$11:$K35,$I$6)<0,TEXT(-(SUM($K$11:K35,$I$6)/60)/24,\"-[h]:mm\"),TEXT((SUM($K$11:K35,$I$6)/60)/24,\"[h]:mm\")),\"\")","v":""},null,"",0,0,null,{"$f":"IF(OR($O$3=\"\",$N$3=\"\",N35=\"\"),\"\",IF($O$9-SUM($N$11:N34)-N35<0,TEXT(-(($O$9-SUM($N$11:N34)-N35)/24),\"-[hh]:mm\"),TEXT(($O$9-SUM($N$11:N34)-N35)/24,\"[hh]:mm\")))","v":""},null,""]
["","",{"$f":"IF(OR($K$9=0,AND($K$9=2,A36<=14)),1,IF(IF(ISNA(INDEX(X!$W$7:$W$20,MATCH(DATE($D$4,$C$4,A36),X!$AC$7:$AC$20,0))),1,2)=2,2,IF(OR(B36=\"Sa\",B36=\"So\"),2,IF($K$9=1,SUMIFS($R$4:$R$8,$S$4:$S$8,B36),IF(AND($K$9=2,A36<15),SUMIFS($R$4:$R$8,$S$4:$S$8,B36),IF(AND($K$9=2,A36>14),SUMIFS($R$12:$R$16,$S$12:$S$16,B36),IF(AND($K$9=3,A36>14),SUMIFS($R$12:$R$16,$S$12:$S$16,B36),IF(AND($K$9=3,A36<15),SUMIFS($R$4:$R$8,$S$4:$S$8,B36),1))))))))","v":1},null,null,null,"","",{"$f":"IF($K$9>0,IF(SUM($K$11:$K36,$I$6)<0,TEXT(-(SUM($K$11:K36,$I$6)/60)/24,\"-[h]:mm\"),TEXT((SUM($K$11:K36,$I$6)/60)/24,\"[h]:mm\")),\"\")","v":""},null,"",0,0,null,{"$f":"IF(OR($O$3=\"\",$N$3=\"\",N36=\"\"),\"\",IF($O$9-SUM($N$11:N35)-N36<0,TEXT(-(($O$9-SUM($N$11:N35)-N36)/24),\"-[hh]:mm\"),TEXT(($O$9-SUM($N$11:N35)-N36)/24,\"[hh]:mm\")))","v":""},null,""]
["","",{"$f":"IF(OR($K$9=0,AND($K$9=2,A37<=14)),1,IF(IF(ISNA(INDEX(X!$W$7:$W$20,MATCH(DATE($D$4,$C$4,A37),X!$AC$7:$AC$20,0))),1,2)=2,2,IF(OR(B37=\"Sa\",B37=\"So\"),2,IF($K$9=1,SUMIFS($R$4:$R$8,$S$4:$S$8,B37),IF(AND($K$9=2,A37<15),SUMIFS($R$4:$R$8,$S$4:$S$8,B37),IF(AND($K$9=2,A37>14),SUMIFS($R$12:$R$16,$S$12:$S$16,B37),IF(AND($K$9=3,A37>14),SUMIFS($R$12:$R$16,$S$12:$S$16,B37),IF(AND($K$9=3,A37<15),SUMIFS($R$4:$R$8,$S$4:$S$8,B37),1))))))))","v":1},null,null,null,"","",{"$f":"IF($K$9>0,IF(SUM($K$11:$K37,$I$6)<0,TEXT(-(SUM($K$11:K37,$I$6)/60)/24,\"-[h]:mm\"),TEXT((SUM($K$11:K37,$I$6)/60)/24,\"[h]:mm\")),\"\")","v":""},null,"",0,0,null,{"$f":"IF(OR($O$3=\"\",$N$3=\"\",N37=\"\"),\"\",IF($O$9-SUM($N$11:N36)-N37<0,TEXT(-(($O$9-SUM($N$11:N36)-N37)/24),\"-[hh]:mm\"),TEXT(($O$9-SUM($N$11:N36)-N37)/24,\"[hh]:mm\")))","v":""},null,""]
["","",{"$f":"IF(OR($K$9=0,AND($K$9=2,A38<=14)),1,IF(IF(ISNA(INDEX(X!$W$7:$W$20,MATCH(DATE($D$4,$C$4,A38),X!$AC$7:$AC$20,0))),1,2)=2,2,IF(OR(B38=\"Sa\",B38=\"So\"),2,IF($K$9=1,SUMIFS($R$4:$R$8,$S$4:$S$8,B38),IF(AND($K$9=2,A38<15),SUMIFS($R$4:$R$8,$S$4:$S$8,B38),IF(AND($K$9=2,A38>14),SUMIFS($R$12:$R$16,$S$12:$S$16,B38),IF(AND($K$9=3,A38>14),SUMIFS($R$12:$R$16,$S$12:$S$16,B38),IF(AND($K$9=3,A38<15),SUMIFS($R$4:$R$8,$S$4:$S$8,B38),1))))))))","v":1},null,null,null,"","",{"$f":"IF($K$9>0,IF(SUM($K$11:$K38,$I$6)<0,TEXT(-(SUM($K$11:K38,$I$6)/60)/24,\"-[h]:mm\"),TEXT((SUM($K$11:K38,$I$6)/60)/24,\"[h]:mm\")),\"\")","v":""},null,"",0,0,null,{"$f":"IF(OR($O$3=\"\",$N$3=\"\",N38=\"\"),\"\",IF($O$9-SUM($N$11:N37)-N38<0,TEXT(-(($O$9-SUM($N$11:N37)-N38)/24),\"-[hh]:mm\"),TEXT(($O$9-SUM($N$11:N37)-N38)/24,\"[hh]:mm\")))","v":""},null,""]
["",{"$f":"IF(OR(A39=\"\",$D$4=\"\"),\"\",TEXT(DATE($D$4,$C$4,A39),\"ttt\"))","v":""},{"$f":"IF(OR($K$9=0,AND($K$9=2,A39<=14)),1,IF(IF(ISNA(INDEX(X!$W$7:$W$20,MATCH(DATE($D$4,$C$4,A39),X!$AC$7:$AC$20,0))),1,2)=2,2,IF(OR(B39=\"Sa\",B39=\"So\"),2,IF($K$9=1,SUMIFS($R$4:$R$8,$S$4:$S$8,B39),IF(AND($K$9=2,A39<15),SUMIFS($R$4:$R$8,$S$4:$S$8,B39),IF(AND($K$9=2,A39>14),SUMIFS($R$12:$R$16,$S$12:$S$16,B39),IF(AND($K$9=3,A39>14),SUMIFS($R$12:$R$16,$S$12:$S$16,B39),IF(AND($K$9=3,A39<15),SUMIFS($R$4:$R$8,$S$4:$S$8,B39),1))))))))","v":1},null,null,null,"","",{"$f":"IF($K$9>0,IF(SUM($K$11:$K39,$I$6)<0,TEXT(-(SUM($K$11:K39,$I$6)/60)/24,\"-[h]:mm\"),TEXT((SUM($K$11:K39,$I$6)/60)/24,\"[h]:mm\")),\"\")","v":""},null,"",0,0,null,{"$f":"IF(OR($O$3=\"\",$N$3=\"\",N39=\"\"),\"\",IF($O$9-SUM($N$11:N38)-N39<0,TEXT(-(($O$9-SUM($N$11:N38)-N39)/24),\"-[hh]:mm\"),TEXT(($O$9-SUM($N$11:N38)-N39)/24,\"[hh]:mm\")))","v":""},null,""]
["",{"$f":"IF(OR(A40=\"\",$D$4=\"\"),\"\",TEXT(DATE($D$4,$C$4,A40),\"ttt\"))","v":""},{"$f":"IF(OR($K$9=0,AND($K$9=2,A40<=14)),1,IF(IF(ISNA(INDEX(X!$W$7:$W$20,MATCH(DATE($D$4,$C$4,A40),X!$AC$7:$AC$20,0))),1,2)=2,2,IF(OR(B40=\"Sa\",B40=\"So\"),2,IF($K$9=1,SUMIFS($R$4:$R$8,$S$4:$S$8,B40),IF(AND($K$9=2,A40<15),SUMIFS($R$4:$R$8,$S$4:$S$8,B40),IF(AND($K$9=2,A40>14),SUMIFS($R$12:$R$16,$S$12:$S$16,B40),IF(AND($K$9=3,A40>14),SUMIFS($R$12:$R$16,$S$12:$S$16,B40),IF(AND($K$9=3,A40<15),SUMIFS($R$4:$R$8,$S$4:$S$8,B40),1))))))))","v":1},null,null,null,"","",{"$f":"IF($K$9>0,IF(SUM($K$11:$K40,$I$6)<0,TEXT(-(SUM($K$11:K40,$I$6)/60)/24,\"-[h]:mm\"),TEXT((SUM($K$11:K40,$I$6)/60)/24,\"[h]:mm\")),\"\")","v":""},null,"",0,0,null,{"$f":"IF(OR($O$3=\"\",$N$3=\"\",N40=\"\"),\"\",IF($O$9-SUM($N$11:N39)-N40<0,TEXT(-(($O$9-SUM($N$11:N39)-N40)/24),\"-[hh]:mm\"),TEXT(($O$9-SUM($N$11:N39)-N40)/24,\"[hh]:mm\")))","v":""},null,""]
["","",{"$f":"IF(OR($K$9=0,AND($K$9=2,A41<=14)),1,IF(IF(ISNA(INDEX(X!$W$7:$W$20,MATCH(DATE($D$4,$C$4,A41),X!$AC$7:$AC$20,0))),1,2)=2,2,IF(OR(B41=\"Sa\",B41=\"So\"),2,IF($K$9=1,SUMIFS($R$4:$R$8,$S$4:$S$8,B41),IF(AND($K$9=2,A41<15),SUMIFS($R$4:$R$8,$S$4:$S$8,B41),IF(AND($K$9=2,A41>14),SUMIFS($R$12:$R$16,$S$12:$S$16,B41),IF(AND($K$9=3,A41>14),SUMIFS($R$12:$R$16,$S$12:$S$16,B41),IF(AND($K$9=3,A41<15),SUMIFS($R$4:$R$8,$S$4:$S$8,B41),1))))))))","v":1},null,null,null,"","",{"$f":"IF($K$9>0,IF(SUM($K$11:$K41,$I$6)<0,TEXT(-(SUM($K$11:K41,$I$6)/60)/24,\"-[h]:mm\"),TEXT((SUM($K$11:K41,$I$6)/60)/24,\"[h]:mm\")),\"\")","v":""},null,"",0,0,null,{"$f":"IF(OR($O$3=\"\",$N$3=\"\",N41=\"\"),\"\",IF($O$9-SUM($N$11:N40)-N41<0,TEXT(-(($O$9-SUM($N$11:N40)-N41)/24),\"-[hh]:mm\"),TEXT(($O$9-SUM($N$11:N40)-N41)/24,\"[hh]:mm\")))","v":""},null,""]
[null,null,null,null,null,null,{"$f":"L42+K42","v":0},{"$f":"K42","v":0},null,null,{"$f":"SUM(K11:K41)","v":0},{"$f":"-SUM(L11:L41)","v":0},{"$f":"M41","v":0},{"$f":"SUM(N11:N41)*60","v":0},null,null,{"$f":"IF((G42/60)<0,TEXT(-((G42/60)/24),\"-[hh]:mm\"),TEXT((G42/60)/24,\"[hh]:mm\"))","v":"00:00"}]
[{"$f":"IF(G4=\"\",\"\",\"Ergebnis\")","v":""},null,null,null,null,null,{"$f":"IF(G4=\"\",0,IF(((G42-N42)/60)<0,TEXT(-(((G42-N42)/60)/24),\"-[hh]:mm\"),TEXT(((G42-N42)/60)/24,\"[hh]:mm\")))","v":0},{"$f":"IF(G4=0,\"\",IF(H42<0,TEXT(-((H42/60)/24),\"-[hh]:mm\"),IF((H42/60)>24,TEXT((((H42/60)-24)/24)+(24/24),\"[hh]:mm\"),(H42/60)/24)))","v":0},{"$f":"IF($K$9>0,IF(SUM(I6,K43)<0,TEXT(-(SUM(I6,K43)/60)/24,\"-[h]:mm\"),TEXT((SUM(I6,K43)/60)/24,\"[h]:mm\")),\"\")","v":""},null,{"$f":"IF(L42<>L43,G42-L43,K42)","v":0},{"$f":"IF(AND(K9=1,SUM(U4:U8)<>H9),((H9/5)*COUNTIFS(C11:C41,\"<>\"&2,F11:F41,\"\"))*60,IF(AND(K9=2,SUM(U12:U16)<>I9),((I9/5)*COUNTIFS(C11:C41,\"<>\"&2,F11:F41,\"\"))*60,IF(AND(K9=3,OR(SUM(U4:U8)<>H9,SUM(U12:U16)<>I9)),SUM(IF(SUM(U4:U8)<>H9,((H9/5)*COUNTIFS(C11:C41,\"<>\"&2,A11:A41,\"<\"&15,F11:F41,\"\"))*60,-SUMIFS(L11:L41,A11:A41,\"<\"&15,F11:F41,\"\")),IF(SUM(U12:U16)<>I9,((I9/5)*COUNTIFS(C11:C41,\"<>\"&2,A11:A41,\">\"&14,F11:F41,\"\"))*60,-SUMIFS(L11:L41,A11:A41,\">\"&14,F11:F41,\"\"))),-SUM(L11:L41))))","v":0},null,{"$f":"IF(N42<0,TEXT(-((N42/60)/24),\"-[hh]:mm\"),TEXT((N42/60)/24,\"[hh]:mm\"))","v":"00:00"},{"$f":"IF(O9-SUM(N11:N41)<0,TEXT(-(O9-SUM(N11:N41))/24,\"-[h]:mm\"),TEXT((O9-SUM(N11:N41))/24,\"[h]:mm\"))","v":{"$error":"#VALUE!"}},null,{"$f":"Q42","v":"00:00"}]
[{"$f":"IF(G4=\"\",\"\",\"Saldo / Übertrag:\")","v":""},null,null,null,null,null,null,null,{"$f":"I43","v":""},{"$f":"IF(K42<>K43,\"automatische Nachberechnung der Sollarbeitszeit, da wöchentlicher Stundenumfang nicht eingehalten wurde.\",\"\")","v":""},{"$f":"K43+I6","v":0},"Übertrag"]
[]
[{"$f":"IF(I46=\"\",\"\",\"Korrektur der Stunden\")","v":""},null,null,null,null,null,null,null,{"$f":"IF(K9>0,IF(K42-K43<>0,IF(K43-K42<0,TEXT(-((K43-K42)/60)/24,\"-[h]:mm\"),TEXT(((K43-K42)/60)/24,\"[h]:mm\")),\"\"),\"\")","v":""}]
[]
[]
["martinm"]
[]
[]
[]
[]
[]
[]
[]
[{"$f":"D4","v":""},{"$f":"C4","v":3},{"$f":"Uebersicht!A4","v":0},{"$f":"Uebersicht!B4","v":0},{"$f":"L43","v":0},{"$f":"K42","v":0},{"$f":"K43","v":0},{"$f":"M10","v":0},{"$f":"M42","v":0}]

{"sheet":"Apr","index":4,"n_rows":57,"n_cols":22,"rows_kept":57,"cut":false,"hidden":false,"merged":[[8,18,8,19],[9,18,9,20],[16,18,16,19],[42,0,42,5],[3,13,4,15],[5,13,5,15],[6,0,7,4],[6,5,7,5],[6,6,7,7],[6,8,7,8],[6,9,7,9],[6,13,7,15],[3,0,4,1],[3,2,4,2],[3,3,4,4],[3,5,4,5],[43,0,44,7],[43,8,44,8],[43,9,46,9],[45,0,45,7],[1,0,2,8],[3,6,4,9]]}
["Zeiterfassungsbogen für studentische Hilfskräfte | International Office",null,null,null,null,null,null,null,null,null,null,null,null,null,null,null,null,null,null,null,null,"\"nein\" auswählen, wenn keine festen Tage mehr gelten sollen!"]
[{"$f":"IF(Uebersicht!A4=\"\",\"\",CONCATENATE(Uebersicht!B4,\" \",Uebersicht!A4))","v":""}]
[null,null,null,null,null,null,null,null,null,null,null,null,null,{"$f":"INDEX(Uebersicht!AO5:AQ28,MATCH(C4,Uebersicht!AO5:AO28,0),3)","v":0},{"$f":"INDEX(Uebersicht!AO5:AQ28,MATCH(C4+0.5,Uebersicht!AO5:AO28,0),3)","v":0},null,null,null,"Tag","h"]
[{"$f":"IF(D4=\"\",\"\",TEXT(DATE(D4,C4,1),\"MMM\"))","v":""},null,4,{"$f":"Uebersicht!I1","v":""},null,null,{"$f":"IF(INDEX(Uebersicht!AO31:AQ42,MATCH(C4,Uebersicht!AO31:AO43,0),2)=0,\"\",INDEX(Uebersicht!AO31:AQ42,MATCH(C4,Uebersicht!AO31:AO43,0),2))","v":""},null,null,null,null,null,null,{"$f":"INDEX(Uebersicht!AO31:AQ42,MATCH(C4,Uebersicht!AO31:AO43,0),3)","v":0},null,null,null,{"$f":"IF(OR($K$9=2,$K$9=0),1,IF(AND(OR($K$9=1,$K$9=3),OR(SUM($U$4:$U$8)=0,$U$1=\"nein\")),3,IF(AND($U$1=\"\",SUM($U$4:$U$8)>0,U4>=1,OR($K$9=3,$K$9=1)),4,1)))","v":1},"Mo",null,{"$f":"IF(AND(H9=0,I9=0),0,IF(OR($K$9=0,INDIRECT(\"'\"&TEXT(DATE(D4,$C$4-1,1),\"MMM\")&\"'!$U$1\")=\"nein\",$U$1=\"nein\"),0,IF(T4>0,T4,INDEX(Uebersicht!$BA$3:$BE$14,$C$4,MATCH(S4,Uebersicht!$BA$2:$BE$2,0)))))","v":0}]
[null,null,null,null,null,null,null,null,null,null,null,null,null,null,null,null,null,{"$f":"IF(OR($K$9=2,$K$9=0),1,IF(AND(OR($K$9=1,$K$9=3),OR(SUM($U$4:$U$8)=0,$U$1=\"nein\")),3,IF(AND($U$1=\"\",SUM($U$4:$U$8)>0,U5>=1,OR($K$9=3,$K$9=1)),4,1)))","v":1},"Di",null,{"$f":"IF(OR($K$9=0,INDIRECT(\"'\"&TEXT(DATE(D5,$C$4-1,1),\"MMM\")&\"'!$U$1\")=\"nein\",$U$1=\"nein\"),0,IF(T5>0,T5,INDEX(Uebersicht!$BA$3:$BE$14,$C$4,MATCH(S5,Uebersicht!$BA$2:$BE$2,0))))","v":0}]
[null,null,{"$f":"DAY(DATE(D4,C4+1,1)-1)","v":{"$error":"#VALUE!"}},null,null,null,null,{"$f":"IF(N4=0,\"\",\"Arbeitsgebiet 1\")","v":""},{"$f":"IF(AND(I9=0,H9=0),0,IF(C4-1=0,Uebersicht!G4,INDIRECT(\"'\"&TEXT(DATE(D4,C4-1,1),\"MMM\")&\"'!K44\")))","v":0},null,"nein",null,null,{"$f":"IF(N4=\"\",\"\",\"Arbeitsgebiet 2\")","v":"Arbeitsgebiet 2"},null,null,null,{"$f":"IF(OR($K$9=2,$K$9=0),1,IF(AND(OR($K$9=1,$K$9=3),OR(SUM($U$4:$U$8)=0,$U$1=\"nein\")),3,IF(AND($U$1=\"\",SUM($U$4:$U$8)>0,U6>=1,OR($K$9=3,$K$9=1)),4,1)))","v":1},"Mi",null,{"$f":"IF(OR($K$9=0,INDIRECT(\"'\"&TEXT(DATE(D6,$C$4-1,1),\"MMM\")&\"'!$U$1\")=\"nein\",$U$1=\"nein\"),0,IF(T6>0,T6,INDEX(Uebersicht!$BA$3:$BE$14,$C$4,MATCH(S6,Uebersicht!$BA$2:$BE$2,0))))","v":0}]
[{"$f":"IF(AND(H9>0,I9=0),CONCATENATE(H9,\" Wochenarbeitszeit (h)\"),IF(AND(H9=0,I9>0),CONCATENATE(I9,\" Wochenarbeitszeit (h)\"),IF(AND(H9>0,I9>0,H9<>I9),CONCATENATE(H9,\" h, ab 15. \",TEXT(DATE(D4,C4,1),\"MMMM\"),\" \",I9,\"h\"),\"\")))","v":""},null,null,null,null,{"$f":"IF(G4=\"\",\"\",IF(M42/60>0,TEXT((M42/60)/24,\"[h]:mm\"),0))","v":""},{"$f":"IF(F7=\"\",\"\",\"Urlaubsrest\")","v":""},null,{"$f":"IF(AND(YEAR(TODAY())=D4,MONTH(TODAY())>=C4,K9>0),IF(OR(I6=0,I6=\"\"),0,IF(I6<0,TEXT(-(I6/60)/24,\"-[h]:mm\"),TEXT((I6/60)/24,\"[h]:mm\"))),\"\")","v":""},{"$f":"IF(I7=\"\",\"\",CONCATENATE(\"h Übertrag aus \",IF(C6=1,\"Vorjahr\",\"Vormonat\")))","v":""},"Urlaub",null,null,{"$f":"IF(AND(N3>0,O3=0),CONCATENATE(N3,\" Stunden - Anteil pro Woche\"),IF(AND(N3=0,O3>0),CONCATENATE(O3,\" Stunden - Anteil pro Woche\"),IF(AND(N3>0,O3>0,O3<>N3),CONCATENATE(N3,\" h, ab 15. \",TEXT(DATE(D4,C4,1),\"MMMM\"),\" \",O3,\"h\"),IF(N3=O3,CONCATENATE(N3,\" Stunden - Anteil pro Woche\"),\"\"))))","v":"0 Stunden - Anteil pro Woche"},null,null,null,{"$f":"IF(OR($K$9=2,$K$9=0),1,IF(AND(OR($K$9=1,$K$9=3),OR(SUM($U$4:$U$8)=0,$U$1=\"nein\")),3,IF(AND($U$1=\"\",SUM($U$4:$U$8)>0,U7>=1,OR($K$9=3,$K$9=1)),4,1)))","v":1},"Do",null,{"$f":"IF(OR($K$9=0,INDIRECT(\"'\"&TEXT(DATE(D7,$C$4-1,1),\"MMM\")&\"'!$U$1\")=\"nein\",$U$1=\"nein\"),0,IF(T7>0,T7,INDEX(Uebersicht!$BA$3:$BE$14,$C$4,MATCH(S7,Uebersicht!$BA$2:$BE$2,0))))","v":0}]
[null,null,null,null,null,null,null,null,null,null,"Krank",null,null,null,null,null,null,{"$f":"IF(OR($K$9=2,$K$9=0),1,IF(AND(OR($K$9=1,$K$9=3),OR(SUM($U$4:$U$8)=0,$U$1=\"nein\")),3,IF(AND($U$1=\"\",SUM($U$4:$U$8)>0,U8>=1,OR($K$9=3,$K$9=1)),4,1)))","v":1},"Fr",null,{"$f":"IF(OR($K$9=0,INDIRECT(\"'\"&TEXT(DATE(D8,$C$4-1,1),\"MMM\")&\"'!$U$1\")=\"nein\",$U$1=\"nein\"),0,IF(T8>0,T8,INDEX(Uebersicht!$BA$3:$BE$14,$C$4,MATCH(S8,Uebersicht!$BA$2:$BE$2,0))))","v":0}]
[null,null,null,null,null,null,null,{"$f":"INDEX(Uebersicht!AU3:AW14,C4,2)","v":0},{"$f":"IF(INDEX(Uebersicht!AU3:AW14,C4,3)=H9,0,INDEX(Uebersicht!AU3:AW14,C4,3))","v":0},null,{"$f":"IF(AND(H9>0,I9=0),1,IF(AND(H9=0,I9>0),2,IF(AND(H9=0,I9=0),0,IF(H9<>I9,3,\"\"))))","v":0},null,null,null,{"$f":"IF(OR(N3>0,O3>0),IF(OR(K9=1,K9=2),(IF(K9=1,N3,IF(K9=2,O2,0))/5)*NETWORKDAYS(IF(K9=1,DATE(D4,C4,1),IF(K9=2,DATE(D4,C4,15),0)),IF(OR(K9=1,K9=2),DATE(D4,C4,MAX(A11:A41)),0),COUNTIFS(C11:C41,\"<>\"&2)),IF(K9=3,SUM(IF(N3>0,(N3/5)*NETWORKDAYS(DATE(D4,C4,1),DATE(D4,C4,14),2),0),IF(O3>0,(O3/5)*NETWORKDAYS(DATE(D4,C4,15),DATE(D4,C4,MAX(A11:A41)),2),0)),0)),\"\")","v":""},null,null,null,{"$f":"IF(SUM(U4:U8)=0,\"\",IF(SUM(U4:U8)>H9,\"zu viel!\",IF(SUM(U4:U8)<H9,\"zu wenig!\",\"\")))","v":""},null,{"$f":"IF(OR(U1=\"nein\",SUM(U4:U8)=0),\"ja\",IF(OR(SUM(Uebersicht!C36:C40)>0,SUM(T4:T8)>0,SUM(U4:U8)>0),\"nein\",\"ja\"))","v":"ja"}]
["Tag",null,null,"Beginn","Ende","Urlaub\nKrank","Stunden","Mehr/\nMinder","Saldo\nsummiert","Bemerkungen","Differenz","Soll",{"$f":"IF(AND(I9=0,H9=0),0,IF(C4-1=0,IF(Uebersicht!E8=\"\",0,Uebersicht!E8*60),INDIRECT(\"'\"&TEXT(DATE(D4,C4-1,1),\"MMM\")&\"'!M42\")))","v":0},"Stunden","Rest","Bemerkungen","Gesamt",null,"Änderung im laufenden Monat"]
[1,{"$f":"IF(OR(A11=\"\",$D$4=\"\"),\"\",TEXT(DATE($D$4,$C$4,A11),\"ttt\"))","v":""},{"$f":"IF(OR($K$9=0,AND($K$9=2,A11<=14)),1,IF(IF(ISNA(INDEX(X!$W$7:$W$20,MATCH(DATE($D$4,$C$4,A11),X!$AC$7:$AC$20,0))),1,2)=2,2,IF(OR(B11=\"Sa\",B11=\"So\"),2,IF($K$9=1,SUMIFS($R$4:$R$8,$S$4:$S$8,B11),IF(AND($K$9=2,A11<15),SUMIFS($R$4:$R$8,$S$4:$S$8,B11),IF(AND($K$9=2,A11>14),SUMIFS($R$12:$R$16,$S$12:$S$16,B11),IF(AND($K$9=3,A11>14),SUMIFS($R$12:$R$16,$S$12:$S$16,B11),IF(AND($K$9=3,A11<15),SUMIFS($R$4:$R$8,$S$4:$S$8,B11),1))))))))","v":1},null,null,null,{"$f":"IF(AND(D11=\"\",E11=\"\"),\"\",IF(N11=\"\",IF(((HOUR(E11)*60+MINUTE(E11))-(HOUR(D11)*60+MINUTE(D11)))>360,TEXT(((((HOUR(E11)*60+MINUTE(E11))-(HOUR(D11)*60+MINUTE(D11)))-30)/60)/24,\"[h]:mm\"),TEXT((((HOUR(E11)*60+MINUTE(E11))-(HOUR(D11)*60+MINUTE(D11)))/60)/24,\"[h]:mm\")),IF((((HOUR(E11)*60+MINUTE(E11))-(HOUR(D11)*60+MINUTE(D11)))-N11)>360,TEXT(((((((HOUR(E11)*60+MINUTE(E11))-(HOUR(D11)*60+MINUTE(D11)))-30))/60)-N11)/24,\"[h]:mm\"),TEXT(((((HOUR(E11)*60+MINUTE(E11))-(HOUR(D11)*60+MINUTE(D11)))/60)-N11)/24,\"[h]:mm\"))))","v":""},{"$f":"IF(K11=\"\",\"\",IF(TODAY()<=DATE($D$4,$C$4,A11),0,IF(K11>0,TEXT((K11/60)/24,\"[h]:mm\"),TEXT(-(K11/60)/24,\"-[h]:mm\"))))","v":""},{"$f":"IF($K$9>0,IF(SUM($K$11:$K11,I6)<0,TEXT(-(SUM($K$11:K11,I6)/60)/24,\"-[h]:mm\"),TEXT((SUM($K$11:K11,I6)/60)/24,\"[h]:mm\")),\"\")","v":""},null,{"$f":"IF(F11=\"\",IF(L11<0,L11+IF(G11=\" \",0,IF(((HOUR(E11)*60+MINUTE(E11))-(HOUR(D11)*60+MINUTE(D11)))>360,(HOUR(E11)*60+MINUTE(E11))-(HOUR(D11)*60+MINUTE(D11))-30,(HOUR(E11)*60+MINUTE(E11))-(HOUR(D11)*60+MINUTE(D11)))),IF(Q11=\"\",\"\",(Q11*60)*24)),\"\")","v":""},{"$f":"IF(OR(F11=\"krank\",F11=\"Urlaub\",C11=1,C11=2),0,IF($K$9=1,IF(SUM($U$4:$U$8)=0,$H$9/5,INDEX($S$4:$U$8,MATCH(B11,$S$4:$S$8,0),3)),IF($K$9=2,IF(AND(A11>14,SUM($U$12:$U$16)=0),$I$9/5,INDEX($S$12:$U$16,MATCH(B11,$S$12:$S$16,0),3)),IF($K$9=3,IF(A11<15,IF(SUM($U$4:$U$8)=0,$H$9/5,INDEX($S$4:$U$8,MATCH(B11,$S$4:$S$8,0),3))),IF(A11>14,IF(SUM($U$12:$U$16)=0,$I$9/5,INDEX($S$12:$U$16,MATCH(B11,$S$12:$S$16,0),3))))))*-60)","v":0},{"$f":"M10-(IF(OR(C11=1,C11=2),0,IF(C11=3,IF(AND($K$9=1,F11=\"Urlaub\"),$H$9/5,IF($K$9=2,IF(AND(A11<15,F11=\"Urlaub\"),$I$9/5,IF(AND($K$9=3,A11<15,F11=\"Urlaub\"),$H$9/5,IF(AND($K$9=3,A11>14,F11=\"Urlaub\"),$I$9/5))))),IF(C11=4,IF(AND(F11=\"Urlaub\",$K$9=1),SUMIFS($U$4:$U$8,$S$4:$S$8,B11),IF(AND(F11=\"Urlaub\",$K$9=2,A11>14),SUMIFS($U$12:$U$16,$S$12:$S$16,B11),IF(AND(F11=\"Urlaub\",$K$9=3,A11<15),SUMIFS($U$4:$U$8,$S$4:$S$8,B11),IF(AND(F11=\"Urlaub\",$K$9=3,A11>14),SUMIFS($U$12:$U$16,$S$12:$S$16,B11),0)))))))*60)","v":0},null,{"$f":"IF(OR($O$3=\"\",$N$3=\"\",N11=\"\"),\"\",IF($O$9-SUM($N10:N$11)-N11<0,TEXT(-(($O$9-SUM($N10:N$11)-N11)/24),\"-[hh]:mm\"),TEXT(($O$9-SUM($N10:N$11)-N11)/24,\"[hh]:mm\")))","v":""},null,{"$f":"IF(AND(D11=\"\",E11=\"\"),\"\",IF(((HOUR(E11)*60+MINUTE(E11))-(HOUR(D11)*60+MINUTE(D11)))>360,TEXT(((((HOUR(E11)*60+MINUTE(E11))-(HOUR(D11)*60+MINUTE(D11)))-30)/60)/24,\"[h]:mm\"),TEXT((((HOUR(E11)*60+MINUTE(E11))-(HOUR(D11)*60+MINUTE(D11)))/60)/24,\"[h]:mm\")))","v":""}]
[{"$f":"IF(OR(A11=\"\",$D$4=\"\"),\"\",IF(A11+1<=$C$6,A11+1,\"\"))","v":""},"",{"$f":"IF(OR($K$9=0,AND($K$9=2,A12<=14)),1,IF(IF(ISNA(INDEX(X!$W$7:$W$20,MATCH(DATE($D$4,$C$4,A12),X!$AC$7:$AC$20,0))),1,2)=2,2,IF(OR(B12=\"Sa\",B12=\"So\"),2,IF($K$9=1,SUMIFS($R$4:$R$8,$S$4:$S$8,B12),IF(AND($K$9=2,A12<15),SUMIFS($R$4:$R$8,$S$4:$S$8,B12),IF(AND($K$9=2,A12>14),SUMIFS($R$12:$R$16,$S$12:$S$16,B12),IF(AND($K$9=3,A12>14),SUMIFS($R$12:$R$16,$S$12:$S$16,B12),IF(AND($K$9=3,A12<15),SUMIFS($R$4:$R$8,$S$4:$S$8,B12),1))))))))","v":1},null,null,null,"","",{"$f":"IF($K$9>0,IF(SUM($K$11:$K12,$I$6)<0,TEXT(-(SUM($K$11:K12,$I$6)/60)/24,\"-[h]:mm\"),TEXT((SUM($K$11:K12,$I$6)/60)/24,\"[h]:mm\")),\"\")","v":""},null,{"$f":"IF(F12=\"\",IF(L12<0,L12+IF(G12=\" \",0,IF(((HOUR(E12)*60+MINUTE(E12))-(HOUR(D12)*60+MINUTE(D12)))>360,(HOUR(E12)*60+MINUTE(E12))-(HOUR(D12)*60+MINUTE(D12))-30,(HOUR(E12)*60+MINUTE(E12))-(HOUR(D12)*60+MINUTE(D12)))),IF(Q12=\"\",\"\",(Q12*60)*24)),\"\")","v":""},{"$f":"IF(OR(F12=\"krank\",F12=\"Urlaub\",C12=1,C12=2),0,IF($K$9=1,IF(SUM($U$4:$U$8)=0,$H$9/5,INDEX($S$4:$U$8,MATCH(B12,$S$4:$S$8,0),3)),IF($K$9=2,IF(AND(A12>14,SUM($U$12:$U$16)=0),$I$9/5,INDEX($S$12:$U$16,MATCH(B12,$S$12:$S$16,0),3)),IF($K$9=3,IF(A12<15,IF(SUM($U$4:$U$8)=0,$H$9/5,INDEX($S$4:$U$8,MATCH(B12,$S$4:$S$8,0),3)),IF(SUM($U$12:$U$16)=0,$I$9/5,INDEX($S$12:$U$16,MATCH(B12,$S$12:$S$16,0),3)))))))*-60","v":0},0,null,{"$f":"IF(OR($O$3=\"\",$N$3=\"\",N12=\"\"),\"\",IF($O$9-SUM($N$11:N11)-N12<0,TEXT(-(($O$9-SUM($N$11:N11)-N12)/24),\"-[hh]:mm\"),TEXT(($O$9-SUM($N$11:N11)-N12)/24,\"[hh]:mm\")))","v":""},null,"",{"$f":"IF($K$9=0,1,IF($K$9=1,R4,IF(AND($K$9=3,OR(SUM($U$12:$U$16)=0,$U$1=\"nein\")),3,IF(AND($U$1=\"\",SUM($U$12:$U$16)>0,U12>=1,OR($K$9=3,$K$9=2)),4,1))))","v":1},"Mo",null,{"$f":"IF(AND(I9=0,H9=0),0,IF(OR($K$9=0,INDIRECT(\"'\"&TEXT(DATE(D4,$C$4-1,1),\"MMM\")&\"'!$U$1\")=\"nein\",$U$1=\"nein\"),0,IF(T12>0,T12,INDEX(Uebersicht!$BF$3:$BJ$14,$C$4,MATCH(S12,Uebersicht!$BF$2:$BJ$2,0)))))","v":0}]
[{"$f":"IF(OR(A12=\"\",$D$4=\"\"),\"\",IF(A12+1<=$C$6,A12+1,\"\"))","v":""},"",{"$f":"IF(OR($K$9=0,AND($K$9=2,A13<=14)),1,IF(IF(ISNA(INDEX(X!$W$7:$W$20,MATCH(DATE($D$4,$C$4,A13),X!$AC$7:$AC$20,0))),1,2)=2,2,IF(OR(B13=\"Sa\",B13=\"So\"),2,IF($K$9=1,SUMIFS($R$4:$R$8,$S$4:$S$8,B13),IF(AND($K$9=2,A13<15),SUMIFS($R$4:$R$8,$S$4:$S$8,B13),IF(AND($K$9=2,A13>14),SUMIFS($R$12:$R$16,$S$12:$S$16,B13),IF(AND($K$9=3,A13>14),SUMIFS($R$12:$R$16,$S$12:$S$16,B13),IF(AND($K$9=3,A13<15),SUMIFS($R$4:$R$8,$S$4:$S$8,B13),1))))))))","v":1},null,null,null,"","",{"$f":"IF($K$9>0,IF(SUM($K$11:$K13,$I$6)<0,TEXT(-(SUM($K$11:K13,$I$6)/60)/24,\"-[h]:mm\"),TEXT((SUM($K$11:K13,$I$6)/60)/24,\"[h]:mm\")),\"\")","v":""},null,"",0,0,null,{"$f":"IF(OR($O$3=\"\",$N$3=\"\",N13=\"\"),\"\",IF($O$9-SUM($N$11:N12)-N13<0,TEXT(-(($O$9-SUM($N$11:N12)-N13)/24),\"-[hh]:mm\"),TEXT(($O$9-SUM($N$11:N12)-N13)/24,\"[hh]:mm\")))","v":""},null,"",{"$f":"IF($K$9=0,1,IF($K$9=1,R5,IF(AND($K$9=3,OR(SUM($U$12:$U$16)=0,$U$1=\"nein\")),3,IF(AND($U$1=\"\",SUM($U$12:$U$16)>0,U13>=1,OR($K$9=3,$K$9=2)),4,1))))","v":1},"Di",null,{"$f":"IF(OR($K$9=0,INDIRECT(\"'\"&TEXT(DATE(D5,$C$4-1,1),\"MMM\")&\"'!$U$1\")=\"nein\",$U$1=\"nein\"),0,IF(T13>0,T13,INDEX(Uebersicht!$BF$3:$BJ$14,$C$4,MATCH(S13,Uebersicht!$BF$2:$BJ$2,0))))","v":0}]
["","",{"$f":"IF(OR($K$9=0,AND($K$9=2,A14<=14)),1,IF(IF(ISNA(INDEX(X!$W$7:$W$20,MATCH(DATE($D$4,$C$4,A14),X!$AC$7:$AC$20,0))),1,2)=2,2,IF(OR(B14=\"Sa\",B14=\"So\"),2,IF($K$9=1,SUMIFS($R$4:$R$8,$S$4:$S$8,B14),IF(AND($K$9=2,A14<15),SUMIFS($R$4:$R$8,$S$4:$S$8,B14),IF(AND($K$9=2,A14>14),SUMIFS($R$12:$R$16,$S$12:$S$16,B14),IF(AND($K$9=3,A14>14),SUMIFS($R$12:$R$16,$S$12:$S$16,B14),IF(AND($K$9=3,A14<15),SUMIFS($R$4:$R$8,$S$4:$S$8,B14),1))))))))","v":1},null,null,null,"","",{"$f":"IF($K$9>0,IF(SUM($K$11:$K14,$I$6)<0,TEXT(-(SUM($K$11:K14,$I$6)/60)/24,\"-[h]:mm\"),TEXT((SUM($K$11:K14,$I$6)/60)/24,\"[h]:mm\")),\"\")","v":""},null,"",0,0,null,{"$f":"IF(OR($O$3=\"\",$N$3=\"\",N14=\"\"),\"\",IF($O$9-SUM($N$11:N13)-N14<0,TEXT(-(($O$9-SUM($N$11:N13)-N14)/24),\"-[hh]:mm\"),TEXT(($O$9-SUM($N$11:N13)-N14)/24,\"[hh]:mm\")))","v":""},null,"",{"$f":"IF($K$9=0,1,IF($K$9=1,R6,IF(AND($K$9=3,OR(SUM($U$12:$U$16)=0,$U$1=\"nein\")),3,IF(AND($U$1=\"\",SUM($U$12:$U$16)>0,U14>=1,OR($K$9=3,$K$9=2)),4,1))))","v":1},"Mi",null,{"$f":"IF(OR($K$9=0,INDIRECT(\"'\"&TEXT(DATE(D6,$C$4-1,1),\"MMM\")&\"'!$U$1\")=\"nein\",$U$1=\"nein\"),0,IF(T14>0,T14,INDEX(Uebersicht!$BF$3:$BJ$14,$C$4,MATCH(S14,Uebersicht!$BF$2:$BJ$2,0))))","v":0}]
["","",{"$f":"IF(OR($K$9=0,AND($K$9=2,A15<=14)),1,IF(IF(ISNA(INDEX(X!$W$7:$W$20,MATCH(DATE($D$4,$C$4,A15),X!$AC$7:$AC$20,0))),1,2)=2,2,IF(OR(B15=\"Sa\",B15=\"So\"),2,IF($K$9=1,SUMIFS($R$4:$R$8,$S$4:$S$8,B15),IF(AND($K$9=2,A15<15),SUMIFS($R$4:$R$8,$S$4:$S$8,B15),IF(AND($K$9=2,A15>14),SUMIFS($R$12:$R$16,$S$12:$S$16,B15),IF(AND($K$9=3,A15>14),SUMIFS($R$12:$R$16,$S$12:$S$16,B15),IF(AND($K$9=3,A15<15),SUMIFS($R$4:$R$8,$S$4:$S$8,B15),1))))))))","v":1},null,null,null,"","",{"$f":"IF($K$9>0,IF(SUM($K$11:$K15,$I$6)<0,TEXT(-(SUM($K$11:K15,$I$6)/60)/24,\"-[h]:mm\"),TEXT((SUM($K$11:K15,$I$6)/60)/24,\"[h]:mm\")),\"\")","v":""},null,"",0,0,null,{"$f":"IF(OR($O$3=\"\",$N$3=\"\",N15=\"\"),\"\",IF($O$9-SUM($N$11:N14)-N15<0,TEXT(-(($O$9-SUM($N$11:N14)-N15)/24),\"-[hh]:mm\"),TEXT(($O$9-SUM($N$11:N14)-N15)/24,\"[hh]:mm\")))","v":""},null,"",{"$f":"IF($K$9=0,1,IF($K$9=1,R7,IF(AND($K$9=3,OR(SUM($U$12:$U$16)=0,$U$1=\"nein\")),3,IF(AND($U$1=\"\",SUM($U$12:$U$16)>0,U15>=1,OR($K$9=3,$K$9=2)),4,1))))","v":1},"Do",null,{"$f":"IF(OR($K$9=0,INDIRECT(\"'\"&TEXT(DATE(D7,$C$4-1,1),\"MMM\")&\"'!$U$1\")=\"nein\",$U$1=\"nein\"),0,IF(T15>0,T15,INDEX(Uebersicht!$BF$3:$BJ$14,$C$4,MATCH(S15,Uebersicht!$BF$2:$BJ$2,0))))","v":0}]
["","",{"$f":"IF(OR($K$9=0,AND($K$9=2,A16<=14)),1,IF(IF(ISNA(INDEX(X!$W$7:$W$20,MATCH(DATE($D$4,$C$4,A16),X!$AC$7:$AC$20,0))),1,2)=2,2,IF(OR(B16=\"Sa\",B16=\"So\"),2,IF($K$9=1,SUMIFS($R$4:$R$8,$S$4:$S$8,B16),IF(AND($K$9=2,A16<15),SUMIFS($R$4:$R$8,$S$4:$S$8,B16),IF(AND($K$9=2,A16>14),SUMIFS($R$12:$R$16,$S$12:$S$16,B16),IF(AND($K$9=3,A16>14),SUMIFS($R$12:$R$16,$S$12:$S$16,B16),IF(AND($K$9=3,A16<15),SUMIFS($R$4:$R$8,$S$4:$S$8,B16),1))))))))","v":1},null,null,null,"","",{"$f":"IF($K$9>0,IF(SUM($K$11:$K16,$I$6)<0,TEXT(-(SUM($K$11:K16,$I$6)/60)/24,\"-[h]:mm\"),TEXT((SUM($K$11:K16,$I$6)/60)/24,\"[h]:mm\")),\"\")","v":""},null,"",0,0,null,{"$f":"IF(OR($O$3=\"\",$N$3=\"\",N16=\"\"),\"\",IF($O$9-SUM($N$11:N15)-N16<0,TEXT(-(($O$9-SUM($N$11:N15)-N16)/24),\"-[hh]:mm\"),TEXT(($O$9-SUM($N$11:N15)-N16)/24,\"[hh]:mm\")))","v":""},null,"",{"$f":"IF($K$9=0,1,IF($K$9=1,R8,IF(AND($K$9=3,OR(SUM($U$12:$U$16)=0,$U$1=\"nein\")),3,IF(AND($U$1=\"\",SUM($U$12:$U$16)>0,U16>=1,OR($K$9=3,$K$9=2)),4,1))))","v":1},"Fr",null,{"$f":"IF(OR($K$9=0,INDIRECT(\"'\"&TEXT(DATE(D8,$C$4-1,1),\"MMM\")&\"'!$U$1\")=\"nein\",$U$1=\"nein\"),0,IF(T16>0,T16,INDEX(Uebersicht!$BF$3:$BJ$14,$C$4,MATCH(S16,Uebersicht!$BF$2:$BJ$2,0))))","v":0}]
["","",{"$f":"IF(OR($K$9=0,AND($K$9=2,A17<=14)),1,IF(IF(ISNA(INDEX(X!$W$7:$W$20,MATCH(DATE($D$4,$C$4,A17),X!$AC$7:$AC$20,0))),1,2)=2,2,IF(OR(B17=\"Sa\",B17=\"So\"),2,IF($K$9=1,SUMIFS($R$4:$R$8,$S$4:$S$8,B17),IF(AND($K$9=2,A17<15),SUMIFS($R$4:$R$8,$S$4:$S$8,B17),IF(AND($K$9=2,A17>14),SUMIFS($R$12:$R$16,$S$12:$S$16,B17),IF(AND($K$9=3,A17>14),SUMIFS($R$12:$R$16,$S$12:$S$16,B17),IF(AND($K$9=3,A17<15),SUMIFS($R$4:$R$8,$S$4:$S$8,B17),1))))))))","v":1},null,null,null,"","",{"$f":"IF($K$9>0,IF(SUM($K$11:$K17,$I$6)<0,TEXT(-(SUM($K$11:K17,$I$6)/60)/24,\"-[h]:mm\"),TEXT((SUM($K$11:K17,$I$6)/60)/24,\"[h]:mm\")),\"\")","v":""},null,"",0,0,null,{"$f":"IF(OR($O$3=\"\",$N$3=\"\",N17=\"\"),\"\",IF($O$9-SUM($N$11:N16)-N17<0,TEXT(-(($O$9-SUM($N$11:N16)-N17)/24),\"-[hh]:mm\"),TEXT(($O$9-SUM($N$11:N16)-N17)/24,\"[hh]:mm\")))","v":""},null,"",null,{"$f":"IF(I9=0,\"\",IF(SUM(U12:U16)>I9,\"zu viel!\",IF(SUM(U12:U16)<I9,\"zu wenig!\",\"\")))","v":""},null,{"$f":"IF(OR(U9=\"nein\",SUM(U12:U16)=0),\"ja\",IF(OR(SUM(Uebersicht!C43:C47)>0,SUM(T12:T16)>0,SUM(U12:U16)>0),\"nein\",\"ja\"))","v":"ja"}]
["","",{"$f":"IF(OR($K$9=0,AND($K$9=2,A18<=14)),1,IF(IF(ISNA(INDEX(X!$W$7:$W$20,MATCH(DATE($D$4,$C$4,A18),X!$AC$7:$AC$20,0))),1,2)=2,2,IF(OR(B18=\"Sa\",B18=\"So\"),2,IF($K$9=1,SUMIFS($R$4:$R$8,$S$4:$S$8,B18),IF(AND($K$9=2,A18<15),SUMIFS($R$4:$R$8,$S$4:$S$8,B18),IF(AND($K$9=2,A18>14),SUMIFS($R$12:$R$16,$S$12:$S$16,B18),IF(AND($K$9=3,A18>14),SUMIFS($R$12:$R$16,$S$12:$S$16,B18),IF(AND($K$9=3,A18<15),SUMIFS($R$4:$R$8,$S$4:$S$8,B18),1))))))))","v":1},null,null,null,"","",{"$f":"IF($K$9>0,IF(SUM($K$11:$K18,$I$6)<0,TEXT(-(SUM($K$11:K18,$I$6)/60)/24,\"-[h]:mm\"),TEXT((SUM($K$11:K18,$I$6)/60)/24,\"[h]:mm\")),\"\")","v":""},null,"",0,0,null,{"$f":"IF(OR($O$3=\"\",$N$3=\"\",N18=\"\"),\"\",IF($O$9-SUM($N$11:N17)-N18<0,TEXT(-(($O$9-SUM($N$11:N17)-N18)/24),\"-[hh]:mm\"),TEXT(($O$9-SUM($N$11:N17)-N18)/24,\"[hh]:mm\")))","v":""},null,""]
["","",{"$f":"IF(OR($K$9=0,AND($K$9=2,A19<=14)),1,IF(IF(ISNA(INDEX(X!$W$7:$W$20,MATCH(DATE($D$4,$C$4,A19),X!$AC$7:$AC$20,0))),1,2)=2,2,IF(OR(B19=\"Sa\",B19=\"So\"),2,IF($K$9=1,SUMIFS($R$4:$R$8,$S$4:$S$8,B19),IF(AND($K$9=2,A19<15),SUMIFS($R$4:$R$8,$S$4:$S$8,B19),IF(AND($K$9=2,A19>14),SUMIFS($R$12:$R$16,$S$12:$S$16,B19),IF(AND($K$9=3,A19>14),SUMIFS($R$12:$R$16,$S$12:$S$16,B19),IF(AND($K$9=3,A19<15),SUMIFS($R$4:$R$8,$S$4:$S$8,B19),1))))))))","v":1},null,null,null,"","",{"$f":"IF($K$9>0,IF(SUM($K$11:$K19,$I$6)<0,TEXT(-(SUM($K$11:K19,$I$6)/60)/24,\"-[h]:mm\"),TEXT((SUM($K$11:K19,$I$6)/60)/24,\"[h]:mm\")),\"\")","v":""},null,"",0,0,null,{"$f":"IF(OR($O$3=\"\",$N$3=\"\",N19=\"\"),\"\",IF($O$9-SUM($N$11:N18)-N19<0,TEXT(-(($O$9-SUM($N$11:N18)-N19)/24),\"-[hh]:mm\"),TEXT(($O$9-SUM($N$11:N18)-N19)/24,\"[hh]:mm\")))","v":""},null,""]
["","",{"$f":"IF(OR($K$9=0,AND($K$9=2,A20<=14)),1,IF(IF(ISNA(INDEX(X!$W$7:$W$20,MATCH(DATE($D$4,$C$4,A20),X!$AC$7:$AC$20,0))),1,2)=2,2,IF(OR(B20=\"Sa\",B20=\"So\"),2,IF($K$9=1,SUMIFS($R$4:$R$8,$S$4:$S$8,B20),IF(AND($K$9=2,A20<15),SUMIFS($R$4:$R$8,$S$4:$S$8,B20),IF(AND($K$9=2,A20>14),SUMIFS($R$12:$R$16,$S$12:$S$16,B20),IF(AND($K$9=3,A20>14),SUMIFS($R$12:$R$16,$S$12:$S$16,B20),IF(AND($K$9=3,A20<15),SUMIFS($R$4:$R$8,$S$4:$S$8,B20),1))))))))","v":1},null,null,null,"","",{"$f":"IF($K$9>0,IF(SUM($K$11:$K20,$I$6)<0,TEXT(-(SUM($K$11:K20,$I$6)/60)/24,\"-[h]:mm\"),TEXT((SUM($K$11:K20,$I$6)/60)/24,\"[h]:mm\")),\"\")","v":""},null,"",0,0,null,{"$f":"IF(OR($O$3=\"\",$N$3=\"\",N20=\"\"),\"\",IF($O$9-SUM($N$11:N19)-N20<0,TEXT(-(($O$9-SUM($N$11:N19)-N20)/24),\"-[hh]:mm\"),TEXT(($O$9-SUM($N$11:N19)-N20)/24,\"[hh]:mm\")))","v":""},null,""]
["","",{"$f":"IF(OR($K$9=0,AND($K$9=2,A21<=14)),1,IF(IF(ISNA(INDEX(X!$W$7:$W$20,MATCH(DATE($D$4,$C$4,A21),X!$AC$7:$AC$20,0))),1,2)=2,2,IF(OR(B21=\"Sa\",B21=\"So\"),2,IF($K$9=1,SUMIFS($R$4:$R$8,$S$4:$S$8,B21),IF(AND($K$9=2,A21<15),SUMIFS($R$4:$R$8,$S$4:$S$8,B21),IF(AND($K$9=2,A21>14),SUMIFS($R$12:$R$16,$S$12:$S$16,B21),IF(AND($K$9=3,A21>14),SUMIFS($R$12:$R$16,$S$12:$S$16,B21),IF(AND($K$9=3,A21<15),SUMIFS($R$4:$R$8,$S$4:$S$8,B21),1))))))))","v":1},null,null,null,"","",{"$f":"IF($K$9>0,IF(SUM($K$11:$K21,$I$6)<0,TEXT(-(SUM($K$11:K21,$I$6)/60)/24,\"-[h]:mm\"),TEXT((SUM($K$11:K21,$I$6)/60)/24,\"[h]:mm\")),\"\")","v":""},null,"",0,0,null,{"$f":"IF(OR($O$3=\"\",$N$3=\"\",N21=\"\"),\"\",IF($O$9-SUM($N$11:N20)-N21<0,TEXT(-(($O$9-SUM($N$11:N20)-N21)/24),\"-[hh]:mm\"),TEXT(($O$9-SUM($N$11:N20)-N21)/24,\"[hh]:mm\")))","v":""},null,""]
["","",{"$f":"IF(OR($K$9=0,AND($K$9=2,A22<=14)),1,IF(IF(ISNA(INDEX(X!$W$7:$W$20,MATCH(DATE($D$4,$C$4,A22),X!$AC$7:$AC$20,0))),1,2)=2,2,IF(OR(B22=\"Sa\",B22=\"So\"),2,IF($K$9=1,SUMIFS($R$4:$R$8,$S$4:$S$8,B22),IF(AND($K$9=2,A22<15),SUMIFS($R$4:$R$8,$S$4:$S$8,B22),IF(AND($K$9=2,A22>14),SUMIFS($R$12:$R$16,$S$12:$S$16,B22),IF(AND($K$9=3,A22>14),SUMIFS($R$12:$R$16,$S$12:$S$16,B22),IF(AND($K$9=3,A22<15),SUMIFS($R$4:$R$8,$S$4:$S$8,B22),1))))))))","v":1},null,null,null,"","",{"$f":"IF($K$9>0,IF(SUM($K$11:$K22,$I$6)<0,TEXT(-(SUM($K$11:K22,$I$6)/60)/24,\"-[h]:mm\"),TEXT((SUM($K$11:K22,$I$6)/60)/24,\"[h]:mm\")),\"\")","v":""},null,"",0,0,null,{"$f":"IF(OR($O$3=\"\",$N$3=\"\",N22=\"\"),\"\",IF($O$9-SUM($N$11:N21)-N22<0,TEXT(-(($O$9-SUM($N$11:N21)-N22)/24),\"-[hh]:mm\"),TEXT(($O$9-SUM($N$11:N21)-N22)/24,\"[hh]:mm\")))","v":""},null,""]
["","",{"$f":"IF(OR($K$9=0,AND($K$9=2,A23<=14)),1,IF(IF(ISNA(INDEX(X!$W$7:$W$20,MATCH(DATE($D$4,$C$4,A23),X!$AC$7:$AC$20,0))),1,2)=2,2,IF(OR(B23=\"Sa\",B23=\"So\"),2,IF($K$9=1,SUMIFS($R$4:$R$8,$S$4:$S$8,B23),IF(AND($K$9=2,A23<15),SUMIFS($R$4:$R$8,$S$4:$S$8,B23),IF(AND($K$9=2,A23>14),SUMIFS($R$12:$R$16,$S$12:$S$16,B23),IF(AND($K$9=3,A23>14),SUMIFS($R$12:$R$16,$S$12:$S$16,B23),IF(AND($K$9=3,A23<15),SUMIFS($R$4:$R$8,$S$4:$S$8,B23),1))))))))","v":1},null,null,null,"","",{"$f":"IF($K$9>0,IF(SUM($K$11:$K23,$I$6)<0,TEXT(-(SUM($K$11:K23,$I$6)/60)/24,\"-[h]:mm\"),TEXT((SUM($K$11:K23,$I$6)/60)/24,\"[h]:mm\")),\"\")","v":""},null,"",0,0,null,{"$f":"IF(OR($O$3=\"\",$N$3=\"\",N23=\"\"),\"\",IF($O$9-SUM($N$11:N22)-N23<0,TEXT(-(($O$9-SUM($N$11:N22)-N23)/24),\"-[hh]:mm\"),TEXT(($O$9-SUM($N$11:N22)-N23)/24,\"[hh]:mm\")))","v":""},null,""]
["","",{"$f":"IF(OR($K$9=0,AND($K$9=2,A24<=14)),1,IF(IF(ISNA(INDEX(X!$W$7:$W$20,MATCH(DATE($D$4,$C$4,A24),X!$AC$7:$AC$20,0))),1,2)=2,2,IF(OR(B24=\"Sa\",B24=\"So\"),2,IF($K$9=1,SUMIFS($R$4:$R$8,$S$4:$S$8,B24),IF(AND($K$9=2,A24<15),SUMIFS($R$4:$R$8,$S$4:$S$8,B24),IF(AND($K$9=2,A24>14),SUMIFS($R$12:$R$16,$S$12:$S$16,B24),IF(AND($K$9=3,A24>14),SUMIFS($R$12:$R$16,$S$12:$S$16,B24),IF(AND($K$9=3,A24<15),SUMIFS($R$4:$R$8,$S$4:$S$8,B24),1))))))))","v":1},null,null,null,"","",{"$f":"IF($K$9>0,IF(SUM($K$11:$K24,$I$6)<0,TEXT(-(SUM($K$11:K24,$I$6)/60)/24,\"-[h]:mm\"),TEXT((SUM($K$11:K24,$I$6)/60)/24,\"[h]:mm\")),\"\")","v":""},null,"",0,0,null,{"$f":"IF(OR($O$3=\"\",$N$3=\"\",N24=\"\"),\"\",IF($O$9-SUM($N$11:N23)-N24<0,TEXT(-(($O$9-SUM($N$11:N23)-N24)/24),\"-[hh]:mm\"),TEXT(($O$9-SUM($N$11:N23)-N24)/24,\"[hh]:mm\")))","v":""},null,""]
["","",{"$f":"IF(OR($K$9=0,AND($K$9=2,A25<=14)),1,IF(IF(ISNA(INDEX(X!$W$7:$W$20,MATCH(DATE($D$4,$C$4,A25),X!$AC$7:$AC$20,0))),1,2)=2,2,IF(OR(B25=\"Sa\",B25=\"So\"),2,IF($K$9=1,SUMIFS($R$4:$R$8,$S$4:$S$8,B25),IF(AND($K$9=2,A25<15),SUMIFS($R$4:$R$8,$S$4:$S$8,B25),IF(AND($K$9=2,A25>14),SUMIFS($R$12:$R$16,$S$12:$S$16,B25),IF(AND($K$9=3,A25>14),SUMIFS($R$12:$R$16,$S$12:$S$16,B25),IF(AND($K$9=3,A25<15),SUMIFS($R$4:$R$8,$S$4:$S$8,B25),1))))))))","v":1},null,null,null,"","",{"$f":"IF($K$9>0,IF(SUM($K$11:$K25,$I$6)<0,TEXT(-(SUM($K$11:K25,$I$6)/60)/24,\"-[h]:mm\"),TEXT((SUM($K$11:K25,$I$6)/60)/24,\"[h]:mm\")),\"\")","v":""},null,"",0,0,null,{"$f":"IF(OR($O$3=\"\",$N$3=\"\",N25=\"\"),\"\",IF($O$9-SUM($N$11:N24)-N25<0,TEXT(-(($O$9-SUM($N$11:N24)-N25)/24),\"-[hh]:mm\"),TEXT(($O$9-SUM($N$11:N24)-N25)/24,\"[hh]:mm\")))","v":""},null,""]
["","",{"$f":"IF(OR($K$9=0,AND($K$9=2,A26<=14)),1,IF(IF(ISNA(INDEX(X!$W$7:$W$20,MATCH(DATE($D$4,$C$4,A26),X!$AC$7:$AC$20,0))),1,2)=2,2,IF(OR(B26=\"Sa\",B26=\"So\"),2,IF($K$9=1,SUMIFS($R$4:$R$8,$S$4:$S$8,B26),IF(AND($K$9=2,A26<15),SUMIFS($R$4:$R$8,$S$4:$S$8,B26),IF(AND($K$9=2,A26>14),SUMIFS($R$12:$R$16,$S$12:$S$16,B26),IF(AND($K$9=3,A26>14),SUMIFS($R$12:$R$16,$S$12:$S$16,B26),IF(AND($K$9=3,A26<15),SUMIFS($R$4:$R$8,$S$4:$S$8,B26),1))))))))","v":1},null,null,null,"","",{"$f":"IF($K$9>0,IF(SUM($K$11:$K26,$I$6)<0,TEXT(-(SUM($K$11:K26,$I$6)/60)/24,\"-[h]:mm\"),TEXT((SUM($K$11:K26,$I$6)/60)/24,\"[h]:mm\")),\"\")","v":""},null,"",0,0,null,{"$f":"IF(OR($O$3=\"\",$N$3=\"\",N26=\"\"),\"\",IF($O$9-SUM($N$11:N25)-N26<0,TEXT(-(($O$9-SUM($N$11:N25)-N26)/24),\"-[hh]:mm\"),TEXT(($O$9-SUM($N$11:N25)-N26)/24,\"[hh]:mm\")))","v":""},null,""]
["","",{"$f":"IF(OR($K$9=0,AND($K$9=2,A27<=14)),1,IF(IF(ISNA(INDEX(X!$W$7:$W$20,MATCH(DATE($D$4,$C$4,A27),X!$AC$7:$AC$20,0))),1,2)=2,2,IF(OR(B27=\"Sa\",B27=\"So\"),2,IF($K$9=1,SUMIFS($R$4:$R$8,$S$4:$S$8,B27),IF(AND($K$9=2,A27<15),SUMIFS($R$4:$R$8,$S$4:$S$8,B27),IF(AND($K$9=2,A27>14),SUMIFS($R$12:$R$16,$S$12:$S$16,B27),IF(AND($K$9=3,A27>14),SUMIFS($R$12:$R$16,$S$12:$S$16,B27),IF(AND($K$9=3,A27<15),SUMIFS($R$4:$R$8,$S$4:$S$8,B27),1))))))))","v":1},null,null,null,"","",{"$f":"IF($K$9>0,IF(SUM($K$11:$K27,$I$6)<0,TEXT(-(SUM($K$11:K27,$I$6)/60)/24,\"-[h]:mm\"),TEXT((SUM($K$11:K27,$I$6)/60)/24,\"[h]:mm\")),\"\")","v":""},null,"",0,0,null,{"$f":"IF(OR($O$3=\"\",$N$3=\"\",N27=\"\"),\"\",IF($O$9-SUM($N$11:N26)-N27<0,TEXT(-(($O$9-SUM($N$11:N26)-N27)/24),\"-[hh]:mm\"),TEXT(($O$9-SUM($N$11:N26)-N27)/24,\"[hh]:mm\")))","v":""},null,""]
["","",{"$f":"IF(OR($K$9=0,AND($K$9=2,A28<=14)),1,IF(IF(ISNA(INDEX(X!$W$7:$W$20,MATCH(DATE($D$4,$C$4,A28),X!$AC$7:$AC$20,0))),1,2)=2,2,IF(OR(B28=\"Sa\",B28=\"So\"),2,IF($K$9=1,SUMIFS($R$4:$R$8,$S$4:$S$8,B28),IF(AND($K$9=2,A28<15),SUMIFS($R$4:$R$8,$S$4:$S$8,B28),IF(AND($K$9=2,A28>14),SUMIFS($R$12:$R$16,$S$12:$S$16,B28),IF(AND($K$9=3,A28>14),SUMIFS($R$12:$R$16,$S$12:$S$16,B28),IF(AND($K$9=3,A28<15),SUMIFS($R$4:$R$8,$S$4:$S$8,B28),1))))))))","v":1},null,null,null,"","",{"$f":"IF($K$9>0,IF(SUM($K$11:$K28,$I$6)<0,TEXT(-(SUM($K$11:K28,$I$6)/60)/24,\"-[h]:mm\"),TEXT((SUM($K$11:K28,$I$6)/60)/24,\"[h]:mm\")),\"\")","v":""},null,"",0,0,null,{"$f":"IF(OR($O$3=\"\",$N$3=\"\",N28=\"\"),\"\",IF($O$9-SUM($N$11:N27)-N28<0,TEXT(-(($O$9-SUM($N$11:N27)-N28)/24),\"-[hh]:mm\"),TEXT(($O$9-SUM($N$11:N27)-N28)/24,\"[hh]:mm\")))","v":""},null,""]
["","",{"$f":"IF(OR($K$9=0,AND($K$9=2,A29<=14)),1,IF(IF(ISNA(INDEX(X!$W$7:$W$20,MATCH(DATE($D$4,$C$4,A29),X!$AC$7:$AC$20,0))),1,2)=2,2,IF(OR(B29=\"Sa\",B29=\"So\"),2,IF($K$9=1,SUMIFS($R$4:$R$8,$S$4:$S$8,B29),IF(AND($K$9=2,A29<15),SUMIFS($R$4:$R$8,$S$4:$S$8,B29),IF(AND($K$9=2,A29>14),SUMIFS($R$12:$R$16,$S$12:$S$16,B29),IF(AND($K$9=3,A29>14),SUMIFS($R$12:$R$16,$S$12:$S$16,B29),IF(AND($K$9=3,A29<15),SUMIFS($R$4:$R$8,$S$4:$S$8,B29),1))))))))","v":1},null,null,null,"","",{"$f":"IF($K$9>0,IF(SUM($K$11:$K29,$I$6)<0,TEXT(-(SUM($K$11:K29,$I$6)/60)/24,\"-[h]:mm\"),TEXT((SUM($K$11:K29,$I$6)/60)/24,\"[h]:mm\")),\"\")","v":""},null,"",0,0,null,{"$f":"IF(OR($O$3=\"\",$N$3=\"\",N29=\"\"),\"\",IF($O$9-SUM($N$11:N28)-N29<0,TEXT(-(($O$9-SUM($N$11:N28)-N29)/24),\"-[hh]:mm\"),TEXT(($O$9-SUM($N$11:N28)-N29)/24,\"[hh]:mm\")))","v":""},null,""]
["","",{"$f":"IF(OR($K$9=0,AND($K$9=2,A30<=14)),1,IF(IF(ISNA(INDEX(X!$W$7:$W$20,MATCH(DATE($D$4,$C$4,A30),X!$AC$7:$AC$20,0))),1,2)=2,2,IF(OR(B30=\"Sa\",B30=\"So\"),2,IF($K$9=1,SUMIFS($R$4:$R$8,$S$4:$S$8,B30),IF(AND($K$9=2,A30<15),SUMIFS($R$4:$R$8,$S$4:$S$8,B30),IF(AND($K$9=2,A30>14),SUMIFS($R$12:$R$16,$S$12:$S$16,B30),IF(AND($K$9=3,A30>14),SUMIFS($R$12:$R$16,$S$12:$S$16,B30),IF(AND($K$9=3,A30<15),SUMIFS($R$4:$R$8,$S$4:$S$8,B30),1))))))))","v":1},null,null,null,"","",{"$f":"IF($K$9>0,IF(SUM($K$11:$K30,$I$6)<0,TEXT(-(SUM($K$11:K30,$I$6)/60)/24,\"-[h]:mm\"),TEXT((SUM($K$11:K30,$I$6)/60)/24,\"[h]:mm\")),\"\")","v":""},null,"",0,0,null,{"$f":"IF(OR($O$3=\"\",$N$3=\"\",N30=\"\"),\"\",IF($O$9-SUM($N$11:N29)-N30<0,TEXT(-(($O$9-SUM($N$11:N29)-N30)/24),\"-[hh]:mm\"),TEXT(($O$9-SUM($N$11:N29)-N30)/24,\"[hh]:mm\")))","v":""},null,""]
["","",{"$f":"IF(OR($K$9=0,AND($K$9=2,A31<=14)),1,IF(IF(ISNA(INDEX(X!$W$7:$W$20,MATCH(DATE($D$4,$C$4,A31),X!$AC$7:$AC$20,0))),1,2)=2,2,IF(OR(B31=\"Sa\",B31=\"So\"),2,IF($K$9=1,SUMIFS($R$4:$R$8,$S$4:$S$8,B31),IF(AND($K$9=2,A31<15),SUMIFS($R$4:$R$8,$S$4:$S$8,B31),IF(AND($K$9=2,A31>14),SUMIFS($R$12:$R$16,$S$12:$S$16,B31),IF(AND($K$9=3,A31>14),SUMIFS($R$12:$R$16,$S$12:$S$16,B31),IF(AND($K$9=3,A31<15),SUMIFS($R$4:$R$8,$S$4:$S$8,B31),1))))))))","v":1},null,null,null,"","",{"$f":"IF($K$9>0,IF(SUM($K$11:$K31,$I$6)<0,TEXT(-(SUM($K$11:K31,$I$6)/60)/24,\"-[h]:mm\"),TEXT((SUM($K$11:K31,$I$6)/60)/24,\"[h]:mm\")),\"\")","v":""},null,"",0,0,null,{"$f":"IF(OR($O$3=\"\",$N$3=\"\",N31=\"\"),\"\",IF($O$9-SUM($N$11:N30)-N31<0,TEXT(-(($O$9-SUM($N$11:N30)-N31)/24),\"-[hh]:mm\"),TEXT(($O$9-SUM($N$11:N30)-N31)/24,\"[hh]:mm\")))","v":""},null,""]
["","",{"$f":"IF(OR($K$9=0,AND($K$9=2,A32<=14)),1,IF(IF(ISNA(INDEX(X!$W$7:$W$20,MATCH(DATE($D$4,$C$4,A32),X!$AC$7:$AC$20,0))),1,2)=2,2,IF(OR(B32=\"Sa\",B32=\"So\"),2,IF($K$9=1,SUMIFS($R$4:$R$8,$S$4:$S$8,B32),IF(AND($K$9=2,A32<15),SUMIFS($R$4:$R$8,$S$4:$S$8,B32),IF(AND($K$9=2,A32>14),SUMIFS($R$12:$R$16,$S$12:$S$16,B32),IF(AND($K$9=3,A32>14),SUMIFS($R$12:$R$16,$S$12:$S$16,B32),IF(AND($K$9=3,A32<15),SUMIFS($R$4:$R$8,$S$4:$S$8,B32),1))))))))","v":1},null,null,null,"","",{"$f":"IF($K$9>0,IF(SUM($K$11:$K32,$I$6)<0,TEXT(-(SUM($K$11:K32,$I$6)/60)/24,\"-[h]:mm\"),TEXT((SUM($K$11:K32,$I$6)/60)/24,\"[h]:mm\")),\"\")","v":""},null,"",0,0,null,{"$f":"IF(OR($O$3=\"\",$N$3=\"\",N32=\"\"),\"\",IF($O$9-SUM($N$11:N31)-N32<0,TEXT(-(($O$9-SUM($N$11:N31)-N32)/24),\"-[hh]:mm\"),TEXT(($O$9-SUM($N$11:N31)-N32)/24,\"[hh]:mm\")))","v":""},null,""]
["","",{"$f":"IF(OR($K$9=0,AND($K$9=2,A33<=14)),1,IF(IF(ISNA(INDEX(X!$W$7:$W$20,MATCH(DATE($D$4,$C$4,A33),X!$AC$7:$AC$20,0))),1,2)=2,2,IF(OR(B33=\"Sa\",B33=\"So\"),2,IF($K$9=1,SUMIFS($R$4:$R$8,$S$4:$S$8,B33),IF(AND($K$9=2,A33<15),SUMIFS($R$4:$R$8,$S$4:$S$8,B33),IF(AND($K$9=2,A33>14),SUMIFS($R$12:$R$16,$S$12:$S$16,B33),IF(AND($K$9=3,A33>14),SUMIFS($R$12:$R$16,$S$12:$S$16,B33),IF(AND($K$9=3,A33<15),SUMIFS($R$4:$R$8,$S$4:$S$8,B33),1))))))))","v":1},null,null,null,"","",{"$f":"IF($K$9>0,IF(SUM($K$11:$K33,$I$6)<0,TEXT(-(SUM($K$11:K33,$I$6)/60)/24,\"-[h]:mm\"),TEXT((SUM($K$11:K33,$I$6)/60)/24,\"[h]:mm\")),\"\")","v":""},null,"",0,0,null,{"$f":"IF(OR($O$3=\"\",$N$3=\"\",N33=\"\"),\"\",IF($O$9-SUM($N$11:N32)-N33<0,TEXT(-(($O$9-SUM($N$11:N32)-N33)/24),\"-[hh]:mm\"),TEXT(($O$9-SUM($N$11:N32)-N33)/24,\"[hh]:mm\")))","v":""},null,""]
["","",{"$f":"IF(OR($K$9=0,AND($K$9=2,A34<=14)),1,IF(IF(ISNA(INDEX(X!$W$7:$W$20,MATCH(DATE($D$4,$C$4,A34),X!$AC$7:$AC$20,0))),1,2)=2,2,IF(OR(B34=\"Sa\",B34=\"So\"),2,IF($K$9=1,SUMIFS($R$4:$R$8,$S$4:$S$8,B34),IF(AND($K$9=2,A34<15),SUMIFS($R$4:$R$8,$S$4:$S$8,B34),IF(AND($K$9=2,A34>14),SUMIFS($R$12:$R$16,$S$12:$S$16,B34),IF(AND($K$9=3,A34>14),SUMIFS($R$12:$R$16,$S$12:$S$16,B34),IF(AND($K$9=3,A34<15),SUMIFS($R$4:$R$8,$S$4:$S$8,B34),1))))))))","v":1},null,null,null,"","",{"$f":"IF($K$9>0,IF(SUM($K$11:$K34,$I$6)<0,TEXT(-(SUM($K$11:K34,$I$6)/60)/24,\"-[h]:mm\"),TEXT((SUM($K$11:K34,$I$6)/60)/24,\"[h]:mm\")),\"\")","v":""},null,"",0,0,null,{"$f":"IF(OR($O$3=\"\",$N$3=\"\",N34=\"\"),\"\",IF($O$9-SUM($N$11:N33)-N34<0,TEXT(-(($O$9-SUM($N$11:N33)-N34)/24),\"-[hh]:mm\"),TEXT(($O$9-SUM($N$11:N33)-N34)/24,\"[hh]:mm\")))","v":""},null,""]
["","",{"$f":"IF(OR($K$9=0,AND($K$9=2,A35<=14)),1,IF(IF(ISNA(INDEX(X!$W$7:$W$20,MATCH(DATE($D$4,$C$4,A35),X!$AC$7:$AC$20,0))),1,2)=2,2,IF(OR(B35=\"Sa\",B35=\"So\"),2,IF($K$9=1,SUMIFS($R$4:$R$8,$S$4:$S$8,B35),IF(AND($K$9=2,A35<15),SUMIFS($R$4:$R$8,$S$4:$S$8,B35),IF(AND($K$9=2,A35>14),SUMIFS($R$12:$R$16,$S$12:$S$16,B35),IF(AND($K$9=3,A35>14),SUMIFS($R$12:$R$16,$S$12:$S$16,B35),IF(AND($K$9=3,A35<15),SUMIFS($R$4:$R$8,$S$4:$S$8,B35),1))))))))","v":1},null,null,null,"","",{"$f":"IF($K$9>0,IF(SUM($K$11:$K35,$I$6)<0,TEXT(-(SUM($K$11:K35,$I$6)/60)/24,\"-[h]:mm\"),TEXT((SUM($K$11:K35,$I$6)/60)/24,\"[h]:mm\")),\"\")","v":""},null,"",0,0,null,{"$f":"IF(OR($O$3=\"\",$N$3=\"\",N35=\"\"),\"\",IF($O$9-SUM($N$11:N34)-N35<0,TEXT(-(($O$9-SUM($N$11:N34)-N35)/24),\"-[hh]:mm\"),TEXT(($O$9-SUM($N$11:N34)-N35)/24,\"[hh]:mm\")))","v":""},null,""]
["","",{"$f":"IF(OR($K$9=0,AND($K$9=2,A36<=14)),1,IF(IF(ISNA(INDEX(X!$W$7:$W$20,MATCH(DATE($D$4,$C$4,A36),X!$AC$7:$AC$20,0))),1,2)=2,2,IF(OR(B36=\"Sa\",B36=\"So\"),2,IF($K$9=1,SUMIFS($R$4:$R$8,$S$4:$S$8,B36),IF(AND($K$9=2,A36<15),SUMIFS($R$4:$R$8,$S$4:$S$8,B36),IF(AND($K$9=2,A36>14),SUMIFS($R$12:$R$16,$S$12:$S$16,B36),IF(AND($K$9=3,A36>14),SUMIFS($R$12:$R$16,$S$12:$S$16,B36),IF(AND($K$9=3,A36<15),SUMIFS($R$4:$R$8,$S$4:$S$8,B36),1))))))))","v":1},null,null,null,"","",{"$f":"IF($K$9>0,IF(SUM($K$11:$K36,$I$6)<0,TEXT(-(SUM($K$11:K36,$I$6)/60)/24,\"-[h]:mm\"),TEXT((SUM($K$11:K36,$I$6)/60)/24,\"[h]:mm\")),\"\")","v":""},null,"",0,0,null,{"$f":"IF(OR($O$3=\"\",$N$3=\"\",N36=\"\"),\"\",IF($O$9-SUM($N$11:N35)-N36<0,TEXT(-(($O$9-SUM($N$11:N35)-N36)/24),\"-[hh]:mm\"),TEXT(($O$9-SUM($N$11:N35)-N36)/24,\"[hh]:mm\")))","v":""},null,""]
["","",{"$f":"IF(OR($K$9=0,AND($K$9=2,A37<=14)),1,IF(IF(ISNA(INDEX(X!$W$7:$W$20,MATCH(DATE($D$4,$C$4,A37),X!$AC$7:$AC$20,0))),1,2)=2,2,IF(OR(B37=\"Sa\",B37=\"So\"),2,IF($K$9=1,SUMIFS($R$4:$R$8,$S$4:$S$8,B37),IF(AND($K$9=2,A37<15),SUMIFS($R$4:$R$8,$S$4:$S$8,B37),IF(AND($K$9=2,A37>14),SUMIFS($R$12:$R$16,$S$12:$S$16,B37),IF(AND($K$9=3,A37>14),SUMIFS($R$12:$R$16,$S$12:$S$16,B37),IF(AND($K$9=3,A37<15),SUMIFS($R$4:$R$8,$S$4:$S$8,B37),1))))))))","v":1},null,null,null,"","",{"$f":"IF($K$9>0,IF(SUM($K$11:$K37,$I$6)<0,TEXT(-(SUM($K$11:K37,$I$6)/60)/24,\"-[h]:mm\"),TEXT((SUM($K$11:K37,$I$6)/60)/24,\"[h]:mm\")),\"\")","v":""},null,"",0,0,null,{"$f":"IF(OR($O$3=\"\",$N$3=\"\",N37=\"\"),\"\",IF($O$9-SUM($N$11:N36)-N37<0,TEXT(-(($O$9-SUM($N$11:N36)-N37)/24),\"-[hh]:mm\"),TEXT(($O$9-SUM($N$11:N36)-N37)/24,\"[hh]:mm\")))","v":""},null,""]
["","",{"$f":"IF(OR($K$9=0,AND($K$9=2,A38<=14)),1,IF(IF(ISNA(INDEX(X!$W$7:$W$20,MATCH(DATE($D$4,$C$4,A38),X!$AC$7:$AC$20,0))),1,2)=2,2,IF(OR(B38=\"Sa\",B38=\"So\"),2,IF($K$9=1,SUMIFS($R$4:$R$8,$S$4:$S$8,B38),IF(AND($K$9=2,A38<15),SUMIFS($R$4:$R$8,$S$4:$S$8,B38),IF(AND($K$9=2,A38>14),SUMIFS($R$12:$R$16,$S$12:$S$16,B38),IF(AND($K$9=3,A38>14),SUMIFS($R$12:$R$16,$S$12:$S$16,B38),IF(AND($K$9=3,A38<15),SUMIFS($R$4:$R$8,$S$4:$S$8,B38),1))))))))","v":1},null,null,null,"","",{"$f":"IF($K$9>0,IF(SUM($K$11:$K38,$I$6)<0,TEXT(-(SUM($K$11:K38,$I$6)/60)/24,\"-[h]:mm\"),TEXT((SUM($K$11:K38,$I$6)/60)/24,\"[h]:mm\")),\"\")","v":""},null,"",0,0,null,{"$f":"IF(OR($O$3=\"\",$N$3=\"\",N38=\"\"),\"\",IF($O$9-SUM($N$11:N37)-N38<0,TEXT(-(($O$9-SUM($N$11:N37)-N38)/24),\"-[hh]:mm\"),TEXT(($O$9-SUM($N$11:N37)-N38)/24,\"[hh]:mm\")))","v":""},null,""]
["",{"$f":"IF(OR(A39=\"\",$D$4=\"\"),\"\",TEXT(DATE($D$4,$C$4,A39),\"ttt\"))","v":""},{"$f":"IF(OR($K$9=0,AND($K$9=2,A39<=14)),1,IF(IF(ISNA(INDEX(X!$W$7:$W$20,MATCH(DATE($D$4,$C$4,A39),X!$AC$7:$AC$20,0))),1,2)=2,2,IF(OR(B39=\"Sa\",B39=\"So\"),2,IF($K$9=1,SUMIFS($R$4:$R$8,$S$4:$S$8,B39),IF(AND($K$9=2,A39<15),SUMIFS($R$4:$R$8,$S$4:$S$8,B39),IF(AND($K$9=2,A39>14),SUMIFS($R$12:$R$16,$S$12:$S$16,B39),IF(AND($K$9=3,A39>14),SUMIFS($R$12:$R$16,$S$12:$S$16,B39),IF(AND($K$9=3,A39<15),SUMIFS($R$4:$R$8,$S$4:$S$8,B39),1))))))))","v":1},null,null,null,"","",{"$f":"IF($K$9>0,IF(SUM($K$11:$K39,$I$6)<0,TEXT(-(SUM($K$11:K39,$I$6)/60)/24,\"-[h]:mm\"),TEXT((SUM($K$11:K39,$I$6)/60)/24,\"[h]:mm\")),\"\")","v":""},null,"",0,0,null,{"$f":"IF(OR($O$3=\"\",$N$3=\"\",N39=\"\"),\"\",IF($O$9-SUM($N$11:N38)-N39<0,TEXT(-(($O$9-SUM($N$11:N38)-N39)/24),\"-[hh]:mm\"),TEXT(($O$9-SUM($N$11:N38)-N39)/24,\"[hh]:mm\")))","v":""},null,""]
["",{"$f":"IF(OR(A40=\"\",$D$4=\"\"),\"\",TEXT(DATE($D$4,$C$4,A40),\"ttt\"))","v":""},{"$f":"IF(OR($K$9=0,AND($K$9=2,A40<=14)),1,IF(IF(ISNA(INDEX(X!$W$7:$W$20,MATCH(DATE($D$4,$C$4,A40),X!$AC$7:$AC$20,0))),1,2)=2,2,IF(OR(B40=\"Sa\",B40=\"So\"),2,IF($K$9=1,SUMIFS($R$4:$R$8,$S$4:$S$8,B40),IF(AND($K$9=2,A40<15),SUMIFS($R$4:$R$8,$S$4:$S$8,B40),IF(AND($K$9=2,A40>14),SUMIFS($R$12:$R$16,$S$12:$S$16,B40),IF(AND($K$9=3,A40>14),SUMIFS($R$12:$R$16,$S$12:$S$16,B40),IF(AND($K$9=3,A40<15),SUMIFS($R$4:$R$8,$S$4:$S$8,B40),1))))))))","v":1},null,null,null,"","",{"$f":"IF($K$9>0,IF(SUM($K$11:$K40,$I$6)<0,TEXT(-(SUM($K$11:K40,$I$6)/60)/24,\"-[h]:mm\"),TEXT((SUM($K$11:K40,$I$6)/60)/24,\"[h]:mm\")),\"\")","v":""},null,"",0,0,null,{"$f":"IF(OR($O$3=\"\",$N$3=\"\",N40=\"\"),\"\",IF($O$9-SUM($N$11:N39)-N40<0,TEXT(-(($O$9-SUM($N$11:N39)-N40)/24),\"-[hh]:mm\"),TEXT(($O$9-SUM($N$11:N39)-N40)/24,\"[hh]:mm\")))","v":""},null,""]
["","",{"$f":"IF(OR($K$9=0,AND($K$9=2,A41<=14)),1,IF(IF(ISNA(INDEX(X!$W$7:$W$20,MATCH(DATE($D$4,$C$4,A41),X!$AC$7:$AC$20,0))),1,2)=2,2,IF(OR(B41=\"Sa\",B41=\"So\"),2,IF($K$9=1,SUMIFS($R$4:$R$8,$S$4:$S$8,B41),IF(AND($K$9=2,A41<15),SUMIFS($R$4:$R$8,$S$4:$S$8,B41),IF(AND($K$9=2,A41>14),SUMIFS($R$12:$R$16,$S$12:$S$16,B41),IF(AND($K$9=3,A41>14),SUMIFS($R$12:$R$16,$S$12:$S$16,B41),IF(AND($K$9=3,A41<15),SUMIFS($R$4:$R$8,$S$4:$S$8,B41),1))))))))","v":1},null,null,null,"","",{"$f":"IF($K$9>0,IF(SUM($K$11:$K41,$I$6)<0,TEXT(-(SUM($K$11:K41,$I$6)/60)/24,\"-[h]:mm\"),TEXT((SUM($K$11:K41,$I$6)/60)/24,\"[h]:mm\")),\"\")","v":""},null,"",0,0,null,{"$f":"IF(OR($O$3=\"\",$N$3=\"\",N41=\"\"),\"\",IF($O$9-SUM($N$11:N40)-N41<0,TEXT(-(($O$9-SUM($N$11:N40)-N41)/24),\"-[hh]:mm\"),TEXT(($O$9-SUM($N$11:N40)-N41)/24,\"[hh]:mm\")))","v":""},null,""]
[null,null,null,null,null,null,{"$f":"L42+K42","v":0},{"$f":"K42","v":0},null,null,{"$f":"SUM(K11:K41)","v":0},{"$f":"-SUM(L11:L41)","v":0},{"$f":"M41","v":0},{"$f":"SUM(N11:N41)*60","v":0},null,null,{"$f":"IF((G42/60)<0,TEXT(-((G42/60)/24),\"-[hh]:mm\"),TEXT((G42/60)/24,\"[hh]:mm\"))","v":"00:00"}]
[{"$f":"IF(G4=\"\",\"\",\"Ergebnis\")","v":""},null,null,null,null,null,{"$f":"IF(G4=\"\",0,IF(((G42-N42)/60)<0,TEXT(-(((G42-N42)/60)/24),\"-[hh]:mm\"),TEXT(((G42-N42)/60)/24,\"[hh]:mm\")))","v":0},{"$f":"IF(G4=0,\"\",IF(H42<0,TEXT(-((H42/60)/24),\"-[hh]:mm\"),IF((H42/60)>24,TEXT((((H42/60)-24)/24)+(24/24),\"[hh]:mm\"),(H42/60)/24)))","v":0},{"$f":"IF($K$9>0,IF(SUM(I6,K43)<0,TEXT(-(SUM(I6,K43)/60)/24,\"-[h]:mm\"),TEXT((SUM(I6,K43)/60)/24,\"[h]:mm\")),\"\")","v":""},null,{"$f":"IF(L42<>L43,G42-L43,K42)","v":0},{"$f":"IF(AND(K9=1,SUM(U4:U8)<>H9),((H9/5)*COUNTIFS(C11:C41,\"<>\"&2,F11:F41,\"\"))*60,IF(AND(K9=2,SUM(U12:U16)<>I9),((I9/5)*COUNTIFS(C11:C41,\"<>\"&2,F11:F41,\"\"))*60,IF(AND(K9=3,OR(SUM(U4:U8)<>H9,SUM(U12:U16)<>I9)),SUM(IF(SUM(U4:U8)<>H9,((H9/5)*COUNTIFS(C11:C41,\"<>\"&2,A11:A41,\"<\"&15,F11:F41,\"\"))*60,-SUMIFS(L11:L41,A11:A41,\"<\"&15,F11:F41,\"\")),IF(SUM(U12:U16)<>I9,((I9/5)*COUNTIFS(C11:C41,\"<>\"&2,A11:A41,\">\"&14,F11:F41,\"\"))*60,-SUMIFS(L11:L41,A11:A41,\">\"&14,F11:F41,\"\"))),-SUM(L11:L41))))","v":0},null,{"$f":"IF(N42<0,TEXT(-((N42/60)/24),\"-[hh]:mm\"),TEXT((N42/60)/24,\"[hh]:mm\"))","v":"00:00"},{"$f":"IF(O9-SUM(N11:N41)<0,TEXT(-(O9-SUM(N11:N41))/24,\"-[h]:mm\"),TEXT((O9-SUM(N11:N41))/24,\"[h]:mm\"))","v":{"$error":"#VALUE!"}},null,{"$f":"Q42","v":"00:00"}]
[{"$f":"IF(G4=\"\",\"\",\"Saldo / Übertrag:\")","v":""},null,null,null,null,null,null,null,{"$f":"I43","v":""},{"$f":"IF(K42<>K43,\"automatische Nachberechnung der Sollarbeitszeit, da wöchentlicher Stundenumfang nicht eingehalten wurde.\",\"\")","v":""},{"$f":"K43+I6","v":0},"Übertrag"]
[]
[{"$f":"IF(I46=\"\",\"\",\"Korrektur der Stunden\")","v":""},null,null,null,null,null,null,null,{"$f":"IF(K9>0,IF(K42-K43<>0,IF(K43-K42<0,TEXT(-((K43-K42)/60)/24,\"-[h]:mm\"),TEXT(((K43-K42)/60)/24,\"[h]:mm\")),\"\"),\"\")","v":""}]
[]
[]
[]
[]
[]
[]
[]
[]
[]
[]
[{"$f":"D4","v":""},{"$f":"C4","v":4},{"$f":"Uebersicht!A4","v":0},{"$f":"Uebersicht!B4","v":0},{"$f":"L43","v":0},{"$f":"K42","v":0},{"$f":"K43","v":0},{"$f":"M10","v":0},{"$f":"M42","v":0}]

{"sheet":"Mai","index":5,"n_rows":57,"n_cols":22,"rows_kept":57,"cut":false,"hidden":false,"merged":[[8,18,8,19],[9,18,9,20],[16,18,16,19],[42,0,42,5],[3,13,4,15],[5,13,5,15],[6,0,7,4],[6,5,7,5],[6,6,7,7],[6,8,7,8],[6,9,7,9],[6,13,7,15],[3,0,4,1],[3,2,4,2],[3,3,4,4],[3,5,4,5],[43,0,44,7],[43,8,44,8],[43,9,46,9],[45,0,45,7],[1,0,2,8],[3,6,4,9]]}
["Zeiterfassungsbogen für studentische Hilfskräfte | International Office",null,null,null,null,null,null,null,null,null,null,null,null,null,null,null,null,null,null,null,null,"\"nein\" auswählen, wenn keine festen Tage mehr gelten sollen!"]
[{"$f":"IF(Uebersicht!A4=\"\",\"\",CONCATENATE(Uebersicht!B4,\" \",Uebersicht!A4))","v":""}]
[null,null,null,null,null,null,null,null,null,null,null,null,null,{"$f":"INDEX(Uebersicht!AO5:AQ28,MATCH(C4,Uebersicht!AO5:AO28,0),3)","v":0},{"$f":"INDEX(Uebersicht!AO5:AQ28,MATCH(C4+0.5,Uebersicht!AO5:AO28,0),3)","v":0},null,null,null,"Tag","h"]
[{"$f":"IF(D4=\"\",\"\",TEXT(DATE(D4,C4,1),\"MMM\"))","v":""},null,5,{"$f":"Uebersicht!I1","v":""},null,null,{"$f":"IF(INDEX(Uebersicht!AO31:AQ42,MATCH(C4,Uebersicht!AO31:AO43,0),2)=0,\"\",INDEX(Uebersicht!AO31:AQ42,MATCH(C4,Uebersicht!AO31:AO43,0),2))","v":""},null,null,null,null,null,null,{"$f":"INDEX(Uebersicht!AO31:AQ42,MATCH(C4,Uebersicht!AO31:AO43,0),3)","v":0},null,null,null,{"$f":"IF(OR($K$9=2,$K$9=0),1,IF(AND(OR($K$9=1,$K$9=3),OR(SUM($U$4:$U$8)=0,$U$1=\"nein\")),3,IF(AND($U$1=\"\",SUM($U$4:$U$8)>0,U4>=1,OR($K$9=3,$K$9=1)),4,1)))","v":1},"Mo",null,{"$f":"IF(AND(H9=0,I9=0),0,IF(OR($K$9=0,INDIRECT(\"'\"&TEXT(DATE(D4,$C$4-1,1),\"MMM\")&\"'!$U$1\")=\"nein\",$U$1=\"nein\"),0,IF(T4>0,T4,INDEX(Uebersicht!$BA$3:$BE$14,$C$4,MATCH(S4,Uebersicht!$BA$2:$BE$2,0)))))","v":0}]
[null,null,null,null,null,null,null,null,null,null,null,null,null,null,null,null,null,{"$f":"IF(OR($K$9=2,$K$9=0),1,IF(AND(OR($K$9=1,$K$9=3),OR(SUM($U$4:$U$8)=0,$U$1=\"nein\")),3,IF(AND($U$1=\"\",SUM($U$4:$U$8)>0,U5>=1,OR($K$9=3,$K$9=1)),4,1)))","v":1},"Di",null,{"$f":"IF(OR($K$9=0,INDIRECT(\"'\"&TEXT(DATE(D5,$C$4-1,1),\"MMM\")&\"'!$U$1\")=\"nein\",$U$1=\"nein\"),0,IF(T5>0,T5,INDEX(Uebersicht!$BA$3:$BE$14,$C$4,MATCH(S5,Uebersicht!$BA$2:$BE$2,0))))","v":0}]
[null,null,{"$f":"DAY(DATE(D4,C4+1,1)-1)","v":{"$error":"#VALUE!"}},null,null,null,null,{"$f":"IF(N4=0,\"\",\"Arbeitsgebiet 1\")","v":""},{"$f":"IF(AND(I9=0,H9=0),0,IF(C4-1=0,Uebersicht!G4,INDIRECT(\"'\"&TEXT(DATE(D4,C4-1,1),\"MMM\")&\"'!K44\")))","v":0},null,"nein",null,null,{"$f":"IF(N4=\"\",\"\",\"Arbeitsgebiet 2\")","v":"Arbeitsgebiet 2"},null,null,null,{"$f":"IF(OR($K$9=2,$K$9=0),1,IF(AND(OR($K$9=1,$K$9=3),OR(SUM($U$4:$U$8)=0,$U$1=\"nein\")),3,IF(AND($U$1=\"\",SUM($U$4:$U$8)>0,U6>=1,OR($K$9=3,$K$9=1)),4,1)))","v":1},"Mi",null,{"$f":"IF(OR($K$9=0,INDIRECT(\"'\"&TEXT(DATE(D6,$C$4-1,1),\"MMM\")&\"'!$U$1\")=\"nein\",$U$1=\"nein\"),0,IF(T6>0,T6,INDEX(Uebersicht!$BA$3:$BE$14,$C$4,MATCH(S6,Uebersicht!$BA$2:$BE$2,0))))","v":0}]
[{"$f":"IF(AND(H9>0,I9=0),CONCATENATE(H9,\" Wochenarbeitszeit (h)\"),IF(AND(H9=0,I9>0),CONCATENATE(I9,\" Wochenarbeitszeit (h)\"),IF(AND(H9>0,I9>0,H9<>I9),CONCATENATE(H9,\" h, ab 15. \",TEXT(DATE(D4,C4,1),\"MMMM\"),\" \",I9,\"h\"),\"\")))","v":""},null,null,null,null,{"$f":"IF(G4=\"\",\"\",IF(M42/60>0,TEXT((M42/60)/24,\"[h]:mm\"),0))","v":""},{"$f":"IF(F7=\"\",\"\",\"Urlaubsrest\")","v":""},null,{"$f":"IF(AND(YEAR(TODAY())=D4,MONTH(TODAY())>=C4,K9>0),IF(OR(I6=0,I6=\"\"),0,IF(I6<0,TEXT(-(I6/60)/24,\"-[h]:mm\"),TEXT((I6/60)/24,\"[h]:mm\"))),\"\")","v":""},{"$f":"IF(I7=\"\",\"\",CONCATENATE(\"h Übertrag aus \",IF(C6=1,\"Vorjahr\",\"Vormonat\")))","v":""},"Urlaub",null,null,{"$f":"IF(AND(N3>0,O3=0),CONCATENATE(N3,\" Stunden - Anteil pro Woche\"),IF(AND(N3=0,O3>0),CONCATENATE(O3,\" Stunden - Anteil pro Woche\"),IF(AND(N3>0,O3>0,O3<>N3),CONCATENATE(N3,\" h, ab 15. \",TEXT(DATE(D4,C4,1),\"MMMM\"),\" \",O3,\"h\"),IF(N3=O3,CONCATENATE(N3,\" Stunden - Anteil pro Woche\"),\"\"))))","v":"0 Stunden - Anteil pro Woche"},null,null,null,{"$f":"IF(OR($K$9=2,$K$9=0),1,IF(AND(OR($K$9=1,$K$9=3),OR(SUM($U$4:$U$8)=0,$U$1=\"nein\")),3,IF(AND($U$1=\"\",SUM($U$4:$U$8)>0,U7>=1,OR($K$9=3,$K$9=1)),4,1)))","v":1},"Do",null,{"$f":"IF(OR($K$9=0,INDIRECT(\"'\"&TEXT(DATE(D7,$C$4-1,1),\"MMM\")&\"'!$U$1\")=\"nein\",$U$1=\"nein\"),0,IF(T7>0,T7,INDEX(Uebersicht!$BA$3:$BE$14,$C$4,MATCH(S7,Uebersicht!$BA$2:$BE$2,0))))","v":0}]
[null,null,null,null,null,null,null,null,null,null,"Krank",null,null,null,null,null,null,{"$f":"IF(OR($K$9=2,$K$9=0),1,IF(AND(OR($K$9=1,$K$9=3),OR(SUM($U$4:$U$8)=0,$U$1=\"nein\")),3,IF(AND($U$1=\"\",SUM($U$4:$U$8)>0,U8>=1,OR($K$9=3,$K$9=1)),4,1)))","v":1},"Fr",null,{"$f":"IF(OR($K$9=0,INDIRECT(\"'\"&TEXT(DATE(D8,$C$4-1,1),\"MMM\")&\"'!$U$1\")=\"nein\",$U$1=\"nein\"),0,IF(T8>0,T8,INDEX(Uebersicht!$BA$3:$BE$14,$C$4,MATCH(S8,Uebersicht!$BA$2:$BE$2,0))))","v":0}]
[null,null,null,null,null,null,null,{"$f":"INDEX(Uebersicht!AU3:AW14,C4,2)","v":0},{"$f":"IF(INDEX(Uebersicht!AU3:AW14,C4,3)=H9,0,INDEX(Uebersicht!AU3:AW14,C4,3))","v":0},null,{"$f":"IF(AND(H9>0,I9=0),1,IF(AND(H9=0,I9>0),2,IF(AND(H9=0,I9=0),0,IF(H9<>I9,3,\"\"))))","v":0},null,null,null,{"$f":"IF(OR(N3>0,O3>0),IF(OR(K9=1,K9=2),(IF(K9=1,N3,IF(K9=2,O2,0))/5)*NETWORKDAYS(IF(K9=1,DATE(D4,C4,1),IF(K9=2,DATE(D4,C4,15),0)),IF(OR(K9=1,K9=2),DATE(D4,C4,MAX(A11:A41)),0),COUNTIFS(C11:C41,\"<>\"&2)),IF(K9=3,SUM(IF(N3>0,(N3/5)*NETWORKDAYS(DATE(D4,C4,1),DATE(D4,C4,14),2),0),IF(O3>0,(O3/5)*NETWORKDAYS(DATE(D4,C4,15),DATE(D4,C4,MAX(A11:A41)),2),0)),0)),\"\")","v":""},null,null,null,{"$f":"IF(SUM(U4:U8)=0,\"\",IF(SUM(U4:U8)>H9,\"zu viel!\",IF(SUM(U4:U8)<H9,\"zu wenig!\",\"\")))","v":""},null,{"$f":"IF(OR(U1=\"nein\",SUM(U4:U8)=0),\"ja\",IF(OR(SUM(Uebersicht!C36:C40)>0,SUM(T4:T8)>0,SUM(U4:U8)>0),\"nein\",\"ja\"))","v":"ja"}]
["Tag",null,null,"Beginn","Ende","Urlaub\nKrank","Stunden","Mehr/\nMinder","Saldo\nsummiert","Bemerkungen","Differenz","Soll",{"$f":"IF(AND(I9=0,H9=0),0,IF(C4-1=0,IF(Uebersicht!E8=\"\",0,Uebersicht!E8*60),INDIRECT(\"'\"&TEXT(DATE(D4,C4-1,1),\"MMM\")&\"'!M42\")))","v":0},"Stunden","Rest","Bemerkungen","Gesamt",null,"Änderung im laufenden Monat"]
[1,{"$f":"IF(OR(A11=\"\",$D$4=\"\"),\"\",TEXT(DATE($D$4,$C$4,A11),\"ttt\"))","v":""},{"$f":"IF(OR($K$9=0,AND($K$9=2,A11<=14)),1,IF(IF(ISNA(INDEX(X!$W$7:$W$20,MATCH(DATE($D$4,$C$4,A11),X!$AC$7:$AC$20,0))),1,2)=2,2,IF(OR(B11=\"Sa\",B11=\"So\"),2,IF($K$9=1,SUMIFS($R$4:$R$8,$S$4:$S$8,B11),IF(AND($K$9=2,A11<15),SUMIFS($R$4:$R$8,$S$4:$S$8,B11),IF(AND($K$9=2,A11>14),SUMIFS($R$12:$R$16,$S$12:$S$16,B11),IF(AND($K$9=3,A11>14),SUMIFS($R$12:$R$16,$S$12:$S$16,B11),IF(AND($K$9=3,A11<15),SUMIFS($R$4:$R$8,$S$4:$S$8,B11),1))))))))","v":1},null,null,null,{"$f":"IF(AND(D11=\"\",E11=\"\"),\"\",IF(N11=\"\",IF(((HOUR(E11)*60+MINUTE(E11))-(HOUR(D11)*60+MINUTE(D11)))>360,TEXT(((((HOUR(E11)*60+MINUTE(E11))-(HOUR(D11)*60+MINUTE(D11)))-30)/60)/24,\"[h]:mm\"),TEXT((((HOUR(E11)*60+MINUTE(E11))-(HOUR(D11)*60+MINUTE(D11)))/60)/24,\"[h]:mm\")),IF((((HOUR(E11)*60+MINUTE(E11))-(HOUR(D11)*60+MINUTE(D11)))-N11)>360,TEXT(((((((HOUR(E11)*60+MINUTE(E11))-(HOUR(D11)*60+MINUTE(D11)))-30))/60)-N11)/24,\"[h]:mm\"),TEXT(((((HOUR(E11)*60+MINUTE(E11))-(HOUR(D11)*60+MINUTE(D11)))/60)-N11)/24,\"[h]:mm\"))))","v":""},{"$f":"IF(K11=\"\",\"\",IF(TODAY()<=DATE($D$4,$C$4,A11),0,IF(K11>0,TEXT((K11/60)/24,\"[h]:mm\"),TEXT(-(K11/60)/24,\"-[h]:mm\"))))","v":""},{"$f":"IF($K$9>0,IF(SUM($K$11:$K11,I6)<0,TEXT(-(SUM($K$11:K11,I6)/60)/24,\"-[h]:mm\"),TEXT((SUM($K$11:K11,I6)/60)/24,\"[h]:mm\")),\"\")","v":""},null,{"$f":"IF(F11=\"\",IF(L11<0,L11+IF(G11=\" \",0,IF(((HOUR(E11)*60+MINUTE(E11))-(HOUR(D11)*60+MINUTE(D11)))>360,(HOUR(E11)*60+MINUTE(E11))-(HOUR(D11)*60+MINUTE(D11))-30,(HOUR(E11)*60+MINUTE(E11))-(HOUR(D11)*60+MINUTE(D11)))),IF(Q11=\"\",\"\",(Q11*60)*24)),\"\")","v":""},{"$f":"IF(OR(F11=\"krank\",F11=\"Urlaub\",C11=1,C11=2),0,IF($K$9=1,IF(SUM($U$4:$U$8)=0,$H$9/5,INDEX($S$4:$U$8,MATCH(B11,$S$4:$S$8,0),3)),IF($K$9=2,IF(AND(A11>14,SUM($U$12:$U$16)=0),$I$9/5,INDEX($S$12:$U$16,MATCH(B11,$S$12:$S$16,0),3)),IF($K$9=3,IF(A11<15,IF(SUM($U$4:$U$8)=0,$H$9/5,INDEX($S$4:$U$8,MATCH(B11,$S$4:$S$8,0),3))),IF(A11>14,IF(SUM($U$12:$U$16)=0,$I$9/5,INDEX($S$12:$U$16,MATCH(B11,$S$12:$S$16,0),3))))))*-60)","v":0},{"$f":"M10-(IF(OR(C11=1,C11=2),0,IF(C11=3,IF(AND($K$9=1,F11=\"Urlaub\"),$H$9/5,IF($K$9=2,IF(AND(A11<15,F11=\"Urlaub\"),$I$9/5,IF(AND($K$9=3,A11<15,F11=\"Urlaub\"),$H$9/5,IF(AND($K$9=3,A11>14,F11=\"Urlaub\"),$I$9/5))))),IF(C11=4,IF(AND(F11=\"Urlaub\",$K$9=1),SUMIFS($U$4:$U$8,$S$4:$S$8,B11),IF(AND(F11=\"Urlaub\",$K$9=2,A11>14),SUMIFS($U$12:$U$16,$S$12:$S$16,B11),IF(AND(F11=\"Urlaub\",$K$9=3,A11<15),SUMIFS($U$4:$U$8,$S$4:$S$8,B11),IF(AND(F11=\"Urlaub\",$K$9=3,A11>14),SUMIFS($U$12:$U$16,$S$12:$S$16,B11),0)))))))*60)","v":0},null,{"$f":"IF(OR($O$3=\"\",$N$3=\"\",N11=\"\"),\"\",IF($O$9-SUM($N10:N$11)-N11<0,TEXT(-(($O$9-SUM($N10:N$11)-N11)/24),\"-[hh]:mm\"),TEXT(($O$9-SUM($N10:N$11)-N11)/24,\"[hh]:mm\")))","v":""},null,{"$f":"IF(AND(D11=\"\",E11=\"\"),\"\",IF(((HOUR(E11)*60+MINUTE(E11))-(HOUR(D11)*60+MINUTE(D11)))>360,TEXT(((((HOUR(E11)*60+MINUTE(E11))-(HOUR(D11)*60+MINUTE(D11)))-30)/60)/24,\"[h]:mm\"),TEXT((((HOUR(E11)*60+MINUTE(E11))-(HOUR(D11)*60+MINUTE(D11)))/60)/24,\"[h]:mm\")))","v":""}]
[{"$f":"IF(OR(A11=\"\",$D$4=\"\"),\"\",IF(A11+1<=$C$6,A11+1,\"\"))","v":""},"",{"$f":"IF(OR($K$9=0,AND($K$9=2,A12<=14)),1,IF(IF(ISNA(INDEX(X!$W$7:$W$20,MATCH(DATE($D$4,$C$4,A12),X!$AC$7:$AC$20,0))),1,2)=2,2,IF(OR(B12=\"Sa\",B12=\"So\"),2,IF($K$9=1,SUMIFS($R$4:$R$8,$S$4:$S$8,B12),IF(AND($K$9=2,A12<15),SUMIFS($R$4:$R$8,$S$4:$S$8,B12),IF(AND($K$9=2,A12>14),SUMIFS($R$12:$R$16,$S$12:$S$16,B12),IF(AND($K$9=3,A12>14),SUMIFS($R$12:$R$16,$S$12:$S$16,B12),IF(AND($K$9=3,A12<15),SUMIFS($R$4:$R$8,$S$4:$S$8,B12),1))))))))","v":1},null,null,null,"","",{"$f":"IF($K$9>0,IF(SUM($K$11:$K12,$I$6)<0,TEXT(-(SUM($K$11:K12,$I$6)/60)/24,\"-[h]:mm\"),TEXT((SUM($K$11:K12,$I$6)/60)/24,\"[h]:mm\")),\"\")","v":""},null,{"$f":"IF(F12=\"\",IF(L12<0,L12+IF(G12=\" \",0,IF(((HOUR(E12)*60+MINUTE(E12))-(HOUR(D12)*60+MINUTE(D12)))>360,(HOUR(E12)*60+MINUTE(E12))-(HOUR(D12)*60+MINUTE(D12))-30,(HOUR(E12)*60+MINUTE(E12))-(HOUR(D12)*60+MINUTE(D12)))),IF(Q12=\"\",\"\",(Q12*60)*24)),\"\")","v":""},{"$f":"IF(OR(F12=\"krank\",F12=\"Urlaub\",C12=1,C12=2),0,IF($K$9=1,IF(SUM($U$4:$U$8)=0,$H$9/5,INDEX($S$4:$U$8,MATCH(B12,$S$4:$S$8,0),3)),IF($K$9=2,IF(AND(A12>14,SUM($U$12:$U$16)=0),$I$9/5,INDEX($S$12:$U$16,MATCH(B12,$S$12:$S$16,0),3)),IF($K$9=3,IF(A12<15,IF(SUM($U$4:$U$8)=0,$H$9/5,INDEX($S$4:$U$8,MATCH(B12,$S$4:$S$8,0),3)),IF(SUM($U$12:$U$16)=0,$I$9/5,INDEX($S$12:$U$16,MATCH(B12,$S$12:$S$16,0),3)))))))*-60","v":0},0,null,{"$f":"IF(OR($O$3=\"\",$N$3=\"\",N12=\"\"),\"\",IF($O$9-SUM($N$11:N11)-N12<0,TEXT(-(($O$9-SUM($N$11:N11)-N12)/24),\"-[hh]:mm\"),TEXT(($O$9-SUM($N$11:N11)-N12)/24,\"[hh]:mm\")))","v":""},null,"",{"$f":"IF($K$9=0,1,IF($K$9=1,R4,IF(AND($K$9=3,OR(SUM($U$12:$U$16)=0,$U$1=\"nein\")),3,IF(AND($U$1=\"\",SUM($U$12:$U$16)>0,U12>=1,OR($K$9=3,$K$9=2)),4,1))))","v":1},"Mo",null,{"$f":"IF(AND(I9=0,H9=0),0,IF(OR($K$9=0,INDIRECT(\"'\"&TEXT(DATE(D4,$C$4-1,1),\"MMM\")&\"'!$U$1\")=\"nein\",$U$1=\"nein\"),0,IF(T12>0,T12,INDEX(Uebersicht!$BF$3:$BJ$14,$C$4,MATCH(S12,Uebersicht!$BF$2:$BJ$2,0)))))","v":0}]
[{"$f":"IF(OR(A12=\"\",$D$4=\"\"),\"\",IF(A12+1<=$C$6,A12+1,\"\"))","v":""},"",{"$f":"IF(OR($K$9=0,AND($K$9=2,A13<=14)),1,IF(IF(ISNA(INDEX(X!$W$7:$W$20,MATCH(DATE($D$4,$C$4,A13),X!$AC$7:$AC$20,0))),1,2)=2,2,IF(OR(B13=\"Sa\",B13=\"So\"),2,IF($K$9=1,SUMIFS($R$4:$R$8,$S$4:$S$8,B13),IF(AND($K$9=2,A13<15),SUMIFS($R$4:$R$8,$S$4:$S$8,B13),IF(AND($K$9=2,A13>14),SUMIFS($R$12:$R$16,$S$12:$S$16,B13),IF(AND($K$9=3,A13>14),SUMIFS($R$12:$R$16,$S$12:$S$16,B13),IF(AND($K$9=3,A13<15),SUMIFS($R$4:$R$8,$S$4:$S$8,B13),1))))))))","v":1},null,null,null,"","",{"$f":"IF($K$9>0,IF(SUM($K$11:$K13,$I$6)<0,TEXT(-(SUM($K$11:K13,$I$6)/60)/24,\"-[h]:mm\"),TEXT((SUM($K$11:K13,$I$6)/60)/24,\"[h]:mm\")),\"\")","v":""},null,"",0,0,null,{"$f":"IF(OR($O$3=\"\",$N$3=\"\",N13=\"\"),\"\",IF($O$9-SUM($N$11:N12)-N13<0,TEXT(-(($O$9-SUM($N$11:N12)-N13)/24),\"-[hh]:mm\"),TEXT(($O$9-SUM($N$11:N12)-N13)/24,\"[hh]:mm\")))","v":""},null,"",{"$f":"IF($K$9=0,1,IF($K$9=1,R5,IF(AND($K$9=3,OR(SUM($U$12:$U$16)=0,$U$1=\"nein\")),3,IF(AND($U$1=\"\",SUM($U$12:$U$16)>0,U13>=1,OR($K$9=3,$K$9=2)),4,1))))","v":1},"Di",null,{"$f":"IF(OR($K$9=0,INDIRECT(\"'\"&TEXT(DATE(D5,$C$4-1,1),\"MMM\")&\"'!$U$1\")=\"nein\",$U$1=\"nein\"),0,IF(T13>0,T13,INDEX(Uebersicht!$BF$3:$BJ$14,$C$4,MATCH(S13,Uebersicht!$BF$2:$BJ$2,0))))","v":0}]
["","",{"$f":"IF(OR($K$9=0,AND($K$9=2,A14<=14)),1,IF(IF(ISNA(INDEX(X!$W$7:$W$20,MATCH(DATE($D$4,$C$4,A14),X!$AC$7:$AC$20,0))),1,2)=2,2,IF(OR(B14=\"Sa\",B14=\"So\"),2,IF($K$9=1,SUMIFS($R$4:$R$8,$S$4:$S$8,B14),IF(AND($K$9=2,A14<15),SUMIFS($R$4:$R$8,$S$4:$S$8,B14),IF(AND($K$9=2,A14>14),SUMIFS($R$12:$R$16,$S$12:$S$16,B14),IF(AND($K$9=3,A14>14),SUMIFS($R$12:$R$16,$S$12:$S$16,B14),IF(AND($K$9=3,A14<15),SUMIFS($R$4:$R$8,$S$4:$S$8,B14),1))))))))","v":1},null,null,null,"","",{"$f":"IF($K$9>0,IF(SUM($K$11:$K14,$I$6)<0,TEXT(-(SUM($K$11:K14,$I$6)/60)/24,\"-[h]:mm\"),TEXT((SUM($K$11:K14,$I$6)/60)/24,\"[h]:mm\")),\"\")","v":""},null,"",0,0,null,{"$f":"IF(OR($O$3=\"\",$N$3=\"\",N14=\"\"),\"\",IF($O$9-SUM($N$11:N13)-N14<0,TEXT(-(($O$9-SUM($N$11:N13)-N14)/24),\"-[hh]:mm\"),TEXT(($O$9-SUM($N$11:N13)-N14)/24,\"[hh]:mm\")))","v":""},null,"",{"$f":"IF($K$9=0,1,IF($K$9=1,R6,IF(AND($K$9=3,OR(SUM($U$12:$U$16)=0,$U$1=\"nein\")),3,IF(AND($U$1=\"\",SUM($U$12:$U$16)>0,U14>=1,OR($K$9=3,$K$9=2)),4,1))))","v":1},"Mi",null,{"$f":"IF(OR($K$9=0,INDIRECT(\"'\"&TEXT(DATE(D6,$C$4-1,1),\"MMM\")&\"'!$U$1\")=\"nein\",$U$1=\"nein\"),0,IF(T14>0,T14,INDEX(Uebersicht!$BF$3:$BJ$14,$C$4,MATCH(S14,Uebersicht!$BF$2:$BJ$2,0))))","v":0}]
["","",{"$f":"IF(OR($K$9=0,AND($K$9=2,A15<=14)),1,IF(IF(ISNA(INDEX(X!$W$7:$W$20,MATCH(DATE($D$4,$C$4,A15),X!$AC$7:$AC$20,0))),1,2)=2,2,IF(OR(B15=\"Sa\",B15=\"So\"),2,IF($K$9=1,SUMIFS($R$4:$R$8,$S$4:$S$8,B15),IF(AND($K$9=2,A15<15),SUMIFS($R$4:$R$8,$S$4:$S$8,B15),IF(AND($K$9=2,A15>14),SUMIFS($R$12:$R$16,$S$12:$S$16,B15),IF(AND($K$9=3,A15>14),SUMIFS($R$12:$R$16,$S$12:$S$16,B15),IF(AND($K$9=3,A15<15),SUMIFS($R$4:$R$8,$S$4:$S$8,B15),1))))))))","v":1},null,null,null,"","",{"$f":"IF($K$9>0,IF(SUM($K$11:$K15,$I$6)<0,TEXT(-(SUM($K$11:K15,$I$6)/60)/24,\"-[h]:mm\"),TEXT((SUM($K$11:K15,$I$6)/60)/24,\"[h]:mm\")),\"\")","v":""},null,"",0,0,null,{"$f":"IF(OR($O$3=\"\",$N$3=\"\",N15=\"\"),\"\",IF($O$9-SUM($N$11:N14)-N15<0,TEXT(-(($O$9-SUM($N$11:N14)-N15)/24),\"-[hh]:mm\"),TEXT(($O$9-SUM($N$11:N14)-N15)/24,\"[hh]:mm\")))","v":""},null,"",{"$f":"IF($K$9=0,1,IF($K$9=1,R7,IF(AND($K$9=3,OR(SUM($U$12:$U$16)=0,$U$1=\"nein\")),3,IF(AND($U$1=\"\",SUM($U$12:$U$16)>0,U15>=1,OR($K$9=3,$K$9=2)),4,1))))","v":1},"Do",null,{"$f":"IF(OR($K$9=0,INDIRECT(\"'\"&TEXT(DATE(D7,$C$4-1,1),\"MMM\")&\"'!$U$1\")=\"nein\",$U$1=\"nein\"),0,IF(T15>0,T15,INDEX(Uebersicht!$BF$3:$BJ$14,$C$4,MATCH(S15,Uebersicht!$BF$2:$BJ$2,0))))","v":0}]
["","",{"$f":"IF(OR($K$9=0,AND($K$9=2,A16<=14)),1,IF(IF(ISNA(INDEX(X!$W$7:$W$20,MATCH(DATE($D$4,$C$4,A16),X!$AC$7:$AC$20,0))),1,2)=2,2,IF(OR(B16=\"Sa\",B16=\"So\"),2,IF($K$9=1,SUMIFS($R$4:$R$8,$S$4:$S$8,B16),IF(AND($K$9=2,A16<15),SUMIFS($R$4:$R$8,$S$4:$S$8,B16),IF(AND($K$9=2,A16>14),SUMIFS($R$12:$R$16,$S$12:$S$16,B16),IF(AND($K$9=3,A16>14),SUMIFS($R$12:$R$16,$S$12:$S$16,B16),IF(AND($K$9=3,A16<15),SUMIFS($R$4:$R$8,$S$4:$S$8,B16),1))))))))","v":1},null,null,null,"","",{"$f":"IF($K$9>0,IF(SUM($K$11:$K16,$I$6)<0,TEXT(-(SUM($K$11:K16,$I$6)/60)/24,\"-[h]:mm\"),TEXT((SUM($K$11:K16,$I$6)/60)/24,\"[h]:mm\")),\"\")","v":""},null,"",0,0,null,{"$f":"IF(OR($O$3=\"\",$N$3=\"\",N16=\"\"),\"\",IF($O$9-SUM($N$11:N15)-N16<0,TEXT(-(($O$9-SUM($N$11:N15)-N16)/24),\"-[hh]:mm\"),TEXT(($O$9-SUM($N$11:N15)-N16)/24,\"[hh]:mm\")))","v":""},null,"",{"$f":"IF($K$9=0,1,IF($K$9=1,R8,IF(AND($K$9=3,OR(SUM($U$12:$U$16)=0,$U$1=\"nein\")),3,IF(AND($U$1=\"\",SUM($U$12:$U$16)>0,U16>=1,OR($K$9=3,$K$9=2)),4,1))))","v":1},"Fr",null,{"$f":"IF(OR($K$9=0,INDIRECT(\"'\"&TEXT(DATE(D8,$C$4-1,1),\"MMM\")&\"'!$U$1\")=\"nein\",$U$1=\"nein\"),0,IF(T16>0,T16,INDEX(Uebersicht!$BF$3:$BJ$14,$C$4,MATCH(S16,Uebersicht!$BF$2:$BJ$2,0))))","v":0}]
["","",{"$f":"IF(OR($K$9=0,AND($K$9=2,A17<=14)),1,IF(IF(ISNA(INDEX(X!$W$7:$W$20,MATCH(DATE($D$4,$C$4,A17),X!$AC$7:$AC$20,0))),1,2)=2,2,IF(OR(B17=\"Sa\",B17=\"So\"),2,IF($K$9=1,SUMIFS($R$4:$R$8,$S$4:$S$8,B17),IF(AND($K$9=2,A17<15),SUMIFS($R$4:$R$8,$S$4:$S$8,B17),IF(AND($K$9=2,A17>14),SUMIFS($R$12:$R$16,$S$12:$S$16,B17),IF(AND($K$9=3,A17>14),SUMIFS($R$12:$R$16,$S$12:$S$16,B17),IF(AND($K$9=3,A17<15),SUMIFS($R$4:$R$8,$S$4:$S$8,B17),1))))))))","v":1},null,null,null,"","",{"$f":"IF($K$9>0,IF(SUM($K$11:$K17,$I$6)<0,TEXT(-(SUM($K$11:K17,$I$6)/60)/24,\"-[h]:mm\"),TEXT((SUM($K$11:K17,$I$6)/60)/24,\"[h]:mm\")),\"\")","v":""},null,"",0,0,null,{"$f":"IF(OR($O$3=\"\",$N$3=\"\",N17=\"\"),\"\",IF($O$9-SUM($N$11:N16)-N17<0,TEXT(-(($O$9-SUM($N$11:N16)-N17)/24),\"-[hh]:mm\"),TEXT(($O$9-SUM($N$11:N16)-N17)/24,\"[hh]:mm\")))","v":""},null,"",null,{"$f":"IF(I9=0,\"\",IF(SUM(U12:U16)>I9,\"zu viel!\",IF(SUM(U12:U16)<I9,\"zu wenig!\",\"\")))","v":""},null,{"$f":"IF(OR(U9=\"nein\",SUM(U12:U16)=0),\"ja\",IF(OR(SUM(Uebersicht!C43:C47)>0,SUM(T12:T16)>0,SUM(U12:U16)>0),\"nein\",\"ja\"))","v":"ja"}]
["","",{"$f":"IF(OR($K$9=0,AND($K$9=2,A18<=14)),1,IF(IF(ISNA(INDEX(X!$W$7:$W$20,MATCH(DATE($D$4,$C$4,A18),X!$AC$7:$AC$20,0))),1,2)=2,2,IF(OR(B18=\"Sa\",B18=\"So\"),2,IF($K$9=1,SUMIFS($R$4:$R$8,$S$4:$S$8,B18),IF(AND($K$9=2,A18<15),SUMIFS($R$4:$R$8,$S$4:$S$8,B18),IF(AND($K$9=2,A18>14),SUMIFS($R$12:$R$16,$S$12:$S$16,B18),IF(AND($K$9=3,A18>14),SUMIFS($R$12:$R$16,$S$12:$S$16,B18),IF(AND($K$9=3,A18<15),SUMIFS($R$4:$R$8,$S$4:$S$8,B18),1))))))))","v":1},null,null,null,"","",{"$f":"IF($K$9>0,IF(SUM($K$11:$K18,$I$6)<0,TEXT(-(SUM($K$11:K18,$I$6)/60)/24,\"-[h]:mm\"),TEXT((SUM($K$11:K18,$I$6)/60)/24,\"[h]:mm\")),\"\")","v":""},null,"",0,0,null,{"$f":"IF(OR($O$3=\"\",$N$3=\"\",N18=\"\"),\"\",IF($O$9-SUM($N$11:N17)-N18<0,TEXT(-(($O$9-SUM($N$11:N17)-N18)/24),\"-[hh]:mm\"),TEXT(($O$9-SUM($N$11:N17)-N18)/24,\"[hh]:mm\")))","v":""},null,""]
["","",{"$f":"IF(OR($K$9=0,AND($K$9=2,A19<=14)),1,IF(IF(ISNA(INDEX(X!$W$7:$W$20,MATCH(DATE($D$4,$C$4,A19),X!$AC$7:$AC$20,0))),1,2)=2,2,IF(OR(B19=\"Sa\",B19=\"So\"),2,IF($K$9=1,SUMIFS($R$4:$R$8,$S$4:$S$8,B19),IF(AND($K$9=2,A19<15),SUMIFS($R$4:$R$8,$S$4:$S$8,B19),IF(AND($K$9=2,A19>14),SUMIFS($R$12:$R$16,$S$12:$S$16,B19),IF(AND($K$9=3,A19>14),SUMIFS($R$12:$R$16,$S$12:$S$16,B19),IF(AND($K$9=3,A19<15),SUMIFS($R$4:$R$8,$S$4:$S$8,B19),1))))))))","v":1},null,null,null,"","",{"$f":"IF($K$9>0,IF(SUM($K$11:$K19,$I$6)<0,TEXT(-(SUM($K$11:K19,$I$6)/60)/24,\"-[h]:mm\"),TEXT((SUM($K$11:K19,$I$6)/60)/24,\"[h]:mm\")),\"\")","v":""},null,"",0,0,null,{"$f":"IF(OR($O$3=\"\",$N$3=\"\",N19=\"\"),\"\",IF($O$9-SUM($N$11:N18)-N19<0,TEXT(-(($O$9-SUM($N$11:N18)-N19)/24),\"-[hh]:mm\"),TEXT(($O$9-SUM($N$11:N18)-N19)/24,\"[hh]:mm\")))","v":""},null,""]
["","",{"$f":"IF(OR($K$9=0,AND($K$9=2,A20<=14)),1,IF(IF(ISNA(INDEX(X!$W$7:$W$20,MATCH(DATE($D$4,$C$4,A20),X!$AC$7:$AC$20,0))),1,2)=2,2,IF(OR(B20=\"Sa\",B20=\"So\"),2,IF($K$9=1,SUMIFS($R$4:$R$8,$S$4:$S$8,B20),IF(AND($K$9=2,A20<15),SUMIFS($R$4:$R$8,$S$4:$S$8,B20),IF(AND($K$9=2,A20>14),SUMIFS($R$12:$R$16,$S$12:$S$16,B20),IF(AND($K$9=3,A20>14),SUMIFS($R$12:$R$16,$S$12:$S$16,B20),IF(AND($K$9=3,A20<15),SUMIFS($R$4:$R$8,$S$4:$S$8,B20),1))))))))","v":1},null,null,null,"","",{"$f":"IF($K$9>0,IF(SUM($K$11:$K20,$I$6)<0,TEXT(-(SUM($K$11:K20,$I$6)/60)/24,\"-[h]:mm\"),TEXT((SUM($K$11:K20,$I$6)/60)/24,\"[h]:mm\")),\"\")","v":""},null,"",0,0,null,{"$f":"IF(OR($O$3=\"\",$N$3=\"\",N20=\"\"),\"\",IF($O$9-SUM($N$11:N19)-N20<0,TEXT(-(($O$9-SUM($N$11:N19)-N20)/24),\"-[hh]:mm\"),TEXT(($O$9-SUM($N$11:N19)-N20)/24,\"[hh]:mm\")))","v":""},null,""]
["","",{"$f":"IF(OR($K$9=0,AND($K$9=2,A21<=14)),1,IF(IF(ISNA(INDEX(X!$W$7:$W$20,MATCH(DATE($D$4,$C$4,A21),X!$AC$7:$AC$20,0))),1,2)=2,2,IF(OR(B21=\"Sa\",B21=\"So\"),2,IF($K$9=1,SUMIFS($R$4:$R$8,$S$4:$S$8,B21),IF(AND($K$9=2,A21<15),SUMIFS($R$4:$R$8,$S$4:$S$8,B21),IF(AND($K$9=2,A21>14),SUMIFS($R$12:$R$16,$S$12:$S$16,B21),IF(AND($K$9=3,A21>14),SUMIFS($R$12:$R$16,$S$12:$S$16,B21),IF(AND($K$9=3,A21<15),SUMIFS($R$4:$R$8,$S$4:$S$8,B21),1))))))))","v":1},null,null,null,"","",{"$f":"IF($K$9>0,IF(SUM($K$11:$K21,$I$6)<0,TEXT(-(SUM($K$11:K21,$I$6)/60)/24,\"-[h]:mm\"),TEXT((SUM($K$11:K21,$I$6)/60)/24,\"[h]:mm\")),\"\")","v":""},null,"",0,0,null,{"$f":"IF(OR($O$3=\"\",$N$3=\"\",N21=\"\"),\"\",IF($O$9-SUM($N$11:N20)-N21<0,TEXT(-(($O$9-SUM($N$11:N20)-N21)/24),\"-[hh]:mm\"),TEXT(($O$9-SUM($N$11:N20)-N21)/24,\"[hh]:mm\")))","v":""},null,""]
["","",{"$f":"IF(OR($K$9=0,AND($K$9=2,A22<=14)),1,IF(IF(ISNA(INDEX(X!$W$7:$W$20,MATCH(DATE($D$4,$C$4,A22),X!$AC$7:$AC$20,0))),1,2)=2,2,IF(OR(B22=\"Sa\",B22=\"So\"),2,IF($K$9=1,SUMIFS($R$4:$R$8,$S$4:$S$8,B22),IF(AND($K$9=2,A22<15),SUMIFS($R$4:$R$8,$S$4:$S$8,B22),IF(AND($K$9=2,A22>14),SUMIFS($R$12:$R$16,$S$12:$S$16,B22),IF(AND($K$9=3,A22>14),SUMIFS($R$12:$R$16,$S$12:$S$16,B22),IF(AND($K$9=3,A22<15),SUMIFS($R$4:$R$8,$S$4:$S$8,B22),1))))))))","v":1},null,null,null,"","",{"$f":"IF($K$9>0,IF(SUM($K$11:$K22,$I$6)<0,TEXT(-(SUM($K$11:K22,$I$6)/60)/24,\"-[h]:mm\"),TEXT((SUM($K$11:K22,$I$6)/60)/24,\"[h]:mm\")),\"\")","v":""},null,"",0,0,null,{"$f":"IF(OR($O$3=\"\",$N$3=\"\",N22=\"\"),\"\",IF($O$9-SUM($N$11:N21)-N22<0,TEXT(-(($O$9-SUM($N$11:N21)-N22)/24),\"-[hh]:mm\"),TEXT(($O$9-SUM($N$11:N21)-N22)/24,\"[hh]:mm\")))","v":""},null,""]
["","",{"$f":"IF(OR($K$9=0,AND($K$9=2,A23<=14)),1,IF(IF(ISNA(INDEX(X!$W$7:$W$20,MATCH(DATE($D$4,$C$4,A23),X!$AC$7:$AC$20,0))),1,2)=2,2,IF(OR(B23=\"Sa\",B23=\"So\"),2,IF($K$9=1,SUMIFS($R$4:$R$8,$S$4:$S$8,B23),IF(AND($K$9=2,A23<15),SUMIFS($R$4:$R$8,$S$4:$S$8,B23),IF(AND($K$9=2,A23>14),SUMIFS($R$12:$R$16,$S$12:$S$16,B23),IF(AND($K$9=3,A23>14),SUMIFS($R$12:$R$16,$S$12:$S$16,B23),IF(AND($K$9=3,A23<15),SUMIFS($R$4:$R$8,$S$4:$S$8,B23),1))))))))","v":1},null,null,null,"","",{"$f":"IF($K$9>0,IF(SUM($K$11:$K23,$I$6)<0,TEXT(-(SUM($K$11:K23,$I$6)/60)/24,\"-[h]:mm\"),TEXT((SUM($K$11:K23,$I$6)/60)/24,\"[h]:mm\")),\"\")","v":""},null,"",0,0,null,{"$f":"IF(OR($O$3=\"\",$N$3=\"\",N23=\"\"),\"\",IF($O$9-SUM($N$11:N22)-N23<0,TEXT(-(($O$9-SUM($N$11:N22)-N23)/24),\"-[hh]:mm\"),TEXT(($O$9-SUM($N$11:N22)-N23)/24,\"[hh]:mm\")))","v":""},null,""]
["","",{"$f":"IF(OR($K$9=0,AND($K$9=2,A24<=14)),1,IF(IF(ISNA(INDEX(X!$W$7:$W$20,MATCH(DATE($D$4,$C$4,A24),X!$AC$7:$AC$20,0))),1,2)=2,2,IF(OR(B24=\"Sa\",B24=\"So\"),2,IF($K$9=1,SUMIFS($R$4:$R$8,$S$4:$S$8,B24),IF(AND($K$9=2,A24<15),SUMIFS($R$4:$R$8,$S$4:$S$8,B24),IF(AND($K$9=2,A24>14),SUMIFS($R$12:$R$16,$S$12:$S$16,B24),IF(AND($K$9=3,A24>14),SUMIFS($R$12:$R$16,$S$12:$S$16,B24),IF(AND($K$9=3,A24<15),SUMIFS($R$4:$R$8,$S$4:$S$8,B24),1))))))))","v":1},null,null,null,"","",{"$f":"IF($K$9>0,IF(SUM($K$11:$K24,$I$6)<0,TEXT(-(SUM($K$11:K24,$I$6)/60)/24,\"-[h]:mm\"),TEXT((SUM($K$11:K24,$I$6)/60)/24,\"[h]:mm\")),\"\")","v":""},null,"",0,0,null,{"$f":"IF(OR($O$3=\"\",$N$3=\"\",N24=\"\"),\"\",IF($O$9-SUM($N$11:N23)-N24<0,TEXT(-(($O$9-SUM($N$11:N23)-N24)/24),\"-[hh]:mm\"),TEXT(($O$9-SUM($N$11:N23)-N24)/24,\"[hh]:mm\")))","v":""},null,""]
["","",{"$f":"IF(OR($K$9=0,AND($K$9=2,A25<=14)),1,IF(IF(ISNA(INDEX(X!$W$7:$W$20,MATCH(DATE($D$4,$C$4,A25),X!$AC$7:$AC$20,0))),1,2)=2,2,IF(OR(B25=\"Sa\",B25=\"So\"),2,IF($K$9=1,SUMIFS($R$4:$R$8,$S$4:$S$8,B25),IF(AND($K$9=2,A25<15),SUMIFS($R$4:$R$8,$S$4:$S$8,B25),IF(AND($K$9=2,A25>14),SUMIFS($R$12:$R$16,$S$12:$S$16,B25),IF(AND($K$9=3,A25>14),SUMIFS($R$12:$R$16,$S$12:$S$16,B25),IF(AND($K$9=3,A25<15),SUMIFS($R$4:$R$8,$S$4:$S$8,B25),1))))))))","v":1},null,null,null,"","",{"$f":"IF($K$9>0,IF(SUM($K$11:$K25,$I$6)<0,TEXT(-(SUM($K$11:K25,$I$6)/60)/24,\"-[h]:mm\"),TEXT((SUM($K$11:K25,$I$6)/60)/24,\"[h]:mm\")),\"\")","v":""},null,"",0,0,null,{"$f":"IF(OR($O$3=\"\",$N$3=\"\",N25=\"\"),\"\",IF($O$9-SUM($N$11:N24)-N25<0,TEXT(-(($O$9-SUM($N$11:N24)-N25)/24),\"-[hh]:mm\"),TEXT(($O$9-SUM($N$11:N24)-N25)/24,\"[hh]:mm\")))","v":""},null,""]
["","",{"$f":"IF(OR($K$9=0,AND($K$9=2,A26<=14)),1,IF(IF(ISNA(INDEX(X!$W$7:$W$20,MATCH(DATE($D$4,$C$4,A26),X!$AC$7:$AC$20,0))),1,2)=2,2,IF(OR(B26=\"Sa\",B26=\"So\"),2,IF($K$9=1,SUMIFS($R$4:$R$8,$S$4:$S$8,B26),IF(AND($K$9=2,A26<15),SUMIFS($R$4:$R$8,$S$4:$S$8,B26),IF(AND($K$9=2,A26>14),SUMIFS($R$12:$R$16,$S$12:$S$16,B26),IF(AND($K$9=3,A26>14),SUMIFS($R$12:$R$16,$S$12:$S$16,B26),IF(AND($K$9=3,A26<15),SUMIFS($R$4:$R$8,$S$4:$S$8,B26),1))))))))","v":1},null,null,null,"","",{"$f":"IF($K$9>0,IF(SUM($K$11:$K26,$I$6)<0,TEXT(-(SUM($K$11:K26,$I$6)/60)/24,\"-[h]:mm\"),TEXT((SUM($K$11:K26,$I$6)/60)/24,\"[h]:mm\")),\"\")","v":""},null,"",0,0,null,{"$f":"IF(OR($O$3=\"\",$N$3=\"\",N26=\"\"),\"\",IF($O$9-SUM($N$11:N25)-N26<0,TEXT(-(($O$9-SUM($N$11:N25)-N26)/24),\"-[hh]:mm\"),TEXT(($O$9-SUM($N$11:N25)-N26)/24,\"[hh]:mm\")))","v":""},null,""]
["","",{"$f":"IF(OR($K$9=0,AND($K$9=2,A27<=14)),1,IF(IF(ISNA(INDEX(X!$W$7:$W$20,MATCH(DATE($D$4,$C$4,A27),X!$AC$7:$AC$20,0))),1,2)=2,2,IF(OR(B27=\"Sa\",B27=\"So\"),2,IF($K$9=1,SUMIFS($R$4:$R$8,$S$4:$S$8,B27),IF(AND($K$9=2,A27<15),SUMIFS($R$4:$R$8,$S$4:$S$8,B27),IF(AND($K$9=2,A27>14),SUMIFS($R$12:$R$16,$S$12:$S$16,B27),IF(AND($K$9=3,A27>14),SUMIFS($R$12:$R$16,$S$12:$S$16,B27),IF(AND($K$9=3,A27<15),SUMIFS($R$4:$R$8,$S$4:$S$8,B27),1))))))))","v":1},null,null,null,"","",{"$f":"IF($K$9>0,IF(SUM($K$11:$K27,$I$6)<0,TEXT(-(SUM($K$11:K27,$I$6)/60)/24,\"-[h]:mm\"),TEXT((SUM($K$11:K27,$I$6)/60)/24,\"[h]:mm\")),\"\")","v":""},null,"",0,0,null,{"$f":"IF(OR($O$3=\"\",$N$3=\"\",N27=\"\"),\"\",IF($O$9-SUM($N$11:N26)-N27<0,TEXT(-(($O$9-SUM($N$11:N26)-N27)/24),\"-[hh]:mm\"),TEXT(($O$9-SUM($N$11:N26)-N27)/24,\"[hh]:mm\")))","v":""},null,""]
["","",{"$f":"IF(OR($K$9=0,AND($K$9=2,A28<=14)),1,IF(IF(ISNA(INDEX(X!$W$7:$W$20,MATCH(DATE($D$4,$C$4,A28),X!$AC$7:$AC$20,0))),1,2)=2,2,IF(OR(B28=\"Sa\",B28=\"So\"),2,IF($K$9=1,SUMIFS($R$4:$R$8,$S$4:$S$8,B28),IF(AND($K$9=2,A28<15),SUMIFS($R$4:$R$8,$S$4:$S$8,B28),IF(AND($K$9=2,A28>14),SUMIFS($R$12:$R$16,$S$12:$S$16,B28),IF(AND($K$9=3,A28>14),SUMIFS($R$12:$R$16,$S$12:$S$16,B28),IF(AND($K$9=3,A28<15),SUMIFS($R$4:$R$8,$S$4:$S$8,B28),1))))))))","v":1},null,null,null,"","",{"$f":"IF($K$9>0,IF(SUM($K$11:$K28,$I$6)<0,TEXT(-(SUM($K$11:K28,$I$6)/60)/24,\"-[h]:mm\"),TEXT((SUM($K$11:K28,$I$6)/60)/24,\"[h]:mm\")),\"\")","v":""},null,"",0,0,null,{"$f":"IF(OR($O$3=\"\",$N$3=\"\",N28=\"\"),\"\",IF($O$9-SUM($N$11:N27)-N28<0,TEXT(-(($O$9-SUM($N$11:N27)-N28)/24),\"-[hh]:mm\"),TEXT(($O$9-SUM($N$11:N27)-N28)/24,\"[hh]:mm\")))","v":""},null,""]
["","",{"$f":"IF(OR($K$9=0,AND($K$9=2,A29<=14)),1,IF(IF(ISNA(INDEX(X!$W$7:$W$20,MATCH(DATE($D$4,$C$4,A29),X!$AC$7:$AC$20,0))),1,2)=2,2,IF(OR(B29=\"Sa\",B29=\"So\"),2,IF($K$9=1,SUMIFS($R$4:$R$8,$S$4:$S$8,B29),IF(AND($K$9=2,A29<15),SUMIFS($R$4:$R$8,$S$4:$S$8,B29),IF(AND($K$9=2,A29>14),SUMIFS($R$12:$R$16,$S$12:$S$16,B29),IF(AND($K$9=3,A29>14),SUMIFS($R$12:$R$16,$S$12:$S$16,B29),IF(AND($K$9=3,A29<15),SUMIFS($R$4:$R$8,$S$4:$S$8,B29),1))))))))","v":1},null,null,null,"","",{"$f":"IF($K$9>0,IF(SUM($K$11:$K29,$I$6)<0,TEXT(-(SUM($K$11:K29,$I$6)/60)/24,\"-[h]:mm\"),TEXT((SUM($K$11:K29,$I$6)/60)/24,\"[h]:mm\")),\"\")","v":""},null,"",0,0,null,{"$f":"IF(OR($O$3=\"\",$N$3=\"\",N29=\"\"),\"\",IF($O$9-SUM($N$11:N28)-N29<0,TEXT(-(($O$9-SUM($N$11:N28)-N29)/24),\"-[hh]:mm\"),TEXT(($O$9-SUM($N$11:N28)-N29)/24,\"[hh]:mm\")))","v":""},null,""]
["","",{"$f":"IF(OR($K$9=0,AND($K$9=2,A30<=14)),1,IF(IF(ISNA(INDEX(X!$W$7:$W$20,MATCH(DATE($D$4,$C$4,A30),X!$AC$7:$AC$20,0))),1,2)=2,2,IF(OR(B30=\"Sa\",B30=\"So\"),2,IF($K$9=1,SUMIFS($R$4:$R$8,$S$4:$S$8,B30),IF(AND($K$9=2,A30<15),SUMIFS($R$4:$R$8,$S$4:$S$8,B30),IF(AND($K$9=2,A30>14),SUMIFS($R$12:$R$16,$S$12:$S$16,B30),IF(AND($K$9=3,A30>14),SUMIFS($R$12:$R$16,$S$12:$S$16,B30),IF(AND($K$9=3,A30<15),SUMIFS($R$4:$R$8,$S$4:$S$8,B30),1))))))))","v":1},null,null,null,"","",{"$f":"IF($K$9>0,IF(SUM($K$11:$K30,$I$6)<0,TEXT(-(SUM($K$11:K30,$I$6)/60)/24,\"-[h]:mm\"),TEXT((SUM($K$11:K30,$I$6)/60)/24,\"[h]:mm\")),\"\")","v":""},null,"",0,0,null,{"$f":"IF(OR($O$3=\"\",$N$3=\"\",N30=\"\"),\"\",IF($O$9-SUM($N$11:N29)-N30<0,TEXT(-(($O$9-SUM($N$11:N29)-N30)/24),\"-[hh]:mm\"),TEXT(($O$9-SUM($N$11:N29)-N30)/24,\"[hh]:mm\")))","v":""},null,""]
["","",{"$f":"IF(OR($K$9=0,AND($K$9=2,A31<=14)),1,IF(IF(ISNA(INDEX(X!$W$7:$W$20,MATCH(DATE($D$4,$C$4,A31),X!$AC$7:$AC$20,0))),1,2)=2,2,IF(OR(B31=\"Sa\",B31=\"So\"),2,IF($K$9=1,SUMIFS($R$4:$R$8,$S$4:$S$8,B31),IF(AND($K$9=2,A31<15),SUMIFS($R$4:$R$8,$S$4:$S$8,B31),IF(AND($K$9=2,A31>14),SUMIFS($R$12:$R$16,$S$12:$S$16,B31),IF(AND($K$9=3,A31>14),SUMIFS($R$12:$R$16,$S$12:$S$16,B31),IF(AND($K$9=3,A31<15),SUMIFS($R$4:$R$8,$S$4:$S$8,B31),1))))))))","v":1},null,null,null,"","",{"$f":"IF($K$9>0,IF(SUM($K$11:$K31,$I$6)<0,TEXT(-(SUM($K$11:K31,$I$6)/60)/24,\"-[h]:mm\"),TEXT((SUM($K$11:K31,$I$6)/60)/24,\"[h]:mm\")),\"\")","v":""},null,"",0,0,null,{"$f":"IF(OR($O$3=\"\",$N$3=\"\",N31=\"\"),\"\",IF($O$9-SUM($N$11:N30)-N31<0,TEXT(-(($O$9-SUM($N$11:N30)-N31)/24),\"-[hh]:mm\"),TEXT(($O$9-SUM($N$11:N30)-N31)/24,\"[hh]:mm\")))","v":""},null,""]
["","",{"$f":"IF(OR($K$9=0,AND($K$9=2,A32<=14)),1,IF(IF(ISNA(INDEX(X!$W$7:$W$20,MATCH(DATE($D$4,$C$4,A32),X!$AC$7:$AC$20,0))),1,2)=2,2,IF(OR(B32=\"Sa\",B32=\"So\"),2,IF($K$9=1,SUMIFS($R$4:$R$8,$S$4:$S$8,B32),IF(AND($K$9=2,A32<15),SUMIFS($R$4:$R$8,$S$4:$S$8,B32),IF(AND($K$9=2,A32>14),SUMIFS($R$12:$R$16,$S$12:$S$16,B32),IF(AND($K$9=3,A32>14),SUMIFS($R$12:$R$16,$S$12:$S$16,B32),IF(AND($K$9=3,A32<15),SUMIFS($R$4:$R$8,$S$4:$S$8,B32),1))))))))","v":1},null,null,null,"","",{"$f":"IF($K$9>0,IF(SUM($K$11:$K32,$I$6)<0,TEXT(-(SUM($K$11:K32,$I$6)/60)/24,\"-[h]:mm\"),TEXT((SUM($K$11:K32,$I$6)/60)/24,\"[h]:mm\")),\"\")","v":""},null,"",0,0,null,{"$f":"IF(OR($O$3=\"\",$N$3=\"\",N32=\"\"),\"\",IF($O$9-SUM($N$11:N31)-N32<0,TEXT(-(($O$9-SUM($N$11:N31)-N32)/24),\"-[hh]:mm\"),TEXT(($O$9-SUM($N$11:N31)-N32)/24,\"[hh]:mm\")))","v":""},null,""]
["","",{"$f":"IF(OR($K$9=0,AND($K$9=2,A33<=14)),1,IF(IF(ISNA(INDEX(X!$W$7:$W$20,MATCH(DATE($D$4,$C$4,A33),X!$AC$7:$AC$20,0))),1,2)=2,2,IF(OR(B33=\"Sa\",B33=\"So\"),2,IF($K$9=1,SUMIFS($R$4:$R$8,$S$4:$S$8,B33),IF(AND($K$9=2,A33<15),SUMIFS($R$4:$R$8,$S$4:$S$8,B33),IF(AND($K$9=2,A33>14),SUMIFS($R$12:$R$16,$S$12:$S$16,B33),IF(AND($K$9=3,A33>14),SUMIFS($R$12:$R$16,$S$12:$S$16,B33),IF(AND($K$9=3,A33<15),SUMIFS($R$4:$R$8,$S$4:$S$8,B33),1))))))))","v":1},null,null,null,"","",{"$f":"IF($K$9>0,IF(SUM($K$11:$K33,$I$6)<0,TEXT(-(SUM($K$11:K33,$I$6)/60)/24,\"-[h]:mm\"),TEXT((SUM($K$11:K33,$I$6)/60)/24,\"[h]:mm\")),\"\")","v":""},null,"",0,0,null,{"$f":"IF(OR($O$3=\"\",$N$3=\"\",N33=\"\"),\"\",IF($O$9-SUM($N$11:N32)-N33<0,TEXT(-(($O$9-SUM($N$11:N32)-N33)/24),\"-[hh]:mm\"),TEXT(($O$9-SUM($N$11:N32)-N33)/24,\"[hh]:mm\")))","v":""},null,""]
["","",{"$f":"IF(OR($K$9=0,AND($K$9=2,A34<=14)),1,IF(IF(ISNA(INDEX(X!$W$7:$W$20,MATCH(DATE($D$4,$C$4,A34),X!$AC$7:$AC$20,0))),1,2)=2,2,IF(OR(B34=\"Sa\",B34=\"So\"),2,IF($K$9=1,SUMIFS($R$4:$R$8,$S$4:$S$8,B34),IF(AND($K$9=2,A34<15),SUMIFS($R$4:$R$8,$S$4:$S$8,B34),IF(AND($K$9=2,A34>14),SUMIFS($R$12:$R$16,$S$12:$S$16,B34),IF(AND($K$9=3,A34>14),SUMIFS($R$12:$R$16,$S$12:$S$16,B34),IF(AND($K$9=3,A34<15),SUMIFS($R$4:$R$8,$S$4:$S$8,B34),1))))))))","v":1},null,null,null,"","",{"$f":"IF($K$9>0,IF(SUM($K$11:$K34,$I$6)<0,TEXT(-(SUM($K$11:K34,$I$6)/60)/24,\"-[h]:mm\"),TEXT((SUM($K$11:K34,$I$6)/60)/24,\"[h]:mm\")),\"\")","v":""},null,"",0,0,null,{"$f":"IF(OR($O$3=\"\",$N$3=\"\",N34=\"\"),\"\",IF($O$9-SUM($N$11:N33)-N34<0,TEXT(-(($O$9-SUM($N$11:N33)-N34)/24),\"-[hh]:mm\"),TEXT(($O$9-SUM($N$11:N33)-N34)/24,\"[hh]:mm\")))","v":""},null,""]
["","",{"$f":"IF(OR($K$9=0,AND($K$9=2,A35<=14)),1,IF(IF(ISNA(INDEX(X!$W$7:$W$20,MATCH(DATE($D$4,$C$4,A35),X!$AC$7:$AC$20,0))),1,2)=2,2,IF(OR(B35=\"Sa\",B35=\"So\"),2,IF($K$9=1,SUMIFS($R$4:$R$8,$S$4:$S$8,B35),IF(AND($K$9=2,A35<15),SUMIFS($R$4:$R$8,$S$4:$S$8,B35),IF(AND($K$9=2,A35>14),SUMIFS($R$12:$R$16,$S$12:$S$16,B35),IF(AND($K$9=3,A35>14),SUMIFS($R$12:$R$16,$S$12:$S$16,B35),IF(AND($K$9=3,A35<15),SUMIFS($R$4:$R$8,$S$4:$S$8,B35),1))))))))","v":1},null,null,null,"","",{"$f":"IF($K$9>0,IF(SUM($K$11:$K35,$I$6)<0,TEXT(-(SUM($K$11:K35,$I$6)/60)/24,\"-[h]:mm\"),TEXT((SUM($K$11:K35,$I$6)/60)/24,\"[h]:mm\")),\"\")","v":""},null,"",0,0,null,{"$f":"IF(OR($O$3=\"\",$N$3=\"\",N35=\"\"),\"\",IF($O$9-SUM($N$11:N34)-N35<0,TEXT(-(($O$9-SUM($N$11:N34)-N35)/24),\"-[hh]:mm\"),TEXT(($O$9-SUM($N$11:N34)-N35)/24,\"[hh]:mm\")))","v":""},null,""]
["","",{"$f":"IF(OR($K$9=0,AND($K$9=2,A36<=14)),1,IF(IF(ISNA(INDEX(X!$W$7:$W$20,MATCH(DATE($D$4,$C$4,A36),X!$AC$7:$AC$20,0))),1,2)=2,2,IF(OR(B36=\"Sa\",B36=\"So\"),2,IF($K$9=1,SUMIFS($R$4:$R$8,$S$4:$S$8,B36),IF(AND($K$9=2,A36<15),SUMIFS($R$4:$R$8,$S$4:$S$8,B36),IF(AND($K$9=2,A36>14),SUMIFS($R$12:$R$16,$S$12:$S$16,B36),IF(AND($K$9=3,A36>14),SUMIFS($R$12:$R$16,$S$12:$S$16,B36),IF(AND($K$9=3,A36<15),SUMIFS($R$4:$R$8,$S$4:$S$8,B36),1))))))))","v":1},null,null,null,"","",{"$f":"IF($K$9>0,IF(SUM($K$11:$K36,$I$6)<0,TEXT(-(SUM($K$11:K36,$I$6)/60)/24,\"-[h]:mm\"),TEXT((SUM($K$11:K36,$I$6)/60)/24,\"[h]:mm\")),\"\")","v":""},null,"",0,0,null,{"$f":"IF(OR($O$3=\"\",$N$3=\"\",N36=\"\"),\"\",IF($O$9-SUM($N$11:N35)-N36<0,TEXT(-(($O$9-SUM($N$11:N35)-N36)/24),\"-[hh]:mm\"),TEXT(($O$9-SUM($N$11:N35)-N36)/24,\"[hh]:mm\")))","v":""},null,""]
["","",{"$f":"IF(OR($K$9=0,AND($K$9=2,A37<=14)),1,IF(IF(ISNA(INDEX(X!$W$7:$W$20,MATCH(DATE($D$4,$C$4,A37),X!$AC$7:$AC$20,0))),1,2)=2,2,IF(OR(B37=\"Sa\",B37=\"So\"),2,IF($K$9=1,SUMIFS($R$4:$R$8,$S$4:$S$8,B37),IF(AND($K$9=2,A37<15),SUMIFS($R$4:$R$8,$S$4:$S$8,B37),IF(AND($K$9=2,A37>14),SUMIFS($R$12:$R$16,$S$12:$S$16,B37),IF(AND($K$9=3,A37>14),SUMIFS($R$12:$R$16,$S$12:$S$16,B37),IF(AND($K$9=3,A37<15),SUMIFS($R$4:$R$8,$S$4:$S$8,B37),1))))))))","v":1},null,null,null,"","",{"$f":"IF($K$9>0,IF(SUM($K$11:$K37,$I$6)<0,TEXT(-(SUM($K$11:K37,$I$6)/60)/24,\"-[h]:mm\"),TEXT((SUM($K$11:K37,$I$6)/60)/24,\"[h]:mm\")),\"\")","v":""},null,"",0,0,null,{"$f":"IF(OR($O$3=\"\",$N$3=\"\",N37=\"\"),\"\",IF($O$9-SUM($N$11:N36)-N37<0,TEXT(-(($O$9-SUM($N$11:N36)-N37)/24),\"-[hh]:mm\"),TEXT(($O$9-SUM($N$11:N36)-N37)/24,\"[hh]:mm\")))","v":""},null,""]
["","",{"$f":"IF(OR($K$9=0,AND($K$9=2,A38<=14)),1,IF(IF(ISNA(INDEX(X!$W$7:$W$20,MATCH(DATE($D$4,$C$4,A38),X!$AC$7:$AC$20,0))),1,2)=2,2,IF(OR(B38=\"Sa\",B38=\"So\"),2,IF($K$9=1,SUMIFS($R$4:$R$8,$S$4:$S$8,B38),IF(AND($K$9=2,A38<15),SUMIFS($R$4:$R$8,$S$4:$S$8,B38),IF(AND($K$9=2,A38>14),SUMIFS($R$12:$R$16,$S$12:$S$16,B38),IF(AND($K$9=3,A38>14),SUMIFS($R$12:$R$16,$S$12:$S$16,B38),IF(AND($K$9=3,A38<15),SUMIFS($R$4:$R$8,$S$4:$S$8,B38),1))))))))","v":1},null,null,null,"","",{"$f":"IF($K$9>0,IF(SUM($K$11:$K38,$I$6)<0,TEXT(-(SUM($K$11:K38,$I$6)/60)/24,\"-[h]:mm\"),TEXT((SUM($K$11:K38,$I$6)/60)/24,\"[h]:mm\")),\"\")","v":""},null,"",0,0,null,{"$f":"IF(OR($O$3=\"\",$N$3=\"\",N38=\"\"),\"\",IF($O$9-SUM($N$11:N37)-N38<0,TEXT(-(($O$9-SUM($N$11:N37)-N38)/24),\"-[hh]:mm\"),TEXT(($O$9-SUM($N$11:N37)-N38)/24,\"[hh]:mm\")))","v":""},null,""]
["",{"$f":"IF(OR(A39=\"\",$D$4=\"\"),\"\",TEXT(DATE($D$4,$C$4,A39),\"ttt\"))","v":""},{"$f":"IF(OR($K$9=0,AND($K$9=2,A39<=14)),1,IF(IF(ISNA(INDEX(X!$W$7:$W$20,MATCH(DATE($D$4,$C$4,A39),X!$AC$7:$AC$20,0))),1,2)=2,2,IF(OR(B39=\"Sa\",B39=\"So\"),2,IF($K$9=1,SUMIFS($R$4:$R$8,$S$4:$S$8,B39),IF(AND($K$9=2,A39<15),SUMIFS($R$4:$R$8,$S$4:$S$8,B39),IF(AND($K$9=2,A39>14),SUMIFS($R$12:$R$16,$S$12:$S$16,B39),IF(AND($K$9=3,A39>14),SUMIFS($R$12:$R$16,$S$12:$S$16,B39),IF(AND($K$9=3,A39<15),SUMIFS($R$4:$R$8,$S$4:$S$8,B39),1))))))))","v":1},null,null,null,"","",{"$f":"IF($K$9>0,IF(SUM($K$11:$K39,$I$6)<0,TEXT(-(SUM($K$11:K39,$I$6)/60)/24,\"-[h]:mm\"),TEXT((SUM($K$11:K39,$I$6)/60)/24,\"[h]:mm\")),\"\")","v":""},null,"",0,0,null,{"$f":"IF(OR($O$3=\"\",$N$3=\"\",N39=\"\"),\"\",IF($O$9-SUM($N$11:N38)-N39<0,TEXT(-(($O$9-SUM($N$11:N38)-N39)/24),\"-[hh]:mm\"),TEXT(($O$9-SUM($N$11:N38)-N39)/24,\"[hh]:mm\")))","v":""},null,""]
["",{"$f":"IF(OR(A40=\"\",$D$4=\"\"),\"\",TEXT(DATE($D$4,$C$4,A40),\"ttt\"))","v":""},{"$f":"IF(OR($K$9=0,AND($K$9=2,A40<=14)),1,IF(IF(ISNA(INDEX(X!$W$7:$W$20,MATCH(DATE($D$4,$C$4,A40),X!$AC$7:$AC$20,0))),1,2)=2,2,IF(OR(B40=\"Sa\",B40=\"So\"),2,IF($K$9=1,SUMIFS($R$4:$R$8,$S$4:$S$8,B40),IF(AND($K$9=2,A40<15),SUMIFS($R$4:$R$8,$S$4:$S$8,B40),IF(AND($K$9=2,A40>14),SUMIFS($R$12:$R$16,$S$12:$S$16,B40),IF(AND($K$9=3,A40>14),SUMIFS($R$12:$R$16,$S$12:$S$16,B40),IF(AND($K$9=3,A40<15),SUMIFS($R$4:$R$8,$S$4:$S$8,B40),1))))))))","v":1},null,null,null,"","",{"$f":"IF($K$9>0,IF(SUM($K$11:$K40,$I$6)<0,TEXT(-(SUM($K$11:K40,$I$6)/60)/24,\"-[h]:mm\"),TEXT((SUM($K$11:K40,$I$6)/60)/24,\"[h]:mm\")),\"\")","v":""},null,"",0,0,null,{"$f":"IF(OR($O$3=\"\",$N$3=\"\",N40=\"\"),\"\",IF($O$9-SUM($N$11:N39)-N40<0,TEXT(-(($O$9-SUM($N$11:N39)-N40)/24),\"-[hh]:mm\"),TEXT(($O$9-SUM($N$11:N39)-N40)/24,\"[hh]:mm\")))","v":""},null,""]
["","",{"$f":"IF(OR($K$9=0,AND($K$9=2,A41<=14)),1,IF(IF(ISNA(INDEX(X!$W$7:$W$20,MATCH(DATE($D$4,$C$4,A41),X!$AC$7:$AC$20,0))),1,2)=2,2,IF(OR(B41=\"Sa\",B41=\"So\"),2,IF($K$9=1,SUMIFS($R$4:$R$8,$S$4:$S$8,B41),IF(AND($K$9=2,A41<15),SUMIFS($R$4:$R$8,$S$4:$S$8,B41),IF(AND($K$9=2,A41>14),SUMIFS($R$12:$R$16,$S$12:$S$16,B41),IF(AND($K$9=3,A41>14),SUMIFS($R$12:$R$16,$S$12:$S$16,B41),IF(AND($K$9=3,A41<15),SUMIFS($R$4:$R$8,$S$4:$S$8,B41),1))))))))","v":1},null,null,null,"","",{"$f":"IF($K$9>0,IF(SUM($K$11:$K41,$I$6)<0,TEXT(-(SUM($K$11:K41,$I$6)/60)/24,\"-[h]:mm\"),TEXT((SUM($K$11:K41,$I$6)/60)/24,\"[h]:mm\")),\"\")","v":""},null,"",0,0,null,{"$f":"IF(OR($O$3=\"\",$N$3=\"\",N41=\"\"),\"\",IF($O$9-SUM($N$11:N40)-N41<0,TEXT(-(($O$9-SUM($N$11:N40)-N41)/24),\"-[hh]:mm\"),TEXT(($O$9-SUM($N$11:N40)-N41)/24,\"[hh]:mm\")))","v":""},null,""]
[null,null,null,null,null,null,{"$f":"L42+K42","v":0},{"$f":"K42","v":0},null,null,{"$f":"SUM(K11:K41)","v":0},{"$f":"-SUM(L11:L41)","v":0},{"$f":"M41","v":0},{"$f":"SUM(N11:N41)*60","v":0},null,null,{"$f":"IF((G42/60)<0,TEXT(-((G42/60)/24),\"-[hh]:mm\"),TEXT((G42/60)/24,\"[hh]:mm\"))","v":"00:00"}]
[{"$f":"IF(G4=\"\",\"\",\"Ergebnis\")","v":""},null,null,null,null,null,{"$f":"IF(G4=\"\",0,IF(((G42-N42)/60)<0,TEXT(-(((G42-N42)/60)/24),\"-[hh]:mm\"),TEXT(((G42-N42)/60)/24,\"[hh]:mm\")))","v":0},{"$f":"IF(G4=0,\"\",IF(H42<0,TEXT(-((H42/60)/24),\"-[hh]:mm\"),IF((H42/60)>24,TEXT((((H42/60)-24)/24)+(24/24),\"[hh]:mm\"),(H42/60)/24)))","v":0},{"$f":"IF($K$9>0,IF(SUM(I6,K43)<0,TEXT(-(SUM(I6,K43)/60)/24,\"-[h]:mm\"),TEXT((SUM(I6,K43)/60)/24,\"[h]:mm\")),\"\")","v":""},null,{"$f":"IF(L42<>L43,G42-L43,K42)","v":0},{"$f":"IF(AND(K9=1,SUM(U4:U8)<>H9),((H9/5)*COUNTIFS(C11:C41,\"<>\"&2,F11:F41,\"\"))*60,IF(AND(K9=2,SUM(U12:U16)<>I9),((I9/5)*COUNTIFS(C11:C41,\"<>\"&2,F11:F41,\"\"))*60,IF(AND(K9=3,OR(SUM(U4:U8)<>H9,SUM(U12:U16)<>I9)),SUM(IF(SUM(U4:U8)<>H9,((H9/5)*COUNTIFS(C11:C41,\"<>\"&2,A11:A41,\"<\"&15,F11:F41,\"\"))*60,-SUMIFS(L11:L41,A11:A41,\"<\"&15,F11:F41,\"\")),IF(SUM(U12:U16)<>I9,((I9/5)*COUNTIFS(C11:C41,\"<>\"&2,A11:A41,\">\"&14,F11:F41,\"\"))*60,-SUMIFS(L11:L41,A11:A41,\">\"&14,F11:F41,\"\"))),-SUM(L11:L41))))","v":0},null,{"$f":"IF(N42<0,TEXT(-((N42/60)/24),\"-[hh]:mm\"),TEXT((N42/60)/24,\"[hh]:mm\"))","v":"00:00"},{"$f":"IF(O9-SUM(N11:N41)<0,TEXT(-(O9-SUM(N11:N41))/24,\"-[h]:mm\"),TEXT((O9-SUM(N11:N41))/24,\"[h]:mm\"))","v":{"$error":"#VALUE!"}},null,{"$f":"Q42","v":"00:00"}]
[{"$f":"IF(G4=\"\",\"\",\"Saldo / Übertrag:\")","v":""},null,null,null,null,null,null,null,{"$f":"I43","v":""},{"$f":"IF(K42<>K43,\"automatische Nachberechnung der Sollarbeitszeit, da wöchentlicher Stundenumfang nicht eingehalten wurde.\",\"\")","v":""},{"$f":"K43+I6","v":0},"Übertrag"]
[]
[{"$f":"IF(I46=\"\",\"\",\"Korrektur der Stunden\")","v":""},null,null,null,null,null,null,null,{"$f":"IF(K9>0,IF(K42-K43<>0,IF(K43-K42<0,TEXT(-((K43-K42)/60)/24,\"-[h]:mm\"),TEXT(((K43-K42)/60)/24,\"[h]:mm\")),\"\"),\"\")","v":""}]
[]
[]
[]
[]
[]
[]
[]
[]
[]
[]
[{"$f":"D4","v":""},{"$f":"C4","v":5},{"$f":"Uebersicht!A4","v":0},{"$f":"Uebersicht!B4","v":0},{"$f":"L43","v":0},{"$f":"K42","v":0},{"$f":"K43","v":0},{"$f":"M10","v":0},{"$f":"M42","v":0}]

{"sheet":"Jun","index":6,"n_rows":57,"n_cols":22,"rows_kept":57,"cut":false,"hidden":false,"merged":[[8,18,8,19],[9,18,9,20],[16,18,16,19],[42,0,42,5],[43,0,44,7],[43,8,44,8],[43,9,46,9],[45,0,45,7],[1,0,2,8],[3,0,4,1],[3,2,4,2],[3,3,4,4],[3,5,4,5],[3,6,4,9],[3,13,4,15],[5,13,5,15],[6,0,7,4],[6,5,7,5],[6,6,7,7],[6,8,7,8],[6,9,7,9],[6,13,7,15]]}
["Zeiterfassungsbogen für studentische Hilfskräfte | International Office",null,null,null,null,null,null,null,null,null,null,null,null,null,null,null,null,null,null,null,null,"\"nein\" auswählen, wenn keine festen Tage mehr gelten sollen!"]
[{"$f":"IF(Uebersicht!A4=\"\",\"\",CONCATENATE(Uebersicht!B4,\" \",Uebersicht!A4))","v":""}]
[null,null,null,null,null,null,null,null,null,null,null,null,null,{"$f":"INDEX(Uebersicht!AO5:AQ28,MATCH(C4,Uebersicht!AO5:AO28,0),3)","v":0},{"$f":"INDEX(Uebersicht!AO5:AQ28,MATCH(C4+0.5,Uebersicht!AO5:AO28,0),3)","v":0},null,null,null,"Tag","h"]
[{"$f":"IF(D4=\"\",\"\",TEXT(DATE(D4,C4,1),\"MMM\"))","v":""},null,6,{"$f":"Uebersicht!I1","v":""},null,null,{"$f":"IF(INDEX(Uebersicht!AO31:AQ42,MATCH(C4,Uebersicht!AO31:AO43,0),2)=0,\"\",INDEX(Uebersicht!AO31:AQ42,MATCH(C4,Uebersicht!AO31:AO43,0),2))","v":""},null,null,null,null,null,null,{"$f":"INDEX(Uebersicht!AO31:AQ42,MATCH(C4,Uebersicht!AO31:AO43,0),3)","v":0},null,null,null,{"$f":"IF(OR($K$9=2,$K$9=0),1,IF(AND(OR($K$9=1,$K$9=3),OR(SUM($U$4:$U$8)=0,$U$1=\"nein\")),3,IF(AND($U$1=\"\",SUM($U$4:$U$8)>0,U4>=1,OR($K$9=3,$K$9=1)),4,1)))","v":1},"Mo",null,{"$f":"IF(AND(H9=0,I9=0),0,IF(OR($K$9=0,INDIRECT(\"'\"&TEXT(DATE(D4,$C$4-1,1),\"MMM\")&\"'!$U$1\")=\"nein\",$U$1=\"nein\"),0,IF(T4>0,T4,INDEX(Uebersicht!$BA$3:$BE$14,$C$4,MATCH(S4,Uebersicht!$BA$2:$BE$2,0)))))","v":0}]
[null,null,null,null,null,null,null,null,null,null,null,null,null,null,null,null,null,{"$f":"IF(OR($K$9=2,$K$9=0),1,IF(AND(OR($K$9=1,$K$9=3),OR(SUM($U$4:$U$8)=0,$U$1=\"nein\")),3,IF(AND($U$1=\"\",SUM($U$4:$U$8)>0,U5>=1,OR($K$9=3,$K$9=1)),4,1)))","v":1},"Di",null,{"$f":"IF(OR($K$9=0,INDIRECT(\"'\"&TEXT(DATE(D5,$C$4-1,1),\"MMM\")&\"'!$U$1\")=\"nein\",$U$1=\"nein\"),0,IF(T5>0,T5,INDEX(Uebersicht!$BA$3:$BE$14,$C$4,MATCH(S5,Uebersicht!$BA$2:$BE$2,0))))","v":0}]
[null,null,{"$f":"DAY(DATE(D4,C4+1,1)-1)","v":{"$error":"#VALUE!"}},null,null,null,null,{"$f":"IF(N4=0,\"\",\"Arbeitsgebiet 1\")","v":""},{"$f":"IF(AND(I9=0,H9=0),0,IF(C4-1=0,Uebersicht!G4,INDIRECT(\"'\"&TEXT(DATE(D4,C4-1,1),\"MMM\")&\"'!K44\")))","v":0},null,"nein",null,null,{"$f":"IF(N4=\"\",\"\",\"Arbeitsgebiet 2\")","v":"Arbeitsgebiet 2"},null,null,null,{"$f":"IF(OR($K$9=2,$K$9=0),1,IF(AND(OR($K$9=1,$K$9=3),OR(SUM($U$4:$U$8)=0,$U$1=\"nein\")),3,IF(AND($U$1=\"\",SUM($U$4:$U$8)>0,U6>=1,OR($K$9=3,$K$9=1)),4,1)))","v":1},"Mi",null,{"$f":"IF(OR($K$9=0,INDIRECT(\"'\"&TEXT(DATE(D6,$C$4-1,1),\"MMM\")&\"'!$U$1\")=\"nein\",$U$1=\"nein\"),0,IF(T6>0,T6,INDEX(Uebersicht!$BA$3:$BE$14,$C$4,MATCH(S6,Uebersicht!$BA$2:$BE$2,0))))","v":0}]
[{"$f":"IF(AND(H9>0,I9=0),CONCATENATE(H9,\" Wochenarbeitszeit (h)\"),IF(AND(H9=0,I9>0),CONCATENATE(I9,\" Wochenarbeitszeit (h)\"),IF(AND(H9>0,I9>0,H9<>I9),CONCATENATE(H9,\" h, ab 15. \",TEXT(DATE(D4,C4,1),\"MMMM\"),\" \",I9,\"h\"),\"\")))","v":""},null,null,null,null,{"$f":"IF(G4=\"\",\"\",IF(M42/60>0,TEXT((M42/60)/24,\"[h]:mm\"),0))","v":""},{"$f":"IF(F7=\"\",\"\",\"Urlaubsrest\")","v":""},null,{"$f":"IF(AND(YEAR(TODAY())=D4,MONTH(TODAY())>=C4,K9>0),IF(OR(I6=0,I6=\"\"),0,IF(I6<0,TEXT(-(I6/60)/24,\"-[h]:mm\"),TEXT((I6/60)/24,\"[h]:mm\"))),\"\")","v":""},{"$f":"IF(I7=\"\",\"\",CONCATENATE(\"h Übertrag aus \",IF(C6=1,\"Vorjahr\",\"Vormonat\")))","v":""},"Urlaub",null,null,{"$f":"IF(AND(N3>0,O3=0),CONCATENATE(N3,\" Stunden - Anteil pro Woche\"),IF(AND(N3=0,O3>0),CONCATENATE(O3,\" Stunden - Anteil pro Woche\"),IF(AND(N3>0,O3>0,O3<>N3),CONCATENATE(N3,\" h, ab 15. \",TEXT(DATE(D4,C4,1),\"MMMM\"),\" \",O3,\"h\"),IF(N3=O3,CONCATENATE(N3,\" Stunden - Anteil pro Woche\"),\"\"))))","v":"0 Stunden - Anteil pro Woche"},null,null,null,{"$f":"IF(OR($K$9=2,$K$9=0),1,IF(AND(OR($K$9=1,$K$9=3),OR(SUM($U$4:$U$8)=0,$U$1=\"nein\")),3,IF(AND($U$1=\"\",SUM($U$4:$U$8)>0,U7>=1,OR($K$9=3,$K$9=1)),4,1)))","v":1},"Do",null,{"$f":"IF(OR($K$9=0,INDIRECT(\"'\"&TEXT(DATE(D7,$C$4-1,1),\"MMM\")&\"'!$U$1\")=\"nein\",$U$1=\"nein\"),0,IF(T7>0,T7,INDEX(Uebersicht!$BA$3:$BE$14,$C$4,MATCH(S7,Uebersicht!$BA$2:$BE$2,0))))","v":0}]
[null,null,null,null,null,null,null,null,null,null,"Krank",null,null,null,null,null,null,{"$f":"IF(OR($K$9=2,$K$9=0),1,IF(AND(OR($K$9=1,$K$9=3),OR(SUM($U$4:$U$8)=0,$U$1=\"nein\")),3,IF(AND($U$1=\"\",SUM($U$4:$U$8)>0,U8>=1,OR($K$9=3,$K$9=1)),4,1)))","v":1},"Fr",null,{"$f":"IF(OR($K$9=0,INDIRECT(\"'\"&TEXT(DATE(D8,$C$4-1,1),\"MMM\")&\"'!$U$1\")=\"nein\",$U$1=\"nein\"),0,IF(T8>0,T8,INDEX(Uebersicht!$BA$3:$BE$14,$C$4,MATCH(S8,Uebersicht!$BA$2:$BE$2,0))))","v":0}]
[null,null,null,null,null,null,null,{"$f":"INDEX(Uebersicht!AU3:AW14,C4,2)","v":0},{"$f":"IF(INDEX(Uebersicht!AU3:AW14,C4,3)=H9,0,INDEX(Uebersicht!AU3:AW14,C4,3))","v":0},null,{"$f":"IF(AND(H9>0,I9=0),1,IF(AND(H9=0,I9>0),2,IF(AND(H9=0,I9=0),0,IF(H9<>I9,3,\"\"))))","v":0},null,null,null,{"$f":"IF(OR(N3>0,O3>0),IF(OR(K9=1,K9=2),(IF(K9=1,N3,IF(K9=2,O2,0))/5)*NETWORKDAYS(IF(K9=1,DATE(D4,C4,1),IF(K9=2,DATE(D4,C4,15),0)),IF(OR(K9=1,K9=2),DATE(D4,C4,MAX(A11:A41)),0),COUNTIFS(C11:C41,\"<>\"&2)),IF(K9=3,SUM(IF(N3>0,(N3/5)*NETWORKDAYS(DATE(D4,C4,1),DATE(D4,C4,14),2),0),IF(O3>0,(O3/5)*NETWORKDAYS(DATE(D4,C4,15),DATE(D4,C4,MAX(A11:A41)),2),0)),0)),\"\")","v":""},null,null,null,{"$f":"IF(SUM(U4:U8)=0,\"\",IF(SUM(U4:U8)>H9,\"zu viel!\",IF(SUM(U4:U8)<H9,\"zu wenig!\",\"\")))","v":""},null,{"$f":"IF(OR(U1=\"nein\",SUM(U4:U8)=0),\"ja\",IF(OR(SUM(Uebersicht!C36:C40)>0,SUM(T4:T8)>0,SUM(U4:U8)>0),\"nein\",\"ja\"))","v":"ja"}]
["Tag",null,null,"Beginn","Ende","Urlaub\nKrank","Stunden","Mehr/\nMinder","Saldo\nsummiert","Bemerkungen","Differenz","Soll",{"$f":"IF(AND(I9=0,H9=0),0,IF(C4-1=0,IF(Uebersicht!E8=\"\",0,Uebersicht!E8*60),INDIRECT(\"'\"&TEXT(DATE(D4,C4-1,1),\"MMM\")&\"'!M42\")))","v":0},"Stunden","Rest","Bemerkungen","Gesamt",null,"Änderung im laufenden Monat"]
[1,{"$f":"IF(OR(A11=\"\",$D$4=\"\"),\"\",TEXT(DATE($D$4,$C$4,A11),\"ttt\"))","v":""},{"$f":"IF(OR($K$9=0,AND($K$9=2,A11<=14)),1,IF(IF(ISNA(INDEX(X!$W$7:$W$20,MATCH(DATE($D$4,$C$4,A11),X!$AC$7:$AC$20,0))),1,2)=2,2,IF(OR(B11=\"Sa\",B11=\"So\"),2,IF($K$9=1,SUMIFS($R$4:$R$8,$S$4:$S$8,B11),IF(AND($K$9=2,A11<15),SUMIFS($R$4:$R$8,$S$4:$S$8,B11),IF(AND($K$9=2,A11>14),SUMIFS($R$12:$R$16,$S$12:$S$16,B11),IF(AND($K$9=3,A11>14),SUMIFS($R$12:$R$16,$S$12:$S$16,B11),IF(AND($K$9=3,A11<15),SUMIFS($R$4:$R$8,$S$4:$S$8,B11),1))))))))","v":1},null,null,null,{"$f":"IF(AND(D11=\"\",E11=\"\"),\"\",IF(N11=\"\",IF(((HOUR(E11)*60+MINUTE(E11))-(HOUR(D11)*60+MINUTE(D11)))>360,TEXT(((((HOUR(E11)*60+MINUTE(E11))-(HOUR(D11)*60+MINUTE(D11)))-30)/60)/24,\"[h]:mm\"),TEXT((((HOUR(E11)*60+MINUTE(E11))-(HOUR(D11)*60+MINUTE(D11)))/60)/24,\"[h]:mm\")),IF((((HOUR(E11)*60+MINUTE(E11))-(HOUR(D11)*60+MINUTE(D11)))-N11)>360,TEXT(((((((HOUR(E11)*60+MINUTE(E11))-(HOUR(D11)*60+MINUTE(D11)))-30))/60)-N11)/24,\"[h]:mm\"),TEXT(((((HOUR(E11)*60+MINUTE(E11))-(HOUR(D11)*60+MINUTE(D11)))/60)-N11)/24,\"[h]:mm\"))))","v":""},{"$f":"IF(K11=\"\",\"\",IF(TODAY()<=DATE($D$4,$C$4,A11),0,IF(K11>0,TEXT((K11/60)/24,\"[h]:mm\"),TEXT(-(K11/60)/24,\"-[h]:mm\"))))","v":""},{"$f":"IF($K$9>0,IF(SUM($K$11:$K11,I6)<0,TEXT(-(SUM($K$11:K11,I6)/60)/24,\"-[h]:mm\"),TEXT((SUM($K$11:K11,I6)/60)/24,\"[h]:mm\")),\"\")","v":""},null,{"$f":"IF(F11=\"\",IF(L11<0,L11+IF(G11=\" \",0,IF(((HOUR(E11)*60+MINUTE(E11))-(HOUR(D11)*60+MINUTE(D11)))>360,(HOUR(E11)*60+MINUTE(E11))-(HOUR(D11)*60+MINUTE(D11))-30,(HOUR(E11)*60+MINUTE(E11))-(HOUR(D11)*60+MINUTE(D11)))),IF(Q11=\"\",\"\",(Q11*60)*24)),\"\")","v":""},{"$f":"IF(OR(F11=\"krank\",F11=\"Urlaub\",C11=1,C11=2),0,IF($K$9=1,IF(SUM($U$4:$U$8)=0,$H$9/5,INDEX($S$4:$U$8,MATCH(B11,$S$4:$S$8,0),3)),IF($K$9=2,IF(AND(A11>14,SUM($U$12:$U$16)=0),$I$9/5,INDEX($S$12:$U$16,MATCH(B11,$S$12:$S$16,0),3)),IF($K$9=3,IF(A11<15,IF(SUM($U$4:$U$8)=0,$H$9/5,INDEX($S$4:$U$8,MATCH(B11,$S$4:$S$8,0),3))),IF(A11>14,IF(SUM($U$12:$U$16)=0,$I$9/5,INDEX($S$12:$U$16,MATCH(B11,$S$12:$S$16,0),3))))))*-60)","v":0},{"$f":"M10-(IF(OR(C11=1,C11=2),0,IF(C11=3,IF(AND($K$9=1,F11=\"Urlaub\"),$H$9/5,IF($K$9=2,IF(AND(A11<15,F11=\"Urlaub\"),$I$9/5,IF(AND($K$9=3,A11<15,F11=\"Urlaub\"),$H$9/5,IF(AND($K$9=3,A11>14,F11=\"Urlaub\"),$I$9/5))))),IF(C11=4,IF(AND(F11=\"Urlaub\",$K$9=1),SUMIFS($U$4:$U$8,$S$4:$S$8,B11),IF(AND(F11=\"Urlaub\",$K$9=2,A11>14),SUMIFS($U$12:$U$16,$S$12:$S$16,B11),IF(AND(F11=\"Urlaub\",$K$9=3,A11<15),SUMIFS($U$4:$U$8,$S$4:$S$8,B11),IF(AND(F11=\"Urlaub\",$K$9=3,A11>14),SUMIFS($U$12:$U$16,$S$12:$S$16,B11),0)))))))*60)","v":0},null,{"$f":"IF(OR($O$3=\"\",$N$3=\"\",N11=\"\"),\"\",IF($O$9-SUM($N10:N$11)-N11<0,TEXT(-(($O$9-SUM($N10:N$11)-N11)/24),\"-[hh]:mm\"),TEXT(($O$9-SUM($N10:N$11)-N11)/24,\"[hh]:mm\")))","v":""},null,{"$f":"IF(AND(D11=\"\",E11=\"\"),\"\",IF(((HOUR(E11)*60+MINUTE(E11))-(HOUR(D11)*60+MINUTE(D11)))>360,TEXT(((((HOUR(E11)*60+MINUTE(E11))-(HOUR(D11)*60+MINUTE(D11)))-30)/60)/24,\"[h]:mm\"),TEXT((((HOUR(E11)*60+MINUTE(E11))-(HOUR(D11)*60+MINUTE(D11)))/60)/24,\"[h]:mm\")))","v":""}]
[{"$f":"IF(OR(A11=\"\",$D$4=\"\"),\"\",IF(A11+1<=$C$6,A11+1,\"\"))","v":""},"",{"$f":"IF(OR($K$9=0,AND($K$9=2,A12<=14)),1,IF(IF(ISNA(INDEX(X!$W$7:$W$20,MATCH(DATE($D$4,$C$4,A12),X!$AC$7:$AC$20,0))),1,2)=2,2,IF(OR(B12=\"Sa\",B12=\"So\"),2,IF($K$9=1,SUMIFS($R$4:$R$8,$S$4:$S$8,B12),IF(AND($K$9=2,A12<15),SUMIFS($R$4:$R$8,$S$4:$S$8,B12),IF(AND($K$9=2,A12>14),SUMIFS($R$12:$R$16,$S$12:$S$16,B12),IF(AND($K$9=3,A12>14),SUMIFS($R$12:$R$16,$S$12:$S$16,B12),IF(AND($K$9=3,A12<15),SUMIFS($R$4:$R$8,$S$4:$S$8,B12),1))))))))","v":1},null,null,null,"","",{"$f":"IF($K$9>0,IF(SUM($K$11:$K12,$I$6)<0,TEXT(-(SUM($K$11:K12,$I$6)/60)/24,\"-[h]:mm\"),TEXT((SUM($K$11:K12,$I$6)/60)/24,\"[h]:mm\")),\"\")","v":""},null,{"$f":"IF(F12=\"\",IF(L12<0,L12+IF(G12=\" \",0,IF(((HOUR(E12)*60+MINUTE(E12))-(HOUR(D12)*60+MINUTE(D12)))>360,(HOUR(E12)*60+MINUTE(E12))-(HOUR(D12)*60+MINUTE(D12))-30,(HOUR(E12)*60+MINUTE(E12))-(HOUR(D12)*60+MINUTE(D12)))),IF(Q12=\"\",\"\",(Q12*60)*24)),\"\")","v":""},{"$f":"IF(OR(F12=\"krank\",F12=\"Urlaub\",C12=1,C12=2),0,IF($K$9=1,IF(SUM($U$4:$U$8)=0,$H$9/5,INDEX($S$4:$U$8,MATCH(B12,$S$4:$S$8,0),3)),IF($K$9=2,IF(AND(A12>14,SUM($U$12:$U$16)=0),$I$9/5,INDEX($S$12:$U$16,MATCH(B12,$S$12:$S$16,0),3)),IF($K$9=3,IF(A12<15,IF(SUM($U$4:$U$8)=0,$H$9/5,INDEX($S$4:$U$8,MATCH(B12,$S$4:$S$8,0),3)),IF(SUM($U$12:$U$16)=0,$I$9/5,INDEX($S$12:$U$16,MATCH(B12,$S$12:$S$16,0),3)))))))*-60","v":0},0,null,{"$f":"IF(OR($O$3=\"\",$N$3=\"\",N12=\"\"),\"\",IF($O$9-SUM($N$11:N11)-N12<0,TEXT(-(($O$9-SUM($N$11:N11)-N12)/24),\"-[hh]:mm\"),TEXT(($O$9-SUM($N$11:N11)-N12)/24,\"[hh]:mm\")))","v":""},null,"",{"$f":"IF($K$9=0,1,IF($K$9=1,R4,IF(AND($K$9=3,OR(SUM($U$12:$U$16)=0,$U$1=\"nein\")),3,IF(AND($U$1=\"\",SUM($U$12:$U$16)>0,U12>=1,OR($K$9=3,$K$9=2)),4,1))))","v":1},"Mo",null,{"$f":"IF(AND(I9=0,H9=0),0,IF(OR($K$9=0,INDIRECT(\"'\"&TEXT(DATE(D4,$C$4-1,1),\"MMM\")&\"'!$U$1\")=\"nein\",$U$1=\"nein\"),0,IF(T12>0,T12,INDEX(Uebersicht!$BF$3:$BJ$14,$C$4,MATCH(S12,Uebersicht!$BF$2:$BJ$2,0)))))","v":0}]
[{"$f":"IF(OR(A12=\"\",$D$4=\"\"),\"\",IF(A12+1<=$C$6,A12+1,\"\"))","v":""},"",{"$f":"IF(OR($K$9=0,AND($K$9=2,A13<=14)),1,IF(IF(ISNA(INDEX(X!$W$7:$W$20,MATCH(DATE($D$4,$C$4,A13),X!$AC$7:$AC$20,0))),1,2)=2,2,IF(OR(B13=\"Sa\",B13=\"So\"),2,IF($K$9=1,SUMIFS($R$4:$R$8,$S$4:$S$8,B13),IF(AND($K$9=2,A13<15),SUMIFS($R$4:$R$8,$S$4:$S$8,B13),IF(AND($K$9=2,A13>14),SUMIFS($R$12:$R$16,$S$12:$S$16,B13),IF(AND($K$9=3,A13>14),SUMIFS($R$12:$R$16,$S$12:$S$16,B13),IF(AND($K$9=3,A13<15),SUMIFS($R$4:$R$8,$S$4:$S$8,B13),1))))))))","v":1},null,null,null,"","",{"$f":"IF($K$9>0,IF(SUM($K$11:$K13,$I$6)<0,TEXT(-(SUM($K$11:K13,$I$6)/60)/24,\"-[h]:mm\"),TEXT((SUM($K$11:K13,$I$6)/60)/24,\"[h]:mm\")),\"\")","v":""},null,"",0,0,null,{"$f":"IF(OR($O$3=\"\",$N$3=\"\",N13=\"\"),\"\",IF($O$9-SUM($N$11:N12)-N13<0,TEXT(-(($O$9-SUM($N$11:N12)-N13)/24),\"-[hh]:mm\"),TEXT(($O$9-SUM($N$11:N12)-N13)/24,\"[hh]:mm\")))","v":""},null,"",{"$f":"IF($K$9=0,1,IF($K$9=1,R5,IF(AND($K$9=3,OR(SUM($U$12:$U$16)=0,$U$1=\"nein\")),3,IF(AND($U$1=\"\",SUM($U$12:$U$16)>0,U13>=1,OR($K$9=3,$K$9=2)),4,1))))","v":1},"Di",null,{"$f":"IF(OR($K$9=0,INDIRECT(\"'\"&TEXT(DATE(D5,$C$4-1,1),\"MMM\")&\"'!$U$1\")=\"nein\",$U$1=\"nein\"),0,IF(T13>0,T13,INDEX(Uebersicht!$BF$3:$BJ$14,$C$4,MATCH(S13,Uebersicht!$BF$2:$BJ$2,0))))","v":0}]
["","",{"$f":"IF(OR($K$9=0,AND($K$9=2,A14<=14)),1,IF(IF(ISNA(INDEX(X!$W$7:$W$20,MATCH(DATE($D$4,$C$4,A14),X!$AC$7:$AC$20,0))),1,2)=2,2,IF(OR(B14=\"Sa\",B14=\"So\"),2,IF($K$9=1,SUMIFS($R$4:$R$8,$S$4:$S$8,B14),IF(AND($K$9=2,A14<15),SUMIFS($R$4:$R$8,$S$4:$S$8,B14),IF(AND($K$9=2,A14>14),SUMIFS($R$12:$R$16,$S$12:$S$16,B14),IF(AND($K$9=3,A14>14),SUMIFS($R$12:$R$16,$S$12:$S$16,B14),IF(AND($K$9=3,A14<15),SUMIFS($R$4:$R$8,$S$4:$S$8,B14),1))))))))","v":1},null,null,null,"","",{"$f":"IF($K$9>0,IF(SUM($K$11:$K14,$I$6)<0,TEXT(-(SUM($K$11:K14,$I$6)/60)/24,\"-[h]:mm\"),TEXT((SUM($K$11:K14,$I$6)/60)/24,\"[h]:mm\")),\"\")","v":""},null,"",0,0,null,{"$f":"IF(OR($O$3=\"\",$N$3=\"\",N14=\"\"),\"\",IF($O$9-SUM($N$11:N13)-N14<0,TEXT(-(($O$9-SUM($N$11:N13)-N14)/24),\"-[hh]:mm\"),TEXT(($O$9-SUM($N$11:N13)-N14)/24,\"[hh]:mm\")))","v":""},null,"",{"$f":"IF($K$9=0,1,IF($K$9=1,R6,IF(AND($K$9=3,OR(SUM($U$12:$U$16)=0,$U$1=\"nein\")),3,IF(AND($U$1=\"\",SUM($U$12:$U$16)>0,U14>=1,OR($K$9=3,$K$9=2)),4,1))))","v":1},"Mi",null,{"$f":"IF(OR($K$9=0,INDIRECT(\"'\"&TEXT(DATE(D6,$C$4-1,1),\"MMM\")&\"'!$U$1\")=\"nein\",$U$1=\"nein\"),0,IF(T14>0,T14,INDEX(Uebersicht!$BF$3:$BJ$14,$C$4,MATCH(S14,Uebersicht!$BF$2:$BJ$2,0))))","v":0}]
["","",{"$f":"IF(OR($K$9=0,AND($K$9=2,A15<=14)),1,IF(IF(ISNA(INDEX(X!$W$7:$W$20,MATCH(DATE($D$4,$C$4,A15),X!$AC$7:$AC$20,0))),1,2)=2,2,IF(OR(B15=\"Sa\",B15=\"So\"),2,IF($K$9=1,SUMIFS($R$4:$R$8,$S$4:$S$8,B15),IF(AND($K$9=2,A15<15),SUMIFS($R$4:$R$8,$S$4:$S$8,B15),IF(AND($K$9=2,A15>14),SUMIFS($R$12:$R$16,$S$12:$S$16,B15),IF(AND($K$9=3,A15>14),SUMIFS($R$12:$R$16,$S$12:$S$16,B15),IF(AND($K$9=3,A15<15),SUMIFS($R$4:$R$8,$S$4:$S$8,B15),1))))))))","v":1},null,null,null,"","",{"$f":"IF($K$9>0,IF(SUM($K$11:$K15,$I$6)<0,TEXT(-(SUM($K$11:K15,$I$6)/60)/24,\"-[h]:mm\"),TEXT((SUM($K$11:K15,$I$6)/60)/24,\"[h]:mm\")),\"\")","v":""},null,"",0,0,null,{"$f":"IF(OR($O$3=\"\",$N$3=\"\",N15=\"\"),\"\",IF($O$9-SUM($N$11:N14)-N15<0,TEXT(-(($O$9-SUM($N$11:N14)-N15)/24),\"-[hh]:mm\"),TEXT(($O$9-SUM($N$11:N14)-N15)/24,\"[hh]:mm\")))","v":""},null,"",{"$f":"IF($K$9=0,1,IF($K$9=1,R7,IF(AND($K$9=3,OR(SUM($U$12:$U$16)=0,$U$1=\"nein\")),3,IF(AND($U$1=\"\",SUM($U$12:$U$16)>0,U15>=1,OR($K$9=3,$K$9=2)),4,1))))","v":1},"Do",null,{"$f":"IF(OR($K$9=0,INDIRECT(\"'\"&TEXT(DATE(D7,$C$4-1,1),\"MMM\")&\"'!$U$1\")=\"nein\",$U$1=\"nein\"),0,IF(T15>0,T15,INDEX(Uebersicht!$BF$3:$BJ$14,$C$4,MATCH(S15,Uebersicht!$BF$2:$BJ$2,0))))","v":0}]
["","",{"$f":"IF(OR($K$9=0,AND($K$9=2,A16<=14)),1,IF(IF(ISNA(INDEX(X!$W$7:$W$20,MATCH(DATE($D$4,$C$4,A16),X!$AC$7:$AC$20,0))),1,2)=2,2,IF(OR(B16=\"Sa\",B16=\"So\"),2,IF($K$9=1,SUMIFS($R$4:$R$8,$S$4:$S$8,B16),IF(AND($K$9=2,A16<15),SUMIFS($R$4:$R$8,$S$4:$S$8,B16),IF(AND($K$9=2,A16>14),SUMIFS($R$12:$R$16,$S$12:$S$16,B16),IF(AND($K$9=3,A16>14),SUMIFS($R$12:$R$16,$S$12:$S$16,B16),IF(AND($K$9=3,A16<15),SUMIFS($R$4:$R$8,$S$4:$S$8,B16),1))))))))","v":1},null,null,null,"","",{"$f":"IF($K$9>0,IF(SUM($K$11:$K16,$I$6)<0,TEXT(-(SUM($K$11:K16,$I$6)/60)/24,\"-[h]:mm\"),TEXT((SUM($K$11:K16,$I$6)/60)/24,\"[h]:mm\")),\"\")","v":""},null,"",0,0,null,{"$f":"IF(OR($O$3=\"\",$N$3=\"\",N16=\"\"),\"\",IF($O$9-SUM($N$11:N15)-N16<0,TEXT(-(($O$9-SUM($N$11:N15)-N16)/24),\"-[hh]:mm\"),TEXT(($O$9-SUM($N$11:N15)-N16)/24,\"[hh]:mm\")))","v":""},null,"",{"$f":"IF($K$9=0,1,IF($K$9=1,R8,IF(AND($K$9=3,OR(SUM($U$12:$U$16)=0,$U$1=\"nein\")),3,IF(AND($U$1=\"\",SUM($U$12:$U$16)>0,U16>=1,OR($K$9=3,$K$9=2)),4,1))))","v":1},"Fr",null,{"$f":"IF(OR($K$9=0,INDIRECT(\"'\"&TEXT(DATE(D8,$C$4-1,1),\"MMM\")&\"'!$U$1\")=\"nein\",$U$1=\"nein\"),0,IF(T16>0,T16,INDEX(Uebersicht!$BF$3:$BJ$14,$C$4,MATCH(S16,Uebersicht!$BF$2:$BJ$2,0))))","v":0}]
["","",{"$f":"IF(OR($K$9=0,AND($K$9=2,A17<=14)),1,IF(IF(ISNA(INDEX(X!$W$7:$W$20,MATCH(DATE($D$4,$C$4,A17),X!$AC$7:$AC$20,0))),1,2)=2,2,IF(OR(B17=\"Sa\",B17=\"So\"),2,IF($K$9=1,SUMIFS($R$4:$R$8,$S$4:$S$8,B17),IF(AND($K$9=2,A17<15),SUMIFS($R$4:$R$8,$S$4:$S$8,B17),IF(AND($K$9=2,A17>14),SUMIFS($R$12:$R$16,$S$12:$S$16,B17),IF(AND($K$9=3,A17>14),SUMIFS($R$12:$R$16,$S$12:$S$16,B17),IF(AND($K$9=3,A17<15),SUMIFS($R$4:$R$8,$S$4:$S$8,B17),1))))))))","v":1},null,null,null,"","",{"$f":"IF($K$9>0,IF(SUM($K$11:$K17,$I$6)<0,TEXT(-(SUM($K$11:K17,$I$6)/60)/24,\"-[h]:mm\"),TEXT((SUM($K$11:K17,$I$6)/60)/24,\"[h]:mm\")),\"\")","v":""},null,"",0,0,null,{"$f":"IF(OR($O$3=\"\",$N$3=\"\",N17=\"\"),\"\",IF($O$9-SUM($N$11:N16)-N17<0,TEXT(-(($O$9-SUM($N$11:N16)-N17)/24),\"-[hh]:mm\"),TEXT(($O$9-SUM($N$11:N16)-N17)/24,\"[hh]:mm\")))","v":""},null,"",null,{"$f":"IF(I9=0,\"\",IF(SUM(U12:U16)>I9,\"zu viel!\",IF(SUM(U12:U16)<I9,\"zu wenig!\",\"\")))","v":""},null,{"$f":"IF(OR(U9=\"nein\",SUM(U12:U16)=0),\"ja\",IF(OR(SUM(Uebersicht!C43:C47)>0,SUM(T12:T16)>0,SUM(U12:U16)>0),\"nein\",\"ja\"))","v":"ja"}]
["","",{"$f":"IF(OR($K$9=0,AND($K$9=2,A18<=14)),1,IF(IF(ISNA(INDEX(X!$W$7:$W$20,MATCH(DATE($D$4,$C$4,A18),X!$AC$7:$AC$20,0))),1,2)=2,2,IF(OR(B18=\"Sa\",B18=\"So\"),2,IF($K$9=1,SUMIFS($R$4:$R$8,$S$4:$S$8,B18),IF(AND($K$9=2,A18<15),SUMIFS($R$4:$R$8,$S$4:$S$8,B18),IF(AND($K$9=2,A18>14),SUMIFS($R$12:$R$16,$S$12:$S$16,B18),IF(AND($K$9=3,A18>14),SUMIFS($R$12:$R$16,$S$12:$S$16,B18),IF(AND($K$9=3,A18<15),SUMIFS($R$4:$R$8,$S$4:$S$8,B18),1))))))))","v":1},null,null,null,"","",{"$f":"IF($K$9>0,IF(SUM($K$11:$K18,$I$6)<0,TEXT(-(SUM($K$11:K18,$I$6)/60)/24,\"-[h]:mm\"),TEXT((SUM($K$11:K18,$I$6)/60)/24,\"[h]:mm\")),\"\")","v":""},null,"",0,0,null,{"$f":"IF(OR($O$3=\"\",$N$3=\"\",N18=\"\"),\"\",IF($O$9-SUM($N$11:N17)-N18<0,TEXT(-(($O$9-SUM($N$11:N17)-N18)/24),\"-[hh]:mm\"),TEXT(($O$9-SUM($N$11:N17)-N18)/24,\"[hh]:mm\")))","v":""},null,""]
["","",{"$f":"IF(OR($K$9=0,AND($K$9=2,A19<=14)),1,IF(IF(ISNA(INDEX(X!$W$7:$W$20,MATCH(DATE($D$4,$C$4,A19),X!$AC$7:$AC$20,0))),1,2)=2,2,IF(OR(B19=\"Sa\",B19=\"So\"),2,IF($K$9=1,SUMIFS($R$4:$R$8,$S$4:$S$8,B19),IF(AND($K$9=2,A19<15),SUMIFS($R$4:$R$8,$S$4:$S$8,B19),IF(AND($K$9=2,A19>14),SUMIFS($R$12:$R$16,$S$12:$S$16,B19),IF(AND($K$9=3,A19>14),SUMIFS($R$12:$R$16,$S$12:$S$16,B19),IF(AND($K$9=3,A19<15),SUMIFS($R$4:$R$8,$S$4:$S$8,B19),1))))))))","v":1},null,null,null,"","",{"$f":"IF($K$9>0,IF(SUM($K$11:$K19,$I$6)<0,TEXT(-(SUM($K$11:K19,$I$6)/60)/24,\"-[h]:mm\"),TEXT((SUM($K$11:K19,$I$6)/60)/24,\"[h]:mm\")),\"\")","v":""},null,"",0,0,null,{"$f":"IF(OR($O$3=\"\",$N$3=\"\",N19=\"\"),\"\",IF($O$9-SUM($N$11:N18)-N19<0,TEXT(-(($O$9-SUM($N$11:N18)-N19)/24),\"-[hh]:mm\"),TEXT(($O$9-SUM($N$11:N18)-N19)/24,\"[hh]:mm\")))","v":""},null,""]
["","",{"$f":"IF(OR($K$9=0,AND($K$9=2,A20<=14)),1,IF(IF(ISNA(INDEX(X!$W$7:$W$20,MATCH(DATE($D$4,$C$4,A20),X!$AC$7:$AC$20,0))),1,2)=2,2,IF(OR(B20=\"Sa\",B20=\"So\"),2,IF($K$9=1,SUMIFS($R$4:$R$8,$S$4:$S$8,B20),IF(AND($K$9=2,A20<15),SUMIFS($R$4:$R$8,$S$4:$S$8,B20),IF(AND($K$9=2,A20>14),SUMIFS($R$12:$R$16,$S$12:$S$16,B20),IF(AND($K$9=3,A20>14),SUMIFS($R$12:$R$16,$S$12:$S$16,B20),IF(AND($K$9=3,A20<15),SUMIFS($R$4:$R$8,$S$4:$S$8,B20),1))))))))","v":1},null,null,null,"","",{"$f":"IF($K$9>0,IF(SUM($K$11:$K20,$I$6)<0,TEXT(-(SUM($K$11:K20,$I$6)/60)/24,\"-[h]:mm\"),TEXT((SUM($K$11:K20,$I$6)/60)/24,\"[h]:mm\")),\"\")","v":""},null,"",0,0,null,{"$f":"IF(OR($O$3=\"\",$N$3=\"\",N20=\"\"),\"\",IF($O$9-SUM($N$11:N19)-N20<0,TEXT(-(($O$9-SUM($N$11:N19)-N20)/24),\"-[hh]:mm\"),TEXT(($O$9-SUM($N$11:N19)-N20)/24,\"[hh]:mm\")))","v":""},null,""]
["","",{"$f":"IF(OR($K$9=0,AND($K$9=2,A21<=14)),1,IF(IF(ISNA(INDEX(X!$W$7:$W$20,MATCH(DATE($D$4,$C$4,A21),X!$AC$7:$AC$20,0))),1,2)=2,2,IF(OR(B21=\"Sa\",B21=\"So\"),2,IF($K$9=1,SUMIFS($R$4:$R$8,$S$4:$S$8,B21),IF(AND($K$9=2,A21<15),SUMIFS($R$4:$R$8,$S$4:$S$8,B21),IF(AND($K$9=2,A21>14),SUMIFS($R$12:$R$16,$S$12:$S$16,B21),IF(AND($K$9=3,A21>14),SUMIFS($R$12:$R$16,$S$12:$S$16,B21),IF(AND($K$9=3,A21<15),SUMIFS($R$4:$R$8,$S$4:$S$8,B21),1))))))))","v":1},null,null,null,"","",{"$f":"IF($K$9>0,IF(SUM($K$11:$K21,$I$6)<0,TEXT(-(SUM($K$11:K21,$I$6)/60)/24,\"-[h]:mm\"),TEXT((SUM($K$11:K21,$I$6)/60)/24,\"[h]:mm\")),\"\")","v":""},null,"",0,0,null,{"$f":"IF(OR($O$3=\"\",$N$3=\"\",N21=\"\"),\"\",IF($O$9-SUM($N$11:N20)-N21<0,TEXT(-(($O$9-SUM($N$11:N20)-N21)/24),\"-[hh]:mm\"),TEXT(($O$9-SUM($N$11:N20)-N21)/24,\"[hh]:mm\")))","v":""},null,""]
["","",{"$f":"IF(OR($K$9=0,AND($K$9=2,A22<=14)),1,IF(IF(ISNA(INDEX(X!$W$7:$W$20,MATCH(DATE($D$4,$C$4,A22),X!$AC$7:$AC$20,0))),1,2)=2,2,IF(OR(B22=\"Sa\",B22=\"So\"),2,IF($K$9=1,SUMIFS($R$4:$R$8,$S$4:$S$8,B22),IF(AND($K$9=2,A22<15),SUMIFS($R$4:$R$8,$S$4:$S$8,B22),IF(AND($K$9=2,A22>14),SUMIFS($R$12:$R$16,$S$12:$S$16,B22),IF(AND($K$9=3,A22>14),SUMIFS($R$12:$R$16,$S$12:$S$16,B22),IF(AND($K$9=3,A22<15),SUMIFS($R$4:$R$8,$S$4:$S$8,B22),1))))))))","v":1},null,null,null,"","",{"$f":"IF($K$9>0,IF(SUM($K$11:$K22,$I$6)<0,TEXT(-(SUM($K$11:K22,$I$6)/60)/24,\"-[h]:mm\"),TEXT((SUM($K$11:K22,$I$6)/60)/24,\"[h]:mm\")),\"\")","v":""},null,"",0,0,null,{"$f":"IF(OR($O$3=\"\",$N$3=\"\",N22=\"\"),\"\",IF($O$9-SUM($N$11:N21)-N22<0,TEXT(-(($O$9-SUM($N$11:N21)-N22)/24),\"-[hh]:mm\"),TEXT(($O$9-SUM($N$11:N21)-N22)/24,\"[hh]:mm\")))","v":""},null,""]
["","",{"$f":"IF(OR($K$9=0,AND($K$9=2,A23<=14)),1,IF(IF(ISNA(INDEX(X!$W$7:$W$20,MATCH(DATE($D$4,$C$4,A23),X!$AC$7:$AC$20,0))),1,2)=2,2,IF(OR(B23=\"Sa\",B23=\"So\"),2,IF($K$9=1,SUMIFS($R$4:$R$8,$S$4:$S$8,B23),IF(AND($K$9=2,A23<15),SUMIFS($R$4:$R$8,$S$4:$S$8,B23),IF(AND($K$9=2,A23>14),SUMIFS($R$12:$R$16,$S$12:$S$16,B23),IF(AND($K$9=3,A23>14),SUMIFS($R$12:$R$16,$S$12:$S$16,B23),IF(AND($K$9=3,A23<15),SUMIFS($R$4:$R$8,$S$4:$S$8,B23),1))))))))","v":1},null,null,null,"","",{"$f":"IF($K$9>0,IF(SUM($K$11:$K23,$I$6)<0,TEXT(-(SUM($K$11:K23,$I$6)/60)/24,\"-[h]:mm\"),TEXT((SUM($K$11:K23,$I$6)/60)/24,\"[h]:mm\")),\"\")","v":""},null,"",0,0,null,{"$f":"IF(OR($O$3=\"\",$N$3=\"\",N23=\"\"),\"\",IF($O$9-SUM($N$11:N22)-N23<0,TEXT(-(($O$9-SUM($N$11:N22)-N23)/24),\"-[hh]:mm\"),TEXT(($O$9-SUM($N$11:N22)-N23)/24,\"[hh]:mm\")))","v":""},null,""]
["","",{"$f":"IF(OR($K$9=0,AND($K$9=2,A24<=14)),1,IF(IF(ISNA(INDEX(X!$W$7:$W$20,MATCH(DATE($D$4,$C$4,A24),X!$AC$7:$AC$20,0))),1,2)=2,2,IF(OR(B24=\"Sa\",B24=\"So\"),2,IF($K$9=1,SUMIFS($R$4:$R$8,$S$4:$S$8,B24),IF(AND($K$9=2,A24<15),SUMIFS($R$4:$R$8,$S$4:$S$8,B24),IF(AND($K$9=2,A24>14),SUMIFS($R$12:$R$16,$S$12:$S$16,B24),IF(AND($K$9=3,A24>14),SUMIFS($R$12:$R$16,$S$12:$S$16,B24),IF(AND($K$9=3,A24<15),SUMIFS($R$4:$R$8,$S$4:$S$8,B24),1))))))))","v":1},null,null,null,"","",{"$f":"IF($K$9>0,IF(SUM($K$11:$K24,$I$6)<0,TEXT(-(SUM($K$11:K24,$I$6)/60)/24,\"-[h]:mm\"),TEXT((SUM($K$11:K24,$I$6)/60)/24,\"[h]:mm\")),\"\")","v":""},null,"",0,0,null,{"$f":"IF(OR($O$3=\"\",$N$3=\"\",N24=\"\"),\"\",IF($O$9-SUM($N$11:N23)-N24<0,TEXT(-(($O$9-SUM($N$11:N23)-N24)/24),\"-[hh]:mm\"),TEXT(($O$9-SUM($N$11:N23)-N24)/24,\"[hh]:mm\")))","v":""},null,""]
["","",{"$f":"IF(OR($K$9=0,AND($K$9=2,A25<=14)),1,IF(IF(ISNA(INDEX(X!$W$7:$W$20,MATCH(DATE($D$4,$C$4,A25),X!$AC$7:$AC$20,0))),1,2)=2,2,IF(OR(B25=\"Sa\",B25=\"So\"),2,IF($K$9=1,SUMIFS($R$4:$R$8,$S$4:$S$8,B25),IF(AND($K$9=2,A25<15),SUMIFS($R$4:$R$8,$S$4:$S$8,B25),IF(AND($K$9=2,A25>14),SUMIFS($R$12:$R$16,$S$12:$S$16,B25),IF(AND($K$9=3,A25>14),SUMIFS($R$12:$R$16,$S$12:$S$16,B25),IF(AND($K$9=3,A25<15),SUMIFS($R$4:$R$8,$S$4:$S$8,B25),1))))))))","v":1},null,null,null,"","",{"$f":"IF($K$9>0,IF(SUM($K$11:$K25,$I$6)<0,TEXT(-(SUM($K$11:K25,$I$6)/60)/24,\"-[h]:mm\"),TEXT((SUM($K$11:K25,$I$6)/60)/24,\"[h]:mm\")),\"\")","v":""},null,"",0,0,null,{"$f":"IF(OR($O$3=\"\",$N$3=\"\",N25=\"\"),\"\",IF($O$9-SUM($N$11:N24)-N25<0,TEXT(-(($O$9-SUM($N$11:N24)-N25)/24),\"-[hh]:mm\"),TEXT(($O$9-SUM($N$11:N24)-N25)/24,\"[hh]:mm\")))","v":""},null,""]
["","",{"$f":"IF(OR($K$9=0,AND($K$9=2,A26<=14)),1,IF(IF(ISNA(INDEX(X!$W$7:$W$20,MATCH(DATE($D$4,$C$4,A26),X!$AC$7:$AC$20,0))),1,2)=2,2,IF(OR(B26=\"Sa\",B26=\"So\"),2,IF($K$9=1,SUMIFS($R$4:$R$8,$S$4:$S$8,B26),IF(AND($K$9=2,A26<15),SUMIFS($R$4:$R$8,$S$4:$S$8,B26),IF(AND($K$9=2,A26>14),SUMIFS($R$12:$R$16,$S$12:$S$16,B26),IF(AND($K$9=3,A26>14),SUMIFS($R$12:$R$16,$S$12:$S$16,B26),IF(AND($K$9=3,A26<15),SUMIFS($R$4:$R$8,$S$4:$S$8,B26),1))))))))","v":1},null,null,null,"","",{"$f":"IF($K$9>0,IF(SUM($K$11:$K26,$I$6)<0,TEXT(-(SUM($K$11:K26,$I$6)/60)/24,\"-[h]:mm\"),TEXT((SUM($K$11:K26,$I$6)/60)/24,\"[h]:mm\")),\"\")","v":""},null,"",0,0,null,{"$f":"IF(OR($O$3=\"\",$N$3=\"\",N26=\"\"),\"\",IF($O$9-SUM($N$11:N25)-N26<0,TEXT(-(($O$9-SUM($N$11:N25)-N26)/24),\"-[hh]:mm\"),TEXT(($O$9-SUM($N$11:N25)-N26)/24,\"[hh]:mm\")))","v":""},null,""]
["","",{"$f":"IF(OR($K$9=0,AND($K$9=2,A27<=14)),1,IF(IF(ISNA(INDEX(X!$W$7:$W$20,MATCH(DATE($D$4,$C$4,A27),X!$AC$7:$AC$20,0))),1,2)=2,2,IF(OR(B27=\"Sa\",B27=\"So\"),2,IF($K$9=1,SUMIFS($R$4:$R$8,$S$4:$S$8,B27),IF(AND($K$9=2,A27<15),SUMIFS($R$4:$R$8,$S$4:$S$8,B27),IF(AND($K$9=2,A27>14),SUMIFS($R$12:$R$16,$S$12:$S$16,B27),IF(AND($K$9=3,A27>14),SUMIFS($R$12:$R$16,$S$12:$S$16,B27),IF(AND($K$9=3,A27<15),SUMIFS($R$4:$R$8,$S$4:$S$8,B27),1))))))))","v":1},null,null,null,"","",{"$f":"IF($K$9>0,IF(SUM($K$11:$K27,$I$6)<0,TEXT(-(SUM($K$11:K27,$I$6)/60)/24,\"-[h]:mm\"),TEXT((SUM($K$11:K27,$I$6)/60)/24,\"[h]:mm\")),\"\")","v":""},null,"",0,0,null,{"$f":"IF(OR($O$3=\"\",$N$3=\"\",N27=\"\"),\"\",IF($O$9-SUM($N$11:N26)-N27<0,TEXT(-(($O$9-SUM($N$11:N26)-N27)/24),\"-[hh]:mm\"),TEXT(($O$9-SUM($N$11:N26)-N27)/24,\"[hh]:mm\")))","v":""},null,""]
["","",{"$f":"IF(OR($K$9=0,AND($K$9=2,A28<=14)),1,IF(IF(ISNA(INDEX(X!$W$7:$W$20,MATCH(DATE($D$4,$C$4,A28),X!$AC$7:$AC$20,0))),1,2)=2,2,IF(OR(B28=\"Sa\",B28=\"So\"),2,IF($K$9=1,SUMIFS($R$4:$R$8,$S$4:$S$8,B28),IF(AND($K$9=2,A28<15),SUMIFS($R$4:$R$8,$S$4:$S$8,B28),IF(AND($K$9=2,A28>14),SUMIFS($R$12:$R$16,$S$12:$S$16,B28),IF(AND($K$9=3,A28>14),SUMIFS($R$12:$R$16,$S$12:$S$16,B28),IF(AND($K$9=3,A28<15),SUMIFS($R$4:$R$8,$S$4:$S$8,B28),1))))))))","v":1},null,null,null,"","",{"$f":"IF($K$9>0,IF(SUM($K$11:$K28,$I$6)<0,TEXT(-(SUM($K$11:K28,$I$6)/60)/24,\"-[h]:mm\"),TEXT((SUM($K$11:K28,$I$6)/60)/24,\"[h]:mm\")),\"\")","v":""},null,"",0,0,null,{"$f":"IF(OR($O$3=\"\",$N$3=\"\",N28=\"\"),\"\",IF($O$9-SUM($N$11:N27)-N28<0,TEXT(-(($O$9-SUM($N$11:N27)-N28)/24),\"-[hh]:mm\"),TEXT(($O$9-SUM($N$11:N27)-N28)/24,\"[hh]:mm\")))","v":""},null,""]
["","",{"$f":"IF(OR($K$9=0,AND($K$9=2,A29<=14)),1,IF(IF(ISNA(INDEX(X!$W$7:$W$20,MATCH(DATE($D$4,$C$4,A29),X!$AC$7:$AC$20,0))),1,2)=2,2,IF(OR(B29=\"Sa\",B29=\"So\"),2,IF($K$9=1,SUMIFS($R$4:$R$8,$S$4:$S$8,B29),IF(AND($K$9=2,A29<15),SUMIFS($R$4:$R$8,$S$4:$S$8,B29),IF(AND($K$9=2,A29>14),SUMIFS($R$12:$R$16,$S$12:$S$16,B29),IF(AND($K$9=3,A29>14),SUMIFS($R$12:$R$16,$S$12:$S$16,B29),IF(AND($K$9=3,A29<15),SUMIFS($R$4:$R$8,$S$4:$S$8,B29),1))))))))","v":1},null,null,null,"","",{"$f":"IF($K$9>0,IF(SUM($K$11:$K29,$I$6)<0,TEXT(-(SUM($K$11:K29,$I$6)/60)/24,\"-[h]:mm\"),TEXT((SUM($K$11:K29,$I$6)/60)/24,\"[h]:mm\")),\"\")","v":""},null,"",0,0,null,{"$f":"IF(OR($O$3=\"\",$N$3=\"\",N29=\"\"),\"\",IF($O$9-SUM($N$11:N28)-N29<0,TEXT(-(($O$9-SUM($N$11:N28)-N29)/24),\"-[hh]:mm\"),TEXT(($O$9-SUM($N$11:N28)-N29)/24,\"[hh]:mm\")))","v":""},null,""]
["","",{"$f":"IF(OR($K$9=0,AND($K$9=2,A30<=14)),1,IF(IF(ISNA(INDEX(X!$W$7:$W$20,MATCH(DATE($D$4,$C$4,A30),X!$AC$7:$AC$20,0))),1,2)=2,2,IF(OR(B30=\"Sa\",B30=\"So\"),2,IF($K$9=1,SUMIFS($R$4:$R$8,$S$4:$S$8,B30),IF(AND($K$9=2,A30<15),SUMIFS($R$4:$R$8,$S$4:$S$8,B30),IF(AND($K$9=2,A30>14),SUMIFS($R$12:$R$16,$S$12:$S$16,B30),IF(AND($K$9=3,A30>14),SUMIFS($R$12:$R$16,$S$12:$S$16,B30),IF(AND($K$9=3,A30<15),SUMIFS($R$4:$R$8,$S$4:$S$8,B30),1))))))))","v":1},null,null,null,"","",{"$f":"IF($K$9>0,IF(SUM($K$11:$K30,$I$6)<0,TEXT(-(SUM($K$11:K30,$I$6)/60)/24,\"-[h]:mm\"),TEXT((SUM($K$11:K30,$I$6)/60)/24,\"[h]:mm\")),\"\")","v":""},null,"",0,0,null,{"$f":"IF(OR($O$3=\"\",$N$3=\"\",N30=\"\"),\"\",IF($O$9-SUM($N$11:N29)-N30<0,TEXT(-(($O$9-SUM($N$11:N29)-N30)/24),\"-[hh]:mm\"),TEXT(($O$9-SUM($N$11:N29)-N30)/24,\"[hh]:mm\")))","v":""},null,""]
["","",{"$f":"IF(OR($K$9=0,AND($K$9=2,A31<=14)),1,IF(IF(ISNA(INDEX(X!$W$7:$W$20,MATCH(DATE($D$4,$C$4,A31),X!$AC$7:$AC$20,0))),1,2)=2,2,IF(OR(B31=\"Sa\",B31=\"So\"),2,IF($K$9=1,SUMIFS($R$4:$R$8,$S$4:$S$8,B31),IF(AND($K$9=2,A31<15),SUMIFS($R$4:$R$8,$S$4:$S$8,B31),IF(AND($K$9=2,A31>14),SUMIFS($R$12:$R$16,$S$12:$S$16,B31),IF(AND($K$9=3,A31>14),SUMIFS($R$12:$R$16,$S$12:$S$16,B31),IF(AND($K$9=3,A31<15),SUMIFS($R$4:$R$8,$S$4:$S$8,B31),1))))))))","v":1},null,null,null,"","",{"$f":"IF($K$9>0,IF(SUM($K$11:$K31,$I$6)<0,TEXT(-(SUM($K$11:K31,$I$6)/60)/24,\"-[h]:mm\"),TEXT((SUM($K$11:K31,$I$6)/60)/24,\"[h]:mm\")),\"\")","v":""},null,"",0,0,null,{"$f":"IF(OR($O$3=\"\",$N$3=\"\",N31=\"\"),\"\",IF($O$9-SUM($N$11:N30)-N31<0,TEXT(-(($O$9-SUM($N$11:N30)-N31)/24),\"-[hh]:mm\"),TEXT(($O$9-SUM($N$11:N30)-N31)/24,\"[hh]:mm\")))","v":""},null,""]
["","",{"$f":"IF(OR($K$9=0,AND($K$9=2,A32<=14)),1,IF(IF(ISNA(INDEX(X!$W$7:$W$20,MATCH(DATE($D$4,$C$4,A32),X!$AC$7:$AC$20,0))),1,2)=2,2,IF(OR(B32=\"Sa\",B32=\"So\"),2,IF($K$9=1,SUMIFS($R$4:$R$8,$S$4:$S$8,B32),IF(AND($K$9=2,A32<15),SUMIFS($R$4:$R$8,$S$4:$S$8,B32),IF(AND($K$9=2,A32>14),SUMIFS($R$12:$R$16,$S$12:$S$16,B32),IF(AND($K$9=3,A32>14),SUMIFS($R$12:$R$16,$S$12:$S$16,B32),IF(AND($K$9=3,A32<15),SUMIFS($R$4:$R$8,$S$4:$S$8,B32),1))))))))","v":1},null,null,null,"","",{"$f":"IF($K$9>0,IF(SUM($K$11:$K32,$I$6)<0,TEXT(-(SUM($K$11:K32,$I$6)/60)/24,\"-[h]:mm\"),TEXT((SUM($K$11:K32,$I$6)/60)/24,\"[h]:mm\")),\"\")","v":""},null,"",0,0,null,{"$f":"IF(OR($O$3=\"\",$N$3=\"\",N32=\"\"),\"\",IF($O$9-SUM($N$11:N31)-N32<0,TEXT(-(($O$9-SUM($N$11:N31)-N32)/24),\"-[hh]:mm\"),TEXT(($O$9-SUM($N$11:N31)-N32)/24,\"[hh]:mm\")))","v":""},null,""]
["","",{"$f":"IF(OR($K$9=0,AND($K$9=2,A33<=14)),1,IF(IF(ISNA(INDEX(X!$W$7:$W$20,MATCH(DATE($D$4,$C$4,A33),X!$AC$7:$AC$20,0))),1,2)=2,2,IF(OR(B33=\"Sa\",B33=\"So\"),2,IF($K$9=1,SUMIFS($R$4:$R$8,$S$4:$S$8,B33),IF(AND($K$9=2,A33<15),SUMIFS($R$4:$R$8,$S$4:$S$8,B33),IF(AND($K$9=2,A33>14),SUMIFS($R$12:$R$16,$S$12:$S$16,B33),IF(AND($K$9=3,A33>14),SUMIFS($R$12:$R$16,$S$12:$S$16,B33),IF(AND($K$9=3,A33<15),SUMIFS($R$4:$R$8,$S$4:$S$8,B33),1))))))))","v":1},null,null,null,"","",{"$f":"IF($K$9>0,IF(SUM($K$11:$K33,$I$6)<0,TEXT(-(SUM($K$11:K33,$I$6)/60)/24,\"-[h]:mm\"),TEXT((SUM($K$11:K33,$I$6)/60)/24,\"[h]:mm\")),\"\")","v":""},null,"",0,0,null,{"$f":"IF(OR($O$3=\"\",$N$3=\"\",N33=\"\"),\"\",IF($O$9-SUM($N$11:N32)-N33<0,TEXT(-(($O$9-SUM($N$11:N32)-N33)/24),\"-[hh]:mm\"),TEXT(($O$9-SUM($N$11:N32)-N33)/24,\"[hh]:mm\")))","v":""},null,""]
["","",{"$f":"IF(OR($K$9=0,AND($K$9=2,A34<=14)),1,IF(IF(ISNA(INDEX(X!$W$7:$W$20,MATCH(DATE($D$4,$C$4,A34),X!$AC$7:$AC$20,0))),1,2)=2,2,IF(OR(B34=\"Sa\",B34=\"So\"),2,IF($K$9=1,SUMIFS($R$4:$R$8,$S$4:$S$8,B34),IF(AND($K$9=2,A34<15),SUMIFS($R$4:$R$8,$S$4:$S$8,B34),IF(AND($K$9=2,A34>14),SUMIFS($R$12:$R$16,$S$12:$S$16,B34),IF(AND($K$9=3,A34>14),SUMIFS($R$12:$R$16,$S$12:$S$16,B34),IF(AND($K$9=3,A34<15),SUMIFS($R$4:$R$8,$S$4:$S$8,B34),1))))))))","v":1},null,null,null,"","",{"$f":"IF($K$9>0,IF(SUM($K$11:$K34,$I$6)<0,TEXT(-(SUM($K$11:K34,$I$6)/60)/24,\"-[h]:mm\"),TEXT((SUM($K$11:K34,$I$6)/60)/24,\"[h]:mm\")),\"\")","v":""},null,"",0,0,null,{"$f":"IF(OR($O$3=\"\",$N$3=\"\",N34=\"\"),\"\",IF($O$9-SUM($N$11:N33)-N34<0,TEXT(-(($O$9-SUM($N$11:N33)-N34)/24),\"-[hh]:mm\"),TEXT(($O$9-SUM($N$11:N33)-N34)/24,\"[hh]:mm\")))","v":""},null,""]
["","",{"$f":"IF(OR($K$9=0,AND($K$9=2,A35<=14)),1,IF(IF(ISNA(INDEX(X!$W$7:$W$20,MATCH(DATE($D$4,$C$4,A35),X!$AC$7:$AC$20,0))),1,2)=2,2,IF(OR(B35=\"Sa\",B35=\"So\"),2,IF($K$9=1,SUMIFS($R$4:$R$8,$S$4:$S$8,B35),IF(AND($K$9=2,A35<15),SUMIFS($R$4:$R$8,$S$4:$S$8,B35),IF(AND($K$9=2,A35>14),SUMIFS($R$12:$R$16,$S$12:$S$16,B35),IF(AND($K$9=3,A35>14),SUMIFS($R$12:$R$16,$S$12:$S$16,B35),IF(AND($K$9=3,A35<15),SUMIFS($R$4:$R$8,$S$4:$S$8,B35),1))))))))","v":1},null,null,null,"","",{"$f":"IF($K$9>0,IF(SUM($K$11:$K35,$I$6)<0,TEXT(-(SUM($K$11:K35,$I$6)/60)/24,\"-[h]:mm\"),TEXT((SUM($K$11:K35,$I$6)/60)/24,\"[h]:mm\")),\"\")","v":""},null,"",0,0,null,{"$f":"IF(OR($O$3=\"\",$N$3=\"\",N35=\"\"),\"\",IF($O$9-SUM($N$11:N34)-N35<0,TEXT(-(($O$9-SUM($N$11:N34)-N35)/24),\"-[hh]:mm\"),TEXT(($O$9-SUM($N$11:N34)-N35)/24,\"[hh]:mm\")))","v":""},null,""]
["","",{"$f":"IF(OR($K$9=0,AND($K$9=2,A36<=14)),1,IF(IF(ISNA(INDEX(X!$W$7:$W$20,MATCH(DATE($D$4,$C$4,A36),X!$AC$7:$AC$20,0))),1,2)=2,2,IF(OR(B36=\"Sa\",B36=\"So\"),2,IF($K$9=1,SUMIFS($R$4:$R$8,$S$4:$S$8,B36),IF(AND($K$9=2,A36<15),SUMIFS($R$4:$R$8,$S$4:$S$8,B36),IF(AND($K$9=2,A36>14),SUMIFS($R$12:$R$16,$S$12:$S$16,B36),IF(AND($K$9=3,A36>14),SUMIFS($R$12:$R$16,$S$12:$S$16,B36),IF(AND($K$9=3,A36<15),SUMIFS($R$4:$R$8,$S$4:$S$8,B36),1))))))))","v":1},null,null,null,"","",{"$f":"IF($K$9>0,IF(SUM($K$11:$K36,$I$6)<0,TEXT(-(SUM($K$11:K36,$I$6)/60)/24,\"-[h]:mm\"),TEXT((SUM($K$11:K36,$I$6)/60)/24,\"[h]:mm\")),\"\")","v":""},null,"",0,0,null,{"$f":"IF(OR($O$3=\"\",$N$3=\"\",N36=\"\"),\"\",IF($O$9-SUM($N$11:N35)-N36<0,TEXT(-(($O$9-SUM($N$11:N35)-N36)/24),\"-[hh]:mm\"),TEXT(($O$9-SUM($N$11:N35)-N36)/24,\"[hh]:mm\")))","v":""},null,""]
["","",{"$f":"IF(OR($K$9=0,AND($K$9=2,A37<=14)),1,IF(IF(ISNA(INDEX(X!$W$7:$W$20,MATCH(DATE($D$4,$C$4,A37),X!$AC$7:$AC$20,0))),1,2)=2,2,IF(OR(B37=\"Sa\",B37=\"So\"),2,IF($K$9=1,SUMIFS($R$4:$R$8,$S$4:$S$8,B37),IF(AND($K$9=2,A37<15),SUMIFS($R$4:$R$8,$S$4:$S$8,B37),IF(AND($K$9=2,A37>14),SUMIFS($R$12:$R$16,$S$12:$S$16,B37),IF(AND($K$9=3,A37>14),SUMIFS($R$12:$R$16,$S$12:$S$16,B37),IF(AND($K$9=3,A37<15),SUMIFS($R$4:$R$8,$S$4:$S$8,B37),1))))))))","v":1},null,null,null,"","",{"$f":"IF($K$9>0,IF(SUM($K$11:$K37,$I$6)<0,TEXT(-(SUM($K$11:K37,$I$6)/60)/24,\"-[h]:mm\"),TEXT((SUM($K$11:K37,$I$6)/60)/24,\"[h]:mm\")),\"\")","v":""},null,"",0,0,null,{"$f":"IF(OR($O$3=\"\",$N$3=\"\",N37=\"\"),\"\",IF($O$9-SUM($N$11:N36)-N37<0,TEXT(-(($O$9-SUM($N$11:N36)-N37)/24),\"-[hh]:mm\"),TEXT(($O$9-SUM($N$11:N36)-N37)/24,\"[hh]:mm\")))","v":""},null,""]
["","",{"$f":"IF(OR($K$9=0,AND($K$9=2,A38<=14)),1,IF(IF(ISNA(INDEX(X!$W$7:$W$20,MATCH(DATE($D$4,$C$4,A38),X!$AC$7:$AC$20,0))),1,2)=2,2,IF(OR(B38=\"Sa\",B38=\"So\"),2,IF($K$9=1,SUMIFS($R$4:$R$8,$S$4:$S$8,B38),IF(AND($K$9=2,A38<15),SUMIFS($R$4:$R$8,$S$4:$S$8,B38),IF(AND($K$9=2,A38>14),SUMIFS($R$12:$R$16,$S$12:$S$16,B38),IF(AND($K$9=3,A38>14),SUMIFS($R$12:$R$16,$S$12:$S$16,B38),IF(AND($K$9=3,A38<15),SUMIFS($R$4:$R$8,$S$4:$S$8,B38),1))))))))","v":1},null,null,null,"","",{"$f":"IF($K$9>0,IF(SUM($K$11:$K38,$I$6)<0,TEXT(-(SUM($K$11:K38,$I$6)/60)/24,\"-[h]:mm\"),TEXT((SUM($K$11:K38,$I$6)/60)/24,\"[h]:mm\")),\"\")","v":""},null,"",0,0,null,{"$f":"IF(OR($O$3=\"\",$N$3=\"\",N38=\"\"),\"\",IF($O$9-SUM($N$11:N37)-N38<0,TEXT(-(($O$9-SUM($N$11:N37)-N38)/24),\"-[hh]:mm\"),TEXT(($O$9-SUM($N$11:N37)-N38)/24,\"[hh]:mm\")))","v":""},null,""]
["",{"$f":"IF(OR(A39=\"\",$D$4=\"\"),\"\",TEXT(DATE($D$4,$C$4,A39),\"ttt\"))","v":""},{"$f":"IF(OR($K$9=0,AND($K$9=2,A39<=14)),1,IF(IF(ISNA(INDEX(X!$W$7:$W$20,MATCH(DATE($D$4,$C$4,A39),X!$AC$7:$AC$20,0))),1,2)=2,2,IF(OR(B39=\"Sa\",B39=\"So\"),2,IF($K$9=1,SUMIFS($R$4:$R$8,$S$4:$S$8,B39),IF(AND($K$9=2,A39<15),SUMIFS($R$4:$R$8,$S$4:$S$8,B39),IF(AND($K$9=2,A39>14),SUMIFS($R$12:$R$16,$S$12:$S$16,B39),IF(AND($K$9=3,A39>14),SUMIFS($R$12:$R$16,$S$12:$S$16,B39),IF(AND($K$9=3,A39<15),SUMIFS($R$4:$R$8,$S$4:$S$8,B39),1))))))))","v":1},null,null,null,"","",{"$f":"IF($K$9>0,IF(SUM($K$11:$K39,$I$6)<0,TEXT(-(SUM($K$11:K39,$I$6)/60)/24,\"-[h]:mm\"),TEXT((SUM($K$11:K39,$I$6)/60)/24,\"[h]:mm\")),\"\")","v":""},null,"",0,0,null,{"$f":"IF(OR($O$3=\"\",$N$3=\"\",N39=\"\"),\"\",IF($O$9-SUM($N$11:N38)-N39<0,TEXT(-(($O$9-SUM($N$11:N38)-N39)/24),\"-[hh]:mm\"),TEXT(($O$9-SUM($N$11:N38)-N39)/24,\"[hh]:mm\")))","v":""},null,""]
["",{"$f":"IF(OR(A40=\"\",$D$4=\"\"),\"\",TEXT(DATE($D$4,$C$4,A40),\"ttt\"))","v":""},{"$f":"IF(OR($K$9=0,AND($K$9=2,A40<=14)),1,IF(IF(ISNA(INDEX(X!$W$7:$W$20,MATCH(DATE($D$4,$C$4,A40),X!$AC$7:$AC$20,0))),1,2)=2,2,IF(OR(B40=\"Sa\",B40=\"So\"),2,IF($K$9=1,SUMIFS($R$4:$R$8,$S$4:$S$8,B40),IF(AND($K$9=2,A40<15),SUMIFS($R$4:$R$8,$S$4:$S$8,B40),IF(AND($K$9=2,A40>14),SUMIFS($R$12:$R$16,$S$12:$S$16,B40),IF(AND($K$9=3,A40>14),SUMIFS($R$12:$R$16,$S$12:$S$16,B40),IF(AND($K$9=3,A40<15),SUMIFS($R$4:$R$8,$S$4:$S$8,B40),1))))))))","v":1},null,null,null,"","",{"$f":"IF($K$9>0,IF(SUM($K$11:$K40,$I$6)<0,TEXT(-(SUM($K$11:K40,$I$6)/60)/24,\"-[h]:mm\"),TEXT((SUM($K$11:K40,$I$6)/60)/24,\"[h]:mm\")),\"\")","v":""},null,"",0,0,null,{"$f":"IF(OR($O$3=\"\",$N$3=\"\",N40=\"\"),\"\",IF($O$9-SUM($N$11:N39)-N40<0,TEXT(-(($O$9-SUM($N$11:N39)-N40)/24),\"-[hh]:mm\"),TEXT(($O$9-SUM($N$11:N39)-N40)/24,\"[hh]:mm\")))","v":""},null,""]
["","",{"$f":"IF(OR($K$9=0,AND($K$9=2,A41<=14)),1,IF(IF(ISNA(INDEX(X!$W$7:$W$20,MATCH(DATE($D$4,$C$4,A41),X!$AC$7:$AC$20,0))),1,2)=2,2,IF(OR(B41=\"Sa\",B41=\"So\"),2,IF($K$9=1,SUMIFS($R$4:$R$8,$S$4:$S$8,B41),IF(AND($K$9=2,A41<15),SUMIFS($R$4:$R$8,$S$4:$S$8,B41),IF(AND($K$9=2,A41>14),SUMIFS($R$12:$R$16,$S$12:$S$16,B41),IF(AND($K$9=3,A41>14),SUMIFS($R$12:$R$16,$S$12:$S$16,B41),IF(AND($K$9=3,A41<15),SUMIFS($R$4:$R$8,$S$4:$S$8,B41),1))))))))","v":1},null,null,null,"","",{"$f":"IF($K$9>0,IF(SUM($K$11:$K41,$I$6)<0,TEXT(-(SUM($K$11:K41,$I$6)/60)/24,\"-[h]:mm\"),TEXT((SUM($K$11:K41,$I$6)/60)/24,\"[h]:mm\")),\"\")","v":""},null,"",0,0,null,{"$f":"IF(OR($O$3=\"\",$N$3=\"\",N41=\"\"),\"\",IF($O$9-SUM($N$11:N40)-N41<0,TEXT(-(($O$9-SUM($N$11:N40)-N41)/24),\"-[hh]:mm\"),TEXT(($O$9-SUM($N$11:N40)-N41)/24,\"[hh]:mm\")))","v":""},null,""]
[null,null,null,null,null,null,{"$f":"L42+K42","v":0},{"$f":"K42","v":0},null,null,{"$f":"SUM(K11:K41)","v":0},{"$f":"-SUM(L11:L41)","v":0},{"$f":"M41","v":0},{"$f":"SUM(N11:N41)*60","v":0},null,null,{"$f":"IF((G42/60)<0,TEXT(-((G42/60)/24),\"-[hh]:mm\"),TEXT((G42/60)/24,\"[hh]:mm\"))","v":"00:00"}]
[{"$f":"IF(G4=\"\",\"\",\"Ergebnis\")","v":""},null,null,null,null,null,{"$f":"IF(G4=\"\",0,IF(((G42-N42)/60)<0,TEXT(-(((G42-N42)/60)/24),\"-[hh]:mm\"),TEXT(((G42-N42)/60)/24,\"[hh]:mm\")))","v":0},{"$f":"IF(G4=0,\"\",IF(H42<0,TEXT(-((H42/60)/24),\"-[hh]:mm\"),IF((H42/60)>24,TEXT((((H42/60)-24)/24)+(24/24),\"[hh]:mm\"),(H42/60)/24)))","v":0},{"$f":"IF($K$9>0,IF(SUM(I6,K43)<0,TEXT(-(SUM(I6,K43)/60)/24,\"-[h]:mm\"),TEXT((SUM(I6,K43)/60)/24,\"[h]:mm\")),\"\")","v":""},null,{"$f":"IF(L42<>L43,G42-L43,K42)","v":0},{"$f":"IF(AND(K9=1,SUM(U4:U8)<>H9),((H9/5)*COUNTIFS(C11:C41,\"<>\"&2,F11:F41,\"\"))*60,IF(AND(K9=2,SUM(U12:U16)<>I9),((I9/5)*COUNTIFS(C11:C41,\"<>\"&2,F11:F41,\"\"))*60,IF(AND(K9=3,OR(SUM(U4:U8)<>H9,SUM(U12:U16)<>I9)),SUM(IF(SUM(U4:U8)<>H9,((H9/5)*COUNTIFS(C11:C41,\"<>\"&2,A11:A41,\"<\"&15,F11:F41,\"\"))*60,-SUMIFS(L11:L41,A11:A41,\"<\"&15,F11:F41,\"\")),IF(SUM(U12:U16)<>I9,((I9/5)*COUNTIFS(C11:C41,\"<>\"&2,A11:A41,\">\"&14,F11:F41,\"\"))*60,-SUMIFS(L11:L41,A11:A41,\">\"&14,F11:F41,\"\"))),-SUM(L11:L41))))","v":0},null,{"$f":"IF(N42<0,TEXT(-((N42/60)/24),\"-[hh]:mm\"),TEXT((N42/60)/24,\"[hh]:mm\"))","v":"00:00"},{"$f":"IF(O9-SUM(N11:N41)<0,TEXT(-(O9-SUM(N11:N41))/24,\"-[h]:mm\"),TEXT((O9-SUM(N11:N41))/24,\"[h]:mm\"))","v":{"$error":"#VALUE!"}},null,{"$f":"Q42","v":"00:00"}]
[{"$f":"IF(G4=\"\",\"\",\"Saldo / Übertrag:\")","v":""},null,null,null,null,null,null,null,{"$f":"I43","v":""},{"$f":"IF(K42<>K43,\"automatische Nachberechnung der Sollarbeitszeit, da wöchentlicher Stundenumfang nicht eingehalten wurde.\",\"\")","v":""},{"$f":"K43+I6","v":0},"Übertrag"]
[]
[{"$f":"IF(I46=\"\",\"\",\"Korrektur der Stunden\")","v":""},null,null,null,null,null,null,null,{"$f":"IF(K9>0,IF(K42-K43<>0,IF(K43-K42<0,TEXT(-((K43-K42)/60)/24,\"-[h]:mm\"),TEXT(((K43-K42)/60)/24,\"[h]:mm\")),\"\"),\"\")","v":""}]
[]
[]
[]
[]
[]
[]
[]
[]
[]
[]
[{"$f":"D4","v":""},{"$f":"C4","v":6},{"$f":"Uebersicht!A4","v":0},{"$f":"Uebersicht!B4","v":0},{"$f":"L43","v":0},{"$f":"K42","v":0},{"$f":"K43","v":0},{"$f":"M10","v":0},{"$f":"M42","v":0}]

{"sheet":"Jul","index":7,"n_rows":57,"n_cols":22,"rows_kept":57,"cut":false,"hidden":false,"merged":[[8,18,8,19],[9,18,9,20],[16,18,16,19],[42,0,42,5],[43,0,44,7],[43,8,44,8],[43,9,46,9],[45,0,45,7],[3,13,4,15],[6,13,7,15],[1,0,2,8],[3,0,4,1],[3,2,4,2],[3,3,4,4],[3,5,4,5],[3,6,4,9],[5,13,5,15],[6,0,7,4],[6,5,7,5],[6,6,7,7],[6,8,7,8],[6,9,7,9]]}
["Zeiterfassungsbogen für studentische Hilfskräfte | International Office",null,null,null,null,null,null,null,null,null,null,null,null,null,null,null,null,null,null,null,null,"\"nein\" auswählen, wenn keine festen Tage mehr gelten sollen!"]
[{"$f":"IF(Uebersicht!A4=\"\",\"\",CONCATENATE(Uebersicht!B4,\" \",Uebersicht!A4))","v":""}]
[null,null,null,null,null,null,null,null,null,null,null,null,null,{"$f":"INDEX(Uebersicht!AO5:AQ28,MATCH(C4,Uebersicht!AO5:AO28,0),3)","v":0},{"$f":"INDEX(Uebersicht!AO5:AQ28,MATCH(C4+0.5,Uebersicht!AO5:AO28,0),3)","v":0},null,null,null,"Tag","h"]
[{"$f":"IF(D4=\"\",\"\",TEXT(DATE(D4,C4,1),\"MMM\"))","v":""},null,7,{"$f":"Uebersicht!I1","v":""},null,null,{"$f":"IF(INDEX(Uebersicht!AO31:AQ42,MATCH(C4,Uebersicht!AO31:AO43,0),2)=0,\"\",INDEX(Uebersicht!AO31:AQ42,MATCH(C4,Uebersicht!AO31:AO43,0),2))","v":""},null,null,null,null,null,null,{"$f":"INDEX(Uebersicht!AO31:AQ42,MATCH(C4,Uebersicht!AO31:AO43,0),3)","v":0},null,null,null,{"$f":"IF(OR($K$9=2,$K$9=0),1,IF(AND(OR($K$9=1,$K$9=3),OR(SUM($U$4:$U$8)=0,$U$1=\"nein\")),3,IF(AND($U$1=\"\",SUM($U$4:$U$8)>0,U4>=1,OR($K$9=3,$K$9=1)),4,1)))","v":1},"Mo",null,{"$f":"IF(AND(H9=0,I9=0),0,IF(OR($K$9=0,INDIRECT(\"'\"&TEXT(DATE(D4,$C$4-1,1),\"MMM\")&\"'!$U$1\")=\"nein\",$U$1=\"nein\"),0,IF(T4>0,T4,INDEX(Uebersicht!$BA$3:$BE$14,$C$4,MATCH(S4,Uebersicht!$BA$2:$BE$2,0)))))","v":0}]
[null,null,null,null,null,null,null,null,null,null,null,null,null,null,null,null,null,{"$f":"IF(OR($K$9=2,$K$9=0),1,IF(AND(OR($K$9=1,$K$9=3),OR(SUM($U$4:$U$8)=0,$U$1=\"nein\")),3,IF(AND($U$1=\"\",SUM($U$4:$U$8)>0,U5>=1,OR($K$9=3,$K$9=1)),4,1)))","v":1},"Di",null,{"$f":"IF(OR($K$9=0,INDIRECT(\"'\"&TEXT(DATE(D5,$C$4-1,1),\"MMM\")&\"'!$U$1\")=\"nein\",$U$1=\"nein\"),0,IF(T5>0,T5,INDEX(Uebersicht!$BA$3:$BE$14,$C$4,MATCH(S5,Uebersicht!$BA$2:$BE$2,0))))","v":0}]
[null,null,{"$f":"DAY(DATE(D4,C4+1,1)-1)","v":{"$error":"#VALUE!"}},null,null,null,null,{"$f":"IF(N4=0,\"\",\"Arbeitsgebiet 1\")","v":""},{"$f":"IF(AND(I9=0,H9=0),0,IF(C4-1=0,Uebersicht!G4,INDIRECT(\"'\"&TEXT(DATE(D4,C4-1,1),\"MMM\")&\"'!K44\")))","v":0},null,"nein",null,null,{"$f":"IF(N4=\"\",\"\",\"Arbeitsgebiet 2\")","v":"Arbeitsgebiet 2"},null,null,null,{"$f":"IF(OR($K$9=2,$K$9=0),1,IF(AND(OR($K$9=1,$K$9=3),OR(SUM($U$4:$U$8)=0,$U$1=\"nein\")),3,IF(AND($U$1=\"\",SUM($U$4:$U$8)>0,U6>=1,OR($K$9=3,$K$9=1)),4,1)))","v":1},"Mi",null,{"$f":"IF(OR($K$9=0,INDIRECT(\"'\"&TEXT(DATE(D6,$C$4-1,1),\"MMM\")&\"'!$U$1\")=\"nein\",$U$1=\"nein\"),0,IF(T6>0,T6,INDEX(Uebersicht!$BA$3:$BE$14,$C$4,MATCH(S6,Uebersicht!$BA$2:$BE$2,0))))","v":0}]
[{"$f":"IF(AND(H9>0,I9=0),CONCATENATE(H9,\" Wochenarbeitszeit (h)\"),IF(AND(H9=0,I9>0),CONCATENATE(I9,\" Wochenarbeitszeit (h)\"),IF(AND(H9>0,I9>0,H9<>I9),CONCATENATE(H9,\" h, ab 15. \",TEXT(DATE(D4,C4,1),\"MMMM\"),\" \",I9,\"h\"),\"\")))","v":""},null,null,null,null,{"$f":"IF(G4=\"\",\"\",IF(M42/60>0,TEXT((M42/60)/24,\"[h]:mm\"),0))","v":""},{"$f":"IF(F7=\"\",\"\",\"Urlaubsrest\")","v":""},null,{"$f":"IF(AND(YEAR(TODAY())=D4,MONTH(TODAY())>=C4,K9>0),IF(OR(I6=0,I6=\"\"),0,IF(I6<0,TEXT(-(I6/60)/24,\"-[h]:mm\"),TEXT((I6/60)/24,\"[h]:mm\"))),\"\")","v":""},{"$f":"IF(I7=\"\",\"\",CONCATENATE(\"h Übertrag aus \",IF(C6=1,\"Vorjahr\",\"Vormonat\")))","v":""},"Urlaub",null,null,{"$f":"IF(AND(N3>0,O3=0),CONCATENATE(N3,\" Stunden - Anteil pro Woche\"),IF(AND(N3=0,O3>0),CONCATENATE(O3,\" Stunden - Anteil pro Woche\"),IF(AND(N3>0,O3>0,O3<>N3),CONCATENATE(N3,\" h, ab 15. \",TEXT(DATE(D4,C4,1),\"MMMM\"),\" \",O3,\"h\"),IF(N3=O3,CONCATENATE(N3,\" Stunden - Anteil pro Woche\"),\"\"))))","v":"0 Stunden - Anteil pro Woche"},null,null,null,{"$f":"IF(OR($K$9=2,$K$9=0),1,IF(AND(OR($K$9=1,$K$9=3),OR(SUM($U$4:$U$8)=0,$U$1=\"nein\")),3,IF(AND($U$1=\"\",SUM($U$4:$U$8)>0,U7>=1,OR($K$9=3,$K$9=1)),4,1)))","v":1},"Do",null,{"$f":"IF(OR($K$9=0,INDIRECT(\"'\"&TEXT(DATE(D7,$C$4-1,1),\"MMM\")&\"'!$U$1\")=\"nein\",$U$1=\"nein\"),0,IF(T7>0,T7,INDEX(Uebersicht!$BA$3:$BE$14,$C$4,MATCH(S7,Uebersicht!$BA$2:$BE$2,0))))","v":0}]
[null,null,null,null,null,null,null,null,null,null,"Krank",null,null,null,null,null,null,{"$f":"IF(OR($K$9=2,$K$9=0),1,IF(AND(OR($K$9=1,$K$9=3),OR(SUM($U$4:$U$8)=0,$U$1=\"nein\")),3,IF(AND($U$1=\"\",SUM($U$4:$U$8)>0,U8>=1,OR($K$9=3,$K$9=1)),4,1)))","v":1},"Fr",null,{"$f":"IF(OR($K$9=0,INDIRECT(\"'\"&TEXT(DATE(D8,$C$4-1,1),\"MMM\")&\"'!$U$1\")=\"nein\",$U$1=\"nein\"),0,IF(T8>0,T8,INDEX(Uebersicht!$BA$3:$BE$14,$C$4,MATCH(S8,Uebersicht!$BA$2:$BE$2,0))))","v":0}]
[null,null,null,null,null,null,null,{"$f":"INDEX(Uebersicht!AU3:AW14,C4,2)","v":0},{"$f":"IF(INDEX(Uebersicht!AU3:AW14,C4,3)=H9,0,INDEX(Uebersicht!AU3:AW14,C4,3))","v":0},null,{"$f":"IF(AND(H9>0,I9=0),1,IF(AND(H9=0,I9>0),2,IF(AND(H9=0,I9=0),0,IF(H9<>I9,3,\"\"))))","v":0},null,null,null,{"$f":"IF(OR(N3>0,O3>0),IF(OR(K9=1,K9=2),(IF(K9=1,N3,IF(K9=2,O2,0))/5)*NETWORKDAYS(IF(K9=1,DATE(D4,C4,1),IF(K9=2,DATE(D4,C4,15),0)),IF(OR(K9=1,K9=2),DATE(D4,C4,MAX(A11:A41)),0),COUNTIFS(C11:C41,\"<>\"&2)),IF(K9=3,SUM(IF(N3>0,(N3/5)*NETWORKDAYS(DATE(D4,C4,1),DATE(D4,C4,14),2),0),IF(O3>0,(O3/5)*NETWORKDAYS(DATE(D4,C4,15),DATE(D4,C4,MAX(A11:A41)),2),0)),0)),\"\")","v":""},null,null,null,{"$f":"IF(SUM(U4:U8)=0,\"\",IF(SUM(U4:U8)>H9,\"zu viel!\",IF(SUM(U4:U8)<H9,\"zu wenig!\",\"\")))","v":""},null,{"$f":"IF(OR(U1=\"nein\",SUM(U4:U8)=0),\"ja\",IF(OR(SUM(Uebersicht!C36:C40)>0,SUM(T4:T8)>0,SUM(U4:U8)>0),\"nein\",\"ja\"))","v":"ja"}]
["Tag",null,null,"Beginn","Ende","Urlaub\nKrank","Stunden","Mehr/\nMinder","Saldo\nsummiert","Bemerkungen","Differenz","Soll",{"$f":"IF(AND(I9=0,H9=0),0,IF(C4-1=0,IF(Uebersicht!E8=\"\",0,Uebersicht!E8*60),INDIRECT(\"'\"&TEXT(DATE(D4,C4-1,1),\"MMM\")&\"'!M42\")))","v":0},"Stunden","Rest","Bemerkungen","Gesamt",null,"Änderung im laufenden Monat"]
[1,{"$f":"IF(OR(A11=\"\",$D$4=\"\"),\"\",TEXT(DATE($D$4,$C$4,A11),\"ttt\"))","v":""},{"$f":"IF(OR($K$9=0,AND($K$9=2,A11<=14)),1,IF(IF(ISNA(INDEX(X!$W$7:$W$20,MATCH(DATE($D$4,$C$4,A11),X!$AC$7:$AC$20,0))),1,2)=2,2,IF(OR(B11=\"Sa\",B11=\"So\"),2,IF($K$9=1,SUMIFS($R$4:$R$8,$S$4:$S$8,B11),IF(AND($K$9=2,A11<15),SUMIFS($R$4:$R$8,$S$4:$S$8,B11),IF(AND($K$9=2,A11>14),SUMIFS($R$12:$R$16,$S$12:$S$16,B11),IF(AND($K$9=3,A11>14),SUMIFS($R$12:$R$16,$S$12:$S$16,B11),IF(AND($K$9=3,A11<15),SUMIFS($R$4:$R$8,$S$4:$S$8,B11),1))))))))","v":1},null,null,null,{"$f":"IF(AND(D11=\"\",E11=\"\"),\"\",IF(N11=\"\",IF(((HOUR(E11)*60+MINUTE(E11))-(HOUR(D11)*60+MINUTE(D11)))>360,TEXT(((((HOUR(E11)*60+MINUTE(E11))-(HOUR(D11)*60+MINUTE(D11)))-30)/60)/24,\"[h]:mm\"),TEXT((((HOUR(E11)*60+MINUTE(E11))-(HOUR(D11)*60+MINUTE(D11)))/60)/24,\"[h]:mm\")),IF((((HOUR(E11)*60+MINUTE(E11))-(HOUR(D11)*60+MINUTE(D11)))-N11)>360,TEXT(((((((HOUR(E11)*60+MINUTE(E11))-(HOUR(D11)*60+MINUTE(D11)))-30))/60)-N11)/24,\"[h]:mm\"),TEXT(((((HOUR(E11)*60+MINUTE(E11))-(HOUR(D11)*60+MINUTE(D11)))/60)-N11)/24,\"[h]:mm\"))))","v":""},{"$f":"IF(K11=\"\",\"\",IF(TODAY()<=DATE($D$4,$C$4,A11),0,IF(K11>0,TEXT((K11/60)/24,\"[h]:mm\"),TEXT(-(K11/60)/24,\"-[h]:mm\"))))","v":""},{"$f":"IF($K$9>0,IF(SUM($K$11:$K11,I6)<0,TEXT(-(SUM($K$11:K11,I6)/60)/24,\"-[h]:mm\"),TEXT((SUM($K$11:K11,I6)/60)/24,\"[h]:mm\")),\"\")","v":""},null,{"$f":"IF(F11=\"\",IF(L11<0,L11+IF(G11=\" \",0,IF(((HOUR(E11)*60+MINUTE(E11))-(HOUR(D11)*60+MINUTE(D11)))>360,(HOUR(E11)*60+MINUTE(E11))-(HOUR(D11)*60+MINUTE(D11))-30,(HOUR(E11)*60+MINUTE(E11))-(HOUR(D11)*60+MINUTE(D11)))),IF(Q11=\"\",\"\",(Q11*60)*24)),\"\")","v":""},{"$f":"IF(OR(F11=\"krank\",F11=\"Urlaub\",C11=1,C11=2),0,IF($K$9=1,IF(SUM($U$4:$U$8)=0,$H$9/5,INDEX($S$4:$U$8,MATCH(B11,$S$4:$S$8,0),3)),IF($K$9=2,IF(AND(A11>14,SUM($U$12:$U$16)=0),$I$9/5,INDEX($S$12:$U$16,MATCH(B11,$S$12:$S$16,0),3)),IF($K$9=3,IF(A11<15,IF(SUM($U$4:$U$8)=0,$H$9/5,INDEX($S$4:$U$8,MATCH(B11,$S$4:$S$8,0),3))),IF(A11>14,IF(SUM($U$12:$U$16)=0,$I$9/5,INDEX($S$12:$U$16,MATCH(B11,$S$12:$S$16,0),3))))))*-60)","v":0},{"$f":"M10-(IF(OR(C11=1,C11=2),0,IF(C11=3,IF(AND($K$9=1,F11=\"Urlaub\"),$H$9/5,IF($K$9=2,IF(AND(A11<15,F11=\"Urlaub\"),$I$9/5,IF(AND($K$9=3,A11<15,F11=\"Urlaub\"),$H$9/5,IF(AND($K$9=3,A11>14,F11=\"Urlaub\"),$I$9/5))))),IF(C11=4,IF(AND(F11=\"Urlaub\",$K$9=1),SUMIFS($U$4:$U$8,$S$4:$S$8,B11),IF(AND(F11=\"Urlaub\",$K$9=2,A11>14),SUMIFS($U$12:$U$16,$S$12:$S$16,B11),IF(AND(F11=\"Urlaub\",$K$9=3,A11<15),SUMIFS($U$4:$U$8,$S$4:$S$8,B11),IF(AND(F11=\"Urlaub\",$K$9=3,A11>14),SUMIFS($U$12:$U$16,$S$12:$S$16,B11),0)))))))*60)","v":0},null,{"$f":"IF(OR($O$3=\"\",$N$3=\"\",N11=\"\"),\"\",IF($O$9-SUM($N10:N$11)-N11<0,TEXT(-(($O$9-SUM($N10:N$11)-N11)/24),\"-[hh]:mm\"),TEXT(($O$9-SUM($N10:N$11)-N11)/24,\"[hh]:mm\")))","v":""},null,{"$f":"IF(AND(D11=\"\",E11=\"\"),\"\",IF(((HOUR(E11)*60+MINUTE(E11))-(HOUR(D11)*60+MINUTE(D11)))>360,TEXT(((((HOUR(E11)*60+MINUTE(E11))-(HOUR(D11)*60+MINUTE(D11)))-30)/60)/24,\"[h]:mm\"),TEXT((((HOUR(E11)*60+MINUTE(E11))-(HOUR(D11)*60+MINUTE(D11)))/60)/24,\"[h]:mm\")))","v":""}]
[{"$f":"IF(OR(A11=\"\",$D$4=\"\"),\"\",IF(A11+1<=$C$6,A11+1,\"\"))","v":""},"",{"$f":"IF(OR($K$9=0,AND($K$9=2,A12<=14)),1,IF(IF(ISNA(INDEX(X!$W$7:$W$20,MATCH(DATE($D$4,$C$4,A12),X!$AC$7:$AC$20,0))),1,2)=2,2,IF(OR(B12=\"Sa\",B12=\"So\"),2,IF($K$9=1,SUMIFS($R$4:$R$8,$S$4:$S$8,B12),IF(AND($K$9=2,A12<15),SUMIFS($R$4:$R$8,$S$4:$S$8,B12),IF(AND($K$9=2,A12>14),SUMIFS($R$12:$R$16,$S$12:$S$16,B12),IF(AND($K$9=3,A12>14),SUMIFS($R$12:$R$16,$S$12:$S$16,B12),IF(AND($K$9=3,A12<15),SUMIFS($R$4:$R$8,$S$4:$S$8,B12),1))))))))","v":1},null,null,null,"","",{"$f":"IF($K$9>0,IF(SUM($K$11:$K12,$I$6)<0,TEXT(-(SUM($K$11:K12,$I$6)/60)/24,\"-[h]:mm\"),TEXT((SUM($K$11:K12,$I$6)/60)/24,\"[h]:mm\")),\"\")","v":""},null,{"$f":"IF(F12=\"\",IF(L12<0,L12+IF(G12=\" \",0,IF(((HOUR(E12)*60+MINUTE(E12))-(HOUR(D12)*60+MINUTE(D12)))>360,(HOUR(E12)*60+MINUTE(E12))-(HOUR(D12)*60+MINUTE(D12))-30,(HOUR(E12)*60+MINUTE(E12))-(HOUR(D12)*60+MINUTE(D12)))),IF(Q12=\"\",\"\",(Q12*60)*24)),\"\")","v":""},{"$f":"IF(OR(F12=\"krank\",F12=\"Urlaub\",C12=1,C12=2),0,IF($K$9=1,IF(SUM($U$4:$U$8)=0,$H$9/5,INDEX($S$4:$U$8,MATCH(B12,$S$4:$S$8,0),3)),IF($K$9=2,IF(AND(A12>14,SUM($U$12:$U$16)=0),$I$9/5,INDEX($S$12:$U$16,MATCH(B12,$S$12:$S$16,0),3)),IF($K$9=3,IF(A12<15,IF(SUM($U$4:$U$8)=0,$H$9/5,INDEX($S$4:$U$8,MATCH(B12,$S$4:$S$8,0),3)),IF(SUM($U$12:$U$16)=0,$I$9/5,INDEX($S$12:$U$16,MATCH(B12,$S$12:$S$16,0),3)))))))*-60","v":0},0,null,{"$f":"IF(OR($O$3=\"\",$N$3=\"\",N12=\"\"),\"\",IF($O$9-SUM($N$11:N11)-N12<0,TEXT(-(($O$9-SUM($N$11:N11)-N12)/24),\"-[hh]:mm\"),TEXT(($O$9-SUM($N$11:N11)-N12)/24,\"[hh]:mm\")))","v":""},null,"",{"$f":"IF($K$9=0,1,IF($K$9=1,R4,IF(AND($K$9=3,OR(SUM($U$12:$U$16)=0,$U$1=\"nein\")),3,IF(AND($U$1=\"\",SUM($U$12:$U$16)>0,U12>=1,OR($K$9=3,$K$9=2)),4,1))))","v":1},"Mo",null,{"$f":"IF(AND(I9=0,H9=0),0,IF(OR($K$9=0,INDIRECT(\"'\"&TEXT(DATE(D4,$C$4-1,1),\"MMM\")&\"'!$U$1\")=\"nein\",$U$1=\"nein\"),0,IF(T12>0,T12,INDEX(Uebersicht!$BF$3:$BJ$14,$C$4,MATCH(S12,Uebersicht!$BF$2:$BJ$2,0)))))","v":0}]
[{"$f":"IF(OR(A12=\"\",$D$4=\"\"),\"\",IF(A12+1<=$C$6,A12+1,\"\"))","v":""},"",{"$f":"IF(OR($K$9=0,AND($K$9=2,A13<=14)),1,IF(IF(ISNA(INDEX(X!$W$7:$W$20,MATCH(DATE($D$4,$C$4,A13),X!$AC$7:$AC$20,0))),1,2)=2,2,IF(OR(B13=\"Sa\",B13=\"So\"),2,IF($K$9=1,SUMIFS($R$4:$R$8,$S$4:$S$8,B13),IF(AND($K$9=2,A13<15),SUMIFS($R$4:$R$8,$S$4:$S$8,B13),IF(AND($K$9=2,A13>14),SUMIFS($R$12:$R$16,$S$12:$S$16,B13),IF(AND($K$9=3,A13>14),SUMIFS($R$12:$R$16,$S$12:$S$16,B13),IF(AND($K$9=3,A13<15),SUMIFS($R$4:$R$8,$S$4:$S$8,B13),1))))))))","v":1},null,null,null,"","",{"$f":"IF($K$9>0,IF(SUM($K$11:$K13,$I$6)<0,TEXT(-(SUM($K$11:K13,$I$6)/60)/24,\"-[h]:mm\"),TEXT((SUM($K$11:K13,$I$6)/60)/24,\"[h]:mm\")),\"\")","v":""},null,"",0,0,null,{"$f":"IF(OR($O$3=\"\",$N$3=\"\",N13=\"\"),\"\",IF($O$9-SUM($N$11:N12)-N13<0,TEXT(-(($O$9-SUM($N$11:N12)-N13)/24),\"-[hh]:mm\"),TEXT(($O$9-SUM($N$11:N12)-N13)/24,\"[hh]:mm\")))","v":""},null,"",{"$f":"IF($K$9=0,1,IF($K$9=1,R5,IF(AND($K$9=3,OR(SUM($U$12:$U$16)=0,$U$1=\"nein\")),3,IF(AND($U$1=\"\",SUM($U$12:$U$16)>0,U13>=1,OR($K$9=3,$K$9=2)),4,1))))","v":1},"Di",null,{"$f":"IF(OR($K$9=0,INDIRECT(\"'\"&TEXT(DATE(D5,$C$4-1,1),\"MMM\")&\"'!$U$1\")=\"nein\",$U$1=\"nein\"),0,IF(T13>0,T13,INDEX(Uebersicht!$BF$3:$BJ$14,$C$4,MATCH(S13,Uebersicht!$BF$2:$BJ$2,0))))","v":0}]
["","",{"$f":"IF(OR($K$9=0,AND($K$9=2,A14<=14)),1,IF(IF(ISNA(INDEX(X!$W$7:$W$20,MATCH(DATE($D$4,$C$4,A14),X!$AC$7:$AC$20,0))),1,2)=2,2,IF(OR(B14=\"Sa\",B14=\"So\"),2,IF($K$9=1,SUMIFS($R$4:$R$8,$S$4:$S$8,B14),IF(AND($K$9=2,A14<15),SUMIFS($R$4:$R$8,$S$4:$S$8,B14),IF(AND($K$9=2,A14>14),SUMIFS($R$12:$R$16,$S$12:$S$16,B14),IF(AND($K$9=3,A14>14),SUMIFS($R$12:$R$16,$S$12:$S$16,B14),IF(AND($K$9=3,A14<15),SUMIFS($R$4:$R$8,$S$4:$S$8,B14),1))))))))","v":1},null,null,null,"","",{"$f":"IF($K$9>0,IF(SUM($K$11:$K14,$I$6)<0,TEXT(-(SUM($K$11:K14,$I$6)/60)/24,\"-[h]:mm\"),TEXT((SUM($K$11:K14,$I$6)/60)/24,\"[h]:mm\")),\"\")","v":""},null,"",0,0,null,{"$f":"IF(OR($O$3=\"\",$N$3=\"\",N14=\"\"),\"\",IF($O$9-SUM($N$11:N13)-N14<0,TEXT(-(($O$9-SUM($N$11:N13)-N14)/24),\"-[hh]:mm\"),TEXT(($O$9-SUM($N$11:N13)-N14)/24,\"[hh]:mm\")))","v":""},null,"",{"$f":"IF($K$9=0,1,IF($K$9=1,R6,IF(AND($K$9=3,OR(SUM($U$12:$U$16)=0,$U$1=\"nein\")),3,IF(AND($U$1=\"\",SUM($U$12:$U$16)>0,U14>=1,OR($K$9=3,$K$9=2)),4,1))))","v":1},"Mi",null,{"$f":"IF(OR($K$9=0,INDIRECT(\"'\"&TEXT(DATE(D6,$C$4-1,1),\"MMM\")&\"'!$U$1\")=\"nein\",$U$1=\"nein\"),0,IF(T14>0,T14,INDEX(Uebersicht!$BF$3:$BJ$14,$C$4,MATCH(S14,Uebersicht!$BF$2:$BJ$2,0))))","v":0}]
["","",{"$f":"IF(OR($K$9=0,AND($K$9=2,A15<=14)),1,IF(IF(ISNA(INDEX(X!$W$7:$W$20,MATCH(DATE($D$4,$C$4,A15),X!$AC$7:$AC$20,0))),1,2)=2,2,IF(OR(B15=\"Sa\",B15=\"So\"),2,IF($K$9=1,SUMIFS($R$4:$R$8,$S$4:$S$8,B15),IF(AND($K$9=2,A15<15),SUMIFS($R$4:$R$8,$S$4:$S$8,B15),IF(AND($K$9=2,A15>14),SUMIFS($R$12:$R$16,$S$12:$S$16,B15),IF(AND($K$9=3,A15>14),SUMIFS($R$12:$R$16,$S$12:$S$16,B15),IF(AND($K$9=3,A15<15),SUMIFS($R$4:$R$8,$S$4:$S$8,B15),1))))))))","v":1},null,null,null,"","",{"$f":"IF($K$9>0,IF(SUM($K$11:$K15,$I$6)<0,TEXT(-(SUM($K$11:K15,$I$6)/60)/24,\"-[h]:mm\"),TEXT((SUM($K$11:K15,$I$6)/60)/24,\"[h]:mm\")),\"\")","v":""},null,"",0,0,null,{"$f":"IF(OR($O$3=\"\",$N$3=\"\",N15=\"\"),\"\",IF($O$9-SUM($N$11:N14)-N15<0,TEXT(-(($O$9-SUM($N$11:N14)-N15)/24),\"-[hh]:mm\"),TEXT(($O$9-SUM($N$11:N14)-N15)/24,\"[hh]:mm\")))","v":""},null,"",{"$f":"IF($K$9=0,1,IF($K$9=1,R7,IF(AND($K$9=3,OR(SUM($U$12:$U$16)=0,$U$1=\"nein\")),3,IF(AND($U$1=\"\",SUM($U$12:$U$16)>0,U15>=1,OR($K$9=3,$K$9=2)),4,1))))","v":1},"Do",null,{"$f":"IF(OR($K$9=0,INDIRECT(\"'\"&TEXT(DATE(D7,$C$4-1,1),\"MMM\")&\"'!$U$1\")=\"nein\",$U$1=\"nein\"),0,IF(T15>0,T15,INDEX(Uebersicht!$BF$3:$BJ$14,$C$4,MATCH(S15,Uebersicht!$BF$2:$BJ$2,0))))","v":0}]
["","",{"$f":"IF(OR($K$9=0,AND($K$9=2,A16<=14)),1,IF(IF(ISNA(INDEX(X!$W$7:$W$20,MATCH(DATE($D$4,$C$4,A16),X!$AC$7:$AC$20,0))),1,2)=2,2,IF(OR(B16=\"Sa\",B16=\"So\"),2,IF($K$9=1,SUMIFS($R$4:$R$8,$S$4:$S$8,B16),IF(AND($K$9=2,A16<15),SUMIFS($R$4:$R$8,$S$4:$S$8,B16),IF(AND($K$9=2,A16>14),SUMIFS($R$12:$R$16,$S$12:$S$16,B16),IF(AND($K$9=3,A16>14),SUMIFS($R$12:$R$16,$S$12:$S$16,B16),IF(AND($K$9=3,A16<15),SUMIFS($R$4:$R$8,$S$4:$S$8,B16),1))))))))","v":1},null,null,null,"","",{"$f":"IF($K$9>0,IF(SUM($K$11:$K16,$I$6)<0,TEXT(-(SUM($K$11:K16,$I$6)/60)/24,\"-[h]:mm\"),TEXT((SUM($K$11:K16,$I$6)/60)/24,\"[h]:mm\")),\"\")","v":""},null,"",0,0,null,{"$f":"IF(OR($O$3=\"\",$N$3=\"\",N16=\"\"),\"\",IF($O$9-SUM($N$11:N15)-N16<0,TEXT(-(($O$9-SUM($N$11:N15)-N16)/24),\"-[hh]:mm\"),TEXT(($O$9-SUM($N$11:N15)-N16)/24,\"[hh]:mm\")))","v":""},null,"",{"$f":"IF($K$9=0,1,IF($K$9=1,R8,IF(AND($K$9=3,OR(SUM($U$12:$U$16)=0,$U$1=\"nein\")),3,IF(AND($U$1=\"\",SUM($U$12:$U$16)>0,U16>=1,OR($K$9=3,$K$9=2)),4,1))))","v":1},"Fr",null,{"$f":"IF(OR($K$9=0,INDIRECT(\"'\"&TEXT(DATE(D8,$C$4-1,1),\"MMM\")&\"'!$U$1\")=\"nein\",$U$1=\"nein\"),0,IF(T16>0,T16,INDEX(Uebersicht!$BF$3:$BJ$14,$C$4,MATCH(S16,Uebersicht!$BF$2:$BJ$2,0))))","v":0}]
["","",{"$f":"IF(OR($K$9=0,AND($K$9=2,A17<=14)),1,IF(IF(ISNA(INDEX(X!$W$7:$W$20,MATCH(DATE($D$4,$C$4,A17),X!$AC$7:$AC$20,0))),1,2)=2,2,IF(OR(B17=\"Sa\",B17=\"So\"),2,IF($K$9=1,SUMIFS($R$4:$R$8,$S$4:$S$8,B17),IF(AND($K$9=2,A17<15),SUMIFS($R$4:$R$8,$S$4:$S$8,B17),IF(AND($K$9=2,A17>14),SUMIFS($R$12:$R$16,$S$12:$S$16,B17),IF(AND($K$9=3,A17>14),SUMIFS($R$12:$R$16,$S$12:$S$16,B17),IF(AND($K$9=3,A17<15),SUMIFS($R$4:$R$8,$S$4:$S$8,B17),1))))))))","v":1},null,null,null,"","",{"$f":"IF($K$9>0,IF(SUM($K$11:$K17,$I$6)<0,TEXT(-(SUM($K$11:K17,$I$6)/60)/24,\"-[h]:mm\"),TEXT((SUM($K$11:K17,$I$6)/60)/24,\"[h]:mm\")),\"\")","v":""},null,"",0,0,null,{"$f":"IF(OR($O$3=\"\",$N$3=\"\",N17=\"\"),\"\",IF($O$9-SUM($N$11:N16)-N17<0,TEXT(-(($O$9-SUM($N$11:N16)-N17)/24),\"-[hh]:mm\"),TEXT(($O$9-SUM($N$11:N16)-N17)/24,\"[hh]:mm\")))","v":""},null,"",null,{"$f":"IF(I9=0,\"\",IF(SUM(U12:U16)>I9,\"zu viel!\",IF(SUM(U12:U16)<I9,\"zu wenig!\",\"\")))","v":""},null,{"$f":"IF(OR(U9=\"nein\",SUM(U12:U16)=0),\"ja\",IF(OR(SUM(Uebersicht!C43:C47)>0,SUM(T12:T16)>0,SUM(U12:U16)>0),\"nein\",\"ja\"))","v":"ja"}]
["","",{"$f":"IF(OR($K$9=0,AND($K$9=2,A18<=14)),1,IF(IF(ISNA(INDEX(X!$W$7:$W$20,MATCH(DATE($D$4,$C$4,A18),X!$AC$7:$AC$20,0))),1,2)=2,2,IF(OR(B18=\"Sa\",B18=\"So\"),2,IF($K$9=1,SUMIFS($R$4:$R$8,$S$4:$S$8,B18),IF(AND($K$9=2,A18<15),SUMIFS($R$4:$R$8,$S$4:$S$8,B18),IF(AND($K$9=2,A18>14),SUMIFS($R$12:$R$16,$S$12:$S$16,B18),IF(AND($K$9=3,A18>14),SUMIFS($R$12:$R$16,$S$12:$S$16,B18),IF(AND($K$9=3,A18<15),SUMIFS($R$4:$R$8,$S$4:$S$8,B18),1))))))))","v":1},null,null,null,"","",{"$f":"IF($K$9>0,IF(SUM($K$11:$K18,$I$6)<0,TEXT(-(SUM($K$11:K18,$I$6)/60)/24,\"-[h]:mm\"),TEXT((SUM($K$11:K18,$I$6)/60)/24,\"[h]:mm\")),\"\")","v":""},null,"",0,0,null,{"$f":"IF(OR($O$3=\"\",$N$3=\"\",N18=\"\"),\"\",IF($O$9-SUM($N$11:N17)-N18<0,TEXT(-(($O$9-SUM($N$11:N17)-N18)/24),\"-[hh]:mm\"),TEXT(($O$9-SUM($N$11:N17)-N18)/24,\"[hh]:mm\")))","v":""},null,""]
["","",{"$f":"IF(OR($K$9=0,AND($K$9=2,A19<=14)),1,IF(IF(ISNA(INDEX(X!$W$7:$W$20,MATCH(DATE($D$4,$C$4,A19),X!$AC$7:$AC$20,0))),1,2)=2,2,IF(OR(B19=\"Sa\",B19=\"So\"),2,IF($K$9=1,SUMIFS($R$4:$R$8,$S$4:$S$8,B19),IF(AND($K$9=2,A19<15),SUMIFS($R$4:$R$8,$S$4:$S$8,B19),IF(AND($K$9=2,A19>14),SUMIFS($R$12:$R$16,$S$12:$S$16,B19),IF(AND($K$9=3,A19>14),SUMIFS($R$12:$R$16,$S$12:$S$16,B19),IF(AND($K$9=3,A19<15),SUMIFS($R$4:$R$8,$S$4:$S$8,B19),1))))))))","v":1},null,null,null,"","",{"$f":"IF($K$9>0,IF(SUM($K$11:$K19,$I$6)<0,TEXT(-(SUM($K$11:K19,$I$6)/60)/24,\"-[h]:mm\"),TEXT((SUM($K$11:K19,$I$6)/60)/24,\"[h]:mm\")),\"\")","v":""},null,"",0,0,null,{"$f":"IF(OR($O$3=\"\",$N$3=\"\",N19=\"\"),\"\",IF($O$9-SUM($N$11:N18)-N19<0,TEXT(-(($O$9-SUM($N$11:N18)-N19)/24),\"-[hh]:mm\"),TEXT(($O$9-SUM($N$11:N18)-N19)/24,\"[hh]:mm\")))","v":""},null,""]
["","",{"$f":"IF(OR($K$9=0,AND($K$9=2,A20<=14)),1,IF(IF(ISNA(INDEX(X!$W$7:$W$20,MATCH(DATE($D$4,$C$4,A20),X!$AC$7:$AC$20,0))),1,2)=2,2,IF(OR(B20=\"Sa\",B20=\"So\"),2,IF($K$9=1,SUMIFS($R$4:$R$8,$S$4:$S$8,B20),IF(AND($K$9=2,A20<15),SUMIFS($R$4:$R$8,$S$4:$S$8,B20),IF(AND($K$9=2,A20>14),SUMIFS($R$12:$R$16,$S$12:$S$16,B20),IF(AND($K$9=3,A20>14),SUMIFS($R$12:$R$16,$S$12:$S$16,B20),IF(AND($K$9=3,A20<15),SUMIFS($R$4:$R$8,$S$4:$S$8,B20),1))))))))","v":1},null,null,null,"","",{"$f":"IF($K$9>0,IF(SUM($K$11:$K20,$I$6)<0,TEXT(-(SUM($K$11:K20,$I$6)/60)/24,\"-[h]:mm\"),TEXT((SUM($K$11:K20,$I$6)/60)/24,\"[h]:mm\")),\"\")","v":""},null,"",0,0,null,{"$f":"IF(OR($O$3=\"\",$N$3=\"\",N20=\"\"),\"\",IF($O$9-SUM($N$11:N19)-N20<0,TEXT(-(($O$9-SUM($N$11:N19)-N20)/24),\"-[hh]:mm\"),TEXT(($O$9-SUM($N$11:N19)-N20)/24,\"[hh]:mm\")))","v":""},null,""]
["","",{"$f":"IF(OR($K$9=0,AND($K$9=2,A21<=14)),1,IF(IF(ISNA(INDEX(X!$W$7:$W$20,MATCH(DATE($D$4,$C$4,A21),X!$AC$7:$AC$20,0))),1,2)=2,2,IF(OR(B21=\"Sa\",B21=\"So\"),2,IF($K$9=1,SUMIFS($R$4:$R$8,$S$4:$S$8,B21),IF(AND($K$9=2,A21<15),SUMIFS($R$4:$R$8,$S$4:$S$8,B21),IF(AND($K$9=2,A21>14),SUMIFS($R$12:$R$16,$S$12:$S$16,B21),IF(AND($K$9=3,A21>14),SUMIFS($R$12:$R$16,$S$12:$S$16,B21),IF(AND($K$9=3,A21<15),SUMIFS($R$4:$R$8,$S$4:$S$8,B21),1))))))))","v":1},null,null,null,"","",{"$f":"IF($K$9>0,IF(SUM($K$11:$K21,$I$6)<0,TEXT(-(SUM($K$11:K21,$I$6)/60)/24,\"-[h]:mm\"),TEXT((SUM($K$11:K21,$I$6)/60)/24,\"[h]:mm\")),\"\")","v":""},null,"",0,0,null,{"$f":"IF(OR($O$3=\"\",$N$3=\"\",N21=\"\"),\"\",IF($O$9-SUM($N$11:N20)-N21<0,TEXT(-(($O$9-SUM($N$11:N20)-N21)/24),\"-[hh]:mm\"),TEXT(($O$9-SUM($N$11:N20)-N21)/24,\"[hh]:mm\")))","v":""},null,""]
["","",{"$f":"IF(OR($K$9=0,AND($K$9=2,A22<=14)),1,IF(IF(ISNA(INDEX(X!$W$7:$W$20,MATCH(DATE($D$4,$C$4,A22),X!$AC$7:$AC$20,0))),1,2)=2,2,IF(OR(B22=\"Sa\",B22=\"So\"),2,IF($K$9=1,SUMIFS($R$4:$R$8,$S$4:$S$8,B22),IF(AND($K$9=2,A22<15),SUMIFS($R$4:$R$8,$S$4:$S$8,B22),IF(AND($K$9=2,A22>14),SUMIFS($R$12:$R$16,$S$12:$S$16,B22),IF(AND($K$9=3,A22>14),SUMIFS($R$12:$R$16,$S$12:$S$16,B22),IF(AND($K$9=3,A22<15),SUMIFS($R$4:$R$8,$S$4:$S$8,B22),1))))))))","v":1},null,null,null,"","",{"$f":"IF($K$9>0,IF(SUM($K$11:$K22,$I$6)<0,TEXT(-(SUM($K$11:K22,$I$6)/60)/24,\"-[h]:mm\"),TEXT((SUM($K$11:K22,$I$6)/60)/24,\"[h]:mm\")),\"\")","v":""},null,"",0,0,null,{"$f":"IF(OR($O$3=\"\",$N$3=\"\",N22=\"\"),\"\",IF($O$9-SUM($N$11:N21)-N22<0,TEXT(-(($O$9-SUM($N$11:N21)-N22)/24),\"-[hh]:mm\"),TEXT(($O$9-SUM($N$11:N21)-N22)/24,\"[hh]:mm\")))","v":""},null,""]
["","",{"$f":"IF(OR($K$9=0,AND($K$9=2,A23<=14)),1,IF(IF(ISNA(INDEX(X!$W$7:$W$20,MATCH(DATE($D$4,$C$4,A23),X!$AC$7:$AC$20,0))),1,2)=2,2,IF(OR(B23=\"Sa\",B23=\"So\"),2,IF($K$9=1,SUMIFS($R$4:$R$8,$S$4:$S$8,B23),IF(AND($K$9=2,A23<15),SUMIFS($R$4:$R$8,$S$4:$S$8,B23),IF(AND($K$9=2,A23>14),SUMIFS($R$12:$R$16,$S$12:$S$16,B23),IF(AND($K$9=3,A23>14),SUMIFS($R$12:$R$16,$S$12:$S$16,B23),IF(AND($K$9=3,A23<15),SUMIFS($R$4:$R$8,$S$4:$S$8,B23),1))))))))","v":1},null,null,null,"","",{"$f":"IF($K$9>0,IF(SUM($K$11:$K23,$I$6)<0,TEXT(-(SUM($K$11:K23,$I$6)/60)/24,\"-[h]:mm\"),TEXT((SUM($K$11:K23,$I$6)/60)/24,\"[h]:mm\")),\"\")","v":""},null,"",0,0,null,{"$f":"IF(OR($O$3=\"\",$N$3=\"\",N23=\"\"),\"\",IF($O$9-SUM($N$11:N22)-N23<0,TEXT(-(($O$9-SUM($N$11:N22)-N23)/24),\"-[hh]:mm\"),TEXT(($O$9-SUM($N$11:N22)-N23)/24,\"[hh]:mm\")))","v":""},null,""]
["","",{"$f":"IF(OR($K$9=0,AND($K$9=2,A24<=14)),1,IF(IF(ISNA(INDEX(X!$W$7:$W$20,MATCH(DATE($D$4,$C$4,A24),X!$AC$7:$AC$20,0))),1,2)=2,2,IF(OR(B24=\"Sa\",B24=\"So\"),2,IF($K$9=1,SUMIFS($R$4:$R$8,$S$4:$S$8,B24),IF(AND($K$9=2,A24<15),SUMIFS($R$4:$R$8,$S$4:$S$8,B24),IF(AND($K$9=2,A24>14),SUMIFS($R$12:$R$16,$S$12:$S$16,B24),IF(AND($K$9=3,A24>14),SUMIFS($R$12:$R$16,$S$12:$S$16,B24),IF(AND($K$9=3,A24<15),SUMIFS($R$4:$R$8,$S$4:$S$8,B24),1))))))))","v":1},null,null,null,"","",{"$f":"IF($K$9>0,IF(SUM($K$11:$K24,$I$6)<0,TEXT(-(SUM($K$11:K24,$I$6)/60)/24,\"-[h]:mm\"),TEXT((SUM($K$11:K24,$I$6)/60)/24,\"[h]:mm\")),\"\")","v":""},null,"",0,0,null,{"$f":"IF(OR($O$3=\"\",$N$3=\"\",N24=\"\"),\"\",IF($O$9-SUM($N$11:N23)-N24<0,TEXT(-(($O$9-SUM($N$11:N23)-N24)/24),\"-[hh]:mm\"),TEXT(($O$9-SUM($N$11:N23)-N24)/24,\"[hh]:mm\")))","v":""},null,""]
["","",{"$f":"IF(OR($K$9=0,AND($K$9=2,A25<=14)),1,IF(IF(ISNA(INDEX(X!$W$7:$W$20,MATCH(DATE($D$4,$C$4,A25),X!$AC$7:$AC$20,0))),1,2)=2,2,IF(OR(B25=\"Sa\",B25=\"So\"),2,IF($K$9=1,SUMIFS($R$4:$R$8,$S$4:$S$8,B25),IF(AND($K$9=2,A25<15),SUMIFS($R$4:$R$8,$S$4:$S$8,B25),IF(AND($K$9=2,A25>14),SUMIFS($R$12:$R$16,$S$12:$S$16,B25),IF(AND($K$9=3,A25>14),SUMIFS($R$12:$R$16,$S$12:$S$16,B25),IF(AND($K$9=3,A25<15),SUMIFS($R$4:$R$8,$S$4:$S$8,B25),1))))))))","v":1},null,null,null,"","",{"$f":"IF($K$9>0,IF(SUM($K$11:$K25,$I$6)<0,TEXT(-(SUM($K$11:K25,$I$6)/60)/24,\"-[h]:mm\"),TEXT((SUM($K$11:K25,$I$6)/60)/24,\"[h]:mm\")),\"\")","v":""},null,"",0,0,null,{"$f":"IF(OR($O$3=\"\",$N$3=\"\",N25=\"\"),\"\",IF($O$9-SUM($N$11:N24)-N25<0,TEXT(-(($O$9-SUM($N$11:N24)-N25)/24),\"-[hh]:mm\"),TEXT(($O$9-SUM($N$11:N24)-N25)/24,\"[hh]:mm\")))","v":""},null,""]
["","",{"$f":"IF(OR($K$9=0,AND($K$9=2,A26<=14)),1,IF(IF(ISNA(INDEX(X!$W$7:$W$20,MATCH(DATE($D$4,$C$4,A26),X!$AC$7:$AC$20,0))),1,2)=2,2,IF(OR(B26=\"Sa\",B26=\"So\"),2,IF($K$9=1,SUMIFS($R$4:$R$8,$S$4:$S$8,B26),IF(AND($K$9=2,A26<15),SUMIFS($R$4:$R$8,$S$4:$S$8,B26),IF(AND($K$9=2,A26>14),SUMIFS($R$12:$R$16,$S$12:$S$16,B26),IF(AND($K$9=3,A26>14),SUMIFS($R$12:$R$16,$S$12:$S$16,B26),IF(AND($K$9=3,A26<15),SUMIFS($R$4:$R$8,$S$4:$S$8,B26),1))))))))","v":1},null,null,null,"","",{"$f":"IF($K$9>0,IF(SUM($K$11:$K26,$I$6)<0,TEXT(-(SUM($K$11:K26,$I$6)/60)/24,\"-[h]:mm\"),TEXT((SUM($K$11:K26,$I$6)/60)/24,\"[h]:mm\")),\"\")","v":""},null,"",0,0,null,{"$f":"IF(OR($O$3=\"\",$N$3=\"\",N26=\"\"),\"\",IF($O$9-SUM($N$11:N25)-N26<0,TEXT(-(($O$9-SUM($N$11:N25)-N26)/24),\"-[hh]:mm\"),TEXT(($O$9-SUM($N$11:N25)-N26)/24,\"[hh]:mm\")))","v":""},null,""]
["","",{"$f":"IF(OR($K$9=0,AND($K$9=2,A27<=14)),1,IF(IF(ISNA(INDEX(X!$W$7:$W$20,MATCH(DATE($D$4,$C$4,A27),X!$AC$7:$AC$20,0))),1,2)=2,2,IF(OR(B27=\"Sa\",B27=\"So\"),2,IF($K$9=1,SUMIFS($R$4:$R$8,$S$4:$S$8,B27),IF(AND($K$9=2,A27<15),SUMIFS($R$4:$R$8,$S$4:$S$8,B27),IF(AND($K$9=2,A27>14),SUMIFS($R$12:$R$16,$S$12:$S$16,B27),IF(AND($K$9=3,A27>14),SUMIFS($R$12:$R$16,$S$12:$S$16,B27),IF(AND($K$9=3,A27<15),SUMIFS($R$4:$R$8,$S$4:$S$8,B27),1))))))))","v":1},null,null,null,"","",{"$f":"IF($K$9>0,IF(SUM($K$11:$K27,$I$6)<0,TEXT(-(SUM($K$11:K27,$I$6)/60)/24,\"-[h]:mm\"),TEXT((SUM($K$11:K27,$I$6)/60)/24,\"[h]:mm\")),\"\")","v":""},null,"",0,0,null,{"$f":"IF(OR($O$3=\"\",$N$3=\"\",N27=\"\"),\"\",IF($O$9-SUM($N$11:N26)-N27<0,TEXT(-(($O$9-SUM($N$11:N26)-N27)/24),\"-[hh]:mm\"),TEXT(($O$9-SUM($N$11:N26)-N27)/24,\"[hh]:mm\")))","v":""},null,""]
["","",{"$f":"IF(OR($K$9=0,AND($K$9=2,A28<=14)),1,IF(IF(ISNA(INDEX(X!$W$7:$W$20,MATCH(DATE($D$4,$C$4,A28),X!$AC$7:$AC$20,0))),1,2)=2,2,IF(OR(B28=\"Sa\",B28=\"So\"),2,IF($K$9=1,SUMIFS($R$4:$R$8,$S$4:$S$8,B28),IF(AND($K$9=2,A28<15),SUMIFS($R$4:$R$8,$S$4:$S$8,B28),IF(AND($K$9=2,A28>14),SUMIFS($R$12:$R$16,$S$12:$S$16,B28),IF(AND($K$9=3,A28>14),SUMIFS($R$12:$R$16,$S$12:$S$16,B28),IF(AND($K$9=3,A28<15),SUMIFS($R$4:$R$8,$S$4:$S$8,B28),1))))))))","v":1},null,null,null,"","",{"$f":"IF($K$9>0,IF(SUM($K$11:$K28,$I$6)<0,TEXT(-(SUM($K$11:K28,$I$6)/60)/24,\"-[h]:mm\"),TEXT((SUM($K$11:K28,$I$6)/60)/24,\"[h]:mm\")),\"\")","v":""},null,"",0,0,null,{"$f":"IF(OR($O$3=\"\",$N$3=\"\",N28=\"\"),\"\",IF($O$9-SUM($N$11:N27)-N28<0,TEXT(-(($O$9-SUM($N$11:N27)-N28)/24),\"-[hh]:mm\"),TEXT(($O$9-SUM($N$11:N27)-N28)/24,\"[hh]:mm\")))","v":""},null,""]
["","",{"$f":"IF(OR($K$9=0,AND($K$9=2,A29<=14)),1,IF(IF(ISNA(INDEX(X!$W$7:$W$20,MATCH(DATE($D$4,$C$4,A29),X!$AC$7:$AC$20,0))),1,2)=2,2,IF(OR(B29=\"Sa\",B29=\"So\"),2,IF($K$9=1,SUMIFS($R$4:$R$8,$S$4:$S$8,B29),IF(AND($K$9=2,A29<15),SUMIFS($R$4:$R$8,$S$4:$S$8,B29),IF(AND($K$9=2,A29>14),SUMIFS($R$12:$R$16,$S$12:$S$16,B29),IF(AND($K$9=3,A29>14),SUMIFS($R$12:$R$16,$S$12:$S$16,B29),IF(AND($K$9=3,A29<15),SUMIFS($R$4:$R$8,$S$4:$S$8,B29),1))))))))","v":1},null,null,null,"","",{"$f":"IF($K$9>0,IF(SUM($K$11:$K29,$I$6)<0,TEXT(-(SUM($K$11:K29,$I$6)/60)/24,\"-[h]:mm\"),TEXT((SUM($K$11:K29,$I$6)/60)/24,\"[h]:mm\")),\"\")","v":""},null,"",0,0,null,{"$f":"IF(OR($O$3=\"\",$N$3=\"\",N29=\"\"),\"\",IF($O$9-SUM($N$11:N28)-N29<0,TEXT(-(($O$9-SUM($N$11:N28)-N29)/24),\"-[hh]:mm\"),TEXT(($O$9-SUM($N$11:N28)-N29)/24,\"[hh]:mm\")))","v":""},null,""]
["","",{"$f":"IF(OR($K$9=0,AND($K$9=2,A30<=14)),1,IF(IF(ISNA(INDEX(X!$W$7:$W$20,MATCH(DATE($D$4,$C$4,A30),X!$AC$7:$AC$20,0))),1,2)=2,2,IF(OR(B30=\"Sa\",B30=\"So\"),2,IF($K$9=1,SUMIFS($R$4:$R$8,$S$4:$S$8,B30),IF(AND($K$9=2,A30<15),SUMIFS($R$4:$R$8,$S$4:$S$8,B30),IF(AND($K$9=2,A30>14),SUMIFS($R$12:$R$16,$S$12:$S$16,B30),IF(AND($K$9=3,A30>14),SUMIFS($R$12:$R$16,$S$12:$S$16,B30),IF(AND($K$9=3,A30<15),SUMIFS($R$4:$R$8,$S$4:$S$8,B30),1))))))))","v":1},null,null,null,"","",{"$f":"IF($K$9>0,IF(SUM($K$11:$K30,$I$6)<0,TEXT(-(SUM($K$11:K30,$I$6)/60)/24,\"-[h]:mm\"),TEXT((SUM($K$11:K30,$I$6)/60)/24,\"[h]:mm\")),\"\")","v":""},null,"",0,0,null,{"$f":"IF(OR($O$3=\"\",$N$3=\"\",N30=\"\"),\"\",IF($O$9-SUM($N$11:N29)-N30<0,TEXT(-(($O$9-SUM($N$11:N29)-N30)/24),\"-[hh]:mm\"),TEXT(($O$9-SUM($N$11:N29)-N30)/24,\"[hh]:mm\")))","v":""},null,""]
["","",{"$f":"IF(OR($K$9=0,AND($K$9=2,A31<=14)),1,IF(IF(ISNA(INDEX(X!$W$7:$W$20,MATCH(DATE($D$4,$C$4,A31),X!$AC$7:$AC$20,0))),1,2)=2,2,IF(OR(B31=\"Sa\",B31=\"So\"),2,IF($K$9=1,SUMIFS($R$4:$R$8,$S$4:$S$8,B31),IF(AND($K$9=2,A31<15),SUMIFS($R$4:$R$8,$S$4:$S$8,B31),IF(AND($K$9=2,A31>14),SUMIFS($R$12:$R$16,$S$12:$S$16,B31),IF(AND($K$9=3,A31>14),SUMIFS($R$12:$R$16,$S$12:$S$16,B31),IF(AND($K$9=3,A31<15),SUMIFS($R$4:$R$8,$S$4:$S$8,B31),1))))))))","v":1},null,null,null,"","",{"$f":"IF($K$9>0,IF(SUM($K$11:$K31,$I$6)<0,TEXT(-(SUM($K$11:K31,$I$6)/60)/24,\"-[h]:mm\"),TEXT((SUM($K$11:K31,$I$6)/60)/24,\"[h]:mm\")),\"\")","v":""},null,"",0,0,null,{"$f":"IF(OR($O$3=\"\",$N$3=\"\",N31=\"\"),\"\",IF($O$9-SUM($N$11:N30)-N31<0,TEXT(-(($O$9-SUM($N$11:N30)-N31)/24),\"-[hh]:mm\"),TEXT(($O$9-SUM($N$11:N30)-N31)/24,\"[hh]:mm\")))","v":""},null,""]
["","",{"$f":"IF(OR($K$9=0,AND($K$9=2,A32<=14)),1,IF(IF(ISNA(INDEX(X!$W$7:$W$20,MATCH(DATE($D$4,$C$4,A32),X!$AC$7:$AC$20,0))),1,2)=2,2,IF(OR(B32=\"Sa\",B32=\"So\"),2,IF($K$9=1,SUMIFS($R$4:$R$8,$S$4:$S$8,B32),IF(AND($K$9=2,A32<15),SUMIFS($R$4:$R$8,$S$4:$S$8,B32),IF(AND($K$9=2,A32>14),SUMIFS($R$12:$R$16,$S$12:$S$16,B32),IF(AND($K$9=3,A32>14),SUMIFS($R$12:$R$16,$S$12:$S$16,B32),IF(AND($K$9=3,A32<15),SUMIFS($R$4:$R$8,$S$4:$S$8,B32),1))))))))","v":1},null,null,null,"","",{"$f":"IF($K$9>0,IF(SUM($K$11:$K32,$I$6)<0,TEXT(-(SUM($K$11:K32,$I$6)/60)/24,\"-[h]:mm\"),TEXT((SUM($K$11:K32,$I$6)/60)/24,\"[h]:mm\")),\"\")","v":""},null,"",0,0,null,{"$f":"IF(OR($O$3=\"\",$N$3=\"\",N32=\"\"),\"\",IF($O$9-SUM($N$11:N31)-N32<0,TEXT(-(($O$9-SUM($N$11:N31)-N32)/24),\"-[hh]:mm\"),TEXT(($O$9-SUM($N$11:N31)-N32)/24,\"[hh]:mm\")))","v":""},null,""]
["","",{"$f":"IF(OR($K$9=0,AND($K$9=2,A33<=14)),1,IF(IF(ISNA(INDEX(X!$W$7:$W$20,MATCH(DATE($D$4,$C$4,A33),X!$AC$7:$AC$20,0))),1,2)=2,2,IF(OR(B33=\"Sa\",B33=\"So\"),2,IF($K$9=1,SUMIFS($R$4:$R$8,$S$4:$S$8,B33),IF(AND($K$9=2,A33<15),SUMIFS($R$4:$R$8,$S$4:$S$8,B33),IF(AND($K$9=2,A33>14),SUMIFS($R$12:$R$16,$S$12:$S$16,B33),IF(AND($K$9=3,A33>14),SUMIFS($R$12:$R$16,$S$12:$S$16,B33),IF(AND($K$9=3,A33<15),SUMIFS($R$4:$R$8,$S$4:$S$8,B33),1))))))))","v":1},null,null,null,"","",{"$f":"IF($K$9>0,IF(SUM($K$11:$K33,$I$6)<0,TEXT(-(SUM($K$11:K33,$I$6)/60)/24,\"-[h]:mm\"),TEXT((SUM($K$11:K33,$I$6)/60)/24,\"[h]:mm\")),\"\")","v":""},null,"",0,0,null,{"$f":"IF(OR($O$3=\"\",$N$3=\"\",N33=\"\"),\"\",IF($O$9-SUM($N$11:N32)-N33<0,TEXT(-(($O$9-SUM($N$11:N32)-N33)/24),\"-[hh]:mm\"),TEXT(($O$9-SUM($N$11:N32)-N33)/24,\"[hh]:mm\")))","v":""},null,""]
["","",{"$f":"IF(OR($K$9=0,AND($K$9=2,A34<=14)),1,IF(IF(ISNA(INDEX(X!$W$7:$W$20,MATCH(DATE($D$4,$C$4,A34),X!$AC$7:$AC$20,0))),1,2)=2,2,IF(OR(B34=\"Sa\",B34=\"So\"),2,IF($K$9=1,SUMIFS($R$4:$R$8,$S$4:$S$8,B34),IF(AND($K$9=2,A34<15),SUMIFS($R$4:$R$8,$S$4:$S$8,B34),IF(AND($K$9=2,A34>14),SUMIFS($R$12:$R$16,$S$12:$S$16,B34),IF(AND($K$9=3,A34>14),SUMIFS($R$12:$R$16,$S$12:$S$16,B34),IF(AND($K$9=3,A34<15),SUMIFS($R$4:$R$8,$S$4:$S$8,B34),1))))))))","v":1},null,null,null,"","",{"$f":"IF($K$9>0,IF(SUM($K$11:$K34,$I$6)<0,TEXT(-(SUM($K$11:K34,$I$6)/60)/24,\"-[h]:mm\"),TEXT((SUM($K$11:K34,$I$6)/60)/24,\"[h]:mm\")),\"\")","v":""},null,"",0,0,null,{"$f":"IF(OR($O$3=\"\",$N$3=\"\",N34=\"\"),\"\",IF($O$9-SUM($N$11:N33)-N34<0,TEXT(-(($O$9-SUM($N$11:N33)-N34)/24),\"-[hh]:mm\"),TEXT(($O$9-SUM($N$11:N33)-N34)/24,\"[hh]:mm\")))","v":""},null,""]
["","",{"$f":"IF(OR($K$9=0,AND($K$9=2,A35<=14)),1,IF(IF(ISNA(INDEX(X!$W$7:$W$20,MATCH(DATE($D$4,$C$4,A35),X!$AC$7:$AC$20,0))),1,2)=2,2,IF(OR(B35=\"Sa\",B35=\"So\"),2,IF($K$9=1,SUMIFS($R$4:$R$8,$S$4:$S$8,B35),IF(AND($K$9=2,A35<15),SUMIFS($R$4:$R$8,$S$4:$S$8,B35),IF(AND($K$9=2,A35>14),SUMIFS($R$12:$R$16,$S$12:$S$16,B35),IF(AND($K$9=3,A35>14),SUMIFS($R$12:$R$16,$S$12:$S$16,B35),IF(AND($K$9=3,A35<15),SUMIFS($R$4:$R$8,$S$4:$S$8,B35),1))))))))","v":1},null,null,null,"","",{"$f":"IF($K$9>0,IF(SUM($K$11:$K35,$I$6)<0,TEXT(-(SUM($K$11:K35,$I$6)/60)/24,\"-[h]:mm\"),TEXT((SUM($K$11:K35,$I$6)/60)/24,\"[h]:mm\")),\"\")","v":""},null,"",0,0,null,{"$f":"IF(OR($O$3=\"\",$N$3=\"\",N35=\"\"),\"\",IF($O$9-SUM($N$11:N34)-N35<0,TEXT(-(($O$9-SUM($N$11:N34)-N35)/24),\"-[hh]:mm\"),TEXT(($O$9-SUM($N$11:N34)-N35)/24,\"[hh]:mm\")))","v":""},null,""]
["","",{"$f":"IF(OR($K$9=0,AND($K$9=2,A36<=14)),1,IF(IF(ISNA(INDEX(X!$W$7:$W$20,MATCH(DATE($D$4,$C$4,A36),X!$AC$7:$AC$20,0))),1,2)=2,2,IF(OR(B36=\"Sa\",B36=\"So\"),2,IF($K$9=1,SUMIFS($R$4:$R$8,$S$4:$S$8,B36),IF(AND($K$9=2,A36<15),SUMIFS($R$4:$R$8,$S$4:$S$8,B36),IF(AND($K$9=2,A36>14),SUMIFS($R$12:$R$16,$S$12:$S$16,B36),IF(AND($K$9=3,A36>14),SUMIFS($R$12:$R$16,$S$12:$S$16,B36),IF(AND($K$9=3,A36<15),SUMIFS($R$4:$R$8,$S$4:$S$8,B36),1))))))))","v":1},null,null,null,"","",{"$f":"IF($K$9>0,IF(SUM($K$11:$K36,$I$6)<0,TEXT(-(SUM($K$11:K36,$I$6)/60)/24,\"-[h]:mm\"),TEXT((SUM($K$11:K36,$I$6)/60)/24,\"[h]:mm\")),\"\")","v":""},null,"",0,0,null,{"$f":"IF(OR($O$3=\"\",$N$3=\"\",N36=\"\"),\"\",IF($O$9-SUM($N$11:N35)-N36<0,TEXT(-(($O$9-SUM($N$11:N35)-N36)/24),\"-[hh]:mm\"),TEXT(($O$9-SUM($N$11:N35)-N36)/24,\"[hh]:mm\")))","v":""},null,""]
["","",{"$f":"IF(OR($K$9=0,AND($K$9=2,A37<=14)),1,IF(IF(ISNA(INDEX(X!$W$7:$W$20,MATCH(DATE($D$4,$C$4,A37),X!$AC$7:$AC$20,0))),1,2)=2,2,IF(OR(B37=\"Sa\",B37=\"So\"),2,IF($K$9=1,SUMIFS($R$4:$R$8,$S$4:$S$8,B37),IF(AND($K$9=2,A37<15),SUMIFS($R$4:$R$8,$S$4:$S$8,B37),IF(AND($K$9=2,A37>14),SUMIFS($R$12:$R$16,$S$12:$S$16,B37),IF(AND($K$9=3,A37>14),SUMIFS($R$12:$R$16,$S$12:$S$16,B37),IF(AND($K$9=3,A37<15),SUMIFS($R$4:$R$8,$S$4:$S$8,B37),1))))))))","v":1},null,null,null,"","",{"$f":"IF($K$9>0,IF(SUM($K$11:$K37,$I$6)<0,TEXT(-(SUM($K$11:K37,$I$6)/60)/24,\"-[h]:mm\"),TEXT((SUM($K$11:K37,$I$6)/60)/24,\"[h]:mm\")),\"\")","v":""},null,"",0,0,null,{"$f":"IF(OR($O$3=\"\",$N$3=\"\",N37=\"\"),\"\",IF($O$9-SUM($N$11:N36)-N37<0,TEXT(-(($O$9-SUM($N$11:N36)-N37)/24),\"-[hh]:mm\"),TEXT(($O$9-SUM($N$11:N36)-N37)/24,\"[hh]:mm\")))","v":""},null,""]
["","",{"$f":"IF(OR($K$9=0,AND($K$9=2,A38<=14)),1,IF(IF(ISNA(INDEX(X!$W$7:$W$20,MATCH(DATE($D$4,$C$4,A38),X!$AC$7:$AC$20,0))),1,2)=2,2,IF(OR(B38=\"Sa\",B38=\"So\"),2,IF($K$9=1,SUMIFS($R$4:$R$8,$S$4:$S$8,B38),IF(AND($K$9=2,A38<15),SUMIFS($R$4:$R$8,$S$4:$S$8,B38),IF(AND($K$9=2,A38>14),SUMIFS($R$12:$R$16,$S$12:$S$16,B38),IF(AND($K$9=3,A38>14),SUMIFS($R$12:$R$16,$S$12:$S$16,B38),IF(AND($K$9=3,A38<15),SUMIFS($R$4:$R$8,$S$4:$S$8,B38),1))))))))","v":1},null,null,null,"","",{"$f":"IF($K$9>0,IF(SUM($K$11:$K38,$I$6)<0,TEXT(-(SUM($K$11:K38,$I$6)/60)/24,\"-[h]:mm\"),TEXT((SUM($K$11:K38,$I$6)/60)/24,\"[h]:mm\")),\"\")","v":""},null,"",0,0,null,{"$f":"IF(OR($O$3=\"\",$N$3=\"\",N38=\"\"),\"\",IF($O$9-SUM($N$11:N37)-N38<0,TEXT(-(($O$9-SUM($N$11:N37)-N38)/24),\"-[hh]:mm\"),TEXT(($O$9-SUM($N$11:N37)-N38)/24,\"[hh]:mm\")))","v":""},null,""]
["",{"$f":"IF(OR(A39=\"\",$D$4=\"\"),\"\",TEXT(DATE($D$4,$C$4,A39),\"ttt\"))","v":""},{"$f":"IF(OR($K$9=0,AND($K$9=2,A39<=14)),1,IF(IF(ISNA(INDEX(X!$W$7:$W$20,MATCH(DATE($D$4,$C$4,A39),X!$AC$7:$AC$20,0))),1,2)=2,2,IF(OR(B39=\"Sa\",B39=\"So\"),2,IF($K$9=1,SUMIFS($R$4:$R$8,$S$4:$S$8,B39),IF(AND($K$9=2,A39<15),SUMIFS($R$4:$R$8,$S$4:$S$8,B39),IF(AND($K$9=2,A39>14),SUMIFS($R$12:$R$16,$S$12:$S$16,B39),IF(AND($K$9=3,A39>14),SUMIFS($R$12:$R$16,$S$12:$S$16,B39),IF(AND($K$9=3,A39<15),SUMIFS($R$4:$R$8,$S$4:$S$8,B39),1))))))))","v":1},null,null,null,"","",{"$f":"IF($K$9>0,IF(SUM($K$11:$K39,$I$6)<0,TEXT(-(SUM($K$11:K39,$I$6)/60)/24,\"-[h]:mm\"),TEXT((SUM($K$11:K39,$I$6)/60)/24,\"[h]:mm\")),\"\")","v":""},null,"",0,0,null,{"$f":"IF(OR($O$3=\"\",$N$3=\"\",N39=\"\"),\"\",IF($O$9-SUM($N$11:N38)-N39<0,TEXT(-(($O$9-SUM($N$11:N38)-N39)/24),\"-[hh]:mm\"),TEXT(($O$9-SUM($N$11:N38)-N39)/24,\"[hh]:mm\")))","v":""},null,""]
["",{"$f":"IF(OR(A40=\"\",$D$4=\"\"),\"\",TEXT(DATE($D$4,$C$4,A40),\"ttt\"))","v":""},{"$f":"IF(OR($K$9=0,AND($K$9=2,A40<=14)),1,IF(IF(ISNA(INDEX(X!$W$7:$W$20,MATCH(DATE($D$4,$C$4,A40),X!$AC$7:$AC$20,0))),1,2)=2,2,IF(OR(B40=\"Sa\",B40=\"So\"),2,IF($K$9=1,SUMIFS($R$4:$R$8,$S$4:$S$8,B40),IF(AND($K$9=2,A40<15),SUMIFS($R$4:$R$8,$S$4:$S$8,B40),IF(AND($K$9=2,A40>14),SUMIFS($R$12:$R$16,$S$12:$S$16,B40),IF(AND($K$9=3,A40>14),SUMIFS($R$12:$R$16,$S$12:$S$16,B40),IF(AND($K$9=3,A40<15),SUMIFS($R$4:$R$8,$S$4:$S$8,B40),1))))))))","v":1},null,null,null,"","",{"$f":"IF($K$9>0,IF(SUM($K$11:$K40,$I$6)<0,TEXT(-(SUM($K$11:K40,$I$6)/60)/24,\"-[h]:mm\"),TEXT((SUM($K$11:K40,$I$6)/60)/24,\"[h]:mm\")),\"\")","v":""},null,"",0,0,null,{"$f":"IF(OR($O$3=\"\",$N$3=\"\",N40=\"\"),\"\",IF($O$9-SUM($N$11:N39)-N40<0,TEXT(-(($O$9-SUM($N$11:N39)-N40)/24),\"-[hh]:mm\"),TEXT(($O$9-SUM($N$11:N39)-N40)/24,\"[hh]:mm\")))","v":""},null,""]
["","",{"$f":"IF(OR($K$9=0,AND($K$9=2,A41<=14)),1,IF(IF(ISNA(INDEX(X!$W$7:$W$20,MATCH(DATE($D$4,$C$4,A41),X!$AC$7:$AC$20,0))),1,2)=2,2,IF(OR(B41=\"Sa\",B41=\"So\"),2,IF($K$9=1,SUMIFS($R$4:$R$8,$S$4:$S$8,B41),IF(AND($K$9=2,A41<15),SUMIFS($R$4:$R$8,$S$4:$S$8,B41),IF(AND($K$9=2,A41>14),SUMIFS($R$12:$R$16,$S$12:$S$16,B41),IF(AND($K$9=3,A41>14),SUMIFS($R$12:$R$16,$S$12:$S$16,B41),IF(AND($K$9=3,A41<15),SUMIFS($R$4:$R$8,$S$4:$S$8,B41),1))))))))","v":1},null,null,null,"","",{"$f":"IF($K$9>0,IF(SUM($K$11:$K41,$I$6)<0,TEXT(-(SUM($K$11:K41,$I$6)/60)/24,\"-[h]:mm\"),TEXT((SUM($K$11:K41,$I$6)/60)/24,\"[h]:mm\")),\"\")","v":""},null,"",0,0,null,{"$f":"IF(OR($O$3=\"\",$N$3=\"\",N41=\"\"),\"\",IF($O$9-SUM($N$11:N40)-N41<0,TEXT(-(($O$9-SUM($N$11:N40)-N41)/24),\"-[hh]:mm\"),TEXT(($O$9-SUM($N$11:N40)-N41)/24,\"[hh]:mm\")))","v":""},null,""]
[null,null,null,null,null,null,{"$f":"L42+K42","v":0},{"$f":"K42","v":0},null,null,{"$f":"SUM(K11:K41)","v":0},{"$f":"-SUM(L11:L41)","v":0},{"$f":"M41","v":0},{"$f":"SUM(N11:N41)*60","v":0},null,null,{"$f":"IF((G42/60)<0,TEXT(-((G42/60)/24),\"-[hh]:mm\"),TEXT((G42/60)/24,\"[hh]:mm\"))","v":"00:00"}]
[{"$f":"IF(G4=\"\",\"\",\"Ergebnis\")","v":""},null,null,null,null,null,{"$f":"IF(G4=\"\",0,IF(((G42-N42)/60)<0,TEXT(-(((G42-N42)/60)/24),\"-[hh]:mm\"),TEXT(((G42-N42)/60)/24,\"[hh]:mm\")))","v":0},{"$f":"IF(G4=0,\"\",IF(H42<0,TEXT(-((H42/60)/24),\"-[hh]:mm\"),IF((H42/60)>24,TEXT((((H42/60)-24)/24)+(24/24),\"[hh]:mm\"),(H42/60)/24)))","v":0},{"$f":"IF($K$9>0,IF(SUM(I6,K43)<0,TEXT(-(SUM(I6,K43)/60)/24,\"-[h]:mm\"),TEXT((SUM(I6,K43)/60)/24,\"[h]:mm\")),\"\")","v":""},null,{"$f":"IF(L42<>L43,G42-L43,K42)","v":0},{"$f":"IF(AND(K9=1,SUM(U4:U8)<>H9),((H9/5)*COUNTIFS(C11:C41,\"<>\"&2,F11:F41,\"\"))*60,IF(AND(K9=2,SUM(U12:U16)<>I9),((I9/5)*COUNTIFS(C11:C41,\"<>\"&2,F11:F41,\"\"))*60,IF(AND(K9=3,OR(SUM(U4:U8)<>H9,SUM(U12:U16)<>I9)),SUM(IF(SUM(U4:U8)<>H9,((H9/5)*COUNTIFS(C11:C41,\"<>\"&2,A11:A41,\"<\"&15,F11:F41,\"\"))*60,-SUMIFS(L11:L41,A11:A41,\"<\"&15,F11:F41,\"\")),IF(SUM(U12:U16)<>I9,((I9/5)*COUNTIFS(C11:C41,\"<>\"&2,A11:A41,\">\"&14,F11:F41,\"\"))*60,-SUMIFS(L11:L41,A11:A41,\">\"&14,F11:F41,\"\"))),-SUM(L11:L41))))","v":0},null,{"$f":"IF(N42<0,TEXT(-((N42/60)/24),\"-[hh]:mm\"),TEXT((N42/60)/24,\"[hh]:mm\"))","v":"00:00"},{"$f":"IF(O9-SUM(N11:N41)<0,TEXT(-(O9-SUM(N11:N41))/24,\"-[h]:mm\"),TEXT((O9-SUM(N11:N41))/24,\"[h]:mm\"))","v":{"$error":"#VALUE!"}},null,{"$f":"Q42","v":"00:00"}]
[{"$f":"IF(G4=\"\",\"\",\"Saldo / Übertrag:\")","v":""},null,null,null,null,null,null,null,{"$f":"I43","v":""},{"$f":"IF(K42<>K43,\"automatische Nachberechnung der Sollarbeitszeit, da wöchentlicher Stundenumfang nicht eingehalten wurde.\",\"\")","v":""},{"$f":"K43+I6","v":0},"Übertrag"]
[]
[{"$f":"IF(I46=\"\",\"\",\"Korrektur der Stunden\")","v":""},null,null,null,null,null,null,null,{"$f":"IF(K9>0,IF(K42-K43<>0,IF(K43-K42<0,TEXT(-((K43-K42)/60)/24,\"-[h]:mm\"),TEXT(((K43-K42)/60)/24,\"[h]:mm\")),\"\"),\"\")","v":""}]
[]
[]
[]
[]
[]
[]
[]
[]
[]
[]
[{"$f":"D4","v":""},{"$f":"C4","v":7},{"$f":"Uebersicht!A4","v":0},{"$f":"Uebersicht!B4","v":0},{"$f":"L43","v":0},{"$f":"K42","v":0},{"$f":"K43","v":0},{"$f":"M10","v":0},{"$f":"M42","v":0}]

{"sheet":"Aug","index":8,"n_rows":57,"n_cols":22,"rows_kept":57,"cut":false,"hidden":false,"merged":[[8,18,8,19],[9,18,9,20],[16,18,16,19],[42,0,42,5],[3,13,4,15],[5,13,5,15],[6,0,7,4],[6,5,7,5],[6,6,7,7],[6,8,7,8],[6,9,7,9],[6,13,7,15],[3,0,4,1],[3,2,4,2],[3,3,4,4],[3,5,4,5],[43,0,44,7],[43,8,44,8],[43,9,46,9],[45,0,45,7],[1,0,2,8],[3,6,4,9]]}
["Zeiterfassungsbogen für studentische Hilfskräfte | International Office",null,null,null,null,null,null,null,null,null,null,null,null,null,null,null,null,null,null,null,null,"\"nein\" auswählen, wenn keine festen Tage mehr gelten sollen!"]
[{"$f":"IF(Uebersicht!A4=\"\",\"\",CONCATENATE(Uebersicht!B4,\" \",Uebersicht!A4))","v":""}]
[null,null,null,null,null,null,null,null,null,null,null,null,null,{"$f":"INDEX(Uebersicht!AO5:AQ28,MATCH(C4,Uebersicht!AO5:AO28,0),3)","v":0},{"$f":"INDEX(Uebersicht!AO5:AQ28,MATCH(C4+0.5,Uebersicht!AO5:AO28,0),3)","v":0},null,null,null,"Tag","h"]
[{"$f":"IF(D4=\"\",\"\",TEXT(DATE(D4,C4,1),\"MMM\"))","v":""},null,8,{"$f":"Uebersicht!I1","v":""},null,null,{"$f":"IF(INDEX(Uebersicht!AO31:AQ42,MATCH(C4,Uebersicht!AO31:AO43,0),2)=0,\"\",INDEX(Uebersicht!AO31:AQ42,MATCH(C4,Uebersicht!AO31:AO43,0),2))","v":""},null,null,null,null,null,null,{"$f":"INDEX(Uebersicht!AO31:AQ42,MATCH(C4,Uebersicht!AO31:AO43,0),3)","v":0},null,null,null,{"$f":"IF(OR($K$9=2,$K$9=0),1,IF(AND(OR($K$9=1,$K$9=3),OR(SUM($U$4:$U$8)=0,$U$1=\"nein\")),3,IF(AND($U$1=\"\",SUM($U$4:$U$8)>0,U4>=1,OR($K$9=3,$K$9=1)),4,1)))","v":1},"Mo",null,{"$f":"IF(AND(H9=0,I9=0),0,IF(OR($K$9=0,INDIRECT(\"'\"&TEXT(DATE(D4,$C$4-1,1),\"MMM\")&\"'!$U$1\")=\"nein\",$U$1=\"nein\"),0,IF(T4>0,T4,INDEX(Uebersicht!$BA$3:$BE$14,$C$4,MATCH(S4,Uebersicht!$BA$2:$BE$2,0)))))","v":0}]
[null,null,null,null,null,null,null,null,null,null,null,null,null,null,null,null,null,{"$f":"IF(OR($K$9=2,$K$9=0),1,IF(AND(OR($K$9=1,$K$9=3),OR(SUM($U$4:$U$8)=0,$U$1=\"nein\")),3,IF(AND($U$1=\"\",SUM($U$4:$U$8)>0,U5>=1,OR($K$9=3,$K$9=1)),4,1)))","v":1},"Di",null,{"$f":"IF(OR($K$9=0,INDIRECT(\"'\"&TEXT(DATE(D5,$C$4-1,1),\"MMM\")&\"'!$U$1\")=\"nein\",$U$1=\"nein\"),0,IF(T5>0,T5,INDEX(Uebersicht!$BA$3:$BE$14,$C$4,MATCH(S5,Uebersicht!$BA$2:$BE$2,0))))","v":0}]
[null,null,{"$f":"DAY(DATE(D4,C4+1,1)-1)","v":{"$error":"#VALUE!"}},null,null,null,null,{"$f":"IF(N4=0,\"\",\"Arbeitsgebiet 1\")","v":""},{"$f":"IF(AND(I9=0,H9=0),0,IF(C4-1=0,Uebersicht!G4,INDIRECT(\"'\"&TEXT(DATE(D4,C4-1,1),\"MMM\")&\"'!K44\")))","v":0},null,"nein",null,null,{"$f":"IF(N4=\"\",\"\",\"Arbeitsgebiet 2\")","v":"Arbeitsgebiet 2"},null,null,null,{"$f":"IF(OR($K$9=2,$K$9=0),1,IF(AND(OR($K$9=1,$K$9=3),OR(SUM($U$4:$U$8)=0,$U$1=\"nein\")),3,IF(AND($U$1=\"\",SUM($U$4:$U$8)>0,U6>=1,OR($K$9=3,$K$9=1)),4,1)))","v":1},"Mi",null,{"$f":"IF(OR($K$9=0,INDIRECT(\"'\"&TEXT(DATE(D6,$C$4-1,1),\"MMM\")&\"'!$U$1\")=\"nein\",$U$1=\"nein\"),0,IF(T6>0,T6,INDEX(Uebersicht!$BA$3:$BE$14,$C$4,MATCH(S6,Uebersicht!$BA$2:$BE$2,0))))","v":0}]
[{"$f":"IF(AND(H9>0,I9=0),CONCATENATE(H9,\" Wochenarbeitszeit (h)\"),IF(AND(H9=0,I9>0),CONCATENATE(I9,\" Wochenarbeitszeit (h)\"),IF(AND(H9>0,I9>0,H9<>I9),CONCATENATE(H9,\" h, ab 15. \",TEXT(DATE(D4,C4,1),\"MMMM\"),\" \",I9,\"h\"),\"\")))","v":""},null,null,null,null,{"$f":"IF(G4=\"\",\"\",IF(M42/60>0,TEXT((M42/60)/24,\"[h]:mm\"),0))","v":""},{"$f":"IF(F7=\"\",\"\",\"Urlaubsrest\")","v":""},null,{"$f":"IF(AND(YEAR(TODAY())=D4,MONTH(TODAY())>=C4,K9>0),IF(OR(I6=0,I6=\"\"),0,IF(I6<0,TEXT(-(I6/60)/24,\"-[h]:mm\"),TEXT((I6/60)/24,\"[h]:mm\"))),\"\")","v":""},{"$f":"IF(I7=\"\",\"\",CONCATENATE(\"h Übertrag aus \",IF(C6=1,\"Vorjahr\",\"Vormonat\")))","v":""},"Urlaub",null,null,{"$f":"IF(AND(N3>0,O3=0),CONCATENATE(N3,\" Stunden - Anteil pro Woche\"),IF(AND(N3=0,O3>0),CONCATENATE(O3,\" Stunden - Anteil pro Woche\"),IF(AND(N3>0,O3>0,O3<>N3),CONCATENATE(N3,\" h, ab 15. \",TEXT(DATE(D4,C4,1),\"MMMM\"),\" \",O3,\"h\"),IF(N3=O3,CONCATENATE(N3,\" Stunden - Anteil pro Woche\"),\"\"))))","v":"0 Stunden - Anteil pro Woche"},null,null,null,{"$f":"IF(OR($K$9=2,$K$9=0),1,IF(AND(OR($K$9=1,$K$9=3),OR(SUM($U$4:$U$8)=0,$U$1=\"nein\")),3,IF(AND($U$1=\"\",SUM($U$4:$U$8)>0,U7>=1,OR($K$9=3,$K$9=1)),4,1)))","v":1},"Do",null,{"$f":"IF(OR($K$9=0,INDIRECT(\"'\"&TEXT(DATE(D7,$C$4-1,1),\"MMM\")&\"'!$U$1\")=\"nein\",$U$1=\"nein\"),0,IF(T7>0,T7,INDEX(Uebersicht!$BA$3:$BE$14,$C$4,MATCH(S7,Uebersicht!$BA$2:$BE$2,0))))","v":0}]
[null,null,null,null,null,null,null,null,null,null,"Krank",null,null,null,null,null,null,{"$f":"IF(OR($K$9=2,$K$9=0),1,IF(AND(OR($K$9=1,$K$9=3),OR(SUM($U$4:$U$8)=0,$U$1=\"nein\")),3,IF(AND($U$1=\"\",SUM($U$4:$U$8)>0,U8>=1,OR($K$9=3,$K$9=1)),4,1)))","v":1},"Fr",null,{"$f":"IF(OR($K$9=0,INDIRECT(\"'\"&TEXT(DATE(D8,$C$4-1,1),\"MMM\")&\"'!$U$1\")=\"nein\",$U$1=\"nein\"),0,IF(T8>0,T8,INDEX(Uebersicht!$BA$3:$BE$14,$C$4,MATCH(S8,Uebersicht!$BA$2:$BE$2,0))))","v":0}]
[null,null,null,null,null,null,null,{"$f":"INDEX(Uebersicht!AU3:AW14,C4,2)","v":0},{"$f":"IF(INDEX(Uebersicht!AU3:AW14,C4,3)=H9,0,INDEX(Uebersicht!AU3:AW14,C4,3))","v":0},null,{"$f":"IF(AND(H9>0,I9=0),1,IF(AND(H9=0,I9>0),2,IF(AND(H9=0,I9=0),0,IF(H9<>I9,3,\"\"))))","v":0},null,null,null,{"$f":"IF(OR(N3>0,O3>0),IF(OR(K9=1,K9=2),(IF(K9=1,N3,IF(K9=2,O2,0))/5)*NETWORKDAYS(IF(K9=1,DATE(D4,C4,1),IF(K9=2,DATE(D4,C4,15),0)),IF(OR(K9=1,K9=2),DATE(D4,C4,MAX(A11:A41)),0),COUNTIFS(C11:C41,\"<>\"&2)),IF(K9=3,SUM(IF(N3>0,(N3/5)*NETWORKDAYS(DATE(D4,C4,1),DATE(D4,C4,14),2),0),IF(O3>0,(O3/5)*NETWORKDAYS(DATE(D4,C4,15),DATE(D4,C4,MAX(A11:A41)),2),0)),0)),\"\")","v":""},null,null,null,{"$f":"IF(SUM(U4:U8)=0,\"\",IF(SUM(U4:U8)>H9,\"zu viel!\",IF(SUM(U4:U8)<H9,\"zu wenig!\",\"\")))","v":""},null,{"$f":"IF(OR(U1=\"nein\",SUM(U4:U8)=0),\"ja\",IF(OR(SUM(Uebersicht!C36:C40)>0,SUM(T4:T8)>0,SUM(U4:U8)>0),\"nein\",\"ja\"))","v":"ja"}]
["Tag",null,null,"Beginn","Ende","Urlaub\nKrank","Stunden","Mehr/\nMinder","Saldo\nsummiert","Bemerkungen","Differenz","Soll",{"$f":"IF(AND(I9=0,H9=0),0,IF(C4-1=0,IF(Uebersicht!E8=\"\",0,Uebersicht!E8*60),INDIRECT(\"'\"&TEXT(DATE(D4,C4-1,1),\"MMM\")&\"'!M42\")))","v":0},"Stunden","Rest","Bemerkungen","Gesamt",null,"Änderung im laufenden Monat"]
[1,{"$f":"IF(OR(A11=\"\",$D$4=\"\"),\"\",TEXT(DATE($D$4,$C$4,A11),\"ttt\"))","v":""},{"$f":"IF(OR($K$9=0,AND($K$9=2,A11<=14)),1,IF(IF(ISNA(INDEX(X!$W$7:$W$20,MATCH(DATE($D$4,$C$4,A11),X!$AC$7:$AC$20,0))),1,2)=2,2,IF(OR(B11=\"Sa\",B11=\"So\"),2,IF($K$9=1,SUMIFS($R$4:$R$8,$S$4:$S$8,B11),IF(AND($K$9=2,A11<15),SUMIFS($R$4:$R$8,$S$4:$S$8,B11),IF(AND($K$9=2,A11>14),SUMIFS($R$12:$R$16,$S$12:$S$16,B11),IF(AND($K$9=3,A11>14),SUMIFS($R$12:$R$16,$S$12:$S$16,B11),IF(AND($K$9=3,A11<15),SUMIFS($R$4:$R$8,$S$4:$S$8,B11),1))))))))","v":1},null,null,null,{"$f":"IF(AND(D11=\"\",E11=\"\"),\"\",IF(N11=\"\",IF(((HOUR(E11)*60+MINUTE(E11))-(HOUR(D11)*60+MINUTE(D11)))>360,TEXT(((((HOUR(E11)*60+MINUTE(E11))-(HOUR(D11)*60+MINUTE(D11)))-30)/60)/24,\"[h]:mm\"),TEXT((((HOUR(E11)*60+MINUTE(E11))-(HOUR(D11)*60+MINUTE(D11)))/60)/24,\"[h]:mm\")),IF((((HOUR(E11)*60+MINUTE(E11))-(HOUR(D11)*60+MINUTE(D11)))-N11)>360,TEXT(((((((HOUR(E11)*60+MINUTE(E11))-(HOUR(D11)*60+MINUTE(D11)))-30))/60)-N11)/24,\"[h]:mm\"),TEXT(((((HOUR(E11)*60+MINUTE(E11))-(HOUR(D11)*60+MINUTE(D11)))/60)-N11)/24,\"[h]:mm\"))))","v":""},{"$f":"IF(K11=\"\",\"\",IF(TODAY()<=DATE($D$4,$C$4,A11),0,IF(K11>0,TEXT((K11/60)/24,\"[h]:mm\"),TEXT(-(K11/60)/24,\"-[h]:mm\"))))","v":""},{"$f":"IF($K$9>0,IF(SUM($K$11:$K11,I6)<0,TEXT(-(SUM($K$11:K11,I6)/60)/24,\"-[h]:mm\"),TEXT((SUM($K$11:K11,I6)/60)/24,\"[h]:mm\")),\"\")","v":""},null,{"$f":"IF(F11=\"\",IF(L11<0,L11+IF(G11=\" \",0,IF(((HOUR(E11)*60+MINUTE(E11))-(HOUR(D11)*60+MINUTE(D11)))>360,(HOUR(E11)*60+MINUTE(E11))-(HOUR(D11)*60+MINUTE(D11))-30,(HOUR(E11)*60+MINUTE(E11))-(HOUR(D11)*60+MINUTE(D11)))),IF(Q11=\"\",\"\",(Q11*60)*24)),\"\")","v":""},{"$f":"IF(OR(F11=\"krank\",F11=\"Urlaub\",C11=1,C11=2),0,IF($K$9=1,IF(SUM($U$4:$U$8)=0,$H$9/5,INDEX($S$4:$U$8,MATCH(B11,$S$4:$S$8,0),3)),IF($K$9=2,IF(AND(A11>14,SUM($U$12:$U$16)=0),$I$9/5,INDEX($S$12:$U$16,MATCH(B11,$S$12:$S$16,0),3)),IF($K$9=3,IF(A11<15,IF(SUM($U$4:$U$8)=0,$H$9/5,INDEX($S$4:$U$8,MATCH(B11,$S$4:$S$8,0),3))),IF(A11>14,IF(SUM($U$12:$U$16)=0,$I$9/5,INDEX($S$12:$U$16,MATCH(B11,$S$12:$S$16,0),3))))))*-60)","v":0},{"$f":"M10-(IF(OR(C11=1,C11=2),0,IF(C11=3,IF(AND($K$9=1,F11=\"Urlaub\"),$H$9/5,IF($K$9=2,IF(AND(A11<15,F11=\"Urlaub\"),$I$9/5,IF(AND($K$9=3,A11<15,F11=\"Urlaub\"),$H$9/5,IF(AND($K$9=3,A11>14,F11=\"Urlaub\"),$I$9/5))))),IF(C11=4,IF(AND(F11=\"Urlaub\",$K$9=1),SUMIFS($U$4:$U$8,$S$4:$S$8,B11),IF(AND(F11=\"Urlaub\",$K$9=2,A11>14),SUMIFS($U$12:$U$16,$S$12:$S$16,B11),IF(AND(F11=\"Urlaub\",$K$9=3,A11<15),SUMIFS($U$4:$U$8,$S$4:$S$8,B11),IF(AND(F11=\"Urlaub\",$K$9=3,A11>14),SUMIFS($U$12:$U$16,$S$12:$S$16,B11),0)))))))*60)","v":0},null,{"$f":"IF(OR($O$3=\"\",$N$3=\"\",N11=\"\"),\"\",IF($O$9-SUM($N10:N$11)-N11<0,TEXT(-(($O$9-SUM($N10:N$11)-N11)/24),\"-[hh]:mm\"),TEXT(($O$9-SUM($N10:N$11)-N11)/24,\"[hh]:mm\")))","v":""},null,{"$f":"IF(AND(D11=\"\",E11=\"\"),\"\",IF(((HOUR(E11)*60+MINUTE(E11))-(HOUR(D11)*60+MINUTE(D11)))>360,TEXT(((((HOUR(E11)*60+MINUTE(E11))-(HOUR(D11)*60+MINUTE(D11)))-30)/60)/24,\"[h]:mm\"),TEXT((((HOUR(E11)*60+MINUTE(E11))-(HOUR(D11)*60+MINUTE(D11)))/60)/24,\"[h]:mm\")))","v":""}]
[{"$f":"IF(OR(A11=\"\",$D$4=\"\"),\"\",IF(A11+1<=$C$6,A11+1,\"\"))","v":""},"",{"$f":"IF(OR($K$9=0,AND($K$9=2,A12<=14)),1,IF(IF(ISNA(INDEX(X!$W$7:$W$20,MATCH(DATE($D$4,$C$4,A12),X!$AC$7:$AC$20,0))),1,2)=2,2,IF(OR(B12=\"Sa\",B12=\"So\"),2,IF($K$9=1,SUMIFS($R$4:$R$8,$S$4:$S$8,B12),IF(AND($K$9=2,A12<15),SUMIFS($R$4:$R$8,$S$4:$S$8,B12),IF(AND($K$9=2,A12>14),SUMIFS($R$12:$R$16,$S$12:$S$16,B12),IF(AND($K$9=3,A12>14),SUMIFS($R$12:$R$16,$S$12:$S$16,B12),IF(AND($K$9=3,A12<15),SUMIFS($R$4:$R$8,$S$4:$S$8,B12),1))))))))","v":1},null,null,null,"","",{"$f":"IF($K$9>0,IF(SUM($K$11:$K12,$I$6)<0,TEXT(-(SUM($K$11:K12,$I$6)/60)/24,\"-[h]:mm\"),TEXT((SUM($K$11:K12,$I$6)/60)/24,\"[h]:mm\")),\"\")","v":""},null,{"$f":"IF(F12=\"\",IF(L12<0,L12+IF(G12=\" \",0,IF(((HOUR(E12)*60+MINUTE(E12))-(HOUR(D12)*60+MINUTE(D12)))>360,(HOUR(E12)*60+MINUTE(E12))-(HOUR(D12)*60+MINUTE(D12))-30,(HOUR(E12)*60+MINUTE(E12))-(HOUR(D12)*60+MINUTE(D12)))),IF(Q12=\"\",\"\",(Q12*60)*24)),\"\")","v":""},{"$f":"IF(OR(F12=\"krank\",F12=\"Urlaub\",C12=1,C12=2),0,IF($K$9=1,IF(SUM($U$4:$U$8)=0,$H$9/5,INDEX($S$4:$U$8,MATCH(B12,$S$4:$S$8,0),3)),IF($K$9=2,IF(AND(A12>14,SUM($U$12:$U$16)=0),$I$9/5,INDEX($S$12:$U$16,MATCH(B12,$S$12:$S$16,0),3)),IF($K$9=3,IF(A12<15,IF(SUM($U$4:$U$8)=0,$H$9/5,INDEX($S$4:$U$8,MATCH(B12,$S$4:$S$8,0),3)),IF(SUM($U$12:$U$16)=0,$I$9/5,INDEX($S$12:$U$16,MATCH(B12,$S$12:$S$16,0),3)))))))*-60","v":0},0,null,{"$f":"IF(OR($O$3=\"\",$N$3=\"\",N12=\"\"),\"\",IF($O$9-SUM($N$11:N11)-N12<0,TEXT(-(($O$9-SUM($N$11:N11)-N12)/24),\"-[hh]:mm\"),TEXT(($O$9-SUM($N$11:N11)-N12)/24,\"[hh]:mm\")))","v":""},null,"",{"$f":"IF($K$9=0,1,IF($K$9=1,R4,IF(AND($K$9=3,OR(SUM($U$12:$U$16)=0,$U$1=\"nein\")),3,IF(AND($U$1=\"\",SUM($U$12:$U$16)>0,U12>=1,OR($K$9=3,$K$9=2)),4,1))))","v":1},"Mo",null,{"$f":"IF(AND(I9=0,H9=0),0,IF(OR($K$9=0,INDIRECT(\"'\"&TEXT(DATE(D4,$C$4-1,1),\"MMM\")&\"'!$U$1\")=\"nein\",$U$1=\"nein\"),0,IF(T12>0,T12,INDEX(Uebersicht!$BF$3:$BJ$14,$C$4,MATCH(S12,Uebersicht!$BF$2:$BJ$2,0)))))","v":0}]
[{"$f":"IF(OR(A12=\"\",$D$4=\"\"),\"\",IF(A12+1<=$C$6,A12+1,\"\"))","v":""},"",{"$f":"IF(OR($K$9=0,AND($K$9=2,A13<=14)),1,IF(IF(ISNA(INDEX(X!$W$7:$W$20,MATCH(DATE($D$4,$C$4,A13),X!$AC$7:$AC$20,0))),1,2)=2,2,IF(OR(B13=\"Sa\",B13=\"So\"),2,IF($K$9=1,SUMIFS($R$4:$R$8,$S$4:$S$8,B13),IF(AND($K$9=2,A13<15),SUMIFS($R$4:$R$8,$S$4:$S$8,B13),IF(AND($K$9=2,A13>14),SUMIFS($R$12:$R$16,$S$12:$S$16,B13),IF(AND($K$9=3,A13>14),SUMIFS($R$12:$R$16,$S$12:$S$16,B13),IF(AND($K$9=3,A13<15),SUMIFS($R$4:$R$8,$S$4:$S$8,B13),1))))))))","v":1},null,null,null,"","",{"$f":"IF($K$9>0,IF(SUM($K$11:$K13,$I$6)<0,TEXT(-(SUM($K$11:K13,$I$6)/60)/24,\"-[h]:mm\"),TEXT((SUM($K$11:K13,$I$6)/60)/24,\"[h]:mm\")),\"\")","v":""},null,"",0,0,null,{"$f":"IF(OR($O$3=\"\",$N$3=\"\",N13=\"\"),\"\",IF($O$9-SUM($N$11:N12)-N13<0,TEXT(-(($O$9-SUM($N$11:N12)-N13)/24),\"-[hh]:mm\"),TEXT(($O$9-SUM($N$11:N12)-N13)/24,\"[hh]:mm\")))","v":""},null,"",{"$f":"IF($K$9=0,1,IF($K$9=1,R5,IF(AND($K$9=3,OR(SUM($U$12:$U$16)=0,$U$1=\"nein\")),3,IF(AND($U$1=\"\",SUM($U$12:$U$16)>0,U13>=1,OR($K$9=3,$K$9=2)),4,1))))","v":1},"Di",null,{"$f":"IF(OR($K$9=0,INDIRECT(\"'\"&TEXT(DATE(D5,$C$4-1,1),\"MMM\")&\"'!$U$1\")=\"nein\",$U$1=\"nein\"),0,IF(T13>0,T13,INDEX(Uebersicht!$BF$3:$BJ$14,$C$4,MATCH(S13,Uebersicht!$BF$2:$BJ$2,0))))","v":0}]
["","",{"$f":"IF(OR($K$9=0,AND($K$9=2,A14<=14)),1,IF(IF(ISNA(INDEX(X!$W$7:$W$20,MATCH(DATE($D$4,$C$4,A14),X!$AC$7:$AC$20,0))),1,2)=2,2,IF(OR(B14=\"Sa\",B14=\"So\"),2,IF($K$9=1,SUMIFS($R$4:$R$8,$S$4:$S$8,B14),IF(AND($K$9=2,A14<15),SUMIFS($R$4:$R$8,$S$4:$S$8,B14),IF(AND($K$9=2,A14>14),SUMIFS($R$12:$R$16,$S$12:$S$16,B14),IF(AND($K$9=3,A14>14),SUMIFS($R$12:$R$16,$S$12:$S$16,B14),IF(AND($K$9=3,A14<15),SUMIFS($R$4:$R$8,$S$4:$S$8,B14),1))))))))","v":1},null,null,null,"","",{"$f":"IF($K$9>0,IF(SUM($K$11:$K14,$I$6)<0,TEXT(-(SUM($K$11:K14,$I$6)/60)/24,\"-[h]:mm\"),TEXT((SUM($K$11:K14,$I$6)/60)/24,\"[h]:mm\")),\"\")","v":""},null,"",0,0,null,{"$f":"IF(OR($O$3=\"\",$N$3=\"\",N14=\"\"),\"\",IF($O$9-SUM($N$11:N13)-N14<0,TEXT(-(($O$9-SUM($N$11:N13)-N14)/24),\"-[hh]:mm\"),TEXT(($O$9-SUM($N$11:N13)-N14)/24,\"[hh]:mm\")))","v":""},null,"",{"$f":"IF($K$9=0,1,IF($K$9=1,R6,IF(AND($K$9=3,OR(SUM($U$12:$U$16)=0,$U$1=\"nein\")),3,IF(AND($U$1=\"\",SUM($U$12:$U$16)>0,U14>=1,OR($K$9=3,$K$9=2)),4,1))))","v":1},"Mi",null,{"$f":"IF(OR($K$9=0,INDIRECT(\"'\"&TEXT(DATE(D6,$C$4-1,1),\"MMM\")&\"'!$U$1\")=\"nein\",$U$1=\"nein\"),0,IF(T14>0,T14,INDEX(Uebersicht!$BF$3:$BJ$14,$C$4,MATCH(S14,Uebersicht!$BF$2:$BJ$2,0))))","v":0}]
["","",{"$f":"IF(OR($K$9=0,AND($K$9=2,A15<=14)),1,IF(IF(ISNA(INDEX(X!$W$7:$W$20,MATCH(DATE($D$4,$C$4,A15),X!$AC$7:$AC$20,0))),1,2)=2,2,IF(OR(B15=\"Sa\",B15=\"So\"),2,IF($K$9=1,SUMIFS($R$4:$R$8,$S$4:$S$8,B15),IF(AND($K$9=2,A15<15),SUMIFS($R$4:$R$8,$S$4:$S$8,B15),IF(AND($K$9=2,A15>14),SUMIFS($R$12:$R$16,$S$12:$S$16,B15),IF(AND($K$9=3,A15>14),SUMIFS($R$12:$R$16,$S$12:$S$16,B15),IF(AND($K$9=3,A15<15),SUMIFS($R$4:$R$8,$S$4:$S$8,B15),1))))))))","v":1},null,null,null,"","",{"$f":"IF($K$9>0,IF(SUM($K$11:$K15,$I$6)<0,TEXT(-(SUM($K$11:K15,$I$6)/60)/24,\"-[h]:mm\"),TEXT((SUM($K$11:K15,$I$6)/60)/24,\"[h]:mm\")),\"\")","v":""},null,"",0,0,null,{"$f":"IF(OR($O$3=\"\",$N$3=\"\",N15=\"\"),\"\",IF($O$9-SUM($N$11:N14)-N15<0,TEXT(-(($O$9-SUM($N$11:N14)-N15)/24),\"-[hh]:mm\"),TEXT(($O$9-SUM($N$11:N14)-N15)/24,\"[hh]:mm\")))","v":""},null,"",{"$f":"IF($K$9=0,1,IF($K$9=1,R7,IF(AND($K$9=3,OR(SUM($U$12:$U$16)=0,$U$1=\"nein\")),3,IF(AND($U$1=\"\",SUM($U$12:$U$16)>0,U15>=1,OR($K$9=3,$K$9=2)),4,1))))","v":1},"Do",null,{"$f":"IF(OR($K$9=0,INDIRECT(\"'\"&TEXT(DATE(D7,$C$4-1,1),\"MMM\")&\"'!$U$1\")=\"nein\",$U$1=\"nein\"),0,IF(T15>0,T15,INDEX(Uebersicht!$BF$3:$BJ$14,$C$4,MATCH(S15,Uebersicht!$BF$2:$BJ$2,0))))","v":0}]
["","",{"$f":"IF(OR($K$9=0,AND($K$9=2,A16<=14)),1,IF(IF(ISNA(INDEX(X!$W$7:$W$20,MATCH(DATE($D$4,$C$4,A16),X!$AC$7:$AC$20,0))),1,2)=2,2,IF(OR(B16=\"Sa\",B16=\"So\"),2,IF($K$9=1,SUMIFS($R$4:$R$8,$S$4:$S$8,B16),IF(AND($K$9=2,A16<15),SUMIFS($R$4:$R$8,$S$4:$S$8,B16),IF(AND($K$9=2,A16>14),SUMIFS($R$12:$R$16,$S$12:$S$16,B16),IF(AND($K$9=3,A16>14),SUMIFS($R$12:$R$16,$S$12:$S$16,B16),IF(AND($K$9=3,A16<15),SUMIFS($R$4:$R$8,$S$4:$S$8,B16),1))))))))","v":1},null,null,null,"","",{"$f":"IF($K$9>0,IF(SUM($K$11:$K16,$I$6)<0,TEXT(-(SUM($K$11:K16,$I$6)/60)/24,\"-[h]:mm\"),TEXT((SUM($K$11:K16,$I$6)/60)/24,\"[h]:mm\")),\"\")","v":""},null,"",0,0,null,{"$f":"IF(OR($O$3=\"\",$N$3=\"\",N16=\"\"),\"\",IF($O$9-SUM($N$11:N15)-N16<0,TEXT(-(($O$9-SUM($N$11:N15)-N16)/24),\"-[hh]:mm\"),TEXT(($O$9-SUM($N$11:N15)-N16)/24,\"[hh]:mm\")))","v":""},null,"",{"$f":"IF($K$9=0,1,IF($K$9=1,R8,IF(AND($K$9=3,OR(SUM($U$12:$U$16)=0,$U$1=\"nein\")),3,IF(AND($U$1=\"\",SUM($U$12:$U$16)>0,U16>=1,OR($K$9=3,$K$9=2)),4,1))))","v":1},"Fr",null,{"$f":"IF(OR($K$9=0,INDIRECT(\"'\"&TEXT(DATE(D8,$C$4-1,1),\"MMM\")&\"'!$U$1\")=\"nein\",$U$1=\"nein\"),0,IF(T16>0,T16,INDEX(Uebersicht!$BF$3:$BJ$14,$C$4,MATCH(S16,Uebersicht!$BF$2:$BJ$2,0))))","v":0}]
["","",{"$f":"IF(OR($K$9=0,AND($K$9=2,A17<=14)),1,IF(IF(ISNA(INDEX(X!$W$7:$W$20,MATCH(DATE($D$4,$C$4,A17),X!$AC$7:$AC$20,0))),1,2)=2,2,IF(OR(B17=\"Sa\",B17=\"So\"),2,IF($K$9=1,SUMIFS($R$4:$R$8,$S$4:$S$8,B17),IF(AND($K$9=2,A17<15),SUMIFS($R$4:$R$8,$S$4:$S$8,B17),IF(AND($K$9=2,A17>14),SUMIFS($R$12:$R$16,$S$12:$S$16,B17),IF(AND($K$9=3,A17>14),SUMIFS($R$12:$R$16,$S$12:$S$16,B17),IF(AND($K$9=3,A17<15),SUMIFS($R$4:$R$8,$S$4:$S$8,B17),1))))))))","v":1},null,null,null,"","",{"$f":"IF($K$9>0,IF(SUM($K$11:$K17,$I$6)<0,TEXT(-(SUM($K$11:K17,$I$6)/60)/24,\"-[h]:mm\"),TEXT((SUM($K$11:K17,$I$6)/60)/24,\"[h]:mm\")),\"\")","v":""},null,"",0,0,null,{"$f":"IF(OR($O$3=\"\",$N$3=\"\",N17=\"\"),\"\",IF($O$9-SUM($N$11:N16)-N17<0,TEXT(-(($O$9-SUM($N$11:N16)-N17)/24),\"-[hh]:mm\"),TEXT(($O$9-SUM($N$11:N16)-N17)/24,\"[hh]:mm\")))","v":""},null,"",null,{"$f":"IF(I9=0,\"\",IF(SUM(U12:U16)>I9,\"zu viel!\",IF(SUM(U12:U16)<I9,\"zu wenig!\",\"\")))","v":""},null,{"$f":"IF(OR(U9=\"nein\",SUM(U12:U16)=0),\"ja\",IF(OR(SUM(Uebersicht!C43:C47)>0,SUM(T12:T16)>0,SUM(U12:U16)>0),\"nein\",\"ja\"))","v":"ja"}]
["","",{"$f":"IF(OR($K$9=0,AND($K$9=2,A18<=14)),1,IF(IF(ISNA(INDEX(X!$W$7:$W$20,MATCH(DATE($D$4,$C$4,A18),X!$AC$7:$AC$20,0))),1,2)=2,2,IF(OR(B18=\"Sa\",B18=\"So\"),2,IF($K$9=1,SUMIFS($R$4:$R$8,$S$4:$S$8,B18),IF(AND($K$9=2,A18<15),SUMIFS($R$4:$R$8,$S$4:$S$8,B18),IF(AND($K$9=2,A18>14),SUMIFS($R$12:$R$16,$S$12:$S$16,B18),IF(AND($K$9=3,A18>14),SUMIFS($R$12:$R$16,$S$12:$S$16,B18),IF(AND($K$9=3,A18<15),SUMIFS($R$4:$R$8,$S$4:$S$8,B18),1))))))))","v":1},null,null,null,"","",{"$f":"IF($K$9>0,IF(SUM($K$11:$K18,$I$6)<0,TEXT(-(SUM($K$11:K18,$I$6)/60)/24,\"-[h]:mm\"),TEXT((SUM($K$11:K18,$I$6)/60)/24,\"[h]:mm\")),\"\")","v":""},null,"",0,0,null,{"$f":"IF(OR($O$3=\"\",$N$3=\"\",N18=\"\"),\"\",IF($O$9-SUM($N$11:N17)-N18<0,TEXT(-(($O$9-SUM($N$11:N17)-N18)/24),\"-[hh]:mm\"),TEXT(($O$9-SUM($N$11:N17)-N18)/24,\"[hh]:mm\")))","v":""},null,""]
["","",{"$f":"IF(OR($K$9=0,AND($K$9=2,A19<=14)),1,IF(IF(ISNA(INDEX(X!$W$7:$W$20,MATCH(DATE($D$4,$C$4,A19),X!$AC$7:$AC$20,0))),1,2)=2,2,IF(OR(B19=\"Sa\",B19=\"So\"),2,IF($K$9=1,SUMIFS($R$4:$R$8,$S$4:$S$8,B19),IF(AND($K$9=2,A19<15),SUMIFS($R$4:$R$8,$S$4:$S$8,B19),IF(AND($K$9=2,A19>14),SUMIFS($R$12:$R$16,$S$12:$S$16,B19),IF(AND($K$9=3,A19>14),SUMIFS($R$12:$R$16,$S$12:$S$16,B19),IF(AND($K$9=3,A19<15),SUMIFS($R$4:$R$8,$S$4:$S$8,B19),1))))))))","v":1},null,null,null,"","",{"$f":"IF($K$9>0,IF(SUM($K$11:$K19,$I$6)<0,TEXT(-(SUM($K$11:K19,$I$6)/60)/24,\"-[h]:mm\"),TEXT((SUM($K$11:K19,$I$6)/60)/24,\"[h]:mm\")),\"\")","v":""},null,"",0,0,null,{"$f":"IF(OR($O$3=\"\",$N$3=\"\",N19=\"\"),\"\",IF($O$9-SUM($N$11:N18)-N19<0,TEXT(-(($O$9-SUM($N$11:N18)-N19)/24),\"-[hh]:mm\"),TEXT(($O$9-SUM($N$11:N18)-N19)/24,\"[hh]:mm\")))","v":""},null,""]
["","",{"$f":"IF(OR($K$9=0,AND($K$9=2,A20<=14)),1,IF(IF(ISNA(INDEX(X!$W$7:$W$20,MATCH(DATE($D$4,$C$4,A20),X!$AC$7:$AC$20,0))),1,2)=2,2,IF(OR(B20=\"Sa\",B20=\"So\"),2,IF($K$9=1,SUMIFS($R$4:$R$8,$S$4:$S$8,B20),IF(AND($K$9=2,A20<15),SUMIFS($R$4:$R$8,$S$4:$S$8,B20),IF(AND($K$9=2,A20>14),SUMIFS($R$12:$R$16,$S$12:$S$16,B20),IF(AND($K$9=3,A20>14),SUMIFS($R$12:$R$16,$S$12:$S$16,B20),IF(AND($K$9=3,A20<15),SUMIFS($R$4:$R$8,$S$4:$S$8,B20),1))))))))","v":1},null,null,null,"","",{"$f":"IF($K$9>0,IF(SUM($K$11:$K20,$I$6)<0,TEXT(-(SUM($K$11:K20,$I$6)/60)/24,\"-[h]:mm\"),TEXT((SUM($K$11:K20,$I$6)/60)/24,\"[h]:mm\")),\"\")","v":""},null,"",0,0,null,{"$f":"IF(OR($O$3=\"\",$N$3=\"\",N20=\"\"),\"\",IF($O$9-SUM($N$11:N19)-N20<0,TEXT(-(($O$9-SUM($N$11:N19)-N20)/24),\"-[hh]:mm\"),TEXT(($O$9-SUM($N$11:N19)-N20)/24,\"[hh]:mm\")))","v":""},null,""]
["","",{"$f":"IF(OR($K$9=0,AND($K$9=2,A21<=14)),1,IF(IF(ISNA(INDEX(X!$W$7:$W$20,MATCH(DATE($D$4,$C$4,A21),X!$AC$7:$AC$20,0))),1,2)=2,2,IF(OR(B21=\"Sa\",B21=\"So\"),2,IF($K$9=1,SUMIFS($R$4:$R$8,$S$4:$S$8,B21),IF(AND($K$9=2,A21<15),SUMIFS($R$4:$R$8,$S$4:$S$8,B21),IF(AND($K$9=2,A21>14),SUMIFS($R$12:$R$16,$S$12:$S$16,B21),IF(AND($K$9=3,A21>14),SUMIFS($R$12:$R$16,$S$12:$S$16,B21),IF(AND($K$9=3,A21<15),SUMIFS($R$4:$R$8,$S$4:$S$8,B21),1))))))))","v":1},null,null,null,"","",{"$f":"IF($K$9>0,IF(SUM($K$11:$K21,$I$6)<0,TEXT(-(SUM($K$11:K21,$I$6)/60)/24,\"-[h]:mm\"),TEXT((SUM($K$11:K21,$I$6)/60)/24,\"[h]:mm\")),\"\")","v":""},null,"",0,0,null,{"$f":"IF(OR($O$3=\"\",$N$3=\"\",N21=\"\"),\"\",IF($O$9-SUM($N$11:N20)-N21<0,TEXT(-(($O$9-SUM($N$11:N20)-N21)/24),\"-[hh]:mm\"),TEXT(($O$9-SUM($N$11:N20)-N21)/24,\"[hh]:mm\")))","v":""},null,""]
["","",{"$f":"IF(OR($K$9=0,AND($K$9=2,A22<=14)),1,IF(IF(ISNA(INDEX(X!$W$7:$W$20,MATCH(DATE($D$4,$C$4,A22),X!$AC$7:$AC$20,0))),1,2)=2,2,IF(OR(B22=\"Sa\",B22=\"So\"),2,IF($K$9=1,SUMIFS($R$4:$R$8,$S$4:$S$8,B22),IF(AND($K$9=2,A22<15),SUMIFS($R$4:$R$8,$S$4:$S$8,B22),IF(AND($K$9=2,A22>14),SUMIFS($R$12:$R$16,$S$12:$S$16,B22),IF(AND($K$9=3,A22>14),SUMIFS($R$12:$R$16,$S$12:$S$16,B22),IF(AND($K$9=3,A22<15),SUMIFS($R$4:$R$8,$S$4:$S$8,B22),1))))))))","v":1},null,null,null,"","",{"$f":"IF($K$9>0,IF(SUM($K$11:$K22,$I$6)<0,TEXT(-(SUM($K$11:K22,$I$6)/60)/24,\"-[h]:mm\"),TEXT((SUM($K$11:K22,$I$6)/60)/24,\"[h]:mm\")),\"\")","v":""},null,"",0,0,null,{"$f":"IF(OR($O$3=\"\",$N$3=\"\",N22=\"\"),\"\",IF($O$9-SUM($N$11:N21)-N22<0,TEXT(-(($O$9-SUM($N$11:N21)-N22)/24),\"-[hh]:mm\"),TEXT(($O$9-SUM($N$11:N21)-N22)/24,\"[hh]:mm\")))","v":""},null,""]
["","",{"$f":"IF(OR($K$9=0,AND($K$9=2,A23<=14)),1,IF(IF(ISNA(INDEX(X!$W$7:$W$20,MATCH(DATE($D$4,$C$4,A23),X!$AC$7:$AC$20,0))),1,2)=2,2,IF(OR(B23=\"Sa\",B23=\"So\"),2,IF($K$9=1,SUMIFS($R$4:$R$8,$S$4:$S$8,B23),IF(AND($K$9=2,A23<15),SUMIFS($R$4:$R$8,$S$4:$S$8,B23),IF(AND($K$9=2,A23>14),SUMIFS($R$12:$R$16,$S$12:$S$16,B23),IF(AND($K$9=3,A23>14),SUMIFS($R$12:$R$16,$S$12:$S$16,B23),IF(AND($K$9=3,A23<15),SUMIFS($R$4:$R$8,$S$4:$S$8,B23),1))))))))","v":1},null,null,null,"","",{"$f":"IF($K$9>0,IF(SUM($K$11:$K23,$I$6)<0,TEXT(-(SUM($K$11:K23,$I$6)/60)/24,\"-[h]:mm\"),TEXT((SUM($K$11:K23,$I$6)/60)/24,\"[h]:mm\")),\"\")","v":""},null,"",0,0,null,{"$f":"IF(OR($O$3=\"\",$N$3=\"\",N23=\"\"),\"\",IF($O$9-SUM($N$11:N22)-N23<0,TEXT(-(($O$9-SUM($N$11:N22)-N23)/24),\"-[hh]:mm\"),TEXT(($O$9-SUM($N$11:N22)-N23)/24,\"[hh]:mm\")))","v":""},null,""]
["","",{"$f":"IF(OR($K$9=0,AND($K$9=2,A24<=14)),1,IF(IF(ISNA(INDEX(X!$W$7:$W$20,MATCH(DATE($D$4,$C$4,A24),X!$AC$7:$AC$20,0))),1,2)=2,2,IF(OR(B24=\"Sa\",B24=\"So\"),2,IF($K$9=1,SUMIFS($R$4:$R$8,$S$4:$S$8,B24),IF(AND($K$9=2,A24<15),SUMIFS($R$4:$R$8,$S$4:$S$8,B24),IF(AND($K$9=2,A24>14),SUMIFS($R$12:$R$16,$S$12:$S$16,B24),IF(AND($K$9=3,A24>14),SUMIFS($R$12:$R$16,$S$12:$S$16,B24),IF(AND($K$9=3,A24<15),SUMIFS($R$4:$R$8,$S$4:$S$8,B24),1))))))))","v":1},null,null,null,"","",{"$f":"IF($K$9>0,IF(SUM($K$11:$K24,$I$6)<0,TEXT(-(SUM($K$11:K24,$I$6)/60)/24,\"-[h]:mm\"),TEXT((SUM($K$11:K24,$I$6)/60)/24,\"[h]:mm\")),\"\")","v":""},null,"",0,0,null,{"$f":"IF(OR($O$3=\"\",$N$3=\"\",N24=\"\"),\"\",IF($O$9-SUM($N$11:N23)-N24<0,TEXT(-(($O$9-SUM($N$11:N23)-N24)/24),\"-[hh]:mm\"),TEXT(($O$9-SUM($N$11:N23)-N24)/24,\"[hh]:mm\")))","v":""},null,""]
["","",{"$f":"IF(OR($K$9=0,AND($K$9=2,A25<=14)),1,IF(IF(ISNA(INDEX(X!$W$7:$W$20,MATCH(DATE($D$4,$C$4,A25),X!$AC$7:$AC$20,0))),1,2)=2,2,IF(OR(B25=\"Sa\",B25=\"So\"),2,IF($K$9=1,SUMIFS($R$4:$R$8,$S$4:$S$8,B25),IF(AND($K$9=2,A25<15),SUMIFS($R$4:$R$8,$S$4:$S$8,B25),IF(AND($K$9=2,A25>14),SUMIFS($R$12:$R$16,$S$12:$S$16,B25),IF(AND($K$9=3,A25>14),SUMIFS($R$12:$R$16,$S$12:$S$16,B25),IF(AND($K$9=3,A25<15),SUMIFS($R$4:$R$8,$S$4:$S$8,B25),1))))))))","v":1},null,null,null,"","",{"$f":"IF($K$9>0,IF(SUM($K$11:$K25,$I$6)<0,TEXT(-(SUM($K$11:K25,$I$6)/60)/24,\"-[h]:mm\"),TEXT((SUM($K$11:K25,$I$6)/60)/24,\"[h]:mm\")),\"\")","v":""},null,"",0,0,null,{"$f":"IF(OR($O$3=\"\",$N$3=\"\",N25=\"\"),\"\",IF($O$9-SUM($N$11:N24)-N25<0,TEXT(-(($O$9-SUM($N$11:N24)-N25)/24),\"-[hh]:mm\"),TEXT(($O$9-SUM($N$11:N24)-N25)/24,\"[hh]:mm\")))","v":""},null,""]
["","",{"$f":"IF(OR($K$9=0,AND($K$9=2,A26<=14)),1,IF(IF(ISNA(INDEX(X!$W$7:$W$20,MATCH(DATE($D$4,$C$4,A26),X!$AC$7:$AC$20,0))),1,2)=2,2,IF(OR(B26=\"Sa\",B26=\"So\"),2,IF($K$9=1,SUMIFS($R$4:$R$8,$S$4:$S$8,B26),IF(AND($K$9=2,A26<15),SUMIFS($R$4:$R$8,$S$4:$S$8,B26),IF(AND($K$9=2,A26>14),SUMIFS($R$12:$R$16,$S$12:$S$16,B26),IF(AND($K$9=3,A26>14),SUMIFS($R$12:$R$16,$S$12:$S$16,B26),IF(AND($K$9=3,A26<15),SUMIFS($R$4:$R$8,$S$4:$S$8,B26),1))))))))","v":1},null,null,null,"","",{"$f":"IF($K$9>0,IF(SUM($K$11:$K26,$I$6)<0,TEXT(-(SUM($K$11:K26,$I$6)/60)/24,\"-[h]:mm\"),TEXT((SUM($K$11:K26,$I$6)/60)/24,\"[h]:mm\")),\"\")","v":""},null,"",0,0,null,{"$f":"IF(OR($O$3=\"\",$N$3=\"\",N26=\"\"),\"\",IF($O$9-SUM($N$11:N25)-N26<0,TEXT(-(($O$9-SUM($N$11:N25)-N26)/24),\"-[hh]:mm\"),TEXT(($O$9-SUM($N$11:N25)-N26)/24,\"[hh]:mm\")))","v":""},null,""]
["","",{"$f":"IF(OR($K$9=0,AND($K$9=2,A27<=14)),1,IF(IF(ISNA(INDEX(X!$W$7:$W$20,MATCH(DATE($D$4,$C$4,A27),X!$AC$7:$AC$20,0))),1,2)=2,2,IF(OR(B27=\"Sa\",B27=\"So\"),2,IF($K$9=1,SUMIFS($R$4:$R$8,$S$4:$S$8,B27),IF(AND($K$9=2,A27<15),SUMIFS($R$4:$R$8,$S$4:$S$8,B27),IF(AND($K$9=2,A27>14),SUMIFS($R$12:$R$16,$S$12:$S$16,B27),IF(AND($K$9=3,A27>14),SUMIFS($R$12:$R$16,$S$12:$S$16,B27),IF(AND($K$9=3,A27<15),SUMIFS($R$4:$R$8,$S$4:$S$8,B27),1))))))))","v":1},null,null,null,"","",{"$f":"IF($K$9>0,IF(SUM($K$11:$K27,$I$6)<0,TEXT(-(SUM($K$11:K27,$I$6)/60)/24,\"-[h]:mm\"),TEXT((SUM($K$11:K27,$I$6)/60)/24,\"[h]:mm\")),\"\")","v":""},null,"",0,0,null,{"$f":"IF(OR($O$3=\"\",$N$3=\"\",N27=\"\"),\"\",IF($O$9-SUM($N$11:N26)-N27<0,TEXT(-(($O$9-SUM($N$11:N26)-N27)/24),\"-[hh]:mm\"),TEXT(($O$9-SUM($N$11:N26)-N27)/24,\"[hh]:mm\")))","v":""},null,""]
["","",{"$f":"IF(OR($K$9=0,AND($K$9=2,A28<=14)),1,IF(IF(ISNA(INDEX(X!$W$7:$W$20,MATCH(DATE($D$4,$C$4,A28),X!$AC$7:$AC$20,0))),1,2)=2,2,IF(OR(B28=\"Sa\",B28=\"So\"),2,IF($K$9=1,SUMIFS($R$4:$R$8,$S$4:$S$8,B28),IF(AND($K$9=2,A28<15),SUMIFS($R$4:$R$8,$S$4:$S$8,B28),IF(AND($K$9=2,A28>14),SUMIFS($R$12:$R$16,$S$12:$S$16,B28),IF(AND($K$9=3,A28>14),SUMIFS($R$12:$R$16,$S$12:$S$16,B28),IF(AND($K$9=3,A28<15),SUMIFS($R$4:$R$8,$S$4:$S$8,B28),1))))))))","v":1},null,null,null,"","",{"$f":"IF($K$9>0,IF(SUM($K$11:$K28,$I$6)<0,TEXT(-(SUM($K$11:K28,$I$6)/60)/24,\"-[h]:mm\"),TEXT((SUM($K$11:K28,$I$6)/60)/24,\"[h]:mm\")),\"\")","v":""},null,"",0,0,null,{"$f":"IF(OR($O$3=\"\",$N$3=\"\",N28=\"\"),\"\",IF($O$9-SUM($N$11:N27)-N28<0,TEXT(-(($O$9-SUM($N$11:N27)-N28)/24),\"-[hh]:mm\"),TEXT(($O$9-SUM($N$11:N27)-N28)/24,\"[hh]:mm\")))","v":""},null,""]
["","",{"$f":"IF(OR($K$9=0,AND($K$9=2,A29<=14)),1,IF(IF(ISNA(INDEX(X!$W$7:$W$20,MATCH(DATE($D$4,$C$4,A29),X!$AC$7:$AC$20,0))),1,2)=2,2,IF(OR(B29=\"Sa\",B29=\"So\"),2,IF($K$9=1,SUMIFS($R$4:$R$8,$S$4:$S$8,B29),IF(AND($K$9=2,A29<15),SUMIFS($R$4:$R$8,$S$4:$S$8,B29),IF(AND($K$9=2,A29>14),SUMIFS($R$12:$R$16,$S$12:$S$16,B29),IF(AND($K$9=3,A29>14),SUMIFS($R$12:$R$16,$S$12:$S$16,B29),IF(AND($K$9=3,A29<15),SUMIFS($R$4:$R$8,$S$4:$S$8,B29),1))))))))","v":1},null,null,null,"","",{"$f":"IF($K$9>0,IF(SUM($K$11:$K29,$I$6)<0,TEXT(-(SUM($K$11:K29,$I$6)/60)/24,\"-[h]:mm\"),TEXT((SUM($K$11:K29,$I$6)/60)/24,\"[h]:mm\")),\"\")","v":""},null,"",0,0,null,{"$f":"IF(OR($O$3=\"\",$N$3=\"\",N29=\"\"),\"\",IF($O$9-SUM($N$11:N28)-N29<0,TEXT(-(($O$9-SUM($N$11:N28)-N29)/24),\"-[hh]:mm\"),TEXT(($O$9-SUM($N$11:N28)-N29)/24,\"[hh]:mm\")))","v":""},null,""]
["","",{"$f":"IF(OR($K$9=0,AND($K$9=2,A30<=14)),1,IF(IF(ISNA(INDEX(X!$W$7:$W$20,MATCH(DATE($D$4,$C$4,A30),X!$AC$7:$AC$20,0))),1,2)=2,2,IF(OR(B30=\"Sa\",B30=\"So\"),2,IF($K$9=1,SUMIFS($R$4:$R$8,$S$4:$S$8,B30),IF(AND($K$9=2,A30<15),SUMIFS($R$4:$R$8,$S$4:$S$8,B30),IF(AND($K$9=2,A30>14),SUMIFS($R$12:$R$16,$S$12:$S$16,B30),IF(AND($K$9=3,A30>14),SUMIFS($R$12:$R$16,$S$12:$S$16,B30),IF(AND($K$9=3,A30<15),SUMIFS($R$4:$R$8,$S$4:$S$8,B30),1))))))))","v":1},null,null,null,"","",{"$f":"IF($K$9>0,IF(SUM($K$11:$K30,$I$6)<0,TEXT(-(SUM($K$11:K30,$I$6)/60)/24,\"-[h]:mm\"),TEXT((SUM($K$11:K30,$I$6)/60)/24,\"[h]:mm\")),\"\")","v":""},null,"",0,0,null,{"$f":"IF(OR($O$3=\"\",$N$3=\"\",N30=\"\"),\"\",IF($O$9-SUM($N$11:N29)-N30<0,TEXT(-(($O$9-SUM($N$11:N29)-N30)/24),\"-[hh]:mm\"),TEXT(($O$9-SUM($N$11:N29)-N30)/24,\"[hh]:mm\")))","v":""},null,""]
["","",{"$f":"IF(OR($K$9=0,AND($K$9=2,A31<=14)),1,IF(IF(ISNA(INDEX(X!$W$7:$W$20,MATCH(DATE($D$4,$C$4,A31),X!$AC$7:$AC$20,0))),1,2)=2,2,IF(OR(B31=\"Sa\",B31=\"So\"),2,IF($K$9=1,SUMIFS($R$4:$R$8,$S$4:$S$8,B31),IF(AND($K$9=2,A31<15),SUMIFS($R$4:$R$8,$S$4:$S$8,B31),IF(AND($K$9=2,A31>14),SUMIFS($R$12:$R$16,$S$12:$S$16,B31),IF(AND($K$9=3,A31>14),SUMIFS($R$12:$R$16,$S$12:$S$16,B31),IF(AND($K$9=3,A31<15),SUMIFS($R$4:$R$8,$S$4:$S$8,B31),1))))))))","v":1},null,null,null,"","",{"$f":"IF($K$9>0,IF(SUM($K$11:$K31,$I$6)<0,TEXT(-(SUM($K$11:K31,$I$6)/60)/24,\"-[h]:mm\"),TEXT((SUM($K$11:K31,$I$6)/60)/24,\"[h]:mm\")),\"\")","v":""},null,"",0,0,null,{"$f":"IF(OR($O$3=\"\",$N$3=\"\",N31=\"\"),\"\",IF($O$9-SUM($N$11:N30)-N31<0,TEXT(-(($O$9-SUM($N$11:N30)-N31)/24),\"-[hh]:mm\"),TEXT(($O$9-SUM($N$11:N30)-N31)/24,\"[hh]:mm\")))","v":""},null,""]
["","",{"$f":"IF(OR($K$9=0,AND($K$9=2,A32<=14)),1,IF(IF(ISNA(INDEX(X!$W$7:$W$20,MATCH(DATE($D$4,$C$4,A32),X!$AC$7:$AC$20,0))),1,2)=2,2,IF(OR(B32=\"Sa\",B32=\"So\"),2,IF($K$9=1,SUMIFS($R$4:$R$8,$S$4:$S$8,B32),IF(AND($K$9=2,A32<15),SUMIFS($R$4:$R$8,$S$4:$S$8,B32),IF(AND($K$9=2,A32>14),SUMIFS($R$12:$R$16,$S$12:$S$16,B32),IF(AND($K$9=3,A32>14),SUMIFS($R$12:$R$16,$S$12:$S$16,B32),IF(AND($K$9=3,A32<15),SUMIFS($R$4:$R$8,$S$4:$S$8,B32),1))))))))","v":1},null,null,null,"","",{"$f":"IF($K$9>0,IF(SUM($K$11:$K32,$I$6)<0,TEXT(-(SUM($K$11:K32,$I$6)/60)/24,\"-[h]:mm\"),TEXT((SUM($K$11:K32,$I$6)/60)/24,\"[h]:mm\")),\"\")","v":""},null,"",0,0,null,{"$f":"IF(OR($O$3=\"\",$N$3=\"\",N32=\"\"),\"\",IF($O$9-SUM($N$11:N31)-N32<0,TEXT(-(($O$9-SUM($N$11:N31)-N32)/24),\"-[hh]:mm\"),TEXT(($O$9-SUM($N$11:N31)-N32)/24,\"[hh]:mm\")))","v":""},null,""]
["","",{"$f":"IF(OR($K$9=0,AND($K$9=2,A33<=14)),1,IF(IF(ISNA(INDEX(X!$W$7:$W$20,MATCH(DATE($D$4,$C$4,A33),X!$AC$7:$AC$20,0))),1,2)=2,2,IF(OR(B33=\"Sa\",B33=\"So\"),2,IF($K$9=1,SUMIFS($R$4:$R$8,$S$4:$S$8,B33),IF(AND($K$9=2,A33<15),SUMIFS($R$4:$R$8,$S$4:$S$8,B33),IF(AND($K$9=2,A33>14),SUMIFS($R$12:$R$16,$S$12:$S$16,B33),IF(AND($K$9=3,A33>14),SUMIFS($R$12:$R$16,$S$12:$S$16,B33),IF(AND($K$9=3,A33<15),SUMIFS($R$4:$R$8,$S$4:$S$8,B33),1))))))))","v":1},null,null,null,"","",{"$f":"IF($K$9>0,IF(SUM($K$11:$K33,$I$6)<0,TEXT(-(SUM($K$11:K33,$I$6)/60)/24,\"-[h]:mm\"),TEXT((SUM($K$11:K33,$I$6)/60)/24,\"[h]:mm\")),\"\")","v":""},null,"",0,0,null,{"$f":"IF(OR($O$3=\"\",$N$3=\"\",N33=\"\"),\"\",IF($O$9-SUM($N$11:N32)-N33<0,TEXT(-(($O$9-SUM($N$11:N32)-N33)/24),\"-[hh]:mm\"),TEXT(($O$9-SUM($N$11:N32)-N33)/24,\"[hh]:mm\")))","v":""},null,""]
["","",{"$f":"IF(OR($K$9=0,AND($K$9=2,A34<=14)),1,IF(IF(ISNA(INDEX(X!$W$7:$W$20,MATCH(DATE($D$4,$C$4,A34),X!$AC$7:$AC$20,0))),1,2)=2,2,IF(OR(B34=\"Sa\",B34=\"So\"),2,IF($K$9=1,SUMIFS($R$4:$R$8,$S$4:$S$8,B34),IF(AND($K$9=2,A34<15),SUMIFS($R$4:$R$8,$S$4:$S$8,B34),IF(AND($K$9=2,A34>14),SUMIFS($R$12:$R$16,$S$12:$S$16,B34),IF(AND($K$9=3,A34>14),SUMIFS($R$12:$R$16,$S$12:$S$16,B34),IF(AND($K$9=3,A34<15),SUMIFS($R$4:$R$8,$S$4:$S$8,B34),1))))))))","v":1},null,null,null,"","",{"$f":"IF($K$9>0,IF(SUM($K$11:$K34,$I$6)<0,TEXT(-(SUM($K$11:K34,$I$6)/60)/24,\"-[h]:mm\"),TEXT((SUM($K$11:K34,$I$6)/60)/24,\"[h]:mm\")),\"\")","v":""},null,"",0,0,null,{"$f":"IF(OR($O$3=\"\",$N$3=\"\",N34=\"\"),\"\",IF($O$9-SUM($N$11:N33)-N34<0,TEXT(-(($O$9-SUM($N$11:N33)-N34)/24),\"-[hh]:mm\"),TEXT(($O$9-SUM($N$11:N33)-N34)/24,\"[hh]:mm\")))","v":""},null,""]
["","",{"$f":"IF(OR($K$9=0,AND($K$9=2,A35<=14)),1,IF(IF(ISNA(INDEX(X!$W$7:$W$20,MATCH(DATE($D$4,$C$4,A35),X!$AC$7:$AC$20,0))),1,2)=2,2,IF(OR(B35=\"Sa\",B35=\"So\"),2,IF($K$9=1,SUMIFS($R$4:$R$8,$S$4:$S$8,B35),IF(AND($K$9=2,A35<15),SUMIFS($R$4:$R$8,$S$4:$S$8,B35),IF(AND($K$9=2,A35>14),SUMIFS($R$12:$R$16,$S$12:$S$16,B35),IF(AND($K$9=3,A35>14),SUMIFS($R$12:$R$16,$S$12:$S$16,B35),IF(AND($K$9=3,A35<15),SUMIFS($R$4:$R$8,$S$4:$S$8,B35),1))))))))","v":1},null,null,null,"","",{"$f":"IF($K$9>0,IF(SUM($K$11:$K35,$I$6)<0,TEXT(-(SUM($K$11:K35,$I$6)/60)/24,\"-[h]:mm\"),TEXT((SUM($K$11:K35,$I$6)/60)/24,\"[h]:mm\")),\"\")","v":""},null,"",0,0,null,{"$f":"IF(OR($O$3=\"\",$N$3=\"\",N35=\"\"),\"\",IF($O$9-SUM($N$11:N34)-N35<0,TEXT(-(($O$9-SUM($N$11:N34)-N35)/24),\"-[hh]:mm\"),TEXT(($O$9-SUM($N$11:N34)-N35)/24,\"[hh]:mm\")))","v":""},null,""]
["","",{"$f":"IF(OR($K$9=0,AND($K$9=2,A36<=14)),1,IF(IF(ISNA(INDEX(X!$W$7:$W$20,MATCH(DATE($D$4,$C$4,A36),X!$AC$7:$AC$20,0))),1,2)=2,2,IF(OR(B36=\"Sa\",B36=\"So\"),2,IF($K$9=1,SUMIFS($R$4:$R$8,$S$4:$S$8,B36),IF(AND($K$9=2,A36<15),SUMIFS($R$4:$R$8,$S$4:$S$8,B36),IF(AND($K$9=2,A36>14),SUMIFS($R$12:$R$16,$S$12:$S$16,B36),IF(AND($K$9=3,A36>14),SUMIFS($R$12:$R$16,$S$12:$S$16,B36),IF(AND($K$9=3,A36<15),SUMIFS($R$4:$R$8,$S$4:$S$8,B36),1))))))))","v":1},null,null,null,"","",{"$f":"IF($K$9>0,IF(SUM($K$11:$K36,$I$6)<0,TEXT(-(SUM($K$11:K36,$I$6)/60)/24,\"-[h]:mm\"),TEXT((SUM($K$11:K36,$I$6)/60)/24,\"[h]:mm\")),\"\")","v":""},null,"",0,0,null,{"$f":"IF(OR($O$3=\"\",$N$3=\"\",N36=\"\"),\"\",IF($O$9-SUM($N$11:N35)-N36<0,TEXT(-(($O$9-SUM($N$11:N35)-N36)/24),\"-[hh]:mm\"),TEXT(($O$9-SUM($N$11:N35)-N36)/24,\"[hh]:mm\")))","v":""},null,""]
["","",{"$f":"IF(OR($K$9=0,AND($K$9=2,A37<=14)),1,IF(IF(ISNA(INDEX(X!$W$7:$W$20,MATCH(DATE($D$4,$C$4,A37),X!$AC$7:$AC$20,0))),1,2)=2,2,IF(OR(B37=\"Sa\",B37=\"So\"),2,IF($K$9=1,SUMIFS($R$4:$R$8,$S$4:$S$8,B37),IF(AND($K$9=2,A37<15),SUMIFS($R$4:$R$8,$S$4:$S$8,B37),IF(AND($K$9=2,A37>14),SUMIFS($R$12:$R$16,$S$12:$S$16,B37),IF(AND($K$9=3,A37>14),SUMIFS($R$12:$R$16,$S$12:$S$16,B37),IF(AND($K$9=3,A37<15),SUMIFS($R$4:$R$8,$S$4:$S$8,B37),1))))))))","v":1},null,null,null,"","",{"$f":"IF($K$9>0,IF(SUM($K$11:$K37,$I$6)<0,TEXT(-(SUM($K$11:K37,$I$6)/60)/24,\"-[h]:mm\"),TEXT((SUM($K$11:K37,$I$6)/60)/24,\"[h]:mm\")),\"\")","v":""},null,"",0,0,null,{"$f":"IF(OR($O$3=\"\",$N$3=\"\",N37=\"\"),\"\",IF($O$9-SUM($N$11:N36)-N37<0,TEXT(-(($O$9-SUM($N$11:N36)-N37)/24),\"-[hh]:mm\"),TEXT(($O$9-SUM($N$11:N36)-N37)/24,\"[hh]:mm\")))","v":""},null,""]
["","",{"$f":"IF(OR($K$9=0,AND($K$9=2,A38<=14)),1,IF(IF(ISNA(INDEX(X!$W$7:$W$20,MATCH(DATE($D$4,$C$4,A38),X!$AC$7:$AC$20,0))),1,2)=2,2,IF(OR(B38=\"Sa\",B38=\"So\"),2,IF($K$9=1,SUMIFS($R$4:$R$8,$S$4:$S$8,B38),IF(AND($K$9=2,A38<15),SUMIFS($R$4:$R$8,$S$4:$S$8,B38),IF(AND($K$9=2,A38>14),SUMIFS($R$12:$R$16,$S$12:$S$16,B38),IF(AND($K$9=3,A38>14),SUMIFS($R$12:$R$16,$S$12:$S$16,B38),IF(AND($K$9=3,A38<15),SUMIFS($R$4:$R$8,$S$4:$S$8,B38),1))))))))","v":1},null,null,null,"","",{"$f":"IF($K$9>0,IF(SUM($K$11:$K38,$I$6)<0,TEXT(-(SUM($K$11:K38,$I$6)/60)/24,\"-[h]:mm\"),TEXT((SUM($K$11:K38,$I$6)/60)/24,\"[h]:mm\")),\"\")","v":""},null,"",0,0,null,{"$f":"IF(OR($O$3=\"\",$N$3=\"\",N38=\"\"),\"\",IF($O$9-SUM($N$11:N37)-N38<0,TEXT(-(($O$9-SUM($N$11:N37)-N38)/24),\"-[hh]:mm\"),TEXT(($O$9-SUM($N$11:N37)-N38)/24,\"[hh]:mm\")))","v":""},null,""]
["",{"$f":"IF(OR(A39=\"\",$D$4=\"\"),\"\",TEXT(DATE($D$4,$C$4,A39),\"ttt\"))","v":""},{"$f":"IF(OR($K$9=0,AND($K$9=2,A39<=14)),1,IF(IF(ISNA(INDEX(X!$W$7:$W$20,MATCH(DATE($D$4,$C$4,A39),X!$AC$7:$AC$20,0))),1,2)=2,2,IF(OR(B39=\"Sa\",B39=\"So\"),2,IF($K$9=1,SUMIFS($R$4:$R$8,$S$4:$S$8,B39),IF(AND($K$9=2,A39<15),SUMIFS($R$4:$R$8,$S$4:$S$8,B39),IF(AND($K$9=2,A39>14),SUMIFS($R$12:$R$16,$S$12:$S$16,B39),IF(AND($K$9=3,A39>14),SUMIFS($R$12:$R$16,$S$12:$S$16,B39),IF(AND($K$9=3,A39<15),SUMIFS($R$4:$R$8,$S$4:$S$8,B39),1))))))))","v":1},null,null,null,"","",{"$f":"IF($K$9>0,IF(SUM($K$11:$K39,$I$6)<0,TEXT(-(SUM($K$11:K39,$I$6)/60)/24,\"-[h]:mm\"),TEXT((SUM($K$11:K39,$I$6)/60)/24,\"[h]:mm\")),\"\")","v":""},null,"",0,0,null,{"$f":"IF(OR($O$3=\"\",$N$3=\"\",N39=\"\"),\"\",IF($O$9-SUM($N$11:N38)-N39<0,TEXT(-(($O$9-SUM($N$11:N38)-N39)/24),\"-[hh]:mm\"),TEXT(($O$9-SUM($N$11:N38)-N39)/24,\"[hh]:mm\")))","v":""},null,""]
["",{"$f":"IF(OR(A40=\"\",$D$4=\"\"),\"\",TEXT(DATE($D$4,$C$4,A40),\"ttt\"))","v":""},{"$f":"IF(OR($K$9=0,AND($K$9=2,A40<=14)),1,IF(IF(ISNA(INDEX(X!$W$7:$W$20,MATCH(DATE($D$4,$C$4,A40),X!$AC$7:$AC$20,0))),1,2)=2,2,IF(OR(B40=\"Sa\",B40=\"So\"),2,IF($K$9=1,SUMIFS($R$4:$R$8,$S$4:$S$8,B40),IF(AND($K$9=2,A40<15),SUMIFS($R$4:$R$8,$S$4:$S$8,B40),IF(AND($K$9=2,A40>14),SUMIFS($R$12:$R$16,$S$12:$S$16,B40),IF(AND($K$9=3,A40>14),SUMIFS($R$12:$R$16,$S$12:$S$16,B40),IF(AND($K$9=3,A40<15),SUMIFS($R$4:$R$8,$S$4:$S$8,B40),1))))))))","v":1},null,null,null,"","",{"$f":"IF($K$9>0,IF(SUM($K$11:$K40,$I$6)<0,TEXT(-(SUM($K$11:K40,$I$6)/60)/24,\"-[h]:mm\"),TEXT((SUM($K$11:K40,$I$6)/60)/24,\"[h]:mm\")),\"\")","v":""},null,"",0,0,null,{"$f":"IF(OR($O$3=\"\",$N$3=\"\",N40=\"\"),\"\",IF($O$9-SUM($N$11:N39)-N40<0,TEXT(-(($O$9-SUM($N$11:N39)-N40)/24),\"-[hh]:mm\"),TEXT(($O$9-SUM($N$11:N39)-N40)/24,\"[hh]:mm\")))","v":""},null,""]
["","",{"$f":"IF(OR($K$9=0,AND($K$9=2,A41<=14)),1,IF(IF(ISNA(INDEX(X!$W$7:$W$20,MATCH(DATE($D$4,$C$4,A41),X!$AC$7:$AC$20,0))),1,2)=2,2,IF(OR(B41=\"Sa\",B41=\"So\"),2,IF($K$9=1,SUMIFS($R$4:$R$8,$S$4:$S$8,B41),IF(AND($K$9=2,A41<15),SUMIFS($R$4:$R$8,$S$4:$S$8,B41),IF(AND($K$9=2,A41>14),SUMIFS($R$12:$R$16,$S$12:$S$16,B41),IF(AND($K$9=3,A41>14),SUMIFS($R$12:$R$16,$S$12:$S$16,B41),IF(AND($K$9=3,A41<15),SUMIFS($R$4:$R$8,$S$4:$S$8,B41),1))))))))","v":1},null,null,null,"","",{"$f":"IF($K$9>0,IF(SUM($K$11:$K41,$I$6)<0,TEXT(-(SUM($K$11:K41,$I$6)/60)/24,\"-[h]:mm\"),TEXT((SUM($K$11:K41,$I$6)/60)/24,\"[h]:mm\")),\"\")","v":""},null,"",0,0,null,{"$f":"IF(OR($O$3=\"\",$N$3=\"\",N41=\"\"),\"\",IF($O$9-SUM($N$11:N40)-N41<0,TEXT(-(($O$9-SUM($N$11:N40)-N41)/24),\"-[hh]:mm\"),TEXT(($O$9-SUM($N$11:N40)-N41)/24,\"[hh]:mm\")))","v":""},null,""]
[null,null,null,null,null,null,{"$f":"L42+K42","v":0},{"$f":"K42","v":0},null,null,{"$f":"SUM(K11:K41)","v":0},{"$f":"-SUM(L11:L41)","v":0},{"$f":"M41","v":0},{"$f":"SUM(N11:N41)*60","v":0},null,null,{"$f":"IF((G42/60)<0,TEXT(-((G42/60)/24),\"-[hh]:mm\"),TEXT((G42/60)/24,\"[hh]:mm\"))","v":"00:00"}]
[{"$f":"IF(G4=\"\",\"\",\"Ergebnis\")","v":""},null,null,null,null,null,{"$f":"IF(G4=\"\",0,IF(((G42-N42)/60)<0,TEXT(-(((G42-N42)/60)/24),\"-[hh]:mm\"),TEXT(((G42-N42)/60)/24,\"[hh]:mm\")))","v":0},{"$f":"IF(G4=0,\"\",IF(H42<0,TEXT(-((H42/60)/24),\"-[hh]:mm\"),IF((H42/60)>24,TEXT((((H42/60)-24)/24)+(24/24),\"[hh]:mm\"),(H42/60)/24)))","v":0},{"$f":"IF($K$9>0,IF(SUM(I6,K43)<0,TEXT(-(SUM(I6,K43)/60)/24,\"-[h]:mm\"),TEXT((SUM(I6,K43)/60)/24,\"[h]:mm\")),\"\")","v":""},null,{"$f":"IF(L42<>L43,G42-L43,K42)","v":0},{"$f":"IF(AND(K9=1,SUM(U4:U8)<>H9),((H9/5)*COUNTIFS(C11:C41,\"<>\"&2,F11:F41,\"\"))*60,IF(AND(K9=2,SUM(U12:U16)<>I9),((I9/5)*COUNTIFS(C11:C41,\"<>\"&2,F11:F41,\"\"))*60,IF(AND(K9=3,OR(SUM(U4:U8)<>H9,SUM(U12:U16)<>I9)),SUM(IF(SUM(U4:U8)<>H9,((H9/5)*COUNTIFS(C11:C41,\"<>\"&2,A11:A41,\"<\"&15,F11:F41,\"\"))*60,-SUMIFS(L11:L41,A11:A41,\"<\"&15,F11:F41,\"\")),IF(SUM(U12:U16)<>I9,((I9/5)*COUNTIFS(C11:C41,\"<>\"&2,A11:A41,\">\"&14,F11:F41,\"\"))*60,-SUMIFS(L11:L41,A11:A41,\">\"&14,F11:F41,\"\"))),-SUM(L11:L41))))","v":0},null,{"$f":"IF(N42<0,TEXT(-((N42/60)/24),\"-[hh]:mm\"),TEXT((N42/60)/24,\"[hh]:mm\"))","v":"00:00"},{"$f":"IF(O9-SUM(N11:N41)<0,TEXT(-(O9-SUM(N11:N41))/24,\"-[h]:mm\"),TEXT((O9-SUM(N11:N41))/24,\"[h]:mm\"))","v":{"$error":"#VALUE!"}},null,{"$f":"Q42","v":"00:00"}]
[{"$f":"IF(G4=\"\",\"\",\"Saldo / Übertrag:\")","v":""},null,null,null,null,null,null,null,{"$f":"I43","v":""},{"$f":"IF(K42<>K43,\"automatische Nachberechnung der Sollarbeitszeit, da wöchentlicher Stundenumfang nicht eingehalten wurde.\",\"\")","v":""},{"$f":"K43+I6","v":0},"Übertrag"]
[]
[{"$f":"IF(I46=\"\",\"\",\"Korrektur der Stunden\")","v":""},null,null,null,null,null,null,null,{"$f":"IF(K9>0,IF(K42-K43<>0,IF(K43-K42<0,TEXT(-((K43-K42)/60)/24,\"-[h]:mm\"),TEXT(((K43-K42)/60)/24,\"[h]:mm\")),\"\"),\"\")","v":""}]
[]
[]
[]
[]
[]
[]
[]
[]
[]
[]
[{"$f":"D4","v":""},{"$f":"C4","v":8},{"$f":"Uebersicht!A4","v":0},{"$f":"Uebersicht!B4","v":0},{"$f":"L43","v":0},{"$f":"K42","v":0},{"$f":"K43","v":0},{"$f":"M10","v":0},{"$f":"M42","v":0}]

{"sheet":"Sep","index":9,"n_rows":57,"n_cols":22,"rows_kept":57,"cut":false,"hidden":false,"merged":[[8,18,8,19],[9,18,9,20],[16,18,16,19],[42,0,42,5],[3,13,4,15],[5,13,5,15],[6,0,7,4],[6,5,7,5],[6,6,7,7],[6,8,7,8],[6,9,7,9],[6,13,7,15],[3,0,4,1],[3,2,4,2],[3,3,4,4],[3,5,4,5],[43,0,44,7],[43,8,44,8],[43,9,46,9],[45,0,45,7],[1,0,2,8],[3,6,4,9]]}
["Zeiterfassungsbogen für studentische Hilfskräfte | International Office",null,null,null,null,null,null,null,null,null,null,null,null,null,null,null,null,null,null,null,null,"\"nein\" auswählen, wenn keine festen Tage mehr gelten sollen!"]
[{"$f":"IF(Uebersicht!A4=\"\",\"\",CONCATENATE(Uebersicht!B4,\" \",Uebersicht!A4))","v":""}]
[null,null,null,null,null,null,null,null,null,null,null,null,null,{"$f":"INDEX(Uebersicht!AO5:AQ28,MATCH(C4,Uebersicht!AO5:AO28,0),3)","v":0},{"$f":"INDEX(Uebersicht!AO5:AQ28,MATCH(C4+0.5,Uebersicht!AO5:AO28,0),3)","v":0},null,null,null,"Tag","h"]
[{"$f":"IF(D4=\"\",\"\",TEXT(DATE(D4,C4,1),\"MMM\"))","v":""},null,9,{"$f":"Uebersicht!I1","v":""},null,null,{"$f":"IF(INDEX(Uebersicht!AO31:AQ42,MATCH(C4,Uebersicht!AO31:AO43,0),2)=0,\"\",INDEX(Uebersicht!AO31:AQ42,MATCH(C4,Uebersicht!AO31:AO43,0),2))","v":""},null,null,null,null,null,null,{"$f":"INDEX(Uebersicht!AO31:AQ42,MATCH(C4,Uebersicht!AO31:AO43,0),3)","v":0},null,null,null,{"$f":"IF(OR($K$9=2,$K$9=0),1,IF(AND(OR($K$9=1,$K$9=3),OR(SUM($U$4:$U$8)=0,$U$1=\"nein\")),3,IF(AND($U$1=\"\",SUM($U$4:$U$8)>0,U4>=1,OR($K$9=3,$K$9=1)),4,1)))","v":1},"Mo",null,{"$f":"IF(AND(H9=0,I9=0),0,IF(OR($K$9=0,INDIRECT(\"'\"&TEXT(DATE(D4,$C$4-1,1),\"MMM\")&\"'!$U$1\")=\"nein\",$U$1=\"nein\"),0,IF(T4>0,T4,INDEX(Uebersicht!$BA$3:$BE$14,$C$4,MATCH(S4,Uebersicht!$BA$2:$BE$2,0)))))","v":0}]
[null,null,null,null,null,null,null,null,null,null,null,null,null,null,null,null,null,{"$f":"IF(OR($K$9=2,$K$9=0),1,IF(AND(OR($K$9=1,$K$9=3),OR(SUM($U$4:$U$8)=0,$U$1=\"nein\")),3,IF(AND($U$1=\"\",SUM($U$4:$U$8)>0,U5>=1,OR($K$9=3,$K$9=1)),4,1)))","v":1},"Di",null,{"$f":"IF(OR($K$9=0,INDIRECT(\"'\"&TEXT(DATE(D5,$C$4-1,1),\"MMM\")&\"'!$U$1\")=\"nein\",$U$1=\"nein\"),0,IF(T5>0,T5,INDEX(Uebersicht!$BA$3:$BE$14,$C$4,MATCH(S5,Uebersicht!$BA$2:$BE$2,0))))","v":0}]
[null,null,{"$f":"DAY(DATE(D4,C4+1,1)-1)","v":{"$error":"#VALUE!"}},null,null,null,null,{"$f":"IF(N4=0,\"\",\"Arbeitsgebiet 1\")","v":""},{"$f":"IF(AND(I9=0,H9=0),0,IF(C4-1=0,Uebersicht!G4,INDIRECT(\"'\"&TEXT(DATE(D4,C4-1,1),\"MMM\")&\"'!K44\")))","v":0},null,"nein",null,null,{"$f":"IF(N4=\"\",\"\",\"Arbeitsgebiet 2\")","v":"Arbeitsgebiet 2"},null,null,null,{"$f":"IF(OR($K$9=2,$K$9=0),1,IF(AND(OR($K$9=1,$K$9=3),OR(SUM($U$4:$U$8)=0,$U$1=\"nein\")),3,IF(AND($U$1=\"\",SUM($U$4:$U$8)>0,U6>=1,OR($K$9=3,$K$9=1)),4,1)))","v":1},"Mi",null,{"$f":"IF(OR($K$9=0,INDIRECT(\"'\"&TEXT(DATE(D6,$C$4-1,1),\"MMM\")&\"'!$U$1\")=\"nein\",$U$1=\"nein\"),0,IF(T6>0,T6,INDEX(Uebersicht!$BA$3:$BE$14,$C$4,MATCH(S6,Uebersicht!$BA$2:$BE$2,0))))","v":0}]
[{"$f":"IF(AND(H9>0,I9=0),CONCATENATE(H9,\" Wochenarbeitszeit (h)\"),IF(AND(H9=0,I9>0),CONCATENATE(I9,\" Wochenarbeitszeit (h)\"),IF(AND(H9>0,I9>0,H9<>I9),CONCATENATE(H9,\" h, ab 15. \",TEXT(DATE(D4,C4,1),\"MMMM\"),\" \",I9,\"h\"),\"\")))","v":""},null,null,null,null,{"$f":"IF(G4=\"\",\"\",IF(M42/60>0,TEXT((M42/60)/24,\"[h]:mm\"),0))","v":""},{"$f":"IF(F7=\"\",\"\",\"Urlaubsrest\")","v":""},null,{"$f":"IF(AND(YEAR(TODAY())=D4,MONTH(TODAY())>=C4,K9>0),IF(OR(I6=0,I6=\"\"),0,IF(I6<0,TEXT(-(I6/60)/24,\"-[h]:mm\"),TEXT((I6/60)/24,\"[h]:mm\"))),\"\")","v":""},{"$f":"IF(I7=\"\",\"\",CONCATENATE(\"h Übertrag aus \",IF(C6=1,\"Vorjahr\",\"Vormonat\")))","v":""},"Urlaub",null,null,{"$f":"IF(AND(N3>0,O3=0),CONCATENATE(N3,\" Stunden - Anteil pro Woche\"),IF(AND(N3=0,O3>0),CONCATENATE(O3,\" Stunden - Anteil pro Woche\"),IF(AND(N3>0,O3>0,O3<>N3),CONCATENATE(N3,\" h, ab 15. \",TEXT(DATE(D4,C4,1),\"MMMM\"),\" \",O3,\"h\"),IF(N3=O3,CONCATENATE(N3,\" Stunden - Anteil pro Woche\"),\"\"))))","v":"0 Stunden - Anteil pro Woche"},null,null,null,{"$f":"IF(OR($K$9=2,$K$9=0),1,IF(AND(OR($K$9=1,$K$9=3),OR(SUM($U$4:$U$8)=0,$U$1=\"nein\")),3,IF(AND($U$1=\"\",SUM($U$4:$U$8)>0,U7>=1,OR($K$9=3,$K$9=1)),4,1)))","v":1},"Do",null,{"$f":"IF(OR($K$9=0,INDIRECT(\"'\"&TEXT(DATE(D7,$C$4-1,1),\"MMM\")&\"'!$U$1\")=\"nein\",$U$1=\"nein\"),0,IF(T7>0,T7,INDEX(Uebersicht!$BA$3:$BE$14,$C$4,MATCH(S7,Uebersicht!$BA$2:$BE$2,0))))","v":0}]
[null,null,null,null,null,null,null,null,null,null,"Krank",null,null,null,null,null,null,{"$f":"IF(OR($K$9=2,$K$9=0),1,IF(AND(OR($K$9=1,$K$9=3),OR(SUM($U$4:$U$8)=0,$U$1=\"nein\")),3,IF(AND($U$1=\"\",SUM($U$4:$U$8)>0,U8>=1,OR($K$9=3,$K$9=1)),4,1)))","v":1},"Fr",null,{"$f":"IF(OR($K$9=0,INDIRECT(\"'\"&TEXT(DATE(D8,$C$4-1,1),\"MMM\")&\"'!$U$1\")=\"nein\",$U$1=\"nein\"),0,IF(T8>0,T8,INDEX(Uebersicht!$BA$3:$BE$14,$C$4,MATCH(S8,Uebersicht!$BA$2:$BE$2,0))))","v":0}]
[null,null,null,null,null,null,null,{"$f":"INDEX(Uebersicht!AU3:AW14,C4,2)","v":0},{"$f":"IF(INDEX(Uebersicht!AU3:AW14,C4,3)=H9,0,INDEX(Uebersicht!AU3:AW14,C4,3))","v":0},null,{"$f":"IF(AND(H9>0,I9=0),1,IF(AND(H9=0,I9>0),2,IF(AND(H9=0,I9=0),0,IF(H9<>I9,3,\"\"))))","v":0},null,null,null,{"$f":"IF(OR(N3>0,O3>0),IF(OR(K9=1,K9=2),(IF(K9=1,N3,IF(K9=2,O2,0))/5)*NETWORKDAYS(IF(K9=1,DATE(D4,C4,1),IF(K9=2,DATE(D4,C4,15),0)),IF(OR(K9=1,K9=2),DATE(D4,C4,MAX(A11:A41)),0),COUNTIFS(C11:C41,\"<>\"&2)),IF(K9=3,SUM(IF(N3>0,(N3/5)*NETWORKDAYS(DATE(D4,C4,1),DATE(D4,C4,14),2),0),IF(O3>0,(O3/5)*NETWORKDAYS(DATE(D4,C4,15),DATE(D4,C4,MAX(A11:A41)),2),0)),0)),\"\")","v":""},null,null,null,{"$f":"IF(SUM(U4:U8)=0,\"\",IF(SUM(U4:U8)>H9,\"zu viel!\",IF(SUM(U4:U8)<H9,\"zu wenig!\",\"\")))","v":""},null,{"$f":"IF(OR(U1=\"nein\",SUM(U4:U8)=0),\"ja\",IF(OR(SUM(Uebersicht!C36:C40)>0,SUM(T4:T8)>0,SUM(U4:U8)>0),\"nein\",\"ja\"))","v":"ja"}]
["Tag",null,null,"Beginn","Ende","Urlaub\nKrank","Stunden","Mehr/\nMinder","Saldo\nsummiert","Bemerkungen","Differenz","Soll",{"$f":"IF(AND(I9=0,H9=0),0,IF(C4-1=0,IF(Uebersicht!E8=\"\",0,Uebersicht!E8*60),INDIRECT(\"'\"&TEXT(DATE(D4,C4-1,1),\"MMM\")&\"'!M42\")))","v":0},"Stunden","Rest","Bemerkungen","Gesamt",null,"Änderung im laufenden Monat"]
[1,{"$f":"IF(OR(A11=\"\",$D$4=\"\"),\"\",TEXT(DATE($D$4,$C$4,A11),\"ttt\"))","v":""},{"$f":"IF(OR($K$9=0,AND($K$9=2,A11<=14)),1,IF(IF(ISNA(INDEX(X!$W$7:$W$20,MATCH(DATE($D$4,$C$4,A11),X!$AC$7:$AC$20,0))),1,2)=2,2,IF(OR(B11=\"Sa\",B11=\"So\"),2,IF($K$9=1,SUMIFS($R$4:$R$8,$S$4:$S$8,B11),IF(AND($K$9=2,A11<15),SUMIFS($R$4:$R$8,$S$4:$S$8,B11),IF(AND($K$9=2,A11>14),SUMIFS($R$12:$R$16,$S$12:$S$16,B11),IF(AND($K$9=3,A11>14),SUMIFS($R$12:$R$16,$S$12:$S$16,B11),IF(AND($K$9=3,A11<15),SUMIFS($R$4:$R$8,$S$4:$S$8,B11),1))))))))","v":1},null,null,null,{"$f":"IF(AND(D11=\"\",E11=\"\"),\"\",IF(N11=\"\",IF(((HOUR(E11)*60+MINUTE(E11))-(HOUR(D11)*60+MINUTE(D11)))>360,TEXT(((((HOUR(E11)*60+MINUTE(E11))-(HOUR(D11)*60+MINUTE(D11)))-30)/60)/24,\"[h]:mm\"),TEXT((((HOUR(E11)*60+MINUTE(E11))-(HOUR(D11)*60+MINUTE(D11)))/60)/24,\"[h]:mm\")),IF((((HOUR(E11)*60+MINUTE(E11))-(HOUR(D11)*60+MINUTE(D11)))-N11)>360,TEXT(((((((HOUR(E11)*60+MINUTE(E11))-(HOUR(D11)*60+MINUTE(D11)))-30))/60)-N11)/24,\"[h]:mm\"),TEXT(((((HOUR(E11)*60+MINUTE(E11))-(HOUR(D11)*60+MINUTE(D11)))/60)-N11)/24,\"[h]:mm\"))))","v":""},{"$f":"IF(K11=\"\",\"\",IF(TODAY()<=DATE($D$4,$C$4,A11),0,IF(K11>0,TEXT((K11/60)/24,\"[h]:mm\"),TEXT(-(K11/60)/24,\"-[h]:mm\"))))","v":""},{"$f":"IF($K$9>0,IF(SUM($K$11:$K11,I6)<0,TEXT(-(SUM($K$11:K11,I6)/60)/24,\"-[h]:mm\"),TEXT((SUM($K$11:K11,I6)/60)/24,\"[h]:mm\")),\"\")","v":""},null,{"$f":"IF(F11=\"\",IF(L11<0,L11+IF(G11=\" \",0,IF(((HOUR(E11)*60+MINUTE(E11))-(HOUR(D11)*60+MINUTE(D11)))>360,(HOUR(E11)*60+MINUTE(E11))-(HOUR(D11)*60+MINUTE(D11))-30,(HOUR(E11)*60+MINUTE(E11))-(HOUR(D11)*60+MINUTE(D11)))),IF(Q11=\"\",\"\",(Q11*60)*24)),\"\")","v":""},{"$f":"IF(OR(F11=\"krank\",F11=\"Urlaub\",C11=1,C11=2),0,IF($K$9=1,IF(SUM($U$4:$U$8)=0,$H$9/5,INDEX($S$4:$U$8,MATCH(B11,$S$4:$S$8,0),3)),IF($K$9=2,IF(AND(A11>14,SUM($U$12:$U$16)=0),$I$9/5,INDEX($S$12:$U$16,MATCH(B11,$S$12:$S$16,0),3)),IF($K$9=3,IF(A11<15,IF(SUM($U$4:$U$8)=0,$H$9/5,INDEX($S$4:$U$8,MATCH(B11,$S$4:$S$8,0),3))),IF(A11>14,IF(SUM($U$12:$U$16)=0,$I$9/5,INDEX($S$12:$U$16,MATCH(B11,$S$12:$S$16,0),3))))))*-60)","v":0},{"$f":"M10-(IF(OR(C11=1,C11=2),0,IF(C11=3,IF(AND($K$9=1,F11=\"Urlaub\"),$H$9/5,IF($K$9=2,IF(AND(A11<15,F11=\"Urlaub\"),$I$9/5,IF(AND($K$9=3,A11<15,F11=\"Urlaub\"),$H$9/5,IF(AND($K$9=3,A11>14,F11=\"Urlaub\"),$I$9/5))))),IF(C11=4,IF(AND(F11=\"Urlaub\",$K$9=1),SUMIFS($U$4:$U$8,$S$4:$S$8,B11),IF(AND(F11=\"Urlaub\",$K$9=2,A11>14),SUMIFS($U$12:$U$16,$S$12:$S$16,B11),IF(AND(F11=\"Urlaub\",$K$9=3,A11<15),SUMIFS($U$4:$U$8,$S$4:$S$8,B11),IF(AND(F11=\"Urlaub\",$K$9=3,A11>14),SUMIFS($U$12:$U$16,$S$12:$S$16,B11),0)))))))*60)","v":0},null,{"$f":"IF(OR($O$3=\"\",$N$3=\"\",N11=\"\"),\"\",IF($O$9-SUM($N10:N$11)-N11<0,TEXT(-(($O$9-SUM($N10:N$11)-N11)/24),\"-[hh]:mm\"),TEXT(($O$9-SUM($N10:N$11)-N11)/24,\"[hh]:mm\")))","v":""},null,{"$f":"IF(AND(D11=\"\",E11=\"\"),\"\",IF(((HOUR(E11)*60+MINUTE(E11))-(HOUR(D11)*60+MINUTE(D11)))>360,TEXT(((((HOUR(E11)*60+MINUTE(E11))-(HOUR(D11)*60+MINUTE(D11)))-30)/60)/24,\"[h]:mm\"),TEXT((((HOUR(E11)*60+MINUTE(E11))-(HOUR(D11)*60+MINUTE(D11)))/60)/24,\"[h]:mm\")))","v":""}]
[{"$f":"IF(OR(A11=\"\",$D$4=\"\"),\"\",IF(A11+1<=$C$6,A11+1,\"\"))","v":""},"",{"$f":"IF(OR($K$9=0,AND($K$9=2,A12<=14)),1,IF(IF(ISNA(INDEX(X!$W$7:$W$20,MATCH(DATE($D$4,$C$4,A12),X!$AC$7:$AC$20,0))),1,2)=2,2,IF(OR(B12=\"Sa\",B12=\"So\"),2,IF($K$9=1,SUMIFS($R$4:$R$8,$S$4:$S$8,B12),IF(AND($K$9=2,A12<15),SUMIFS($R$4:$R$8,$S$4:$S$8,B12),IF(AND($K$9=2,A12>14),SUMIFS($R$12:$R$16,$S$12:$S$16,B12),IF(AND($K$9=3,A12>14),SUMIFS($R$12:$R$16,$S$12:$S$16,B12),IF(AND($K$9=3,A12<15),SUMIFS($R$4:$R$8,$S$4:$S$8,B12),1))))))))","v":1},null,null,null,"","",{"$f":"IF($K$9>0,IF(SUM($K$11:$K12,$I$6)<0,TEXT(-(SUM($K$11:K12,$I$6)/60)/24,\"-[h]:mm\"),TEXT((SUM($K$11:K12,$I$6)/60)/24,\"[h]:mm\")),\"\")","v":""},null,{"$f":"IF(F12=\"\",IF(L12<0,L12+IF(G12=\" \",0,IF(((HOUR(E12)*60+MINUTE(E12))-(HOUR(D12)*60+MINUTE(D12)))>360,(HOUR(E12)*60+MINUTE(E12))-(HOUR(D12)*60+MINUTE(D12))-30,(HOUR(E12)*60+MINUTE(E12))-(HOUR(D12)*60+MINUTE(D12)))),IF(Q12=\"\",\"\",(Q12*60)*24)),\"\")","v":""},{"$f":"IF(OR(F12=\"krank\",F12=\"Urlaub\",C12=1,C12=2),0,IF($K$9=1,IF(SUM($U$4:$U$8)=0,$H$9/5,INDEX($S$4:$U$8,MATCH(B12,$S$4:$S$8,0),3)),IF($K$9=2,IF(AND(A12>14,SUM($U$12:$U$16)=0),$I$9/5,INDEX($S$12:$U$16,MATCH(B12,$S$12:$S$16,0),3)),IF($K$9=3,IF(A12<15,IF(SUM($U$4:$U$8)=0,$H$9/5,INDEX($S$4:$U$8,MATCH(B12,$S$4:$S$8,0),3)),IF(SUM($U$12:$U$16)=0,$I$9/5,INDEX($S$12:$U$16,MATCH(B12,$S$12:$S$16,0),3)))))))*-60","v":0},0,null,{"$f":"IF(OR($O$3=\"\",$N$3=\"\",N12=\"\"),\"\",IF($O$9-SUM($N$11:N11)-N12<0,TEXT(-(($O$9-SUM($N$11:N11)-N12)/24),\"-[hh]:mm\"),TEXT(($O$9-SUM($N$11:N11)-N12)/24,\"[hh]:mm\")))","v":""},null,"",{"$f":"IF($K$9=0,1,IF($K$9=1,R4,IF(AND($K$9=3,OR(SUM($U$12:$U$16)=0,$U$1=\"nein\")),3,IF(AND($U$1=\"\",SUM($U$12:$U$16)>0,U12>=1,OR($K$9=3,$K$9=2)),4,1))))","v":1},"Mo",null,{"$f":"IF(AND(I9=0,H9=0),0,IF(OR($K$9=0,INDIRECT(\"'\"&TEXT(DATE(D4,$C$4-1,1),\"MMM\")&\"'!$U$1\")=\"nein\",$U$1=\"nein\"),0,IF(T12>0,T12,INDEX(Uebersicht!$BF$3:$BJ$14,$C$4,MATCH(S12,Uebersicht!$BF$2:$BJ$2,0)))))","v":0}]
[{"$f":"IF(OR(A12=\"\",$D$4=\"\"),\"\",IF(A12+1<=$C$6,A12+1,\"\"))","v":""},"",{"$f":"IF(OR($K$9=0,AND($K$9=2,A13<=14)),1,IF(IF(ISNA(INDEX(X!$W$7:$W$20,MATCH(DATE($D$4,$C$4,A13),X!$AC$7:$AC$20,0))),1,2)=2,2,IF(OR(B13=\"Sa\",B13=\"So\"),2,IF($K$9=1,SUMIFS($R$4:$R$8,$S$4:$S$8,B13),IF(AND($K$9=2,A13<15),SUMIFS($R$4:$R$8,$S$4:$S$8,B13),IF(AND($K$9=2,A13>14),SUMIFS($R$12:$R$16,$S$12:$S$16,B13),IF(AND($K$9=3,A13>14),SUMIFS($R$12:$R$16,$S$12:$S$16,B13),IF(AND($K$9=3,A13<15),SUMIFS($R$4:$R$8,$S$4:$S$8,B13),1))))))))","v":1},null,null,null,"","",{"$f":"IF($K$9>0,IF(SUM($K$11:$K13,$I$6)<0,TEXT(-(SUM($K$11:K13,$I$6)/60)/24,\"-[h]:mm\"),TEXT((SUM($K$11:K13,$I$6)/60)/24,\"[h]:mm\")),\"\")","v":""},null,"",0,0,null,{"$f":"IF(OR($O$3=\"\",$N$3=\"\",N13=\"\"),\"\",IF($O$9-SUM($N$11:N12)-N13<0,TEXT(-(($O$9-SUM($N$11:N12)-N13)/24),\"-[hh]:mm\"),TEXT(($O$9-SUM($N$11:N12)-N13)/24,\"[hh]:mm\")))","v":""},null,"",{"$f":"IF($K$9=0,1,IF($K$9=1,R5,IF(AND($K$9=3,OR(SUM($U$12:$U$16)=0,$U$1=\"nein\")),3,IF(AND($U$1=\"\",SUM($U$12:$U$16)>0,U13>=1,OR($K$9=3,$K$9=2)),4,1))))","v":1},"Di",null,{"$f":"IF(OR($K$9=0,INDIRECT(\"'\"&TEXT(DATE(D5,$C$4-1,1),\"MMM\")&\"'!$U$1\")=\"nein\",$U$1=\"nein\"),0,IF(T13>0,T13,INDEX(Uebersicht!$BF$3:$BJ$14,$C$4,MATCH(S13,Uebersicht!$BF$2:$BJ$2,0))))","v":0}]
["","",{"$f":"IF(OR($K$9=0,AND($K$9=2,A14<=14)),1,IF(IF(ISNA(INDEX(X!$W$7:$W$20,MATCH(DATE($D$4,$C$4,A14),X!$AC$7:$AC$20,0))),1,2)=2,2,IF(OR(B14=\"Sa\",B14=\"So\"),2,IF($K$9=1,SUMIFS($R$4:$R$8,$S$4:$S$8,B14),IF(AND($K$9=2,A14<15),SUMIFS($R$4:$R$8,$S$4:$S$8,B14),IF(AND($K$9=2,A14>14),SUMIFS($R$12:$R$16,$S$12:$S$16,B14),IF(AND($K$9=3,A14>14),SUMIFS($R$12:$R$16,$S$12:$S$16,B14),IF(AND($K$9=3,A14<15),SUMIFS($R$4:$R$8,$S$4:$S$8,B14),1))))))))","v":1},null,null,null,"","",{"$f":"IF($K$9>0,IF(SUM($K$11:$K14,$I$6)<0,TEXT(-(SUM($K$11:K14,$I$6)/60)/24,\"-[h]:mm\"),TEXT((SUM($K$11:K14,$I$6)/60)/24,\"[h]:mm\")),\"\")","v":""},null,"",0,0,null,{"$f":"IF(OR($O$3=\"\",$N$3=\"\",N14=\"\"),\"\",IF($O$9-SUM($N$11:N13)-N14<0,TEXT(-(($O$9-SUM($N$11:N13)-N14)/24),\"-[hh]:mm\"),TEXT(($O$9-SUM($N$11:N13)-N14)/24,\"[hh]:mm\")))","v":""},null,"",{"$f":"IF($K$9=0,1,IF($K$9=1,R6,IF(AND($K$9=3,OR(SUM($U$12:$U$16)=0,$U$1=\"nein\")),3,IF(AND($U$1=\"\",SUM($U$12:$U$16)>0,U14>=1,OR($K$9=3,$K$9=2)),4,1))))","v":1},"Mi",null,{"$f":"IF(OR($K$9=0,INDIRECT(\"'\"&TEXT(DATE(D6,$C$4-1,1),\"MMM\")&\"'!$U$1\")=\"nein\",$U$1=\"nein\"),0,IF(T14>0,T14,INDEX(Uebersicht!$BF$3:$BJ$14,$C$4,MATCH(S14,Uebersicht!$BF$2:$BJ$2,0))))","v":0}]
["","",{"$f":"IF(OR($K$9=0,AND($K$9=2,A15<=14)),1,IF(IF(ISNA(INDEX(X!$W$7:$W$20,MATCH(DATE($D$4,$C$4,A15),X!$AC$7:$AC$20,0))),1,2)=2,2,IF(OR(B15=\"Sa\",B15=\"So\"),2,IF($K$9=1,SUMIFS($R$4:$R$8,$S$4:$S$8,B15),IF(AND($K$9=2,A15<15),SUMIFS($R$4:$R$8,$S$4:$S$8,B15),IF(AND($K$9=2,A15>14),SUMIFS($R$12:$R$16,$S$12:$S$16,B15),IF(AND($K$9=3,A15>14),SUMIFS($R$12:$R$16,$S$12:$S$16,B15),IF(AND($K$9=3,A15<15),SUMIFS($R$4:$R$8,$S$4:$S$8,B15),1))))))))","v":1},null,null,null,"","",{"$f":"IF($K$9>0,IF(SUM($K$11:$K15,$I$6)<0,TEXT(-(SUM($K$11:K15,$I$6)/60)/24,\"-[h]:mm\"),TEXT((SUM($K$11:K15,$I$6)/60)/24,\"[h]:mm\")),\"\")","v":""},null,"",0,0,null,{"$f":"IF(OR($O$3=\"\",$N$3=\"\",N15=\"\"),\"\",IF($O$9-SUM($N$11:N14)-N15<0,TEXT(-(($O$9-SUM($N$11:N14)-N15)/24),\"-[hh]:mm\"),TEXT(($O$9-SUM($N$11:N14)-N15)/24,\"[hh]:mm\")))","v":""},null,"",{"$f":"IF($K$9=0,1,IF($K$9=1,R7,IF(AND($K$9=3,OR(SUM($U$12:$U$16)=0,$U$1=\"nein\")),3,IF(AND($U$1=\"\",SUM($U$12:$U$16)>0,U15>=1,OR($K$9=3,$K$9=2)),4,1))))","v":1},"Do",null,{"$f":"IF(OR($K$9=0,INDIRECT(\"'\"&TEXT(DATE(D7,$C$4-1,1),\"MMM\")&\"'!$U$1\")=\"nein\",$U$1=\"nein\"),0,IF(T15>0,T15,INDEX(Uebersicht!$BF$3:$BJ$14,$C$4,MATCH(S15,Uebersicht!$BF$2:$BJ$2,0))))","v":0}]
["","",{"$f":"IF(OR($K$9=0,AND($K$9=2,A16<=14)),1,IF(IF(ISNA(INDEX(X!$W$7:$W$20,MATCH(DATE($D$4,$C$4,A16),X!$AC$7:$AC$20,0))),1,2)=2,2,IF(OR(B16=\"Sa\",B16=\"So\"),2,IF($K$9=1,SUMIFS($R$4:$R$8,$S$4:$S$8,B16),IF(AND($K$9=2,A16<15),SUMIFS($R$4:$R$8,$S$4:$S$8,B16),IF(AND($K$9=2,A16>14),SUMIFS($R$12:$R$16,$S$12:$S$16,B16),IF(AND($K$9=3,A16>14),SUMIFS($R$12:$R$16,$S$12:$S$16,B16),IF(AND($K$9=3,A16<15),SUMIFS($R$4:$R$8,$S$4:$S$8,B16),1))))))))","v":1},null,null,null,"","",{"$f":"IF($K$9>0,IF(SUM($K$11:$K16,$I$6)<0,TEXT(-(SUM($K$11:K16,$I$6)/60)/24,\"-[h]:mm\"),TEXT((SUM($K$11:K16,$I$6)/60)/24,\"[h]:mm\")),\"\")","v":""},null,"",0,0,null,{"$f":"IF(OR($O$3=\"\",$N$3=\"\",N16=\"\"),\"\",IF($O$9-SUM($N$11:N15)-N16<0,TEXT(-(($O$9-SUM($N$11:N15)-N16)/24),\"-[hh]:mm\"),TEXT(($O$9-SUM($N$11:N15)-N16)/24,\"[hh]:mm\")))","v":""},null,"",{"$f":"IF($K$9=0,1,IF($K$9=1,R8,IF(AND($K$9=3,OR(SUM($U$12:$U$16)=0,$U$1=\"nein\")),3,IF(AND($U$1=\"\",SUM($U$12:$U$16)>0,U16>=1,OR($K$9=3,$K$9=2)),4,1))))","v":1},"Fr",null,{"$f":"IF(OR($K$9=0,INDIRECT(\"'\"&TEXT(DATE(D8,$C$4-1,1),\"MMM\")&\"'!$U$1\")=\"nein\",$U$1=\"nein\"),0,IF(T16>0,T16,INDEX(Uebersicht!$BF$3:$BJ$14,$C$4,MATCH(S16,Uebersicht!$BF$2:$BJ$2,0))))","v":0}]
["","",{"$f":"IF(OR($K$9=0,AND($K$9=2,A17<=14)),1,IF(IF(ISNA(INDEX(X!$W$7:$W$20,MATCH(DATE($D$4,$C$4,A17),X!$AC$7:$AC$20,0))),1,2)=2,2,IF(OR(B17=\"Sa\",B17=\"So\"),2,IF($K$9=1,SUMIFS($R$4:$R$8,$S$4:$S$8,B17),IF(AND($K$9=2,A17<15),SUMIFS($R$4:$R$8,$S$4:$S$8,B17),IF(AND($K$9=2,A17>14),SUMIFS($R$12:$R$16,$S$12:$S$16,B17),IF(AND($K$9=3,A17>14),SUMIFS($R$12:$R$16,$S$12:$S$16,B17),IF(AND($K$9=3,A17<15),SUMIFS($R$4:$R$8,$S$4:$S$8,B17),1))))))))","v":1},null,null,null,"","",{"$f":"IF($K$9>0,IF(SUM($K$11:$K17,$I$6)<0,TEXT(-(SUM($K$11:K17,$I$6)/60)/24,\"-[h]:mm\"),TEXT((SUM($K$11:K17,$I$6)/60)/24,\"[h]:mm\")),\"\")","v":""},null,"",0,0,null,{"$f":"IF(OR($O$3=\"\",$N$3=\"\",N17=\"\"),\"\",IF($O$9-SUM($N$11:N16)-N17<0,TEXT(-(($O$9-SUM($N$11:N16)-N17)/24),\"-[hh]:mm\"),TEXT(($O$9-SUM($N$11:N16)-N17)/24,\"[hh]:mm\")))","v":""},null,"",null,{"$f":"IF(I9=0,\"\",IF(SUM(U12:U16)>I9,\"zu viel!\",IF(SUM(U12:U16)<I9,\"zu wenig!\",\"\")))","v":""},null,{"$f":"IF(OR(U9=\"nein\",SUM(U12:U16)=0),\"ja\",IF(OR(SUM(Uebersicht!C43:C47)>0,SUM(T12:T16)>0,SUM(U12:U16)>0),\"nein\",\"ja\"))","v":"ja"}]
["","",{"$f":"IF(OR($K$9=0,AND($K$9=2,A18<=14)),1,IF(IF(ISNA(INDEX(X!$W$7:$W$20,MATCH(DATE($D$4,$C$4,A18),X!$AC$7:$AC$20,0))),1,2)=2,2,IF(OR(B18=\"Sa\",B18=\"So\"),2,IF($K$9=1,SUMIFS($R$4:$R$8,$S$4:$S$8,B18),IF(AND($K$9=2,A18<15),SUMIFS($R$4:$R$8,$S$4:$S$8,B18),IF(AND($K$9=2,A18>14),SUMIFS($R$12:$R$16,$S$12:$S$16,B18),IF(AND($K$9=3,A18>14),SUMIFS($R$12:$R$16,$S$12:$S$16,B18),IF(AND($K$9=3,A18<15),SUMIFS($R$4:$R$8,$S$4:$S$8,B18),1))))))))","v":1},null,null,null,"","",{"$f":"IF($K$9>0,IF(SUM($K$11:$K18,$I$6)<0,TEXT(-(SUM($K$11:K18,$I$6)/60)/24,\"-[h]:mm\"),TEXT((SUM($K$11:K18,$I$6)/60)/24,\"[h]:mm\")),\"\")","v":""},null,"",0,0,null,{"$f":"IF(OR($O$3=\"\",$N$3=\"\",N18=\"\"),\"\",IF($O$9-SUM($N$11:N17)-N18<0,TEXT(-(($O$9-SUM($N$11:N17)-N18)/24),\"-[hh]:mm\"),TEXT(($O$9-SUM($N$11:N17)-N18)/24,\"[hh]:mm\")))","v":""},null,""]
["","",{"$f":"IF(OR($K$9=0,AND($K$9=2,A19<=14)),1,IF(IF(ISNA(INDEX(X!$W$7:$W$20,MATCH(DATE($D$4,$C$4,A19),X!$AC$7:$AC$20,0))),1,2)=2,2,IF(OR(B19=\"Sa\",B19=\"So\"),2,IF($K$9=1,SUMIFS($R$4:$R$8,$S$4:$S$8,B19),IF(AND($K$9=2,A19<15),SUMIFS($R$4:$R$8,$S$4:$S$8,B19),IF(AND($K$9=2,A19>14),SUMIFS($R$12:$R$16,$S$12:$S$16,B19),IF(AND($K$9=3,A19>14),SUMIFS($R$12:$R$16,$S$12:$S$16,B19),IF(AND($K$9=3,A19<15),SUMIFS($R$4:$R$8,$S$4:$S$8,B19),1))))))))","v":1},null,null,null,"","",{"$f":"IF($K$9>0,IF(SUM($K$11:$K19,$I$6)<0,TEXT(-(SUM($K$11:K19,$I$6)/60)/24,\"-[h]:mm\"),TEXT((SUM($K$11:K19,$I$6)/60)/24,\"[h]:mm\")),\"\")","v":""},null,"",0,0,null,{"$f":"IF(OR($O$3=\"\",$N$3=\"\",N19=\"\"),\"\",IF($O$9-SUM($N$11:N18)-N19<0,TEXT(-(($O$9-SUM($N$11:N18)-N19)/24),\"-[hh]:mm\"),TEXT(($O$9-SUM($N$11:N18)-N19)/24,\"[hh]:mm\")))","v":""},null,""]
["","",{"$f":"IF(OR($K$9=0,AND($K$9=2,A20<=14)),1,IF(IF(ISNA(INDEX(X!$W$7:$W$20,MATCH(DATE($D$4,$C$4,A20),X!$AC$7:$AC$20,0))),1,2)=2,2,IF(OR(B20=\"Sa\",B20=\"So\"),2,IF($K$9=1,SUMIFS($R$4:$R$8,$S$4:$S$8,B20),IF(AND($K$9=2,A20<15),SUMIFS($R$4:$R$8,$S$4:$S$8,B20),IF(AND($K$9=2,A20>14),SUMIFS($R$12:$R$16,$S$12:$S$16,B20),IF(AND($K$9=3,A20>14),SUMIFS($R$12:$R$16,$S$12:$S$16,B20),IF(AND($K$9=3,A20<15),SUMIFS($R$4:$R$8,$S$4:$S$8,B20),1))))))))","v":1},null,null,null,"","",{"$f":"IF($K$9>0,IF(SUM($K$11:$K20,$I$6)<0,TEXT(-(SUM($K$11:K20,$I$6)/60)/24,\"-[h]:mm\"),TEXT((SUM($K$11:K20,$I$6)/60)/24,\"[h]:mm\")),\"\")","v":""},null,"",0,0,null,{"$f":"IF(OR($O$3=\"\",$N$3=\"\",N20=\"\"),\"\",IF($O$9-SUM($N$11:N19)-N20<0,TEXT(-(($O$9-SUM($N$11:N19)-N20)/24),\"-[hh]:mm\"),TEXT(($O$9-SUM($N$11:N19)-N20)/24,\"[hh]:mm\")))","v":""},null,""]
["","",{"$f":"IF(OR($K$9=0,AND($K$9=2,A21<=14)),1,IF(IF(ISNA(INDEX(X!$W$7:$W$20,MATCH(DATE($D$4,$C$4,A21),X!$AC$7:$AC$20,0))),1,2)=2,2,IF(OR(B21=\"Sa\",B21=\"So\"),2,IF($K$9=1,SUMIFS($R$4:$R$8,$S$4:$S$8,B21),IF(AND($K$9=2,A21<15),SUMIFS($R$4:$R$8,$S$4:$S$8,B21),IF(AND($K$9=2,A21>14),SUMIFS($R$12:$R$16,$S$12:$S$16,B21),IF(AND($K$9=3,A21>14),SUMIFS($R$12:$R$16,$S$12:$S$16,B21),IF(AND($K$9=3,A21<15),SUMIFS($R$4:$R$8,$S$4:$S$8,B21),1))))))))","v":1},null,null,null,"","",{"$f":"IF($K$9>0,IF(SUM($K$11:$K21,$I$6)<0,TEXT(-(SUM($K$11:K21,$I$6)/60)/24,\"-[h]:mm\"),TEXT((SUM($K$11:K21,$I$6)/60)/24,\"[h]:mm\")),\"\")","v":""},null,"",0,0,null,{"$f":"IF(OR($O$3=\"\",$N$3=\"\",N21=\"\"),\"\",IF($O$9-SUM($N$11:N20)-N21<0,TEXT(-(($O$9-SUM($N$11:N20)-N21)/24),\"-[hh]:mm\"),TEXT(($O$9-SUM($N$11:N20)-N21)/24,\"[hh]:mm\")))","v":""},null,""]
["","",{"$f":"IF(OR($K$9=0,AND($K$9=2,A22<=14)),1,IF(IF(ISNA(INDEX(X!$W$7:$W$20,MATCH(DATE($D$4,$C$4,A22),X!$AC$7:$AC$20,0))),1,2)=2,2,IF(OR(B22=\"Sa\",B22=\"So\"),2,IF($K$9=1,SUMIFS($R$4:$R$8,$S$4:$S$8,B22),IF(AND($K$9=2,A22<15),SUMIFS($R$4:$R$8,$S$4:$S$8,B22),IF(AND($K$9=2,A22>14),SUMIFS($R$12:$R$16,$S$12:$S$16,B22),IF(AND($K$9=3,A22>14),SUMIFS($R$12:$R$16,$S$12:$S$16,B22),IF(AND($K$9=3,A22<15),SUMIFS($R$4:$R$8,$S$4:$S$8,B22),1))))))))","v":1},null,null,null,"","",{"$f":"IF($K$9>0,IF(SUM($K$11:$K22,$I$6)<0,TEXT(-(SUM($K$11:K22,$I$6)/60)/24,\"-[h]:mm\"),TEXT((SUM($K$11:K22,$I$6)/60)/24,\"[h]:mm\")),\"\")","v":""},null,"",0,0,null,{"$f":"IF(OR($O$3=\"\",$N$3=\"\",N22=\"\"),\"\",IF($O$9-SUM($N$11:N21)-N22<0,TEXT(-(($O$9-SUM($N$11:N21)-N22)/24),\"-[hh]:mm\"),TEXT(($O$9-SUM($N$11:N21)-N22)/24,\"[hh]:mm\")))","v":""},null,""]
["","",{"$f":"IF(OR($K$9=0,AND($K$9=2,A23<=14)),1,IF(IF(ISNA(INDEX(X!$W$7:$W$20,MATCH(DATE($D$4,$C$4,A23),X!$AC$7:$AC$20,0))),1,2)=2,2,IF(OR(B23=\"Sa\",B23=\"So\"),2,IF($K$9=1,SUMIFS($R$4:$R$8,$S$4:$S$8,B23),IF(AND($K$9=2,A23<15),SUMIFS($R$4:$R$8,$S$4:$S$8,B23),IF(AND($K$9=2,A23>14),SUMIFS($R$12:$R$16,$S$12:$S$16,B23),IF(AND($K$9=3,A23>14),SUMIFS($R$12:$R$16,$S$12:$S$16,B23),IF(AND($K$9=3,A23<15),SUMIFS($R$4:$R$8,$S$4:$S$8,B23),1))))))))","v":1},null,null,null,"","",{"$f":"IF($K$9>0,IF(SUM($K$11:$K23,$I$6)<0,TEXT(-(SUM($K$11:K23,$I$6)/60)/24,\"-[h]:mm\"),TEXT((SUM($K$11:K23,$I$6)/60)/24,\"[h]:mm\")),\"\")","v":""},null,"",0,0,null,{"$f":"IF(OR($O$3=\"\",$N$3=\"\",N23=\"\"),\"\",IF($O$9-SUM($N$11:N22)-N23<0,TEXT(-(($O$9-SUM($N$11:N22)-N23)/24),\"-[hh]:mm\"),TEXT(($O$9-SUM($N$11:N22)-N23)/24,\"[hh]:mm\")))","v":""},null,""]
["","",{"$f":"IF(OR($K$9=0,AND($K$9=2,A24<=14)),1,IF(IF(ISNA(INDEX(X!$W$7:$W$20,MATCH(DATE($D$4,$C$4,A24),X!$AC$7:$AC$20,0))),1,2)=2,2,IF(OR(B24=\"Sa\",B24=\"So\"),2,IF($K$9=1,SUMIFS($R$4:$R$8,$S$4:$S$8,B24),IF(AND($K$9=2,A24<15),SUMIFS($R$4:$R$8,$S$4:$S$8,B24),IF(AND($K$9=2,A24>14),SUMIFS($R$12:$R$16,$S$12:$S$16,B24),IF(AND($K$9=3,A24>14),SUMIFS($R$12:$R$16,$S$12:$S$16,B24),IF(AND($K$9=3,A24<15),SUMIFS($R$4:$R$8,$S$4:$S$8,B24),1))))))))","v":1},null,null,null,"","",{"$f":"IF($K$9>0,IF(SUM($K$11:$K24,$I$6)<0,TEXT(-(SUM($K$11:K24,$I$6)/60)/24,\"-[h]:mm\"),TEXT((SUM($K$11:K24,$I$6)/60)/24,\"[h]:mm\")),\"\")","v":""},null,"",0,0,null,{"$f":"IF(OR($O$3=\"\",$N$3=\"\",N24=\"\"),\"\",IF($O$9-SUM($N$11:N23)-N24<0,TEXT(-(($O$9-SUM($N$11:N23)-N24)/24),\"-[hh]:mm\"),TEXT(($O$9-SUM($N$11:N23)-N24)/24,\"[hh]:mm\")))","v":""},null,""]
["","",{"$f":"IF(OR($K$9=0,AND($K$9=2,A25<=14)),1,IF(IF(ISNA(INDEX(X!$W$7:$W$20,MATCH(DATE($D$4,$C$4,A25),X!$AC$7:$AC$20,0))),1,2)=2,2,IF(OR(B25=\"Sa\",B25=\"So\"),2,IF($K$9=1,SUMIFS($R$4:$R$8,$S$4:$S$8,B25),IF(AND($K$9=2,A25<15),SUMIFS($R$4:$R$8,$S$4:$S$8,B25),IF(AND($K$9=2,A25>14),SUMIFS($R$12:$R$16,$S$12:$S$16,B25),IF(AND($K$9=3,A25>14),SUMIFS($R$12:$R$16,$S$12:$S$16,B25),IF(AND($K$9=3,A25<15),SUMIFS($R$4:$R$8,$S$4:$S$8,B25),1))))))))","v":1},null,null,null,"","",{"$f":"IF($K$9>0,IF(SUM($K$11:$K25,$I$6)<0,TEXT(-(SUM($K$11:K25,$I$6)/60)/24,\"-[h]:mm\"),TEXT((SUM($K$11:K25,$I$6)/60)/24,\"[h]:mm\")),\"\")","v":""},null,"",0,0,null,{"$f":"IF(OR($O$3=\"\",$N$3=\"\",N25=\"\"),\"\",IF($O$9-SUM($N$11:N24)-N25<0,TEXT(-(($O$9-SUM($N$11:N24)-N25)/24),\"-[hh]:mm\"),TEXT(($O$9-SUM($N$11:N24)-N25)/24,\"[hh]:mm\")))","v":""},null,""]
["","",{"$f":"IF(OR($K$9=0,AND($K$9=2,A26<=14)),1,IF(IF(ISNA(INDEX(X!$W$7:$W$20,MATCH(DATE($D$4,$C$4,A26),X!$AC$7:$AC$20,0))),1,2)=2,2,IF(OR(B26=\"Sa\",B26=\"So\"),2,IF($K$9=1,SUMIFS($R$4:$R$8,$S$4:$S$8,B26),IF(AND($K$9=2,A26<15),SUMIFS($R$4:$R$8,$S$4:$S$8,B26),IF(AND($K$9=2,A26>14),SUMIFS($R$12:$R$16,$S$12:$S$16,B26),IF(AND($K$9=3,A26>14),SUMIFS($R$12:$R$16,$S$12:$S$16,B26),IF(AND($K$9=3,A26<15),SUMIFS($R$4:$R$8,$S$4:$S$8,B26),1))))))))","v":1},null,null,null,"","",{"$f":"IF($K$9>0,IF(SUM($K$11:$K26,$I$6)<0,TEXT(-(SUM($K$11:K26,$I$6)/60)/24,\"-[h]:mm\"),TEXT((SUM($K$11:K26,$I$6)/60)/24,\"[h]:mm\")),\"\")","v":""},null,"",0,0,null,{"$f":"IF(OR($O$3=\"\",$N$3=\"\",N26=\"\"),\"\",IF($O$9-SUM($N$11:N25)-N26<0,TEXT(-(($O$9-SUM($N$11:N25)-N26)/24),\"-[hh]:mm\"),TEXT(($O$9-SUM($N$11:N25)-N26)/24,\"[hh]:mm\")))","v":""},null,""]
["","",{"$f":"IF(OR($K$9=0,AND($K$9=2,A27<=14)),1,IF(IF(ISNA(INDEX(X!$W$7:$W$20,MATCH(DATE($D$4,$C$4,A27),X!$AC$7:$AC$20,0))),1,2)=2,2,IF(OR(B27=\"Sa\",B27=\"So\"),2,IF($K$9=1,SUMIFS($R$4:$R$8,$S$4:$S$8,B27),IF(AND($K$9=2,A27<15),SUMIFS($R$4:$R$8,$S$4:$S$8,B27),IF(AND($K$9=2,A27>14),SUMIFS($R$12:$R$16,$S$12:$S$16,B27),IF(AND($K$9=3,A27>14),SUMIFS($R$12:$R$16,$S$12:$S$16,B27),IF(AND($K$9=3,A27<15),SUMIFS($R$4:$R$8,$S$4:$S$8,B27),1))))))))","v":1},null,null,null,"","",{"$f":"IF($K$9>0,IF(SUM($K$11:$K27,$I$6)<0,TEXT(-(SUM($K$11:K27,$I$6)/60)/24,\"-[h]:mm\"),TEXT((SUM($K$11:K27,$I$6)/60)/24,\"[h]:mm\")),\"\")","v":""},null,"",0,0,null,{"$f":"IF(OR($O$3=\"\",$N$3=\"\",N27=\"\"),\"\",IF($O$9-SUM($N$11:N26)-N27<0,TEXT(-(($O$9-SUM($N$11:N26)-N27)/24),\"-[hh]:mm\"),TEXT(($O$9-SUM($N$11:N26)-N27)/24,\"[hh]:mm\")))","v":""},null,""]
["","",{"$f":"IF(OR($K$9=0,AND($K$9=2,A28<=14)),1,IF(IF(ISNA(INDEX(X!$W$7:$W$20,MATCH(DATE($D$4,$C$4,A28),X!$AC$7:$AC$20,0))),1,2)=2,2,IF(OR(B28=\"Sa\",B28=\"So\"),2,IF($K$9=1,SUMIFS($R$4:$R$8,$S$4:$S$8,B28),IF(AND($K$9=2,A28<15),SUMIFS($R$4:$R$8,$S$4:$S$8,B28),IF(AND($K$9=2,A28>14),SUMIFS($R$12:$R$16,$S$12:$S$16,B28),IF(AND($K$9=3,A28>14),SUMIFS($R$12:$R$16,$S$12:$S$16,B28),IF(AND($K$9=3,A28<15),SUMIFS($R$4:$R$8,$S$4:$S$8,B28),1))))))))","v":1},null,null,null,"","",{"$f":"IF($K$9>0,IF(SUM($K$11:$K28,$I$6)<0,TEXT(-(SUM($K$11:K28,$I$6)/60)/24,\"-[h]:mm\"),TEXT((SUM($K$11:K28,$I$6)/60)/24,\"[h]:mm\")),\"\")","v":""},null,"",0,0,null,{"$f":"IF(OR($O$3=\"\",$N$3=\"\",N28=\"\"),\"\",IF($O$9-SUM($N$11:N27)-N28<0,TEXT(-(($O$9-SUM($N$11:N27)-N28)/24),\"-[hh]:mm\"),TEXT(($O$9-SUM($N$11:N27)-N28)/24,\"[hh]:mm\")))","v":""},null,""]
["","",{"$f":"IF(OR($K$9=0,AND($K$9=2,A29<=14)),1,IF(IF(ISNA(INDEX(X!$W$7:$W$20,MATCH(DATE($D$4,$C$4,A29),X!$AC$7:$AC$20,0))),1,2)=2,2,IF(OR(B29=\"Sa\",B29=\"So\"),2,IF($K$9=1,SUMIFS($R$4:$R$8,$S$4:$S$8,B29),IF(AND($K$9=2,A29<15),SUMIFS($R$4:$R$8,$S$4:$S$8,B29),IF(AND($K$9=2,A29>14),SUMIFS($R$12:$R$16,$S$12:$S$16,B29),IF(AND($K$9=3,A29>14),SUMIFS($R$12:$R$16,$S$12:$S$16,B29),IF(AND($K$9=3,A29<15),SUMIFS($R$4:$R$8,$S$4:$S$8,B29),1))))))))","v":1},null,null,null,"","",{"$f":"IF($K$9>0,IF(SUM($K$11:$K29,$I$6)<0,TEXT(-(SUM($K$11:K29,$I$6)/60)/24,\"-[h]:mm\"),TEXT((SUM($K$11:K29,$I$6)/60)/24,\"[h]:mm\")),\"\")","v":""},null,"",0,0,null,{"$f":"IF(OR($O$3=\"\",$N$3=\"\",N29=\"\"),\"\",IF($O$9-SUM($N$11:N28)-N29<0,TEXT(-(($O$9-SUM($N$11:N28)-N29)/24),\"-[hh]:mm\"),TEXT(($O$9-SUM($N$11:N28)-N29)/24,\"[hh]:mm\")))","v":""},null,""]
["","",{"$f":"IF(OR($K$9=0,AND($K$9=2,A30<=14)),1,IF(IF(ISNA(INDEX(X!$W$7:$W$20,MATCH(DATE($D$4,$C$4,A30),X!$AC$7:$AC$20,0))),1,2)=2,2,IF(OR(B30=\"Sa\",B30=\"So\"),2,IF($K$9=1,SUMIFS($R$4:$R$8,$S$4:$S$8,B30),IF(AND($K$9=2,A30<15),SUMIFS($R$4:$R$8,$S$4:$S$8,B30),IF(AND($K$9=2,A30>14),SUMIFS($R$12:$R$16,$S$12:$S$16,B30),IF(AND($K$9=3,A30>14),SUMIFS($R$12:$R$16,$S$12:$S$16,B30),IF(AND($K$9=3,A30<15),SUMIFS($R$4:$R$8,$S$4:$S$8,B30),1))))))))","v":1},null,null,null,"","",{"$f":"IF($K$9>0,IF(SUM($K$11:$K30,$I$6)<0,TEXT(-(SUM($K$11:K30,$I$6)/60)/24,\"-[h]:mm\"),TEXT((SUM($K$11:K30,$I$6)/60)/24,\"[h]:mm\")),\"\")","v":""},null,"",0,0,null,{"$f":"IF(OR($O$3=\"\",$N$3=\"\",N30=\"\"),\"\",IF($O$9-SUM($N$11:N29)-N30<0,TEXT(-(($O$9-SUM($N$11:N29)-N30)/24),\"-[hh]:mm\"),TEXT(($O$9-SUM($N$11:N29)-N30)/24,\"[hh]:mm\")))","v":""},null,""]
["","",{"$f":"IF(OR($K$9=0,AND($K$9=2,A31<=14)),1,IF(IF(ISNA(INDEX(X!$W$7:$W$20,MATCH(DATE($D$4,$C$4,A31),X!$AC$7:$AC$20,0))),1,2)=2,2,IF(OR(B31=\"Sa\",B31=\"So\"),2,IF($K$9=1,SUMIFS($R$4:$R$8,$S$4:$S$8,B31),IF(AND($K$9=2,A31<15),SUMIFS($R$4:$R$8,$S$4:$S$8,B31),IF(AND($K$9=2,A31>14),SUMIFS($R$12:$R$16,$S$12:$S$16,B31),IF(AND($K$9=3,A31>14),SUMIFS($R$12:$R$16,$S$12:$S$16,B31),IF(AND($K$9=3,A31<15),SUMIFS($R$4:$R$8,$S$4:$S$8,B31),1))))))))","v":1},null,null,null,"","",{"$f":"IF($K$9>0,IF(SUM($K$11:$K31,$I$6)<0,TEXT(-(SUM($K$11:K31,$I$6)/60)/24,\"-[h]:mm\"),TEXT((SUM($K$11:K31,$I$6)/60)/24,\"[h]:mm\")),\"\")","v":""},null,"",0,0,null,{"$f":"IF(OR($O$3=\"\",$N$3=\"\",N31=\"\"),\"\",IF($O$9-SUM($N$11:N30)-N31<0,TEXT(-(($O$9-SUM($N$11:N30)-N31)/24),\"-[hh]:mm\"),TEXT(($O$9-SUM($N$11:N30)-N31)/24,\"[hh]:mm\")))","v":""},null,""]
["","",{"$f":"IF(OR($K$9=0,AND($K$9=2,A32<=14)),1,IF(IF(ISNA(INDEX(X!$W$7:$W$20,MATCH(DATE($D$4,$C$4,A32),X!$AC$7:$AC$20,0))),1,2)=2,2,IF(OR(B32=\"Sa\",B32=\"So\"),2,IF($K$9=1,SUMIFS($R$4:$R$8,$S$4:$S$8,B32),IF(AND($K$9=2,A32<15),SUMIFS($R$4:$R$8,$S$4:$S$8,B32),IF(AND($K$9=2,A32>14),SUMIFS($R$12:$R$16,$S$12:$S$16,B32),IF(AND($K$9=3,A32>14),SUMIFS($R$12:$R$16,$S$12:$S$16,B32),IF(AND($K$9=3,A32<15),SUMIFS($R$4:$R$8,$S$4:$S$8,B32),1))))))))","v":1},null,null,null,"","",{"$f":"IF($K$9>0,IF(SUM($K$11:$K32,$I$6)<0,TEXT(-(SUM($K$11:K32,$I$6)/60)/24,\"-[h]:mm\"),TEXT((SUM($K$11:K32,$I$6)/60)/24,\"[h]:mm\")),\"\")","v":""},null,"",0,0,null,{"$f":"IF(OR($O$3=\"\",$N$3=\"\",N32=\"\"),\"\",IF($O$9-SUM($N$11:N31)-N32<0,TEXT(-(($O$9-SUM($N$11:N31)-N32)/24),\"-[hh]:mm\"),TEXT(($O$9-SUM($N$11:N31)-N32)/24,\"[hh]:mm\")))","v":""},null,""]
["","",{"$f":"IF(OR($K$9=0,AND($K$9=2,A33<=14)),1,IF(IF(ISNA(INDEX(X!$W$7:$W$20,MATCH(DATE($D$4,$C$4,A33),X!$AC$7:$AC$20,0))),1,2)=2,2,IF(OR(B33=\"Sa\",B33=\"So\"),2,IF($K$9=1,SUMIFS($R$4:$R$8,$S$4:$S$8,B33),IF(AND($K$9=2,A33<15),SUMIFS($R$4:$R$8,$S$4:$S$8,B33),IF(AND($K$9=2,A33>14),SUMIFS($R$12:$R$16,$S$12:$S$16,B33),IF(AND($K$9=3,A33>14),SUMIFS($R$12:$R$16,$S$12:$S$16,B33),IF(AND($K$9=3,A33<15),SUMIFS($R$4:$R$8,$S$4:$S$8,B33),1))))))))","v":1},null,null,null,"","",{"$f":"IF($K$9>0,IF(SUM($K$11:$K33,$I$6)<0,TEXT(-(SUM($K$11:K33,$I$6)/60)/24,\"-[h]:mm\"),TEXT((SUM($K$11:K33,$I$6)/60)/24,\"[h]:mm\")),\"\")","v":""},null,"",0,0,null,{"$f":"IF(OR($O$3=\"\",$N$3=\"\",N33=\"\"),\"\",IF($O$9-SUM($N$11:N32)-N33<0,TEXT(-(($O$9-SUM($N$11:N32)-N33)/24),\"-[hh]:mm\"),TEXT(($O$9-SUM($N$11:N32)-N33)/24,\"[hh]:mm\")))","v":""},null,""]
["","",{"$f":"IF(OR($K$9=0,AND($K$9=2,A34<=14)),1,IF(IF(ISNA(INDEX(X!$W$7:$W$20,MATCH(DATE($D$4,$C$4,A34),X!$AC$7:$AC$20,0))),1,2)=2,2,IF(OR(B34=\"Sa\",B34=\"So\"),2,IF($K$9=1,SUMIFS($R$4:$R$8,$S$4:$S$8,B34),IF(AND($K$9=2,A34<15),SUMIFS($R$4:$R$8,$S$4:$S$8,B34),IF(AND($K$9=2,A34>14),SUMIFS($R$12:$R$16,$S$12:$S$16,B34),IF(AND($K$9=3,A34>14),SUMIFS($R$12:$R$16,$S$12:$S$16,B34),IF(AND($K$9=3,A34<15),SUMIFS($R$4:$R$8,$S$4:$S$8,B34),1))))))))","v":1},null,null,null,"","",{"$f":"IF($K$9>0,IF(SUM($K$11:$K34,$I$6)<0,TEXT(-(SUM($K$11:K34,$I$6)/60)/24,\"-[h]:mm\"),TEXT((SUM($K$11:K34,$I$6)/60)/24,\"[h]:mm\")),\"\")","v":""},null,"",0,0,null,{"$f":"IF(OR($O$3=\"\",$N$3=\"\",N34=\"\"),\"\",IF($O$9-SUM($N$11:N33)-N34<0,TEXT(-(($O$9-SUM($N$11:N33)-N34)/24),\"-[hh]:mm\"),TEXT(($O$9-SUM($N$11:N33)-N34)/24,\"[hh]:mm\")))","v":""},null,""]
["","",{"$f":"IF(OR($K$9=0,AND($K$9=2,A35<=14)),1,IF(IF(ISNA(INDEX(X!$W$7:$W$20,MATCH(DATE($D$4,$C$4,A35),X!$AC$7:$AC$20,0))),1,2)=2,2,IF(OR(B35=\"Sa\",B35=\"So\"),2,IF($K$9=1,SUMIFS($R$4:$R$8,$S$4:$S$8,B35),IF(AND($K$9=2,A35<15),SUMIFS($R$4:$R$8,$S$4:$S$8,B35),IF(AND($K$9=2,A35>14),SUMIFS($R$12:$R$16,$S$12:$S$16,B35),IF(AND($K$9=3,A35>14),SUMIFS($R$12:$R$16,$S$12:$S$16,B35),IF(AND($K$9=3,A35<15),SUMIFS($R$4:$R$8,$S$4:$S$8,B35),1))))))))","v":1},null,null,null,"","",{"$f":"IF($K$9>0,IF(SUM($K$11:$K35,$I$6)<0,TEXT(-(SUM($K$11:K35,$I$6)/60)/24,\"-[h]:mm\"),TEXT((SUM($K$11:K35,$I$6)/60)/24,\"[h]:mm\")),\"\")","v":""},null,"",0,0,null,{"$f":"IF(OR($O$3=\"\",$N$3=\"\",N35=\"\"),\"\",IF($O$9-SUM($N$11:N34)-N35<0,TEXT(-(($O$9-SUM($N$11:N34)-N35)/24),\"-[hh]:mm\"),TEXT(($O$9-SUM($N$11:N34)-N35)/24,\"[hh]:mm\")))","v":""},null,""]
["","",{"$f":"IF(OR($K$9=0,AND($K$9=2,A36<=14)),1,IF(IF(ISNA(INDEX(X!$W$7:$W$20,MATCH(DATE($D$4,$C$4,A36),X!$AC$7:$AC$20,0))),1,2)=2,2,IF(OR(B36=\"Sa\",B36=\"So\"),2,IF($K$9=1,SUMIFS($R$4:$R$8,$S$4:$S$8,B36),IF(AND($K$9=2,A36<15),SUMIFS($R$4:$R$8,$S$4:$S$8,B36),IF(AND($K$9=2,A36>14),SUMIFS($R$12:$R$16,$S$12:$S$16,B36),IF(AND($K$9=3,A36>14),SUMIFS($R$12:$R$16,$S$12:$S$16,B36),IF(AND($K$9=3,A36<15),SUMIFS($R$4:$R$8,$S$4:$S$8,B36),1))))))))","v":1},null,null,null,"","",{"$f":"IF($K$9>0,IF(SUM($K$11:$K36,$I$6)<0,TEXT(-(SUM($K$11:K36,$I$6)/60)/24,\"-[h]:mm\"),TEXT((SUM($K$11:K36,$I$6)/60)/24,\"[h]:mm\")),\"\")","v":""},null,"",0,0,null,{"$f":"IF(OR($O$3=\"\",$N$3=\"\",N36=\"\"),\"\",IF($O$9-SUM($N$11:N35)-N36<0,TEXT(-(($O$9-SUM($N$11:N35)-N36)/24),\"-[hh]:mm\"),TEXT(($O$9-SUM($N$11:N35)-N36)/24,\"[hh]:mm\")))","v":""},null,""]
["","",{"$f":"IF(OR($K$9=0,AND($K$9=2,A37<=14)),1,IF(IF(ISNA(INDEX(X!$W$7:$W$20,MATCH(DATE($D$4,$C$4,A37),X!$AC$7:$AC$20,0))),1,2)=2,2,IF(OR(B37=\"Sa\",B37=\"So\"),2,IF($K$9=1,SUMIFS($R$4:$R$8,$S$4:$S$8,B37),IF(AND($K$9=2,A37<15),SUMIFS($R$4:$R$8,$S$4:$S$8,B37),IF(AND($K$9=2,A37>14),SUMIFS($R$12:$R$16,$S$12:$S$16,B37),IF(AND($K$9=3,A37>14),SUMIFS($R$12:$R$16,$S$12:$S$16,B37),IF(AND($K$9=3,A37<15),SUMIFS($R$4:$R$8,$S$4:$S$8,B37),1))))))))","v":1},null,null,null,"","",{"$f":"IF($K$9>0,IF(SUM($K$11:$K37,$I$6)<0,TEXT(-(SUM($K$11:K37,$I$6)/60)/24,\"-[h]:mm\"),TEXT((SUM($K$11:K37,$I$6)/60)/24,\"[h]:mm\")),\"\")","v":""},null,"",0,0,null,{"$f":"IF(OR($O$3=\"\",$N$3=\"\",N37=\"\"),\"\",IF($O$9-SUM($N$11:N36)-N37<0,TEXT(-(($O$9-SUM($N$11:N36)-N37)/24),\"-[hh]:mm\"),TEXT(($O$9-SUM($N$11:N36)-N37)/24,\"[hh]:mm\")))","v":""},null,""]
["","",{"$f":"IF(OR($K$9=0,AND($K$9=2,A38<=14)),1,IF(IF(ISNA(INDEX(X!$W$7:$W$20,MATCH(DATE($D$4,$C$4,A38),X!$AC$7:$AC$20,0))),1,2)=2,2,IF(OR(B38=\"Sa\",B38=\"So\"),2,IF($K$9=1,SUMIFS($R$4:$R$8,$S$4:$S$8,B38),IF(AND($K$9=2,A38<15),SUMIFS($R$4:$R$8,$S$4:$S$8,B38),IF(AND($K$9=2,A38>14),SUMIFS($R$12:$R$16,$S$12:$S$16,B38),IF(AND($K$9=3,A38>14),SUMIFS($R$12:$R$16,$S$12:$S$16,B38),IF(AND($K$9=3,A38<15),SUMIFS($R$4:$R$8,$S$4:$S$8,B38),1))))))))","v":1},null,null,null,"","",{"$f":"IF($K$9>0,IF(SUM($K$11:$K38,$I$6)<0,TEXT(-(SUM($K$11:K38,$I$6)/60)/24,\"-[h]:mm\"),TEXT((SUM($K$11:K38,$I$6)/60)/24,\"[h]:mm\")),\"\")","v":""},null,"",0,0,null,{"$f":"IF(OR($O$3=\"\",$N$3=\"\",N38=\"\"),\"\",IF($O$9-SUM($N$11:N37)-N38<0,TEXT(-(($O$9-SUM($N$11:N37)-N38)/24),\"-[hh]:mm\"),TEXT(($O$9-SUM($N$11:N37)-N38)/24,\"[hh]:mm\")))","v":""},null,""]
["",{"$f":"IF(OR(A39=\"\",$D$4=\"\"),\"\",TEXT(DATE($D$4,$C$4,A39),\"ttt\"))","v":""},{"$f":"IF(OR($K$9=0,AND($K$9=2,A39<=14)),1,IF(IF(ISNA(INDEX(X!$W$7:$W$20,MATCH(DATE($D$4,$C$4,A39),X!$AC$7:$AC$20,0))),1,2)=2,2,IF(OR(B39=\"Sa\",B39=\"So\"),2,IF($K$9=1,SUMIFS($R$4:$R$8,$S$4:$S$8,B39),IF(AND($K$9=2,A39<15),SUMIFS($R$4:$R$8,$S$4:$S$8,B39),IF(AND($K$9=2,A39>14),SUMIFS($R$12:$R$16,$S$12:$S$16,B39),IF(AND($K$9=3,A39>14),SUMIFS($R$12:$R$16,$S$12:$S$16,B39),IF(AND($K$9=3,A39<15),SUMIFS($R$4:$R$8,$S$4:$S$8,B39),1))))))))","v":1},null,null,null,"","",{"$f":"IF($K$9>0,IF(SUM($K$11:$K39,$I$6)<0,TEXT(-(SUM($K$11:K39,$I$6)/60)/24,\"-[h]:mm\"),TEXT((SUM($K$11:K39,$I$6)/60)/24,\"[h]:mm\")),\"\")","v":""},null,"",0,0,null,{"$f":"IF(OR($O$3=\"\",$N$3=\"\",N39=\"\"),\"\",IF($O$9-SUM($N$11:N38)-N39<0,TEXT(-(($O$9-SUM($N$11:N38)-N39)/24),\"-[hh]:mm\"),TEXT(($O$9-SUM($N$11:N38)-N39)/24,\"[hh]:mm\")))","v":""},null,""]
["",{"$f":"IF(OR(A40=\"\",$D$4=\"\"),\"\",TEXT(DATE($D$4,$C$4,A40),\"ttt\"))","v":""},{"$f":"IF(OR($K$9=0,AND($K$9=2,A40<=14)),1,IF(IF(ISNA(INDEX(X!$W$7:$W$20,MATCH(DATE($D$4,$C$4,A40),X!$AC$7:$AC$20,0))),1,2)=2,2,IF(OR(B40=\"Sa\",B40=\"So\"),2,IF($K$9=1,SUMIFS($R$4:$R$8,$S$4:$S$8,B40),IF(AND($K$9=2,A40<15),SUMIFS($R$4:$R$8,$S$4:$S$8,B40),IF(AND($K$9=2,A40>14),SUMIFS($R$12:$R$16,$S$12:$S$16,B40),IF(AND($K$9=3,A40>14),SUMIFS($R$12:$R$16,$S$12:$S$16,B40),IF(AND($K$9=3,A40<15),SUMIFS($R$4:$R$8,$S$4:$S$8,B40),1))))))))","v":1},null,null,null,"","",{"$f":"IF($K$9>0,IF(SUM($K$11:$K40,$I$6)<0,TEXT(-(SUM($K$11:K40,$I$6)/60)/24,\"-[h]:mm\"),TEXT((SUM($K$11:K40,$I$6)/60)/24,\"[h]:mm\")),\"\")","v":""},null,"",0,0,null,{"$f":"IF(OR($O$3=\"\",$N$3=\"\",N40=\"\"),\"\",IF($O$9-SUM($N$11:N39)-N40<0,TEXT(-(($O$9-SUM($N$11:N39)-N40)/24),\"-[hh]:mm\"),TEXT(($O$9-SUM($N$11:N39)-N40)/24,\"[hh]:mm\")))","v":""},null,""]
["","",{"$f":"IF(OR($K$9=0,AND($K$9=2,A41<=14)),1,IF(IF(ISNA(INDEX(X!$W$7:$W$20,MATCH(DATE($D$4,$C$4,A41),X!$AC$7:$AC$20,0))),1,2)=2,2,IF(OR(B41=\"Sa\",B41=\"So\"),2,IF($K$9=1,SUMIFS($R$4:$R$8,$S$4:$S$8,B41),IF(AND($K$9=2,A41<15),SUMIFS($R$4:$R$8,$S$4:$S$8,B41),IF(AND($K$9=2,A41>14),SUMIFS($R$12:$R$16,$S$12:$S$16,B41),IF(AND($K$9=3,A41>14),SUMIFS($R$12:$R$16,$S$12:$S$16,B41),IF(AND($K$9=3,A41<15),SUMIFS($R$4:$R$8,$S$4:$S$8,B41),1))))))))","v":1},null,null,null,"","",{"$f":"IF($K$9>0,IF(SUM($K$11:$K41,$I$6)<0,TEXT(-(SUM($K$11:K41,$I$6)/60)/24,\"-[h]:mm\"),TEXT((SUM($K$11:K41,$I$6)/60)/24,\"[h]:mm\")),\"\")","v":""},null,"",0,0,null,{"$f":"IF(OR($O$3=\"\",$N$3=\"\",N41=\"\"),\"\",IF($O$9-SUM($N$11:N40)-N41<0,TEXT(-(($O$9-SUM($N$11:N40)-N41)/24),\"-[hh]:mm\"),TEXT(($O$9-SUM($N$11:N40)-N41)/24,\"[hh]:mm\")))","v":""},null,""]
[null,null,null,null,null,null,{"$f":"L42+K42","v":0},{"$f":"K42","v":0},null,null,{"$f":"SUM(K11:K41)","v":0},{"$f":"-SUM(L11:L41)","v":0},{"$f":"M41","v":0},{"$f":"SUM(N11:N41)*60","v":0},null,null,{"$f":"IF((G42/60)<0,TEXT(-((G42/60)/24),\"-[hh]:mm\"),TEXT((G42/60)/24,\"[hh]:mm\"))","v":"00:00"}]
[{"$f":"IF(G4=\"\",\"\",\"Ergebnis\")","v":""},null,null,null,null,null,{"$f":"IF(G4=\"\",0,IF(((G42-N42)/60)<0,TEXT(-(((G42-N42)/60)/24),\"-[hh]:mm\"),TEXT(((G42-N42)/60)/24,\"[hh]:mm\")))","v":0},{"$f":"IF(G4=0,\"\",IF(H42<0,TEXT(-((H42/60)/24),\"-[hh]:mm\"),IF((H42/60)>24,TEXT((((H42/60)-24)/24)+(24/24),\"[hh]:mm\"),(H42/60)/24)))","v":0},{"$f":"IF($K$9>0,IF(SUM(I6,K43)<0,TEXT(-(SUM(I6,K43)/60)/24,\"-[h]:mm\"),TEXT((SUM(I6,K43)/60)/24,\"[h]:mm\")),\"\")","v":""},null,{"$f":"IF(L42<>L43,G42-L43,K42)","v":0},{"$f":"IF(AND(K9=1,SUM(U4:U8)<>H9),((H9/5)*COUNTIFS(C11:C41,\"<>\"&2,F11:F41,\"\"))*60,IF(AND(K9=2,SUM(U12:U16)<>I9),((I9/5)*COUNTIFS(C11:C41,\"<>\"&2,F11:F41,\"\"))*60,IF(AND(K9=3,OR(SUM(U4:U8)<>H9,SUM(U12:U16)<>I9)),SUM(IF(SUM(U4:U8)<>H9,((H9/5)*COUNTIFS(C11:C41,\"<>\"&2,A11:A41,\"<\"&15,F11:F41,\"\"))*60,-SUMIFS(L11:L41,A11:A41,\"<\"&15,F11:F41,\"\")),IF(SUM(U12:U16)<>I9,((I9/5)*COUNTIFS(C11:C41,\"<>\"&2,A11:A41,\">\"&14,F11:F41,\"\"))*60,-SUMIFS(L11:L41,A11:A41,\">\"&14,F11:F41,\"\"))),-SUM(L11:L41))))","v":0},null,{"$f":"IF(N42<0,TEXT(-((N42/60)/24),\"-[hh]:mm\"),TEXT((N42/60)/24,\"[hh]:mm\"))","v":"00:00"},{"$f":"IF(O9-SUM(N11:N41)<0,TEXT(-(O9-SUM(N11:N41))/24,\"-[h]:mm\"),TEXT((O9-SUM(N11:N41))/24,\"[h]:mm\"))","v":{"$error":"#VALUE!"}},null,{"$f":"Q42","v":"00:00"}]
[{"$f":"IF(G4=\"\",\"\",\"Saldo / Übertrag:\")","v":""},null,null,null,null,null,null,null,{"$f":"I43","v":""},{"$f":"IF(K42<>K43,\"automatische Nachberechnung der Sollarbeitszeit, da wöchentlicher Stundenumfang nicht eingehalten wurde.\",\"\")","v":""},{"$f":"K43+I6","v":0},"Übertrag"]
[]
[{"$f":"IF(I46=\"\",\"\",\"Korrektur der Stunden\")","v":""},null,null,null,null,null,null,null,{"$f":"IF(K9>0,IF(K42-K43<>0,IF(K43-K42<0,TEXT(-((K43-K42)/60)/24,\"-[h]:mm\"),TEXT(((K43-K42)/60)/24,\"[h]:mm\")),\"\"),\"\")","v":""}]
[]
[]
[]
[]
[]
[]
[]
[]
[]
[]
[{"$f":"D4","v":""},{"$f":"C4","v":9},{"$f":"Uebersicht!A4","v":0},{"$f":"Uebersicht!B4","v":0},{"$f":"L43","v":0},{"$f":"K42","v":0},{"$f":"K43","v":0},{"$f":"M10","v":0},{"$f":"M42","v":0}]

{"sheet":"Okt","index":10,"n_rows":57,"n_cols":22,"rows_kept":57,"cut":false,"hidden":false,"merged":[[8,18,8,19],[9,18,9,20],[16,18,16,19],[42,0,42,5],[3,13,4,15],[5,13,5,15],[6,0,7,4],[6,5,7,5],[6,6,7,7],[6,8,7,8],[6,9,7,9],[6,13,7,15],[3,0,4,1],[3,2,4,2],[3,3,4,4],[3,5,4,5],[43,0,44,7],[43,8,44,8],[43,9,46,9],[45,0,45,7],[1,0,2,8],[3,6,4,9]]}
["Zeiterfassungsbogen für studentische Hilfskräfte | International Office",null,null,null,null,null,null,null,null,null,null,null,null,null,null,null,null,null,null,null,null,"\"nein\" auswählen, wenn keine festen Tage mehr gelten sollen!"]
[{"$f":"IF(Uebersicht!A4=\"\",\"\",CONCATENATE(Uebersicht!B4,\" \",Uebersicht!A4))","v":""}]
[null,null,null,null,null,null,null,null,null,null,null,null,null,{"$f":"INDEX(Uebersicht!AO5:AQ28,MATCH(C4,Uebersicht!AO5:AO28,0),3)","v":0},{"$f":"INDEX(Uebersicht!AO5:AQ28,MATCH(C4+0.5,Uebersicht!AO5:AO28,0),3)","v":0},null,null,null,"Tag","h"]
[{"$f":"IF(D4=\"\",\"\",TEXT(DATE(D4,C4,1),\"MMM\"))","v":""},null,10,{"$f":"Uebersicht!I1","v":""},null,null,{"$f":"IF(INDEX(Uebersicht!AO31:AQ42,MATCH(C4,Uebersicht!AO31:AO43,0),2)=0,\"\",INDEX(Uebersicht!AO31:AQ42,MATCH(C4,Uebersicht!AO31:AO43,0),2))","v":""},null,null,null,null,null,null,{"$f":"INDEX(Uebersicht!AO31:AQ42,MATCH(C4,Uebersicht!AO31:AO43,0),3)","v":0},null,null,null,{"$f":"IF(OR($K$9=2,$K$9=0),1,IF(AND(OR($K$9=1,$K$9=3),OR(SUM($U$4:$U$8)=0,$U$1=\"nein\")),3,IF(AND($U$1=\"\",SUM($U$4:$U$8)>0,U4>=1,OR($K$9=3,$K$9=1)),4,1)))","v":1},"Mo",null,{"$f":"IF(AND(H9=0,I9=0),0,IF(OR($K$9=0,INDIRECT(\"'\"&TEXT(DATE(D4,$C$4-1,1),\"MMM\")&\"'!$U$1\")=\"nein\",$U$1=\"nein\"),0,IF(T4>0,T4,INDEX(Uebersicht!$BA$3:$BE$14,$C$4,MATCH(S4,Uebersicht!$BA$2:$BE$2,0)))))","v":0}]
[null,null,null,null,null,null,null,null,null,null,null,null,null,null,null,null,null,{"$f":"IF(OR($K$9=2,$K$9=0),1,IF(AND(OR($K$9=1,$K$9=3),OR(SUM($U$4:$U$8)=0,$U$1=\"nein\")),3,IF(AND($U$1=\"\",SUM($U$4:$U$8)>0,U5>=1,OR($K$9=3,$K$9=1)),4,1)))","v":1},"Di",null,{"$f":"IF(OR($K$9=0,INDIRECT(\"'\"&TEXT(DATE(D5,$C$4-1,1),\"MMM\")&\"'!$U$1\")=\"nein\",$U$1=\"nein\"),0,IF(T5>0,T5,INDEX(Uebersicht!$BA$3:$BE$14,$C$4,MATCH(S5,Uebersicht!$BA$2:$BE$2,0))))","v":0}]
[null,null,{"$f":"DAY(DATE(D4,C4+1,1)-1)","v":{"$error":"#VALUE!"}},null,null,null,null,{"$f":"IF(N4=0,\"\",\"Arbeitsgebiet 1\")","v":""},{"$f":"IF(AND(I9=0,H9=0),0,IF(C4-1=0,Uebersicht!G4,INDIRECT(\"'\"&TEXT(DATE(D4,C4-1,1),\"MMM\")&\"'!K44\")))","v":0},null,"nein",null,null,{"$f":"IF(N4=\"\",\"\",\"Arbeitsgebiet 2\")","v":"Arbeitsgebiet 2"},null,null,null,{"$f":"IF(OR($K$9=2,$K$9=0),1,IF(AND(OR($K$9=1,$K$9=3),OR(SUM($U$4:$U$8)=0,$U$1=\"nein\")),3,IF(AND($U$1=\"\",SUM($U$4:$U$8)>0,U6>=1,OR($K$9=3,$K$9=1)),4,1)))","v":1},"Mi",null,{"$f":"IF(OR($K$9=0,INDIRECT(\"'\"&TEXT(DATE(D6,$C$4-1,1),\"MMM\")&\"'!$U$1\")=\"nein\",$U$1=\"nein\"),0,IF(T6>0,T6,INDEX(Uebersicht!$BA$3:$BE$14,$C$4,MATCH(S6,Uebersicht!$BA$2:$BE$2,0))))","v":0}]
[{"$f":"IF(AND(H9>0,I9=0),CONCATENATE(H9,\" Wochenarbeitszeit (h)\"),IF(AND(H9=0,I9>0),CONCATENATE(I9,\" Wochenarbeitszeit (h)\"),IF(AND(H9>0,I9>0,H9<>I9),CONCATENATE(H9,\" h, ab 15. \",TEXT(DATE(D4,C4,1),\"MMMM\"),\" \",I9,\"h\"),\"\")))","v":""},null,null,null,null,{"$f":"IF(G4=\"\",\"\",IF(M42/60>0,TEXT((M42/60)/24,\"[h]:mm\"),0))","v":""},{"$f":"IF(F7=\"\",\"\",\"Urlaubsrest\")","v":""},null,{"$f":"IF(AND(YEAR(TODAY())=D4,MONTH(TODAY())>=C4,K9>0),IF(OR(I6=0,I6=\"\"),0,IF(I6<0,TEXT(-(I6/60)/24,\"-[h]:mm\"),TEXT((I6/60)/24,\"[h]:mm\"))),\"\")","v":""},{"$f":"IF(I7=\"\",\"\",CONCATENATE(\"h Übertrag aus \",IF(C6=1,\"Vorjahr\",\"Vormonat\")))","v":""},"Urlaub",null,null,{"$f":"IF(AND(N3>0,O3=0),CONCATENATE(N3,\" Stunden - Anteil pro Woche\"),IF(AND(N3=0,O3>0),CONCATENATE(O3,\" Stunden - Anteil pro Woche\"),IF(AND(N3>0,O3>0,O3<>N3),CONCATENATE(N3,\" h, ab 15. \",TEXT(DATE(D4,C4,1),\"MMMM\"),\" \",O3,\"h\"),IF(N3=O3,CONCATENATE(N3,\" Stunden - Anteil pro Woche\"),\"\"))))","v":"0 Stunden - Anteil pro Woche"},null,null,null,{"$f":"IF(OR($K$9=2,$K$9=0),1,IF(AND(OR($K$9=1,$K$9=3),OR(SUM($U$4:$U$8)=0,$U$1=\"nein\")),3,IF(AND($U$1=\"\",SUM($U$4:$U$8)>0,U7>=1,OR($K$9=3,$K$9=1)),4,1)))","v":1},"Do",null,{"$f":"IF(OR($K$9=0,INDIRECT(\"'\"&TEXT(DATE(D7,$C$4-1,1),\"MMM\")&\"'!$U$1\")=\"nein\",$U$1=\"nein\"),0,IF(T7>0,T7,INDEX(Uebersicht!$BA$3:$BE$14,$C$4,MATCH(S7,Uebersicht!$BA$2:$BE$2,0))))","v":0}]
[null,null,null,null,null,null,null,null,null,null,"Krank",null,null,null,null,null,null,{"$f":"IF(OR($K$9=2,$K$9=0),1,IF(AND(OR($K$9=1,$K$9=3),OR(SUM($U$4:$U$8)=0,$U$1=\"nein\")),3,IF(AND($U$1=\"\",SUM($U$4:$U$8)>0,U8>=1,OR($K$9=3,$K$9=1)),4,1)))","v":1},"Fr",null,{"$f":"IF(OR($K$9=0,INDIRECT(\"'\"&TEXT(DATE(D8,$C$4-1,1),\"MMM\")&\"'!$U$1\")=\"nein\",$U$1=\"nein\"),0,IF(T8>0,T8,INDEX(Uebersicht!$BA$3:$BE$14,$C$4,MATCH(S8,Uebersicht!$BA$2:$BE$2,0))))","v":0}]
[null,null,null,null,null,null,null,{"$f":"INDEX(Uebersicht!AU3:AW14,C4,2)","v":0},{"$f":"IF(INDEX(Uebersicht!AU3:AW14,C4,3)=H9,0,INDEX(Uebersicht!AU3:AW14,C4,3))","v":0},null,{"$f":"IF(AND(H9>0,I9=0),1,IF(AND(H9=0,I9>0),2,IF(AND(H9=0,I9=0),0,IF(H9<>I9,3,\"\"))))","v":0},null,null,null,{"$f":"IF(OR(N3>0,O3>0),IF(OR(K9=1,K9=2),(IF(K9=1,N3,IF(K9=2,O2,0))/5)*NETWORKDAYS(IF(K9=1,DATE(D4,C4,1),IF(K9=2,DATE(D4,C4,15),0)),IF(OR(K9=1,K9=2),DATE(D4,C4,MAX(A11:A41)),0),COUNTIFS(C11:C41,\"<>\"&2)),IF(K9=3,SUM(IF(N3>0,(N3/5)*NETWORKDAYS(DATE(D4,C4,1),DATE(D4,C4,14),2),0),IF(O3>0,(O3/5)*NETWORKDAYS(DATE(D4,C4,15),DATE(D4,C4,MAX(A11:A41)),2),0)),0)),\"\")","v":""},null,null,null,{"$f":"IF(SUM(U4:U8)=0,\"\",IF(SUM(U4:U8)>H9,\"zu viel!\",IF(SUM(U4:U8)<H9,\"zu wenig!\",\"\")))","v":""},null,{"$f":"IF(OR(U1=\"nein\",SUM(U4:U8)=0),\"ja\",IF(OR(SUM(Uebersicht!C36:C40)>0,SUM(T4:T8)>0,SUM(U4:U8)>0),\"nein\",\"ja\"))","v":"ja"}]
["Tag",null,null,"Beginn","Ende","Urlaub\nKrank","Stunden","Mehr/\nMinder","Saldo\nsummiert","Bemerkungen","Differenz","Soll",{"$f":"IF(AND(I9=0,H9=0),0,IF(C4-1=0,IF(Uebersicht!E8=\"\",0,Uebersicht!E8*60),INDIRECT(\"'\"&TEXT(DATE(D4,C4-1,1),\"MMM\")&\"'!M42\")))","v":0},"Stunden","Rest","Bemerkungen","Gesamt",null,"Änderung im laufenden Monat"]
[1,{"$f":"IF(OR(A11=\"\",$D$4=\"\"),\"\",TEXT(DATE($D$4,$C$4,A11),\"ttt\"))","v":""},{"$f":"IF(OR($K$9=0,AND($K$9=2,A11<=14)),1,IF(IF(ISNA(INDEX(X!$W$7:$W$20,MATCH(DATE($D$4,$C$4,A11),X!$AC$7:$AC$20,0))),1,2)=2,2,IF(OR(B11=\"Sa\",B11=\"So\"),2,IF($K$9=1,SUMIFS($R$4:$R$8,$S$4:$S$8,B11),IF(AND($K$9=2,A11<15),SUMIFS($R$4:$R$8,$S$4:$S$8,B11),IF(AND($K$9=2,A11>14),SUMIFS($R$12:$R$16,$S$12:$S$16,B11),IF(AND($K$9=3,A11>14),SUMIFS($R$12:$R$16,$S$12:$S$16,B11),IF(AND($K$9=3,A11<15),SUMIFS($R$4:$R$8,$S$4:$S$8,B11),1))))))))","v":1},null,null,null,{"$f":"IF(AND(D11=\"\",E11=\"\"),\"\",IF(N11=\"\",IF(((HOUR(E11)*60+MINUTE(E11))-(HOUR(D11)*60+MINUTE(D11)))>360,TEXT(((((HOUR(E11)*60+MINUTE(E11))-(HOUR(D11)*60+MINUTE(D11)))-30)/60)/24,\"[h]:mm\"),TEXT((((HOUR(E11)*60+MINUTE(E11))-(HOUR(D11)*60+MINUTE(D11)))/60)/24,\"[h]:mm\")),IF((((HOUR(E11)*60+MINUTE(E11))-(HOUR(D11)*60+MINUTE(D11)))-N11)>360,TEXT(((((((HOUR(E11)*60+MINUTE(E11))-(HOUR(D11)*60+MINUTE(D11)))-30))/60)-N11)/24,\"[h]:mm\"),TEXT(((((HOUR(E11)*60+MINUTE(E11))-(HOUR(D11)*60+MINUTE(D11)))/60)-N11)/24,\"[h]:mm\"))))","v":""},{"$f":"IF(K11=\"\",\"\",IF(TODAY()<=DATE($D$4,$C$4,A11),0,IF(K11>0,TEXT((K11/60)/24,\"[h]:mm\"),TEXT(-(K11/60)/24,\"-[h]:mm\"))))","v":""},{"$f":"IF($K$9>0,IF(SUM($K$11:$K11,I6)<0,TEXT(-(SUM($K$11:K11,I6)/60)/24,\"-[h]:mm\"),TEXT((SUM($K$11:K11,I6)/60)/24,\"[h]:mm\")),\"\")","v":""},null,{"$f":"IF(F11=\"\",IF(L11<0,L11+IF(G11=\" \",0,IF(((HOUR(E11)*60+MINUTE(E11))-(HOUR(D11)*60+MINUTE(D11)))>360,(HOUR(E11)*60+MINUTE(E11))-(HOUR(D11)*60+MINUTE(D11))-30,(HOUR(E11)*60+MINUTE(E11))-(HOUR(D11)*60+MINUTE(D11)))),IF(Q11=\"\",\"\",(Q11*60)*24)),\"\")","v":""},{"$f":"IF(OR(F11=\"krank\",F11=\"Urlaub\",C11=1,C11=2),0,IF($K$9=1,IF(SUM($U$4:$U$8)=0,$H$9/5,INDEX($S$4:$U$8,MATCH(B11,$S$4:$S$8,0),3)),IF($K$9=2,IF(AND(A11>14,SUM($U$12:$U$16)=0),$I$9/5,INDEX($S$12:$U$16,MATCH(B11,$S$12:$S$16,0),3)),IF($K$9=3,IF(A11<15,IF(SUM($U$4:$U$8)=0,$H$9/5,INDEX($S$4:$U$8,MATCH(B11,$S$4:$S$8,0),3))),IF(A11>14,IF(SUM($U$12:$U$16)=0,$I$9/5,INDEX($S$12:$U$16,MATCH(B11,$S$12:$S$16,0),3))))))*-60)","v":0},{"$f":"M10-(IF(OR(C11=1,C11=2),0,IF(C11=3,IF(AND($K$9=1,F11=\"Urlaub\"),$H$9/5,IF($K$9=2,IF(AND(A11<15,F11=\"Urlaub\"),$I$9/5,IF(AND($K$9=3,A11<15,F11=\"Urlaub\"),$H$9/5,IF(AND($K$9=3,A11>14,F11=\"Urlaub\"),$I$9/5))))),IF(C11=4,IF(AND(F11=\"Urlaub\",$K$9=1),SUMIFS($U$4:$U$8,$S$4:$S$8,B11),IF(AND(F11=\"Urlaub\",$K$9=2,A11>14),SUMIFS($U$12:$U$16,$S$12:$S$16,B11),IF(AND(F11=\"Urlaub\",$K$9=3,A11<15),SUMIFS($U$4:$U$8,$S$4:$S$8,B11),IF(AND(F11=\"Urlaub\",$K$9=3,A11>14),SUMIFS($U$12:$U$16,$S$12:$S$16,B11),0)))))))*60)","v":0},null,{"$f":"IF(OR($O$3=\"\",$N$3=\"\",N11=\"\"),\"\",IF($O$9-SUM($N10:N$11)-N11<0,TEXT(-(($O$9-SUM($N10:N$11)-N11)/24),\"-[hh]:mm\"),TEXT(($O$9-SUM($N10:N$11)-N11)/24,\"[hh]:mm\")))","v":""},null,{"$f":"IF(AND(D11=\"\",E11=\"\"),\"\",IF(((HOUR(E11)*60+MINUTE(E11))-(HOUR(D11)*60+MINUTE(D11)))>360,TEXT(((((HOUR(E11)*60+MINUTE(E11))-(HOUR(D11)*60+MINUTE(D11)))-30)/60)/24,\"[h]:mm\"),TEXT((((HOUR(E11)*60+MINUTE(E11))-(HOUR(D11)*60+MINUTE(D11)))/60)/24,\"[h]:mm\")))","v":""}]
[{"$f":"IF(OR(A11=\"\",$D$4=\"\"),\"\",IF(A11+1<=$C$6,A11+1,\"\"))","v":""},"",{"$f":"IF(OR($K$9=0,AND($K$9=2,A12<=14)),1,IF(IF(ISNA(INDEX(X!$W$7:$W$20,MATCH(DATE($D$4,$C$4,A12),X!$AC$7:$AC$20,0))),1,2)=2,2,IF(OR(B12=\"Sa\",B12=\"So\"),2,IF($K$9=1,SUMIFS($R$4:$R$8,$S$4:$S$8,B12),IF(AND($K$9=2,A12<15),SUMIFS($R$4:$R$8,$S$4:$S$8,B12),IF(AND($K$9=2,A12>14),SUMIFS($R$12:$R$16,$S$12:$S$16,B12),IF(AND($K$9=3,A12>14),SUMIFS($R$12:$R$16,$S$12:$S$16,B12),IF(AND($K$9=3,A12<15),SUMIFS($R$4:$R$8,$S$4:$S$8,B12),1))))))))","v":1},null,null,null,"","",{"$f":"IF($K$9>0,IF(SUM($K$11:$K12,$I$6)<0,TEXT(-(SUM($K$11:K12,$I$6)/60)/24,\"-[h]:mm\"),TEXT((SUM($K$11:K12,$I$6)/60)/24,\"[h]:mm\")),\"\")","v":""},null,{"$f":"IF(F12=\"\",IF(L12<0,L12+IF(G12=\" \",0,IF(((HOUR(E12)*60+MINUTE(E12))-(HOUR(D12)*60+MINUTE(D12)))>360,(HOUR(E12)*60+MINUTE(E12))-(HOUR(D12)*60+MINUTE(D12))-30,(HOUR(E12)*60+MINUTE(E12))-(HOUR(D12)*60+MINUTE(D12)))),IF(Q12=\"\",\"\",(Q12*60)*24)),\"\")","v":""},{"$f":"IF(OR(F12=\"krank\",F12=\"Urlaub\",C12=1,C12=2),0,IF($K$9=1,IF(SUM($U$4:$U$8)=0,$H$9/5,INDEX($S$4:$U$8,MATCH(B12,$S$4:$S$8,0),3)),IF($K$9=2,IF(AND(A12>14,SUM($U$12:$U$16)=0),$I$9/5,INDEX($S$12:$U$16,MATCH(B12,$S$12:$S$16,0),3)),IF($K$9=3,IF(A12<15,IF(SUM($U$4:$U$8)=0,$H$9/5,INDEX($S$4:$U$8,MATCH(B12,$S$4:$S$8,0),3)),IF(SUM($U$12:$U$16)=0,$I$9/5,INDEX($S$12:$U$16,MATCH(B12,$S$12:$S$16,0),3)))))))*-60","v":0},0,null,{"$f":"IF(OR($O$3=\"\",$N$3=\"\",N12=\"\"),\"\",IF($O$9-SUM($N$11:N11)-N12<0,TEXT(-(($O$9-SUM($N$11:N11)-N12)/24),\"-[hh]:mm\"),TEXT(($O$9-SUM($N$11:N11)-N12)/24,\"[hh]:mm\")))","v":""},null,"",{"$f":"IF($K$9=0,1,IF($K$9=1,R4,IF(AND($K$9=3,OR(SUM($U$12:$U$16)=0,$U$1=\"nein\")),3,IF(AND($U$1=\"\",SUM($U$12:$U$16)>0,U12>=1,OR($K$9=3,$K$9=2)),4,1))))","v":1},"Mo",null,{"$f":"IF(AND(I9=0,H9=0),0,IF(OR($K$9=0,INDIRECT(\"'\"&TEXT(DATE(D4,$C$4-1,1),\"MMM\")&\"'!$U$1\")=\"nein\",$U$1=\"nein\"),0,IF(T12>0,T12,INDEX(Uebersicht!$BF$3:$BJ$14,$C$4,MATCH(S12,Uebersicht!$BF$2:$BJ$2,0)))))","v":0}]
[{"$f":"IF(OR(A12=\"\",$D$4=\"\"),\"\",IF(A12+1<=$C$6,A12+1,\"\"))","v":""},"",{"$f":"IF(OR($K$9=0,AND($K$9=2,A13<=14)),1,IF(IF(ISNA(INDEX(X!$W$7:$W$20,MATCH(DATE($D$4,$C$4,A13),X!$AC$7:$AC$20,0))),1,2)=2,2,IF(OR(B13=\"Sa\",B13=\"So\"),2,IF($K$9=1,SUMIFS($R$4:$R$8,$S$4:$S$8,B13),IF(AND($K$9=2,A13<15),SUMIFS($R$4:$R$8,$S$4:$S$8,B13),IF(AND($K$9=2,A13>14),SUMIFS($R$12:$R$16,$S$12:$S$16,B13),IF(AND($K$9=3,A13>14),SUMIFS($R$12:$R$16,$S$12:$S$16,B13),IF(AND($K$9=3,A13<15),SUMIFS($R$4:$R$8,$S$4:$S$8,B13),1))))))))","v":1},null,null,null,"","",{"$f":"IF($K$9>0,IF(SUM($K$11:$K13,$I$6)<0,TEXT(-(SUM($K$11:K13,$I$6)/60)/24,\"-[h]:mm\"),TEXT((SUM($K$11:K13,$I$6)/60)/24,\"[h]:mm\")),\"\")","v":""},null,"",0,0,null,{"$f":"IF(OR($O$3=\"\",$N$3=\"\",N13=\"\"),\"\",IF($O$9-SUM($N$11:N12)-N13<0,TEXT(-(($O$9-SUM($N$11:N12)-N13)/24),\"-[hh]:mm\"),TEXT(($O$9-SUM($N$11:N12)-N13)/24,\"[hh]:mm\")))","v":""},null,"",{"$f":"IF($K$9=0,1,IF($K$9=1,R5,IF(AND($K$9=3,OR(SUM($U$12:$U$16)=0,$U$1=\"nein\")),3,IF(AND($U$1=\"\",SUM($U$12:$U$16)>0,U13>=1,OR($K$9=3,$K$9=2)),4,1))))","v":1},"Di",null,{"$f":"IF(OR($K$9=0,INDIRECT(\"'\"&TEXT(DATE(D5,$C$4-1,1),\"MMM\")&\"'!$U$1\")=\"nein\",$U$1=\"nein\"),0,IF(T13>0,T13,INDEX(Uebersicht!$BF$3:$BJ$14,$C$4,MATCH(S13,Uebersicht!$BF$2:$BJ$2,0))))","v":0}]
["","",{"$f":"IF(OR($K$9=0,AND($K$9=2,A14<=14)),1,IF(IF(ISNA(INDEX(X!$W$7:$W$20,MATCH(DATE($D$4,$C$4,A14),X!$AC$7:$AC$20,0))),1,2)=2,2,IF(OR(B14=\"Sa\",B14=\"So\"),2,IF($K$9=1,SUMIFS($R$4:$R$8,$S$4:$S$8,B14),IF(AND($K$9=2,A14<15),SUMIFS($R$4:$R$8,$S$4:$S$8,B14),IF(AND($K$9=2,A14>14),SUMIFS($R$12:$R$16,$S$12:$S$16,B14),IF(AND($K$9=3,A14>14),SUMIFS($R$12:$R$16,$S$12:$S$16,B14),IF(AND($K$9=3,A14<15),SUMIFS($R$4:$R$8,$S$4:$S$8,B14),1))))))))","v":1},null,null,null,"","",{"$f":"IF($K$9>0,IF(SUM($K$11:$K14,$I$6)<0,TEXT(-(SUM($K$11:K14,$I$6)/60)/24,\"-[h]:mm\"),TEXT((SUM($K$11:K14,$I$6)/60)/24,\"[h]:mm\")),\"\")","v":""},null,"",0,0,null,{"$f":"IF(OR($O$3=\"\",$N$3=\"\",N14=\"\"),\"\",IF($O$9-SUM($N$11:N13)-N14<0,TEXT(-(($O$9-SUM($N$11:N13)-N14)/24),\"-[hh]:mm\"),TEXT(($O$9-SUM($N$11:N13)-N14)/24,\"[hh]:mm\")))","v":""},null,"",{"$f":"IF($K$9=0,1,IF($K$9=1,R6,IF(AND($K$9=3,OR(SUM($U$12:$U$16)=0,$U$1=\"nein\")),3,IF(AND($U$1=\"\",SUM($U$12:$U$16)>0,U14>=1,OR($K$9=3,$K$9=2)),4,1))))","v":1},"Mi",null,{"$f":"IF(OR($K$9=0,INDIRECT(\"'\"&TEXT(DATE(D6,$C$4-1,1),\"MMM\")&\"'!$U$1\")=\"nein\",$U$1=\"nein\"),0,IF(T14>0,T14,INDEX(Uebersicht!$BF$3:$BJ$14,$C$4,MATCH(S14,Uebersicht!$BF$2:$BJ$2,0))))","v":0}]
["","",{"$f":"IF(OR($K$9=0,AND($K$9=2,A15<=14)),1,IF(IF(ISNA(INDEX(X!$W$7:$W$20,MATCH(DATE($D$4,$C$4,A15),X!$AC$7:$AC$20,0))),1,2)=2,2,IF(OR(B15=\"Sa\",B15=\"So\"),2,IF($K$9=1,SUMIFS($R$4:$R$8,$S$4:$S$8,B15),IF(AND($K$9=2,A15<15),SUMIFS($R$4:$R$8,$S$4:$S$8,B15),IF(AND($K$9=2,A15>14),SUMIFS($R$12:$R$16,$S$12:$S$16,B15),IF(AND($K$9=3,A15>14),SUMIFS($R$12:$R$16,$S$12:$S$16,B15),IF(AND($K$9=3,A15<15),SUMIFS($R$4:$R$8,$S$4:$S$8,B15),1))))))))","v":1},null,null,null,"","",{"$f":"IF($K$9>0,IF(SUM($K$11:$K15,$I$6)<0,TEXT(-(SUM($K$11:K15,$I$6)/60)/24,\"-[h]:mm\"),TEXT((SUM($K$11:K15,$I$6)/60)/24,\"[h]:mm\")),\"\")","v":""},null,"",0,0,null,{"$f":"IF(OR($O$3=\"\",$N$3=\"\",N15=\"\"),\"\",IF($O$9-SUM($N$11:N14)-N15<0,TEXT(-(($O$9-SUM($N$11:N14)-N15)/24),\"-[hh]:mm\"),TEXT(($O$9-SUM($N$11:N14)-N15)/24,\"[hh]:mm\")))","v":""},null,"",{"$f":"IF($K$9=0,1,IF($K$9=1,R7,IF(AND($K$9=3,OR(SUM($U$12:$U$16)=0,$U$1=\"nein\")),3,IF(AND($U$1=\"\",SUM($U$12:$U$16)>0,U15>=1,OR($K$9=3,$K$9=2)),4,1))))","v":1},"Do",null,{"$f":"IF(OR($K$9=0,INDIRECT(\"'\"&TEXT(DATE(D7,$C$4-1,1),\"MMM\")&\"'!$U$1\")=\"nein\",$U$1=\"nein\"),0,IF(T15>0,T15,INDEX(Uebersicht!$BF$3:$BJ$14,$C$4,MATCH(S15,Uebersicht!$BF$2:$BJ$2,0))))","v":0}]
["","",{"$f":"IF(OR($K$9=0,AND($K$9=2,A16<=14)),1,IF(IF(ISNA(INDEX(X!$W$7:$W$20,MATCH(DATE($D$4,$C$4,A16),X!$AC$7:$AC$20,0))),1,2)=2,2,IF(OR(B16=\"Sa\",B16=\"So\"),2,IF($K$9=1,SUMIFS($R$4:$R$8,$S$4:$S$8,B16),IF(AND($K$9=2,A16<15),SUMIFS($R$4:$R$8,$S$4:$S$8,B16),IF(AND($K$9=2,A16>14),SUMIFS($R$12:$R$16,$S$12:$S$16,B16),IF(AND($K$9=3,A16>14),SUMIFS($R$12:$R$16,$S$12:$S$16,B16),IF(AND($K$9=3,A16<15),SUMIFS($R$4:$R$8,$S$4:$S$8,B16),1))))))))","v":1},null,null,null,"","",{"$f":"IF($K$9>0,IF(SUM($K$11:$K16,$I$6)<0,TEXT(-(SUM($K$11:K16,$I$6)/60)/24,\"-[h]:mm\"),TEXT((SUM($K$11:K16,$I$6)/60)/24,\"[h]:mm\")),\"\")","v":""},null,"",0,0,null,{"$f":"IF(OR($O$3=\"\",$N$3=\"\",N16=\"\"),\"\",IF($O$9-SUM($N$11:N15)-N16<0,TEXT(-(($O$9-SUM($N$11:N15)-N16)/24),\"-[hh]:mm\"),TEXT(($O$9-SUM($N$11:N15)-N16)/24,\"[hh]:mm\")))","v":""},null,"",{"$f":"IF($K$9=0,1,IF($K$9=1,R8,IF(AND($K$9=3,OR(SUM($U$12:$U$16)=0,$U$1=\"nein\")),3,IF(AND($U$1=\"\",SUM($U$12:$U$16)>0,U16>=1,OR($K$9=3,$K$9=2)),4,1))))","v":1},"Fr",null,{"$f":"IF(OR($K$9=0,INDIRECT(\"'\"&TEXT(DATE(D8,$C$4-1,1),\"MMM\")&\"'!$U$1\")=\"nein\",$U$1=\"nein\"),0,IF(T16>0,T16,INDEX(Uebersicht!$BF$3:$BJ$14,$C$4,MATCH(S16,Uebersicht!$BF$2:$BJ$2,0))))","v":0}]
["","",{"$f":"IF(OR($K$9=0,AND($K$9=2,A17<=14)),1,IF(IF(ISNA(INDEX(X!$W$7:$W$20,MATCH(DATE($D$4,$C$4,A17),X!$AC$7:$AC$20,0))),1,2)=2,2,IF(OR(B17=\"Sa\",B17=\"So\"),2,IF($K$9=1,SUMIFS($R$4:$R$8,$S$4:$S$8,B17),IF(AND($K$9=2,A17<15),SUMIFS($R$4:$R$8,$S$4:$S$8,B17),IF(AND($K$9=2,A17>14),SUMIFS($R$12:$R$16,$S$12:$S$16,B17),IF(AND($K$9=3,A17>14),SUMIFS($R$12:$R$16,$S$12:$S$16,B17),IF(AND($K$9=3,A17<15),SUMIFS($R$4:$R$8,$S$4:$S$8,B17),1))))))))","v":1},null,null,null,"","",{"$f":"IF($K$9>0,IF(SUM($K$11:$K17,$I$6)<0,TEXT(-(SUM($K$11:K17,$I$6)/60)/24,\"-[h]:mm\"),TEXT((SUM($K$11:K17,$I$6)/60)/24,\"[h]:mm\")),\"\")","v":""},null,"",0,0,null,{"$f":"IF(OR($O$3=\"\",$N$3=\"\",N17=\"\"),\"\",IF($O$9-SUM($N$11:N16)-N17<0,TEXT(-(($O$9-SUM($N$11:N16)-N17)/24),\"-[hh]:mm\"),TEXT(($O$9-SUM($N$11:N16)-N17)/24,\"[hh]:mm\")))","v":""},null,"",null,{"$f":"IF(I9=0,\"\",IF(SUM(U12:U16)>I9,\"zu viel!\",IF(SUM(U12:U16)<I9,\"zu wenig!\",\"\")))","v":""},null,{"$f":"IF(OR(U9=\"nein\",SUM(U12:U16)=0),\"ja\",IF(OR(SUM(Uebersicht!C43:C47)>0,SUM(T12:T16)>0,SUM(U12:U16)>0),\"nein\",\"ja\"))","v":"ja"}]
["","",{"$f":"IF(OR($K$9=0,AND($K$9=2,A18<=14)),1,IF(IF(ISNA(INDEX(X!$W$7:$W$20,MATCH(DATE($D$4,$C$4,A18),X!$AC$7:$AC$20,0))),1,2)=2,2,IF(OR(B18=\"Sa\",B18=\"So\"),2,IF($K$9=1,SUMIFS($R$4:$R$8,$S$4:$S$8,B18),IF(AND($K$9=2,A18<15),SUMIFS($R$4:$R$8,$S$4:$S$8,B18),IF(AND($K$9=2,A18>14),SUMIFS($R$12:$R$16,$S$12:$S$16,B18),IF(AND($K$9=3,A18>14),SUMIFS($R$12:$R$16,$S$12:$S$16,B18),IF(AND($K$9=3,A18<15),SUMIFS($R$4:$R$8,$S$4:$S$8,B18),1))))))))","v":1},null,null,null,"","",{"$f":"IF($K$9>0,IF(SUM($K$11:$K18,$I$6)<0,TEXT(-(SUM($K$11:K18,$I$6)/60)/24,\"-[h]:mm\"),TEXT((SUM($K$11:K18,$I$6)/60)/24,\"[h]:mm\")),\"\")","v":""},null,"",0,0,null,{"$f":"IF(OR($O$3=\"\",$N$3=\"\",N18=\"\"),\"\",IF($O$9-SUM($N$11:N17)-N18<0,TEXT(-(($O$9-SUM($N$11:N17)-N18)/24),\"-[hh]:mm\"),TEXT(($O$9-SUM($N$11:N17)-N18)/24,\"[hh]:mm\")))","v":""},null,""]
["","",{"$f":"IF(OR($K$9=0,AND($K$9=2,A19<=14)),1,IF(IF(ISNA(INDEX(X!$W$7:$W$20,MATCH(DATE($D$4,$C$4,A19),X!$AC$7:$AC$20,0))),1,2)=2,2,IF(OR(B19=\"Sa\",B19=\"So\"),2,IF($K$9=1,SUMIFS($R$4:$R$8,$S$4:$S$8,B19),IF(AND($K$9=2,A19<15),SUMIFS($R$4:$R$8,$S$4:$S$8,B19),IF(AND($K$9=2,A19>14),SUMIFS($R$12:$R$16,$S$12:$S$16,B19),IF(AND($K$9=3,A19>14),SUMIFS($R$12:$R$16,$S$12:$S$16,B19),IF(AND($K$9=3,A19<15),SUMIFS($R$4:$R$8,$S$4:$S$8,B19),1))))))))","v":1},null,null,null,"","",{"$f":"IF($K$9>0,IF(SUM($K$11:$K19,$I$6)<0,TEXT(-(SUM($K$11:K19,$I$6)/60)/24,\"-[h]:mm\"),TEXT((SUM($K$11:K19,$I$6)/60)/24,\"[h]:mm\")),\"\")","v":""},null,"",0,0,null,{"$f":"IF(OR($O$3=\"\",$N$3=\"\",N19=\"\"),\"\",IF($O$9-SUM($N$11:N18)-N19<0,TEXT(-(($O$9-SUM($N$11:N18)-N19)/24),\"-[hh]:mm\"),TEXT(($O$9-SUM($N$11:N18)-N19)/24,\"[hh]:mm\")))","v":""},null,""]
["","",{"$f":"IF(OR($K$9=0,AND($K$9=2,A20<=14)),1,IF(IF(ISNA(INDEX(X!$W$7:$W$20,MATCH(DATE($D$4,$C$4,A20),X!$AC$7:$AC$20,0))),1,2)=2,2,IF(OR(B20=\"Sa\",B20=\"So\"),2,IF($K$9=1,SUMIFS($R$4:$R$8,$S$4:$S$8,B20),IF(AND($K$9=2,A20<15),SUMIFS($R$4:$R$8,$S$4:$S$8,B20),IF(AND($K$9=2,A20>14),SUMIFS($R$12:$R$16,$S$12:$S$16,B20),IF(AND($K$9=3,A20>14),SUMIFS($R$12:$R$16,$S$12:$S$16,B20),IF(AND($K$9=3,A20<15),SUMIFS($R$4:$R$8,$S$4:$S$8,B20),1))))))))","v":1},null,null,null,"","",{"$f":"IF($K$9>0,IF(SUM($K$11:$K20,$I$6)<0,TEXT(-(SUM($K$11:K20,$I$6)/60)/24,\"-[h]:mm\"),TEXT((SUM($K$11:K20,$I$6)/60)/24,\"[h]:mm\")),\"\")","v":""},null,"",0,0,null,{"$f":"IF(OR($O$3=\"\",$N$3=\"\",N20=\"\"),\"\",IF($O$9-SUM($N$11:N19)-N20<0,TEXT(-(($O$9-SUM($N$11:N19)-N20)/24),\"-[hh]:mm\"),TEXT(($O$9-SUM($N$11:N19)-N20)/24,\"[hh]:mm\")))","v":""},null,""]
["","",{"$f":"IF(OR($K$9=0,AND($K$9=2,A21<=14)),1,IF(IF(ISNA(INDEX(X!$W$7:$W$20,MATCH(DATE($D$4,$C$4,A21),X!$AC$7:$AC$20,0))),1,2)=2,2,IF(OR(B21=\"Sa\",B21=\"So\"),2,IF($K$9=1,SUMIFS($R$4:$R$8,$S$4:$S$8,B21),IF(AND($K$9=2,A21<15),SUMIFS($R$4:$R$8,$S$4:$S$8,B21),IF(AND($K$9=2,A21>14),SUMIFS($R$12:$R$16,$S$12:$S$16,B21),IF(AND($K$9=3,A21>14),SUMIFS($R$12:$R$16,$S$12:$S$16,B21),IF(AND($K$9=3,A21<15),SUMIFS($R$4:$R$8,$S$4:$S$8,B21),1))))))))","v":1},null,null,null,"","",{"$f":"IF($K$9>0,IF(SUM($K$11:$K21,$I$6)<0,TEXT(-(SUM($K$11:K21,$I$6)/60)/24,\"-[h]:mm\"),TEXT((SUM($K$11:K21,$I$6)/60)/24,\"[h]:mm\")),\"\")","v":""},null,"",0,0,null,{"$f":"IF(OR($O$3=\"\",$N$3=\"\",N21=\"\"),\"\",IF($O$9-SUM($N$11:N20)-N21<0,TEXT(-(($O$9-SUM($N$11:N20)-N21)/24),\"-[hh]:mm\"),TEXT(($O$9-SUM($N$11:N20)-N21)/24,\"[hh]:mm\")))","v":""},null,""]
["","",{"$f":"IF(OR($K$9=0,AND($K$9=2,A22<=14)),1,IF(IF(ISNA(INDEX(X!$W$7:$W$20,MATCH(DATE($D$4,$C$4,A22),X!$AC$7:$AC$20,0))),1,2)=2,2,IF(OR(B22=\"Sa\",B22=\"So\"),2,IF($K$9=1,SUMIFS($R$4:$R$8,$S$4:$S$8,B22),IF(AND($K$9=2,A22<15),SUMIFS($R$4:$R$8,$S$4:$S$8,B22),IF(AND($K$9=2,A22>14),SUMIFS($R$12:$R$16,$S$12:$S$16,B22),IF(AND($K$9=3,A22>14),SUMIFS($R$12:$R$16,$S$12:$S$16,B22),IF(AND($K$9=3,A22<15),SUMIFS($R$4:$R$8,$S$4:$S$8,B22),1))))))))","v":1},null,null,null,"","",{"$f":"IF($K$9>0,IF(SUM($K$11:$K22,$I$6)<0,TEXT(-(SUM($K$11:K22,$I$6)/60)/24,\"-[h]:mm\"),TEXT((SUM($K$11:K22,$I$6)/60)/24,\"[h]:mm\")),\"\")","v":""},null,"",0,0,null,{"$f":"IF(OR($O$3=\"\",$N$3=\"\",N22=\"\"),\"\",IF($O$9-SUM($N$11:N21)-N22<0,TEXT(-(($O$9-SUM($N$11:N21)-N22)/24),\"-[hh]:mm\"),TEXT(($O$9-SUM($N$11:N21)-N22)/24,\"[hh]:mm\")))","v":""},null,""]
["","",{"$f":"IF(OR($K$9=0,AND($K$9=2,A23<=14)),1,IF(IF(ISNA(INDEX(X!$W$7:$W$20,MATCH(DATE($D$4,$C$4,A23),X!$AC$7:$AC$20,0))),1,2)=2,2,IF(OR(B23=\"Sa\",B23=\"So\"),2,IF($K$9=1,SUMIFS($R$4:$R$8,$S$4:$S$8,B23),IF(AND($K$9=2,A23<15),SUMIFS($R$4:$R$8,$S$4:$S$8,B23),IF(AND($K$9=2,A23>14),SUMIFS($R$12:$R$16,$S$12:$S$16,B23),IF(AND($K$9=3,A23>14),SUMIFS($R$12:$R$16,$S$12:$S$16,B23),IF(AND($K$9=3,A23<15),SUMIFS($R$4:$R$8,$S$4:$S$8,B23),1))))))))","v":1},null,null,null,"","",{"$f":"IF($K$9>0,IF(SUM($K$11:$K23,$I$6)<0,TEXT(-(SUM($K$11:K23,$I$6)/60)/24,\"-[h]:mm\"),TEXT((SUM($K$11:K23,$I$6)/60)/24,\"[h]:mm\")),\"\")","v":""},null,"",0,0,null,{"$f":"IF(OR($O$3=\"\",$N$3=\"\",N23=\"\"),\"\",IF($O$9-SUM($N$11:N22)-N23<0,TEXT(-(($O$9-SUM($N$11:N22)-N23)/24),\"-[hh]:mm\"),TEXT(($O$9-SUM($N$11:N22)-N23)/24,\"[hh]:mm\")))","v":""},null,""]
["","",{"$f":"IF(OR($K$9=0,AND($K$9=2,A24<=14)),1,IF(IF(ISNA(INDEX(X!$W$7:$W$20,MATCH(DATE($D$4,$C$4,A24),X!$AC$7:$AC$20,0))),1,2)=2,2,IF(OR(B24=\"Sa\",B24=\"So\"),2,IF($K$9=1,SUMIFS($R$4:$R$8,$S$4:$S$8,B24),IF(AND($K$9=2,A24<15),SUMIFS($R$4:$R$8,$S$4:$S$8,B24),IF(AND($K$9=2,A24>14),SUMIFS($R$12:$R$16,$S$12:$S$16,B24),IF(AND($K$9=3,A24>14),SUMIFS($R$12:$R$16,$S$12:$S$16,B24),IF(AND($K$9=3,A24<15),SUMIFS($R$4:$R$8,$S$4:$S$8,B24),1))))))))","v":1},null,null,null,"","",{"$f":"IF($K$9>0,IF(SUM($K$11:$K24,$I$6)<0,TEXT(-(SUM($K$11:K24,$I$6)/60)/24,\"-[h]:mm\"),TEXT((SUM($K$11:K24,$I$6)/60)/24,\"[h]:mm\")),\"\")","v":""},null,"",0,0,null,{"$f":"IF(OR($O$3=\"\",$N$3=\"\",N24=\"\"),\"\",IF($O$9-SUM($N$11:N23)-N24<0,TEXT(-(($O$9-SUM($N$11:N23)-N24)/24),\"-[hh]:mm\"),TEXT(($O$9-SUM($N$11:N23)-N24)/24,\"[hh]:mm\")))","v":""},null,""]
["","",{"$f":"IF(OR($K$9=0,AND($K$9=2,A25<=14)),1,IF(IF(ISNA(INDEX(X!$W$7:$W$20,MATCH(DATE($D$4,$C$4,A25),X!$AC$7:$AC$20,0))),1,2)=2,2,IF(OR(B25=\"Sa\",B25=\"So\"),2,IF($K$9=1,SUMIFS($R$4:$R$8,$S$4:$S$8,B25),IF(AND($K$9=2,A25<15),SUMIFS($R$4:$R$8,$S$4:$S$8,B25),IF(AND($K$9=2,A25>14),SUMIFS($R$12:$R$16,$S$12:$S$16,B25),IF(AND($K$9=3,A25>14),SUMIFS($R$12:$R$16,$S$12:$S$16,B25),IF(AND($K$9=3,A25<15),SUMIFS($R$4:$R$8,$S$4:$S$8,B25),1))))))))","v":1},null,null,null,"","",{"$f":"IF($K$9>0,IF(SUM($K$11:$K25,$I$6)<0,TEXT(-(SUM($K$11:K25,$I$6)/60)/24,\"-[h]:mm\"),TEXT((SUM($K$11:K25,$I$6)/60)/24,\"[h]:mm\")),\"\")","v":""},null,"",0,0,null,{"$f":"IF(OR($O$3=\"\",$N$3=\"\",N25=\"\"),\"\",IF($O$9-SUM($N$11:N24)-N25<0,TEXT(-(($O$9-SUM($N$11:N24)-N25)/24),\"-[hh]:mm\"),TEXT(($O$9-SUM($N$11:N24)-N25)/24,\"[hh]:mm\")))","v":""},null,""]
["","",{"$f":"IF(OR($K$9=0,AND($K$9=2,A26<=14)),1,IF(IF(ISNA(INDEX(X!$W$7:$W$20,MATCH(DATE($D$4,$C$4,A26),X!$AC$7:$AC$20,0))),1,2)=2,2,IF(OR(B26=\"Sa\",B26=\"So\"),2,IF($K$9=1,SUMIFS($R$4:$R$8,$S$4:$S$8,B26),IF(AND($K$9=2,A26<15),SUMIFS($R$4:$R$8,$S$4:$S$8,B26),IF(AND($K$9=2,A26>14),SUMIFS($R$12:$R$16,$S$12:$S$16,B26),IF(AND($K$9=3,A26>14),SUMIFS($R$12:$R$16,$S$12:$S$16,B26),IF(AND($K$9=3,A26<15),SUMIFS($R$4:$R$8,$S$4:$S$8,B26),1))))))))","v":1},null,null,null,"","",{"$f":"IF($K$9>0,IF(SUM($K$11:$K26,$I$6)<0,TEXT(-(SUM($K$11:K26,$I$6)/60)/24,\"-[h]:mm\"),TEXT((SUM($K$11:K26,$I$6)/60)/24,\"[h]:mm\")),\"\")","v":""},null,"",0,0,null,{"$f":"IF(OR($O$3=\"\",$N$3=\"\",N26=\"\"),\"\",IF($O$9-SUM($N$11:N25)-N26<0,TEXT(-(($O$9-SUM($N$11:N25)-N26)/24),\"-[hh]:mm\"),TEXT(($O$9-SUM($N$11:N25)-N26)/24,\"[hh]:mm\")))","v":""},null,""]
["","",{"$f":"IF(OR($K$9=0,AND($K$9=2,A27<=14)),1,IF(IF(ISNA(INDEX(X!$W$7:$W$20,MATCH(DATE($D$4,$C$4,A27),X!$AC$7:$AC$20,0))),1,2)=2,2,IF(OR(B27=\"Sa\",B27=\"So\"),2,IF($K$9=1,SUMIFS($R$4:$R$8,$S$4:$S$8,B27),IF(AND($K$9=2,A27<15),SUMIFS($R$4:$R$8,$S$4:$S$8,B27),IF(AND($K$9=2,A27>14),SUMIFS($R$12:$R$16,$S$12:$S$16,B27),IF(AND($K$9=3,A27>14),SUMIFS($R$12:$R$16,$S$12:$S$16,B27),IF(AND($K$9=3,A27<15),SUMIFS($R$4:$R$8,$S$4:$S$8,B27),1))))))))","v":1},null,null,null,"","",{"$f":"IF($K$9>0,IF(SUM($K$11:$K27,$I$6)<0,TEXT(-(SUM($K$11:K27,$I$6)/60)/24,\"-[h]:mm\"),TEXT((SUM($K$11:K27,$I$6)/60)/24,\"[h]:mm\")),\"\")","v":""},null,"",0,0,null,{"$f":"IF(OR($O$3=\"\",$N$3=\"\",N27=\"\"),\"\",IF($O$9-SUM($N$11:N26)-N27<0,TEXT(-(($O$9-SUM($N$11:N26)-N27)/24),\"-[hh]:mm\"),TEXT(($O$9-SUM($N$11:N26)-N27)/24,\"[hh]:mm\")))","v":""},null,""]
["","",{"$f":"IF(OR($K$9=0,AND($K$9=2,A28<=14)),1,IF(IF(ISNA(INDEX(X!$W$7:$W$20,MATCH(DATE($D$4,$C$4,A28),X!$AC$7:$AC$20,0))),1,2)=2,2,IF(OR(B28=\"Sa\",B28=\"So\"),2,IF($K$9=1,SUMIFS($R$4:$R$8,$S$4:$S$8,B28),IF(AND($K$9=2,A28<15),SUMIFS($R$4:$R$8,$S$4:$S$8,B28),IF(AND($K$9=2,A28>14),SUMIFS($R$12:$R$16,$S$12:$S$16,B28),IF(AND($K$9=3,A28>14),SUMIFS($R$12:$R$16,$S$12:$S$16,B28),IF(AND($K$9=3,A28<15),SUMIFS($R$4:$R$8,$S$4:$S$8,B28),1))))))))","v":1},null,null,null,"","",{"$f":"IF($K$9>0,IF(SUM($K$11:$K28,$I$6)<0,TEXT(-(SUM($K$11:K28,$I$6)/60)/24,\"-[h]:mm\"),TEXT((SUM($K$11:K28,$I$6)/60)/24,\"[h]:mm\")),\"\")","v":""},null,"",0,0,null,{"$f":"IF(OR($O$3=\"\",$N$3=\"\",N28=\"\"),\"\",IF($O$9-SUM($N$11:N27)-N28<0,TEXT(-(($O$9-SUM($N$11:N27)-N28)/24),\"-[hh]:mm\"),TEXT(($O$9-SUM($N$11:N27)-N28)/24,\"[hh]:mm\")))","v":""},null,""]
["","",{"$f":"IF(OR($K$9=0,AND($K$9=2,A29<=14)),1,IF(IF(ISNA(INDEX(X!$W$7:$W$20,MATCH(DATE($D$4,$C$4,A29),X!$AC$7:$AC$20,0))),1,2)=2,2,IF(OR(B29=\"Sa\",B29=\"So\"),2,IF($K$9=1,SUMIFS($R$4:$R$8,$S$4:$S$8,B29),IF(AND($K$9=2,A29<15),SUMIFS($R$4:$R$8,$S$4:$S$8,B29),IF(AND($K$9=2,A29>14),SUMIFS($R$12:$R$16,$S$12:$S$16,B29),IF(AND($K$9=3,A29>14),SUMIFS($R$12:$R$16,$S$12:$S$16,B29),IF(AND($K$9=3,A29<15),SUMIFS($R$4:$R$8,$S$4:$S$8,B29),1))))))))","v":1},null,null,null,"","",{"$f":"IF($K$9>0,IF(SUM($K$11:$K29,$I$6)<0,TEXT(-(SUM($K$11:K29,$I$6)/60)/24,\"-[h]:mm\"),TEXT((SUM($K$11:K29,$I$6)/60)/24,\"[h]:mm\")),\"\")","v":""},null,"",0,0,null,{"$f":"IF(OR($O$3=\"\",$N$3=\"\",N29=\"\"),\"\",IF($O$9-SUM($N$11:N28)-N29<0,TEXT(-(($O$9-SUM($N$11:N28)-N29)/24),\"-[hh]:mm\"),TEXT(($O$9-SUM($N$11:N28)-N29)/24,\"[hh]:mm\")))","v":""},null,""]
["","",{"$f":"IF(OR($K$9=0,AND($K$9=2,A30<=14)),1,IF(IF(ISNA(INDEX(X!$W$7:$W$20,MATCH(DATE($D$4,$C$4,A30),X!$AC$7:$AC$20,0))),1,2)=2,2,IF(OR(B30=\"Sa\",B30=\"So\"),2,IF($K$9=1,SUMIFS($R$4:$R$8,$S$4:$S$8,B30),IF(AND($K$9=2,A30<15),SUMIFS($R$4:$R$8,$S$4:$S$8,B30),IF(AND($K$9=2,A30>14),SUMIFS($R$12:$R$16,$S$12:$S$16,B30),IF(AND($K$9=3,A30>14),SUMIFS($R$12:$R$16,$S$12:$S$16,B30),IF(AND($K$9=3,A30<15),SUMIFS($R$4:$R$8,$S$4:$S$8,B30),1))))))))","v":1},null,null,null,"","",{"$f":"IF($K$9>0,IF(SUM($K$11:$K30,$I$6)<0,TEXT(-(SUM($K$11:K30,$I$6)/60)/24,\"-[h]:mm\"),TEXT((SUM($K$11:K30,$I$6)/60)/24,\"[h]:mm\")),\"\")","v":""},null,"",0,0,null,{"$f":"IF(OR($O$3=\"\",$N$3=\"\",N30=\"\"),\"\",IF($O$9-SUM($N$11:N29)-N30<0,TEXT(-(($O$9-SUM($N$11:N29)-N30)/24),\"-[hh]:mm\"),TEXT(($O$9-SUM($N$11:N29)-N30)/24,\"[hh]:mm\")))","v":""},null,""]
["","",{"$f":"IF(OR($K$9=0,AND($K$9=2,A31<=14)),1,IF(IF(ISNA(INDEX(X!$W$7:$W$20,MATCH(DATE($D$4,$C$4,A31),X!$AC$7:$AC$20,0))),1,2)=2,2,IF(OR(B31=\"Sa\",B31=\"So\"),2,IF($K$9=1,SUMIFS($R$4:$R$8,$S$4:$S$8,B31),IF(AND($K$9=2,A31<15),SUMIFS($R$4:$R$8,$S$4:$S$8,B31),IF(AND($K$9=2,A31>14),SUMIFS($R$12:$R$16,$S$12:$S$16,B31),IF(AND($K$9=3,A31>14),SUMIFS($R$12:$R$16,$S$12:$S$16,B31),IF(AND($K$9=3,A31<15),SUMIFS($R$4:$R$8,$S$4:$S$8,B31),1))))))))","v":1},null,null,null,"","",{"$f":"IF($K$9>0,IF(SUM($K$11:$K31,$I$6)<0,TEXT(-(SUM($K$11:K31,$I$6)/60)/24,\"-[h]:mm\"),TEXT((SUM($K$11:K31,$I$6)/60)/24,\"[h]:mm\")),\"\")","v":""},null,"",0,0,null,{"$f":"IF(OR($O$3=\"\",$N$3=\"\",N31=\"\"),\"\",IF($O$9-SUM($N$11:N30)-N31<0,TEXT(-(($O$9-SUM($N$11:N30)-N31)/24),\"-[hh]:mm\"),TEXT(($O$9-SUM($N$11:N30)-N31)/24,\"[hh]:mm\")))","v":""},null,""]
["","",{"$f":"IF(OR($K$9=0,AND($K$9=2,A32<=14)),1,IF(IF(ISNA(INDEX(X!$W$7:$W$20,MATCH(DATE($D$4,$C$4,A32),X!$AC$7:$AC$20,0))),1,2)=2,2,IF(OR(B32=\"Sa\",B32=\"So\"),2,IF($K$9=1,SUMIFS($R$4:$R$8,$S$4:$S$8,B32),IF(AND($K$9=2,A32<15),SUMIFS($R$4:$R$8,$S$4:$S$8,B32),IF(AND($K$9=2,A32>14),SUMIFS($R$12:$R$16,$S$12:$S$16,B32),IF(AND($K$9=3,A32>14),SUMIFS($R$12:$R$16,$S$12:$S$16,B32),IF(AND($K$9=3,A32<15),SUMIFS($R$4:$R$8,$S$4:$S$8,B32),1))))))))","v":1},null,null,null,"","",{"$f":"IF($K$9>0,IF(SUM($K$11:$K32,$I$6)<0,TEXT(-(SUM($K$11:K32,$I$6)/60)/24,\"-[h]:mm\"),TEXT((SUM($K$11:K32,$I$6)/60)/24,\"[h]:mm\")),\"\")","v":""},null,"",0,0,null,{"$f":"IF(OR($O$3=\"\",$N$3=\"\",N32=\"\"),\"\",IF($O$9-SUM($N$11:N31)-N32<0,TEXT(-(($O$9-SUM($N$11:N31)-N32)/24),\"-[hh]:mm\"),TEXT(($O$9-SUM($N$11:N31)-N32)/24,\"[hh]:mm\")))","v":""},null,""]
["","",{"$f":"IF(OR($K$9=0,AND($K$9=2,A33<=14)),1,IF(IF(ISNA(INDEX(X!$W$7:$W$20,MATCH(DATE($D$4,$C$4,A33),X!$AC$7:$AC$20,0))),1,2)=2,2,IF(OR(B33=\"Sa\",B33=\"So\"),2,IF($K$9=1,SUMIFS($R$4:$R$8,$S$4:$S$8,B33),IF(AND($K$9=2,A33<15),SUMIFS($R$4:$R$8,$S$4:$S$8,B33),IF(AND($K$9=2,A33>14),SUMIFS($R$12:$R$16,$S$12:$S$16,B33),IF(AND($K$9=3,A33>14),SUMIFS($R$12:$R$16,$S$12:$S$16,B33),IF(AND($K$9=3,A33<15),SUMIFS($R$4:$R$8,$S$4:$S$8,B33),1))))))))","v":1},null,null,null,"","",{"$f":"IF($K$9>0,IF(SUM($K$11:$K33,$I$6)<0,TEXT(-(SUM($K$11:K33,$I$6)/60)/24,\"-[h]:mm\"),TEXT((SUM($K$11:K33,$I$6)/60)/24,\"[h]:mm\")),\"\")","v":""},null,"",0,0,null,{"$f":"IF(OR($O$3=\"\",$N$3=\"\",N33=\"\"),\"\",IF($O$9-SUM($N$11:N32)-N33<0,TEXT(-(($O$9-SUM($N$11:N32)-N33)/24),\"-[hh]:mm\"),TEXT(($O$9-SUM($N$11:N32)-N33)/24,\"[hh]:mm\")))","v":""},null,""]
["","",{"$f":"IF(OR($K$9=0,AND($K$9=2,A34<=14)),1,IF(IF(ISNA(INDEX(X!$W$7:$W$20,MATCH(DATE($D$4,$C$4,A34),X!$AC$7:$AC$20,0))),1,2)=2,2,IF(OR(B34=\"Sa\",B34=\"So\"),2,IF($K$9=1,SUMIFS($R$4:$R$8,$S$4:$S$8,B34),IF(AND($K$9=2,A34<15),SUMIFS($R$4:$R$8,$S$4:$S$8,B34),IF(AND($K$9=2,A34>14),SUMIFS($R$12:$R$16,$S$12:$S$16,B34),IF(AND($K$9=3,A34>14),SUMIFS($R$12:$R$16,$S$12:$S$16,B34),IF(AND($K$9=3,A34<15),SUMIFS($R$4:$R$8,$S$4:$S$8,B34),1))))))))","v":1},null,null,null,"","",{"$f":"IF($K$9>0,IF(SUM($K$11:$K34,$I$6)<0,TEXT(-(SUM($K$11:K34,$I$6)/60)/24,\"-[h]:mm\"),TEXT((SUM($K$11:K34,$I$6)/60)/24,\"[h]:mm\")),\"\")","v":""},null,"",0,0,null,{"$f":"IF(OR($O$3=\"\",$N$3=\"\",N34=\"\"),\"\",IF($O$9-SUM($N$11:N33)-N34<0,TEXT(-(($O$9-SUM($N$11:N33)-N34)/24),\"-[hh]:mm\"),TEXT(($O$9-SUM($N$11:N33)-N34)/24,\"[hh]:mm\")))","v":""},null,""]
["","",{"$f":"IF(OR($K$9=0,AND($K$9=2,A35<=14)),1,IF(IF(ISNA(INDEX(X!$W$7:$W$20,MATCH(DATE($D$4,$C$4,A35),X!$AC$7:$AC$20,0))),1,2)=2,2,IF(OR(B35=\"Sa\",B35=\"So\"),2,IF($K$9=1,SUMIFS($R$4:$R$8,$S$4:$S$8,B35),IF(AND($K$9=2,A35<15),SUMIFS($R$4:$R$8,$S$4:$S$8,B35),IF(AND($K$9=2,A35>14),SUMIFS($R$12:$R$16,$S$12:$S$16,B35),IF(AND($K$9=3,A35>14),SUMIFS($R$12:$R$16,$S$12:$S$16,B35),IF(AND($K$9=3,A35<15),SUMIFS($R$4:$R$8,$S$4:$S$8,B35),1))))))))","v":1},null,null,null,"","",{"$f":"IF($K$9>0,IF(SUM($K$11:$K35,$I$6)<0,TEXT(-(SUM($K$11:K35,$I$6)/60)/24,\"-[h]:mm\"),TEXT((SUM($K$11:K35,$I$6)/60)/24,\"[h]:mm\")),\"\")","v":""},null,"",0,0,null,{"$f":"IF(OR($O$3=\"\",$N$3=\"\",N35=\"\"),\"\",IF($O$9-SUM($N$11:N34)-N35<0,TEXT(-(($O$9-SUM($N$11:N34)-N35)/24),\"-[hh]:mm\"),TEXT(($O$9-SUM($N$11:N34)-N35)/24,\"[hh]:mm\")))","v":""},null,""]
["","",{"$f":"IF(OR($K$9=0,AND($K$9=2,A36<=14)),1,IF(IF(ISNA(INDEX(X!$W$7:$W$20,MATCH(DATE($D$4,$C$4,A36),X!$AC$7:$AC$20,0))),1,2)=2,2,IF(OR(B36=\"Sa\",B36=\"So\"),2,IF($K$9=1,SUMIFS($R$4:$R$8,$S$4:$S$8,B36),IF(AND($K$9=2,A36<15),SUMIFS($R$4:$R$8,$S$4:$S$8,B36),IF(AND($K$9=2,A36>14),SUMIFS($R$12:$R$16,$S$12:$S$16,B36),IF(AND($K$9=3,A36>14),SUMIFS($R$12:$R$16,$S$12:$S$16,B36),IF(AND($K$9=3,A36<15),SUMIFS($R$4:$R$8,$S$4:$S$8,B36),1))))))))","v":1},null,null,null,"","",{"$f":"IF($K$9>0,IF(SUM($K$11:$K36,$I$6)<0,TEXT(-(SUM($K$11:K36,$I$6)/60)/24,\"-[h]:mm\"),TEXT((SUM($K$11:K36,$I$6)/60)/24,\"[h]:mm\")),\"\")","v":""},null,"",0,0,null,{"$f":"IF(OR($O$3=\"\",$N$3=\"\",N36=\"\"),\"\",IF($O$9-SUM($N$11:N35)-N36<0,TEXT(-(($O$9-SUM($N$11:N35)-N36)/24),\"-[hh]:mm\"),TEXT(($O$9-SUM($N$11:N35)-N36)/24,\"[hh]:mm\")))","v":""},null,""]
["","",{"$f":"IF(OR($K$9=0,AND($K$9=2,A37<=14)),1,IF(IF(ISNA(INDEX(X!$W$7:$W$20,MATCH(DATE($D$4,$C$4,A37),X!$AC$7:$AC$20,0))),1,2)=2,2,IF(OR(B37=\"Sa\",B37=\"So\"),2,IF($K$9=1,SUMIFS($R$4:$R$8,$S$4:$S$8,B37),IF(AND($K$9=2,A37<15),SUMIFS($R$4:$R$8,$S$4:$S$8,B37),IF(AND($K$9=2,A37>14),SUMIFS($R$12:$R$16,$S$12:$S$16,B37),IF(AND($K$9=3,A37>14),SUMIFS($R$12:$R$16,$S$12:$S$16,B37),IF(AND($K$9=3,A37<15),SUMIFS($R$4:$R$8,$S$4:$S$8,B37),1))))))))","v":1},null,null,null,"","",{"$f":"IF($K$9>0,IF(SUM($K$11:$K37,$I$6)<0,TEXT(-(SUM($K$11:K37,$I$6)/60)/24,\"-[h]:mm\"),TEXT((SUM($K$11:K37,$I$6)/60)/24,\"[h]:mm\")),\"\")","v":""},null,"",0,0,null,{"$f":"IF(OR($O$3=\"\",$N$3=\"\",N37=\"\"),\"\",IF($O$9-SUM($N$11:N36)-N37<0,TEXT(-(($O$9-SUM($N$11:N36)-N37)/24),\"-[hh]:mm\"),TEXT(($O$9-SUM($N$11:N36)-N37)/24,\"[hh]:mm\")))","v":""},null,""]
["","",{"$f":"IF(OR($K$9=0,AND($K$9=2,A38<=14)),1,IF(IF(ISNA(INDEX(X!$W$7:$W$20,MATCH(DATE($D$4,$C$4,A38),X!$AC$7:$AC$20,0))),1,2)=2,2,IF(OR(B38=\"Sa\",B38=\"So\"),2,IF($K$9=1,SUMIFS($R$4:$R$8,$S$4:$S$8,B38),IF(AND($K$9=2,A38<15),SUMIFS($R$4:$R$8,$S$4:$S$8,B38),IF(AND($K$9=2,A38>14),SUMIFS($R$12:$R$16,$S$12:$S$16,B38),IF(AND($K$9=3,A38>14),SUMIFS($R$12:$R$16,$S$12:$S$16,B38),IF(AND($K$9=3,A38<15),SUMIFS($R$4:$R$8,$S$4:$S$8,B38),1))))))))","v":1},null,null,null,"","",{"$f":"IF($K$9>0,IF(SUM($K$11:$K38,$I$6)<0,TEXT(-(SUM($K$11:K38,$I$6)/60)/24,\"-[h]:mm\"),TEXT((SUM($K$11:K38,$I$6)/60)/24,\"[h]:mm\")),\"\")","v":""},null,"",0,0,null,{"$f":"IF(OR($O$3=\"\",$N$3=\"\",N38=\"\"),\"\",IF($O$9-SUM($N$11:N37)-N38<0,TEXT(-(($O$9-SUM($N$11:N37)-N38)/24),\"-[hh]:mm\"),TEXT(($O$9-SUM($N$11:N37)-N38)/24,\"[hh]:mm\")))","v":""},null,""]
["",{"$f":"IF(OR(A39=\"\",$D$4=\"\"),\"\",TEXT(DATE($D$4,$C$4,A39),\"ttt\"))","v":""},{"$f":"IF(OR($K$9=0,AND($K$9=2,A39<=14)),1,IF(IF(ISNA(INDEX(X!$W$7:$W$20,MATCH(DATE($D$4,$C$4,A39),X!$AC$7:$AC$20,0))),1,2)=2,2,IF(OR(B39=\"Sa\",B39=\"So\"),2,IF($K$9=1,SUMIFS($R$4:$R$8,$S$4:$S$8,B39),IF(AND($K$9=2,A39<15),SUMIFS($R$4:$R$8,$S$4:$S$8,B39),IF(AND($K$9=2,A39>14),SUMIFS($R$12:$R$16,$S$12:$S$16,B39),IF(AND($K$9=3,A39>14),SUMIFS($R$12:$R$16,$S$12:$S$16,B39),IF(AND($K$9=3,A39<15),SUMIFS($R$4:$R$8,$S$4:$S$8,B39),1))))))))","v":1},null,null,null,"","",{"$f":"IF($K$9>0,IF(SUM($K$11:$K39,$I$6)<0,TEXT(-(SUM($K$11:K39,$I$6)/60)/24,\"-[h]:mm\"),TEXT((SUM($K$11:K39,$I$6)/60)/24,\"[h]:mm\")),\"\")","v":""},null,"",0,0,null,{"$f":"IF(OR($O$3=\"\",$N$3=\"\",N39=\"\"),\"\",IF($O$9-SUM($N$11:N38)-N39<0,TEXT(-(($O$9-SUM($N$11:N38)-N39)/24),\"-[hh]:mm\"),TEXT(($O$9-SUM($N$11:N38)-N39)/24,\"[hh]:mm\")))","v":""},null,""]
["",{"$f":"IF(OR(A40=\"\",$D$4=\"\"),\"\",TEXT(DATE($D$4,$C$4,A40),\"ttt\"))","v":""},{"$f":"IF(OR($K$9=0,AND($K$9=2,A40<=14)),1,IF(IF(ISNA(INDEX(X!$W$7:$W$20,MATCH(DATE($D$4,$C$4,A40),X!$AC$7:$AC$20,0))),1,2)=2,2,IF(OR(B40=\"Sa\",B40=\"So\"),2,IF($K$9=1,SUMIFS($R$4:$R$8,$S$4:$S$8,B40),IF(AND($K$9=2,A40<15),SUMIFS($R$4:$R$8,$S$4:$S$8,B40),IF(AND($K$9=2,A40>14),SUMIFS($R$12:$R$16,$S$12:$S$16,B40),IF(AND($K$9=3,A40>14),SUMIFS($R$12:$R$16,$S$12:$S$16,B40),IF(AND($K$9=3,A40<15),SUMIFS($R$4:$R$8,$S$4:$S$8,B40),1))))))))","v":1},null,null,null,"","",{"$f":"IF($K$9>0,IF(SUM($K$11:$K40,$I$6)<0,TEXT(-(SUM($K$11:K40,$I$6)/60)/24,\"-[h]:mm\"),TEXT((SUM($K$11:K40,$I$6)/60)/24,\"[h]:mm\")),\"\")","v":""},null,"",0,0,null,{"$f":"IF(OR($O$3=\"\",$N$3=\"\",N40=\"\"),\"\",IF($O$9-SUM($N$11:N39)-N40<0,TEXT(-(($O$9-SUM($N$11:N39)-N40)/24),\"-[hh]:mm\"),TEXT(($O$9-SUM($N$11:N39)-N40)/24,\"[hh]:mm\")))","v":""},null,""]
["","",{"$f":"IF(OR($K$9=0,AND($K$9=2,A41<=14)),1,IF(IF(ISNA(INDEX(X!$W$7:$W$20,MATCH(DATE($D$4,$C$4,A41),X!$AC$7:$AC$20,0))),1,2)=2,2,IF(OR(B41=\"Sa\",B41=\"So\"),2,IF($K$9=1,SUMIFS($R$4:$R$8,$S$4:$S$8,B41),IF(AND($K$9=2,A41<15),SUMIFS($R$4:$R$8,$S$4:$S$8,B41),IF(AND($K$9=2,A41>14),SUMIFS($R$12:$R$16,$S$12:$S$16,B41),IF(AND($K$9=3,A41>14),SUMIFS($R$12:$R$16,$S$12:$S$16,B41),IF(AND($K$9=3,A41<15),SUMIFS($R$4:$R$8,$S$4:$S$8,B41),1))))))))","v":1},null,null,null,"","",{"$f":"IF($K$9>0,IF(SUM($K$11:$K41,$I$6)<0,TEXT(-(SUM($K$11:K41,$I$6)/60)/24,\"-[h]:mm\"),TEXT((SUM($K$11:K41,$I$6)/60)/24,\"[h]:mm\")),\"\")","v":""},null,"",0,0,null,{"$f":"IF(OR($O$3=\"\",$N$3=\"\",N41=\"\"),\"\",IF($O$9-SUM($N$11:N40)-N41<0,TEXT(-(($O$9-SUM($N$11:N40)-N41)/24),\"-[hh]:mm\"),TEXT(($O$9-SUM($N$11:N40)-N41)/24,\"[hh]:mm\")))","v":""},null,""]
[null,null,null,null,null,null,{"$f":"L42+K42","v":0},{"$f":"K42","v":0},null,null,{"$f":"SUM(K11:K41)","v":0},{"$f":"-SUM(L11:L41)","v":0},{"$f":"M41","v":0},{"$f":"SUM(N11:N41)*60","v":0},null,null,{"$f":"IF((G42/60)<0,TEXT(-((G42/60)/24),\"-[hh]:mm\"),TEXT((G42/60)/24,\"[hh]:mm\"))","v":"00:00"}]
[{"$f":"IF(G4=\"\",\"\",\"Ergebnis\")","v":""},null,null,null,null,null,{"$f":"IF(G4=\"\",0,IF(((G42-N42)/60)<0,TEXT(-(((G42-N42)/60)/24),\"-[hh]:mm\"),TEXT(((G42-N42)/60)/24,\"[hh]:mm\")))","v":0},{"$f":"IF(G4=0,\"\",IF(H42<0,TEXT(-((H42/60)/24),\"-[hh]:mm\"),IF((H42/60)>24,TEXT((((H42/60)-24)/24)+(24/24),\"[hh]:mm\"),(H42/60)/24)))","v":0},{"$f":"IF($K$9>0,IF(SUM(I6,K43)<0,TEXT(-(SUM(I6,K43)/60)/24,\"-[h]:mm\"),TEXT((SUM(I6,K43)/60)/24,\"[h]:mm\")),\"\")","v":""},null,{"$f":"IF(L42<>L43,G42-L43,K42)","v":0},{"$f":"IF(AND(K9=1,SUM(U4:U8)<>H9),((H9/5)*COUNTIFS(C11:C41,\"<>\"&2,F11:F41,\"\"))*60,IF(AND(K9=2,SUM(U12:U16)<>I9),((I9/5)*COUNTIFS(C11:C41,\"<>\"&2,F11:F41,\"\"))*60,IF(AND(K9=3,OR(SUM(U4:U8)<>H9,SUM(U12:U16)<>I9)),SUM(IF(SUM(U4:U8)<>H9,((H9/5)*COUNTIFS(C11:C41,\"<>\"&2,A11:A41,\"<\"&15,F11:F41,\"\"))*60,-SUMIFS(L11:L41,A11:A41,\"<\"&15,F11:F41,\"\")),IF(SUM(U12:U16)<>I9,((I9/5)*COUNTIFS(C11:C41,\"<>\"&2,A11:A41,\">\"&14,F11:F41,\"\"))*60,-SUMIFS(L11:L41,A11:A41,\">\"&14,F11:F41,\"\"))),-SUM(L11:L41))))","v":0},null,{"$f":"IF(N42<0,TEXT(-((N42/60)/24),\"-[hh]:mm\"),TEXT((N42/60)/24,\"[hh]:mm\"))","v":"00:00"},{"$f":"IF(O9-SUM(N11:N41)<0,TEXT(-(O9-SUM(N11:N41))/24,\"-[h]:mm\"),TEXT((O9-SUM(N11:N41))/24,\"[h]:mm\"))","v":{"$error":"#VALUE!"}},null,{"$f":"Q42","v":"00:00"}]
[{"$f":"IF(G4=\"\",\"\",\"Saldo / Übertrag:\")","v":""},null,null,null,null,null,null,null,{"$f":"I43","v":""},{"$f":"IF(K42<>K43,\"automatische Nachberechnung der Sollarbeitszeit, da wöchentlicher Stundenumfang nicht eingehalten wurde.\",\"\")","v":""},{"$f":"K43+I6","v":0},"Übertrag"]
[]
[{"$f":"IF(I46=\"\",\"\",\"Korrektur der Stunden\")","v":""},null,null,null,null,null,null,null,{"$f":"IF(K9>0,IF(K42-K43<>0,IF(K43-K42<0,TEXT(-((K43-K42)/60)/24,\"-[h]:mm\"),TEXT(((K43-K42)/60)/24,\"[h]:mm\")),\"\"),\"\")","v":""}]
[]
[]
[]
[]
[]
[]
[]
[]
[]
[]
[{"$f":"D4","v":""},{"$f":"C4","v":10},{"$f":"Uebersicht!A4","v":0},{"$f":"Uebersicht!B4","v":0},{"$f":"L43","v":0},{"$f":"K42","v":0},{"$f":"K43","v":0},{"$f":"M10","v":0},{"$f":"M42","v":0}]

{"sheet":"Nov","index":11,"n_rows":57,"n_cols":22,"rows_kept":57,"cut":false,"hidden":false,"merged":[[8,18,8,19],[9,18,9,20],[16,18,16,19],[42,0,42,5],[3,13,4,15],[5,13,5,15],[6,0,7,4],[6,5,7,5],[6,6,7,7],[6,8,7,8],[6,9,7,9],[6,13,7,15],[3,0,4,1],[3,2,4,2],[3,3,4,4],[3,5,4,5],[43,0,44,7],[43,8,44,8],[43,9,46,9],[45,0,45,7],[1,0,2,8],[3,6,4,9]]}
["Zeiterfassungsbogen für studentische Hilfskräfte | International Office",null,null,null,null,null,null,null,null,null,null,null,null,null,null,null,null,null,null,null,null,"\"nein\" auswählen, wenn keine festen Tage mehr gelten sollen!"]
[{"$f":"IF(Uebersicht!A4=\"\",\"\",CONCATENATE(Uebersicht!B4,\" \",Uebersicht!A4))","v":""}]
[null,null,null,null,null,null,null,null,null,null,null,null,null,{"$f":"INDEX(Uebersicht!AO5:AQ28,MATCH(C4,Uebersicht!AO5:AO28,0),3)","v":0},{"$f":"INDEX(Uebersicht!AO5:AQ28,MATCH(C4+0.5,Uebersicht!AO5:AO28,0),3)","v":0},null,null,null,"Tag","h"]
[{"$f":"IF(D4=\"\",\"\",TEXT(DATE(D4,C4,1),\"MMM\"))","v":""},null,11,{"$f":"Uebersicht!I1","v":""},null,null,{"$f":"IF(INDEX(Uebersicht!AO31:AQ42,MATCH(C4,Uebersicht!AO31:AO43,0),2)=0,\"\",INDEX(Uebersicht!AO31:AQ42,MATCH(C4,Uebersicht!AO31:AO43,0),2))","v":""},null,null,null,null,null,null,{"$f":"INDEX(Uebersicht!AO31:AQ42,MATCH(C4,Uebersicht!AO31:AO43,0),3)","v":0},null,null,null,{"$f":"IF(OR($K$9=2,$K$9=0),1,IF(AND(OR($K$9=1,$K$9=3),OR(SUM($U$4:$U$8)=0,$U$1=\"nein\")),3,IF(AND($U$1=\"\",SUM($U$4:$U$8)>0,U4>=1,OR($K$9=3,$K$9=1)),4,1)))","v":1},"Mo",null,{"$f":"IF(AND(H9=0,I9=0),0,IF(OR($K$9=0,INDIRECT(\"'\"&TEXT(DATE(D4,$C$4-1,1),\"MMM\")&\"'!$U$1\")=\"nein\",$U$1=\"nein\"),0,IF(T4>0,T4,INDEX(Uebersicht!$BA$3:$BE$14,$C$4,MATCH(S4,Uebersicht!$BA$2:$BE$2,0)))))","v":0}]
[null,null,null,null,null,null,null,null,null,null,null,null,null,null,null,null,null,{"$f":"IF(OR($K$9=2,$K$9=0),1,IF(AND(OR($K$9=1,$K$9=3),OR(SUM($U$4:$U$8)=0,$U$1=\"nein\")),3,IF(AND($U$1=\"\",SUM($U$4:$U$8)>0,U5>=1,OR($K$9=3,$K$9=1)),4,1)))","v":1},"Di",null,{"$f":"IF(OR($K$9=0,INDIRECT(\"'\"&TEXT(DATE(D5,$C$4-1,1),\"MMM\")&\"'!$U$1\")=\"nein\",$U$1=\"nein\"),0,IF(T5>0,T5,INDEX(Uebersicht!$BA$3:$BE$14,$C$4,MATCH(S5,Uebersicht!$BA$2:$BE$2,0))))","v":0}]
[null,null,{"$f":"DAY(DATE(D4,C4+1,1)-1)","v":{"$error":"#VALUE!"}},null,null,null,null,{"$f":"IF(N4=0,\"\",\"Arbeitsgebiet 1\")","v":""},{"$f":"IF(AND(I9=0,H9=0),0,IF(C4-1=0,Uebersicht!G4,INDIRECT(\"'\"&TEXT(DATE(D4,C4-1,1),\"MMM\")&\"'!K44\")))","v":0},null,"nein",null,null,{"$f":"IF(N4=\"\",\"\",\"Arbeitsgebiet 2\")","v":"Arbeitsgebiet 2"},null,null,null,{"$f":"IF(OR($K$9=2,$K$9=0),1,IF(AND(OR($K$9=1,$K$9=3),OR(SUM($U$4:$U$8)=0,$U$1=\"nein\")),3,IF(AND($U$1=\"\",SUM($U$4:$U$8)>0,U6>=1,OR($K$9=3,$K$9=1)),4,1)))","v":1},"Mi",null,{"$f":"IF(OR($K$9=0,INDIRECT(\"'\"&TEXT(DATE(D6,$C$4-1,1),\"MMM\")&\"'!$U$1\")=\"nein\",$U$1=\"nein\"),0,IF(T6>0,T6,INDEX(Uebersicht!$BA$3:$BE$14,$C$4,MATCH(S6,Uebersicht!$BA$2:$BE$2,0))))","v":0}]
[{"$f":"IF(AND(H9>0,I9=0),CONCATENATE(H9,\" Wochenarbeitszeit (h)\"),IF(AND(H9=0,I9>0),CONCATENATE(I9,\" Wochenarbeitszeit (h)\"),IF(AND(H9>0,I9>0,H9<>I9),CONCATENATE(H9,\" h, ab 15. \",TEXT(DATE(D4,C4,1),\"MMMM\"),\" \",I9,\"h\"),\"\")))","v":""},null,null,null,null,{"$f":"IF(G4=\"\",\"\",IF(M42/60>0,TEXT((M42/60)/24,\"[h]:mm\"),0))","v":""},{"$f":"IF(F7=\"\",\"\",\"Urlaubsrest\")","v":""},null,{"$f":"IF(AND(YEAR(TODAY())=D4,MONTH(TODAY())>=C4,K9>0),IF(OR(I6=0,I6=\"\"),0,IF(I6<0,TEXT(-(I6/60)/24,\"-[h]:mm\"),TEXT((I6/60)/24,\"[h]:mm\"))),\"\")","v":""},{"$f":"IF(I7=\"\",\"\",CONCATENATE(\"h Übertrag aus \",IF(C6=1,\"Vorjahr\",\"Vormonat\")))","v":""},"Urlaub",null,null,{"$f":"IF(AND(N3>0,O3=0),CONCATENATE(N3,\" Stunden - Anteil pro Woche\"),IF(AND(N3=0,O3>0),CONCATENATE(O3,\" Stunden - Anteil pro Woche\"),IF(AND(N3>0,O3>0,O3<>N3),CONCATENATE(N3,\" h, ab 15. \",TEXT(DATE(D4,C4,1),\"MMMM\"),\" \",O3,\"h\"),IF(N3=O3,CONCATENATE(N3,\" Stunden - Anteil pro Woche\"),\"\"))))","v":"0 Stunden - Anteil pro Woche"},null,null,null,{"$f":"IF(OR($K$9=2,$K$9=0),1,IF(AND(OR($K$9=1,$K$9=3),OR(SUM($U$4:$U$8)=0,$U$1=\"nein\")),3,IF(AND($U$1=\"\",SUM($U$4:$U$8)>0,U7>=1,OR($K$9=3,$K$9=1)),4,1)))","v":1},"Do",null,{"$f":"IF(OR($K$9=0,INDIRECT(\"'\"&TEXT(DATE(D7,$C$4-1,1),\"MMM\")&\"'!$U$1\")=\"nein\",$U$1=\"nein\"),0,IF(T7>0,T7,INDEX(Uebersicht!$BA$3:$BE$14,$C$4,MATCH(S7,Uebersicht!$BA$2:$BE$2,0))))","v":0}]
[null,null,null,null,null,null,null,null,null,null,"Krank",null,null,null,null,null,null,{"$f":"IF(OR($K$9=2,$K$9=0),1,IF(AND(OR($K$9=1,$K$9=3),OR(SUM($U$4:$U$8)=0,$U$1=\"nein\")),3,IF(AND($U$1=\"\",SUM($U$4:$U$8)>0,U8>=1,OR($K$9=3,$K$9=1)),4,1)))","v":1},"Fr",null,{"$f":"IF(OR($K$9=0,INDIRECT(\"'\"&TEXT(DATE(D8,$C$4-1,1),\"MMM\")&\"'!$U$1\")=\"nein\",$U$1=\"nein\"),0,IF(T8>0,T8,INDEX(Uebersicht!$BA$3:$BE$14,$C$4,MATCH(S8,Uebersicht!$BA$2:$BE$2,0))))","v":0}]
[null,null,null,null,null,null,null,{"$f":"INDEX(Uebersicht!AU3:AW14,C4,2)","v":0},{"$f":"IF(INDEX(Uebersicht!AU3:AW14,C4,3)=H9,0,INDEX(Uebersicht!AU3:AW14,C4,3))","v":0},null,{"$f":"IF(AND(H9>0,I9=0),1,IF(AND(H9=0,I9>0),2,IF(AND(H9=0,I9=0),0,IF(H9<>I9,3,\"\"))))","v":0},null,null,null,{"$f":"IF(OR(N3>0,O3>0),IF(OR(K9=1,K9=2),(IF(K9=1,N3,IF(K9=2,O2,0))/5)*NETWORKDAYS(IF(K9=1,DATE(D4,C4,1),IF(K9=2,DATE(D4,C4,15),0)),IF(OR(K9=1,K9=2),DATE(D4,C4,MAX(A11:A41)),0),COUNTIFS(C11:C41,\"<>\"&2)),IF(K9=3,SUM(IF(N3>0,(N3/5)*NETWORKDAYS(DATE(D4,C4,1),DATE(D4,C4,14),2),0),IF(O3>0,(O3/5)*NETWORKDAYS(DATE(D4,C4,15),DATE(D4,C4,MAX(A11:A41)),2),0)),0)),\"\")","v":""},null,null,null,{"$f":"IF(SUM(U4:U8)=0,\"\",IF(SUM(U4:U8)>H9,\"zu viel!\",IF(SUM(U4:U8)<H9,\"zu wenig!\",\"\")))","v":""},null,{"$f":"IF(OR(U1=\"nein\",SUM(U4:U8)=0),\"ja\",IF(OR(SUM(Uebersicht!C36:C40)>0,SUM(T4:T8)>0,SUM(U4:U8)>0),\"nein\",\"ja\"))","v":"ja"}]
["Tag",null,null,"Beginn","Ende","Urlaub\nKrank","Stunden","Mehr/\nMinder","Saldo\nsummiert","Bemerkungen","Differenz","Soll",{"$f":"IF(AND(I9=0,H9=0),0,IF(C4-1=0,IF(Uebersicht!E8=\"\",0,Uebersicht!E8*60),INDIRECT(\"'\"&TEXT(DATE(D4,C4-1,1),\"MMM\")&\"'!M42\")))","v":0},"Stunden","Rest","Bemerkungen","Gesamt",null,"Änderung im laufenden Monat"]
[1,{"$f":"IF(OR(A11=\"\",$D$4=\"\"),\"\",TEXT(DATE($D$4,$C$4,A11),\"ttt\"))","v":""},{"$f":"IF(OR($K$9=0,AND($K$9=2,A11<=14)),1,IF(IF(ISNA(INDEX(X!$W$7:$W$20,MATCH(DATE($D$4,$C$4,A11),X!$AC$7:$AC$20,0))),1,2)=2,2,IF(OR(B11=\"Sa\",B11=\"So\"),2,IF($K$9=1,SUMIFS($R$4:$R$8,$S$4:$S$8,B11),IF(AND($K$9=2,A11<15),SUMIFS($R$4:$R$8,$S$4:$S$8,B11),IF(AND($K$9=2,A11>14),SUMIFS($R$12:$R$16,$S$12:$S$16,B11),IF(AND($K$9=3,A11>14),SUMIFS($R$12:$R$16,$S$12:$S$16,B11),IF(AND($K$9=3,A11<15),SUMIFS($R$4:$R$8,$S$4:$S$8,B11),1))))))))","v":1},null,null,null,{"$f":"IF(AND(D11=\"\",E11=\"\"),\"\",IF(N11=\"\",IF(((HOUR(E11)*60+MINUTE(E11))-(HOUR(D11)*60+MINUTE(D11)))>360,TEXT(((((HOUR(E11)*60+MINUTE(E11))-(HOUR(D11)*60+MINUTE(D11)))-30)/60)/24,\"[h]:mm\"),TEXT((((HOUR(E11)*60+MINUTE(E11))-(HOUR(D11)*60+MINUTE(D11)))/60)/24,\"[h]:mm\")),IF((((HOUR(E11)*60+MINUTE(E11))-(HOUR(D11)*60+MINUTE(D11)))-N11)>360,TEXT(((((((HOUR(E11)*60+MINUTE(E11))-(HOUR(D11)*60+MINUTE(D11)))-30))/60)-N11)/24,\"[h]:mm\"),TEXT(((((HOUR(E11)*60+MINUTE(E11))-(HOUR(D11)*60+MINUTE(D11)))/60)-N11)/24,\"[h]:mm\"))))","v":""},{"$f":"IF(K11=\"\",\"\",IF(TODAY()<=DATE($D$4,$C$4,A11),0,IF(K11>0,TEXT((K11/60)/24,\"[h]:mm\"),TEXT(-(K11/60)/24,\"-[h]:mm\"))))","v":""},{"$f":"IF($K$9>0,IF(SUM($K$11:$K11,I6)<0,TEXT(-(SUM($K$11:K11,I6)/60)/24,\"-[h]:mm\"),TEXT((SUM($K$11:K11,I6)/60)/24,\"[h]:mm\")),\"\")","v":""},null,{"$f":"IF(F11=\"\",IF(L11<0,L11+IF(G11=\" \",0,IF(((HOUR(E11)*60+MINUTE(E11))-(HOUR(D11)*60+MINUTE(D11)))>360,(HOUR(E11)*60+MINUTE(E11))-(HOUR(D11)*60+MINUTE(D11))-30,(HOUR(E11)*60+MINUTE(E11))-(HOUR(D11)*60+MINUTE(D11)))),IF(Q11=\"\",\"\",(Q11*60)*24)),\"\")","v":""},{"$f":"IF(OR(F11=\"krank\",F11=\"Urlaub\",C11=1,C11=2),0,IF($K$9=1,IF(SUM($U$4:$U$8)=0,$H$9/5,INDEX($S$4:$U$8,MATCH(B11,$S$4:$S$8,0),3)),IF($K$9=2,IF(AND(A11>14,SUM($U$12:$U$16)=0),$I$9/5,INDEX($S$12:$U$16,MATCH(B11,$S$12:$S$16,0),3)),IF($K$9=3,IF(A11<15,IF(SUM($U$4:$U$8)=0,$H$9/5,INDEX($S$4:$U$8,MATCH(B11,$S$4:$S$8,0),3))),IF(A11>14,IF(SUM($U$12:$U$16)=0,$I$9/5,INDEX($S$12:$U$16,MATCH(B11,$S$12:$S$16,0),3))))))*-60)","v":0},{"$f":"M10-(IF(OR(C11=1,C11=2),0,IF(C11=3,IF(AND($K$9=1,F11=\"Urlaub\"),$H$9/5,IF($K$9=2,IF(AND(A11<15,F11=\"Urlaub\"),$I$9/5,IF(AND($K$9=3,A11<15,F11=\"Urlaub\"),$H$9/5,IF(AND($K$9=3,A11>14,F11=\"Urlaub\"),$I$9/5))))),IF(C11=4,IF(AND(F11=\"Urlaub\",$K$9=1),SUMIFS($U$4:$U$8,$S$4:$S$8,B11),IF(AND(F11=\"Urlaub\",$K$9=2,A11>14),SUMIFS($U$12:$U$16,$S$12:$S$16,B11),IF(AND(F11=\"Urlaub\",$K$9=3,A11<15),SUMIFS($U$4:$U$8,$S$4:$S$8,B11),IF(AND(F11=\"Urlaub\",$K$9=3,A11>14),SUMIFS($U$12:$U$16,$S$12:$S$16,B11),0)))))))*60)","v":0},null,{"$f":"IF(OR($O$3=\"\",$N$3=\"\",N11=\"\"),\"\",IF($O$9-SUM($N10:N$11)-N11<0,TEXT(-(($O$9-SUM($N10:N$11)-N11)/24),\"-[hh]:mm\"),TEXT(($O$9-SUM($N10:N$11)-N11)/24,\"[hh]:mm\")))","v":""},null,{"$f":"IF(AND(D11=\"\",E11=\"\"),\"\",IF(((HOUR(E11)*60+MINUTE(E11))-(HOUR(D11)*60+MINUTE(D11)))>360,TEXT(((((HOUR(E11)*60+MINUTE(E11))-(HOUR(D11)*60+MINUTE(D11)))-30)/60)/24,\"[h]:mm\"),TEXT((((HOUR(E11)*60+MINUTE(E11))-(HOUR(D11)*60+MINUTE(D11)))/60)/24,\"[h]:mm\")))","v":""}]
[{"$f":"IF(OR(A11=\"\",$D$4=\"\"),\"\",IF(A11+1<=$C$6,A11+1,\"\"))","v":""},"",{"$f":"IF(OR($K$9=0,AND($K$9=2,A12<=14)),1,IF(IF(ISNA(INDEX(X!$W$7:$W$20,MATCH(DATE($D$4,$C$4,A12),X!$AC$7:$AC$20,0))),1,2)=2,2,IF(OR(B12=\"Sa\",B12=\"So\"),2,IF($K$9=1,SUMIFS($R$4:$R$8,$S$4:$S$8,B12),IF(AND($K$9=2,A12<15),SUMIFS($R$4:$R$8,$S$4:$S$8,B12),IF(AND($K$9=2,A12>14),SUMIFS($R$12:$R$16,$S$12:$S$16,B12),IF(AND($K$9=3,A12>14),SUMIFS($R$12:$R$16,$S$12:$S$16,B12),IF(AND($K$9=3,A12<15),SUMIFS($R$4:$R$8,$S$4:$S$8,B12),1))))))))","v":1},null,null,null,"","",{"$f":"IF($K$9>0,IF(SUM($K$11:$K12,$I$6)<0,TEXT(-(SUM($K$11:K12,$I$6)/60)/24,\"-[h]:mm\"),TEXT((SUM($K$11:K12,$I$6)/60)/24,\"[h]:mm\")),\"\")","v":""},null,{"$f":"IF(F12=\"\",IF(L12<0,L12+IF(G12=\" \",0,IF(((HOUR(E12)*60+MINUTE(E12))-(HOUR(D12)*60+MINUTE(D12)))>360,(HOUR(E12)*60+MINUTE(E12))-(HOUR(D12)*60+MINUTE(D12))-30,(HOUR(E12)*60+MINUTE(E12))-(HOUR(D12)*60+MINUTE(D12)))),IF(Q12=\"\",\"\",(Q12*60)*24)),\"\")","v":""},{"$f":"IF(OR(F12=\"krank\",F12=\"Urlaub\",C12=1,C12=2),0,IF($K$9=1,IF(SUM($U$4:$U$8)=0,$H$9/5,INDEX($S$4:$U$8,MATCH(B12,$S$4:$S$8,0),3)),IF($K$9=2,IF(AND(A12>14,SUM($U$12:$U$16)=0),$I$9/5,INDEX($S$12:$U$16,MATCH(B12,$S$12:$S$16,0),3)),IF($K$9=3,IF(A12<15,IF(SUM($U$4:$U$8)=0,$H$9/5,INDEX($S$4:$U$8,MATCH(B12,$S$4:$S$8,0),3)),IF(SUM($U$12:$U$16)=0,$I$9/5,INDEX($S$12:$U$16,MATCH(B12,$S$12:$S$16,0),3)))))))*-60","v":0},0,null,{"$f":"IF(OR($O$3=\"\",$N$3=\"\",N12=\"\"),\"\",IF($O$9-SUM($N$11:N11)-N12<0,TEXT(-(($O$9-SUM($N$11:N11)-N12)/24),\"-[hh]:mm\"),TEXT(($O$9-SUM($N$11:N11)-N12)/24,\"[hh]:mm\")))","v":""},null,"",{"$f":"IF($K$9=0,1,IF($K$9=1,R4,IF(AND($K$9=3,OR(SUM($U$12:$U$16)=0,$U$1=\"nein\")),3,IF(AND($U$1=\"\",SUM($U$12:$U$16)>0,U12>=1,OR($K$9=3,$K$9=2)),4,1))))","v":1},"Mo",null,{"$f":"IF(AND(I9=0,H9=0),0,IF(OR($K$9=0,INDIRECT(\"'\"&TEXT(DATE(D4,$C$4-1,1),\"MMM\")&\"'!$U$1\")=\"nein\",$U$1=\"nein\"),0,IF(T12>0,T12,INDEX(Uebersicht!$BF$3:$BJ$14,$C$4,MATCH(S12,Uebersicht!$BF$2:$BJ$2,0)))))","v":0}]
[{"$f":"IF(OR(A12=\"\",$D$4=\"\"),\"\",IF(A12+1<=$C$6,A12+1,\"\"))","v":""},"",{"$f":"IF(OR($K$9=0,AND($K$9=2,A13<=14)),1,IF(IF(ISNA(INDEX(X!$W$7:$W$20,MATCH(DATE($D$4,$C$4,A13),X!$AC$7:$AC$20,0))),1,2)=2,2,IF(OR(B13=\"Sa\",B13=\"So\"),2,IF($K$9=1,SUMIFS($R$4:$R$8,$S$4:$S$8,B13),IF(AND($K$9=2,A13<15),SUMIFS($R$4:$R$8,$S$4:$S$8,B13),IF(AND($K$9=2,A13>14),SUMIFS($R$12:$R$16,$S$12:$S$16,B13),IF(AND($K$9=3,A13>14),SUMIFS($R$12:$R$16,$S$12:$S$16,B13),IF(AND($K$9=3,A13<15),SUMIFS($R$4:$R$8,$S$4:$S$8,B13),1))))))))","v":1},null,null,null,"","",{"$f":"IF($K$9>0,IF(SUM($K$11:$K13,$I$6)<0,TEXT(-(SUM($K$11:K13,$I$6)/60)/24,\"-[h]:mm\"),TEXT((SUM($K$11:K13,$I$6)/60)/24,\"[h]:mm\")),\"\")","v":""},null,"",0,0,null,{"$f":"IF(OR($O$3=\"\",$N$3=\"\",N13=\"\"),\"\",IF($O$9-SUM($N$11:N12)-N13<0,TEXT(-(($O$9-SUM($N$11:N12)-N13)/24),\"-[hh]:mm\"),TEXT(($O$9-SUM($N$11:N12)-N13)/24,\"[hh]:mm\")))","v":""},null,"",{"$f":"IF($K$9=0,1,IF($K$9=1,R5,IF(AND($K$9=3,OR(SUM($U$12:$U$16)=0,$U$1=\"nein\")),3,IF(AND($U$1=\"\",SUM($U$12:$U$16)>0,U13>=1,OR($K$9=3,$K$9=2)),4,1))))","v":1},"Di",null,{"$f":"IF(OR($K$9=0,INDIRECT(\"'\"&TEXT(DATE(D5,$C$4-1,1),\"MMM\")&\"'!$U$1\")=\"nein\",$U$1=\"nein\"),0,IF(T13>0,T13,INDEX(Uebersicht!$BF$3:$BJ$14,$C$4,MATCH(S13,Uebersicht!$BF$2:$BJ$2,0))))","v":0}]
["","",{"$f":"IF(OR($K$9=0,AND($K$9=2,A14<=14)),1,IF(IF(ISNA(INDEX(X!$W$7:$W$20,MATCH(DATE($D$4,$C$4,A14),X!$AC$7:$AC$20,0))),1,2)=2,2,IF(OR(B14=\"Sa\",B14=\"So\"),2,IF($K$9=1,SUMIFS($R$4:$R$8,$S$4:$S$8,B14),IF(AND($K$9=2,A14<15),SUMIFS($R$4:$R$8,$S$4:$S$8,B14),IF(AND($K$9=2,A14>14),SUMIFS($R$12:$R$16,$S$12:$S$16,B14),IF(AND($K$9=3,A14>14),SUMIFS($R$12:$R$16,$S$12:$S$16,B14),IF(AND($K$9=3,A14<15),SUMIFS($R$4:$R$8,$S$4:$S$8,B14),1))))))))","v":1},null,null,null,"","",{"$f":"IF($K$9>0,IF(SUM($K$11:$K14,$I$6)<0,TEXT(-(SUM($K$11:K14,$I$6)/60)/24,\"-[h]:mm\"),TEXT((SUM($K$11:K14,$I$6)/60)/24,\"[h]:mm\")),\"\")","v":""},null,"",0,0,null,{"$f":"IF(OR($O$3=\"\",$N$3=\"\",N14=\"\"),\"\",IF($O$9-SUM($N$11:N13)-N14<0,TEXT(-(($O$9-SUM($N$11:N13)-N14)/24),\"-[hh]:mm\"),TEXT(($O$9-SUM($N$11:N13)-N14)/24,\"[hh]:mm\")))","v":""},null,"",{"$f":"IF($K$9=0,1,IF($K$9=1,R6,IF(AND($K$9=3,OR(SUM($U$12:$U$16)=0,$U$1=\"nein\")),3,IF(AND($U$1=\"\",SUM($U$12:$U$16)>0,U14>=1,OR($K$9=3,$K$9=2)),4,1))))","v":1},"Mi",null,{"$f":"IF(OR($K$9=0,INDIRECT(\"'\"&TEXT(DATE(D6,$C$4-1,1),\"MMM\")&\"'!$U$1\")=\"nein\",$U$1=\"nein\"),0,IF(T14>0,T14,INDEX(Uebersicht!$BF$3:$BJ$14,$C$4,MATCH(S14,Uebersicht!$BF$2:$BJ$2,0))))","v":0}]
["","",{"$f":"IF(OR($K$9=0,AND($K$9=2,A15<=14)),1,IF(IF(ISNA(INDEX(X!$W$7:$W$20,MATCH(DATE($D$4,$C$4,A15),X!$AC$7:$AC$20,0))),1,2)=2,2,IF(OR(B15=\"Sa\",B15=\"So\"),2,IF($K$9=1,SUMIFS($R$4:$R$8,$S$4:$S$8,B15),IF(AND($K$9=2,A15<15),SUMIFS($R$4:$R$8,$S$4:$S$8,B15),IF(AND($K$9=2,A15>14),SUMIFS($R$12:$R$16,$S$12:$S$16,B15),IF(AND($K$9=3,A15>14),SUMIFS($R$12:$R$16,$S$12:$S$16,B15),IF(AND($K$9=3,A15<15),SUMIFS($R$4:$R$8,$S$4:$S$8,B15),1))))))))","v":1},null,null,null,"","",{"$f":"IF($K$9>0,IF(SUM($K$11:$K15,$I$6)<0,TEXT(-(SUM($K$11:K15,$I$6)/60)/24,\"-[h]:mm\"),TEXT((SUM($K$11:K15,$I$6)/60)/24,\"[h]:mm\")),\"\")","v":""},null,"",0,0,null,{"$f":"IF(OR($O$3=\"\",$N$3=\"\",N15=\"\"),\"\",IF($O$9-SUM($N$11:N14)-N15<0,TEXT(-(($O$9-SUM($N$11:N14)-N15)/24),\"-[hh]:mm\"),TEXT(($O$9-SUM($N$11:N14)-N15)/24,\"[hh]:mm\")))","v":""},null,"",{"$f":"IF($K$9=0,1,IF($K$9=1,R7,IF(AND($K$9=3,OR(SUM($U$12:$U$16)=0,$U$1=\"nein\")),3,IF(AND($U$1=\"\",SUM($U$12:$U$16)>0,U15>=1,OR($K$9=3,$K$9=2)),4,1))))","v":1},"Do",null,{"$f":"IF(OR($K$9=0,INDIRECT(\"'\"&TEXT(DATE(D7,$C$4-1,1),\"MMM\")&\"'!$U$1\")=\"nein\",$U$1=\"nein\"),0,IF(T15>0,T15,INDEX(Uebersicht!$BF$3:$BJ$14,$C$4,MATCH(S15,Uebersicht!$BF$2:$BJ$2,0))))","v":0}]
["","",{"$f":"IF(OR($K$9=0,AND($K$9=2,A16<=14)),1,IF(IF(ISNA(INDEX(X!$W$7:$W$20,MATCH(DATE($D$4,$C$4,A16),X!$AC$7:$AC$20,0))),1,2)=2,2,IF(OR(B16=\"Sa\",B16=\"So\"),2,IF($K$9=1,SUMIFS($R$4:$R$8,$S$4:$S$8,B16),IF(AND($K$9=2,A16<15),SUMIFS($R$4:$R$8,$S$4:$S$8,B16),IF(AND($K$9=2,A16>14),SUMIFS($R$12:$R$16,$S$12:$S$16,B16),IF(AND($K$9=3,A16>14),SUMIFS($R$12:$R$16,$S$12:$S$16,B16),IF(AND($K$9=3,A16<15),SUMIFS($R$4:$R$8,$S$4:$S$8,B16),1))))))))","v":1},null,null,null,"","",{"$f":"IF($K$9>0,IF(SUM($K$11:$K16,$I$6)<0,TEXT(-(SUM($K$11:K16,$I$6)/60)/24,\"-[h]:mm\"),TEXT((SUM($K$11:K16,$I$6)/60)/24,\"[h]:mm\")),\"\")","v":""},null,"",0,0,null,{"$f":"IF(OR($O$3=\"\",$N$3=\"\",N16=\"\"),\"\",IF($O$9-SUM($N$11:N15)-N16<0,TEXT(-(($O$9-SUM($N$11:N15)-N16)/24),\"-[hh]:mm\"),TEXT(($O$9-SUM($N$11:N15)-N16)/24,\"[hh]:mm\")))","v":""},null,"",{"$f":"IF($K$9=0,1,IF($K$9=1,R8,IF(AND($K$9=3,OR(SUM($U$12:$U$16)=0,$U$1=\"nein\")),3,IF(AND($U$1=\"\",SUM($U$12:$U$16)>0,U16>=1,OR($K$9=3,$K$9=2)),4,1))))","v":1},"Fr",null,{"$f":"IF(OR($K$9=0,INDIRECT(\"'\"&TEXT(DATE(D8,$C$4-1,1),\"MMM\")&\"'!$U$1\")=\"nein\",$U$1=\"nein\"),0,IF(T16>0,T16,INDEX(Uebersicht!$BF$3:$BJ$14,$C$4,MATCH(S16,Uebersicht!$BF$2:$BJ$2,0))))","v":0}]
["","",{"$f":"IF(OR($K$9=0,AND($K$9=2,A17<=14)),1,IF(IF(ISNA(INDEX(X!$W$7:$W$20,MATCH(DATE($D$4,$C$4,A17),X!$AC$7:$AC$20,0))),1,2)=2,2,IF(OR(B17=\"Sa\",B17=\"So\"),2,IF($K$9=1,SUMIFS($R$4:$R$8,$S$4:$S$8,B17),IF(AND($K$9=2,A17<15),SUMIFS($R$4:$R$8,$S$4:$S$8,B17),IF(AND($K$9=2,A17>14),SUMIFS($R$12:$R$16,$S$12:$S$16,B17),IF(AND($K$9=3,A17>14),SUMIFS($R$12:$R$16,$S$12:$S$16,B17),IF(AND($K$9=3,A17<15),SUMIFS($R$4:$R$8,$S$4:$S$8,B17),1))))))))","v":1},null,null,null,"","",{"$f":"IF($K$9>0,IF(SUM($K$11:$K17,$I$6)<0,TEXT(-(SUM($K$11:K17,$I$6)/60)/24,\"-[h]:mm\"),TEXT((SUM($K$11:K17,$I$6)/60)/24,\"[h]:mm\")),\"\")","v":""},null,"",0,0,null,{"$f":"IF(OR($O$3=\"\",$N$3=\"\",N17=\"\"),\"\",IF($O$9-SUM($N$11:N16)-N17<0,TEXT(-(($O$9-SUM($N$11:N16)-N17)/24),\"-[hh]:mm\"),TEXT(($O$9-SUM($N$11:N16)-N17)/24,\"[hh]:mm\")))","v":""},null,"",null,{"$f":"IF(I9=0,\"\",IF(SUM(U12:U16)>I9,\"zu viel!\",IF(SUM(U12:U16)<I9,\"zu wenig!\",\"\")))","v":""},null,{"$f":"IF(OR(U9=\"nein\",SUM(U12:U16)=0),\"ja\",IF(OR(SUM(Uebersicht!C43:C47)>0,SUM(T12:T16)>0,SUM(U12:U16)>0),\"nein\",\"ja\"))","v":"ja"}]
["","",{"$f":"IF(OR($K$9=0,AND($K$9=2,A18<=14)),1,IF(IF(ISNA(INDEX(X!$W$7:$W$20,MATCH(DATE($D$4,$C$4,A18),X!$AC$7:$AC$20,0))),1,2)=2,2,IF(OR(B18=\"Sa\",B18=\"So\"),2,IF($K$9=1,SUMIFS($R$4:$R$8,$S$4:$S$8,B18),IF(AND($K$9=2,A18<15),SUMIFS($R$4:$R$8,$S$4:$S$8,B18),IF(AND($K$9=2,A18>14),SUMIFS($R$12:$R$16,$S$12:$S$16,B18),IF(AND($K$9=3,A18>14),SUMIFS($R$12:$R$16,$S$12:$S$16,B18),IF(AND($K$9=3,A18<15),SUMIFS($R$4:$R$8,$S$4:$S$8,B18),1))))))))","v":1},null,null,null,"","",{"$f":"IF($K$9>0,IF(SUM($K$11:$K18,$I$6)<0,TEXT(-(SUM($K$11:K18,$I$6)/60)/24,\"-[h]:mm\"),TEXT((SUM($K$11:K18,$I$6)/60)/24,\"[h]:mm\")),\"\")","v":""},null,"",0,0,null,{"$f":"IF(OR($O$3=\"\",$N$3=\"\",N18=\"\"),\"\",IF($O$9-SUM($N$11:N17)-N18<0,TEXT(-(($O$9-SUM($N$11:N17)-N18)/24),\"-[hh]:mm\"),TEXT(($O$9-SUM($N$11:N17)-N18)/24,\"[hh]:mm\")))","v":""},null,""]
["","",{"$f":"IF(OR($K$9=0,AND($K$9=2,A19<=14)),1,IF(IF(ISNA(INDEX(X!$W$7:$W$20,MATCH(DATE($D$4,$C$4,A19),X!$AC$7:$AC$20,0))),1,2)=2,2,IF(OR(B19=\"Sa\",B19=\"So\"),2,IF($K$9=1,SUMIFS($R$4:$R$8,$S$4:$S$8,B19),IF(AND($K$9=2,A19<15),SUMIFS($R$4:$R$8,$S$4:$S$8,B19),IF(AND($K$9=2,A19>14),SUMIFS($R$12:$R$16,$S$12:$S$16,B19),IF(AND($K$9=3,A19>14),SUMIFS($R$12:$R$16,$S$12:$S$16,B19),IF(AND($K$9=3,A19<15),SUMIFS($R$4:$R$8,$S$4:$S$8,B19),1))))))))","v":1},null,null,null,"","",{"$f":"IF($K$9>0,IF(SUM($K$11:$K19,$I$6)<0,TEXT(-(SUM($K$11:K19,$I$6)/60)/24,\"-[h]:mm\"),TEXT((SUM($K$11:K19,$I$6)/60)/24,\"[h]:mm\")),\"\")","v":""},null,"",0,0,null,{"$f":"IF(OR($O$3=\"\",$N$3=\"\",N19=\"\"),\"\",IF($O$9-SUM($N$11:N18)-N19<0,TEXT(-(($O$9-SUM($N$11:N18)-N19)/24),\"-[hh]:mm\"),TEXT(($O$9-SUM($N$11:N18)-N19)/24,\"[hh]:mm\")))","v":""},null,""]
["","",{"$f":"IF(OR($K$9=0,AND($K$9=2,A20<=14)),1,IF(IF(ISNA(INDEX(X!$W$7:$W$20,MATCH(DATE($D$4,$C$4,A20),X!$AC$7:$AC$20,0))),1,2)=2,2,IF(OR(B20=\"Sa\",B20=\"So\"),2,IF($K$9=1,SUMIFS($R$4:$R$8,$S$4:$S$8,B20),IF(AND($K$9=2,A20<15),SUMIFS($R$4:$R$8,$S$4:$S$8,B20),IF(AND($K$9=2,A20>14),SUMIFS($R$12:$R$16,$S$12:$S$16,B20),IF(AND($K$9=3,A20>14),SUMIFS($R$12:$R$16,$S$12:$S$16,B20),IF(AND($K$9=3,A20<15),SUMIFS($R$4:$R$8,$S$4:$S$8,B20),1))))))))","v":1},null,null,null,"","",{"$f":"IF($K$9>0,IF(SUM($K$11:$K20,$I$6)<0,TEXT(-(SUM($K$11:K20,$I$6)/60)/24,\"-[h]:mm\"),TEXT((SUM($K$11:K20,$I$6)/60)/24,\"[h]:mm\")),\"\")","v":""},null,"",0,0,null,{"$f":"IF(OR($O$3=\"\",$N$3=\"\",N20=\"\"),\"\",IF($O$9-SUM($N$11:N19)-N20<0,TEXT(-(($O$9-SUM($N$11:N19)-N20)/24),\"-[hh]:mm\"),TEXT(($O$9-SUM($N$11:N19)-N20)/24,\"[hh]:mm\")))","v":""},null,""]
["","",{"$f":"IF(OR($K$9=0,AND($K$9=2,A21<=14)),1,IF(IF(ISNA(INDEX(X!$W$7:$W$20,MATCH(DATE($D$4,$C$4,A21),X!$AC$7:$AC$20,0))),1,2)=2,2,IF(OR(B21=\"Sa\",B21=\"So\"),2,IF($K$9=1,SUMIFS($R$4:$R$8,$S$4:$S$8,B21),IF(AND($K$9=2,A21<15),SUMIFS($R$4:$R$8,$S$4:$S$8,B21),IF(AND($K$9=2,A21>14),SUMIFS($R$12:$R$16,$S$12:$S$16,B21),IF(AND($K$9=3,A21>14),SUMIFS($R$12:$R$16,$S$12:$S$16,B21),IF(AND($K$9=3,A21<15),SUMIFS($R$4:$R$8,$S$4:$S$8,B21),1))))))))","v":1},null,null,null,"","",{"$f":"IF($K$9>0,IF(SUM($K$11:$K21,$I$6)<0,TEXT(-(SUM($K$11:K21,$I$6)/60)/24,\"-[h]:mm\"),TEXT((SUM($K$11:K21,$I$6)/60)/24,\"[h]:mm\")),\"\")","v":""},null,"",0,0,null,{"$f":"IF(OR($O$3=\"\",$N$3=\"\",N21=\"\"),\"\",IF($O$9-SUM($N$11:N20)-N21<0,TEXT(-(($O$9-SUM($N$11:N20)-N21)/24),\"-[hh]:mm\"),TEXT(($O$9-SUM($N$11:N20)-N21)/24,\"[hh]:mm\")))","v":""},null,""]
["","",{"$f":"IF(OR($K$9=0,AND($K$9=2,A22<=14)),1,IF(IF(ISNA(INDEX(X!$W$7:$W$20,MATCH(DATE($D$4,$C$4,A22),X!$AC$7:$AC$20,0))),1,2)=2,2,IF(OR(B22=\"Sa\",B22=\"So\"),2,IF($K$9=1,SUMIFS($R$4:$R$8,$S$4:$S$8,B22),IF(AND($K$9=2,A22<15),SUMIFS($R$4:$R$8,$S$4:$S$8,B22),IF(AND($K$9=2,A22>14),SUMIFS($R$12:$R$16,$S$12:$S$16,B22),IF(AND($K$9=3,A22>14),SUMIFS($R$12:$R$16,$S$12:$S$16,B22),IF(AND($K$9=3,A22<15),SUMIFS($R$4:$R$8,$S$4:$S$8,B22),1))))))))","v":1},null,null,null,"","",{"$f":"IF($K$9>0,IF(SUM($K$11:$K22,$I$6)<0,TEXT(-(SUM($K$11:K22,$I$6)/60)/24,\"-[h]:mm\"),TEXT((SUM($K$11:K22,$I$6)/60)/24,\"[h]:mm\")),\"\")","v":""},null,"",0,0,null,{"$f":"IF(OR($O$3=\"\",$N$3=\"\",N22=\"\"),\"\",IF($O$9-SUM($N$11:N21)-N22<0,TEXT(-(($O$9-SUM($N$11:N21)-N22)/24),\"-[hh]:mm\"),TEXT(($O$9-SUM($N$11:N21)-N22)/24,\"[hh]:mm\")))","v":""},null,""]
["","",{"$f":"IF(OR($K$9=0,AND($K$9=2,A23<=14)),1,IF(IF(ISNA(INDEX(X!$W$7:$W$20,MATCH(DATE($D$4,$C$4,A23),X!$AC$7:$AC$20,0))),1,2)=2,2,IF(OR(B23=\"Sa\",B23=\"So\"),2,IF($K$9=1,SUMIFS($R$4:$R$8,$S$4:$S$8,B23),IF(AND($K$9=2,A23<15),SUMIFS($R$4:$R$8,$S$4:$S$8,B23),IF(AND($K$9=2,A23>14),SUMIFS($R$12:$R$16,$S$12:$S$16,B23),IF(AND($K$9=3,A23>14),SUMIFS($R$12:$R$16,$S$12:$S$16,B23),IF(AND($K$9=3,A23<15),SUMIFS($R$4:$R$8,$S$4:$S$8,B23),1))))))))","v":1},null,null,null,"","",{"$f":"IF($K$9>0,IF(SUM($K$11:$K23,$I$6)<0,TEXT(-(SUM($K$11:K23,$I$6)/60)/24,\"-[h]:mm\"),TEXT((SUM($K$11:K23,$I$6)/60)/24,\"[h]:mm\")),\"\")","v":""},null,"",0,0,null,{"$f":"IF(OR($O$3=\"\",$N$3=\"\",N23=\"\"),\"\",IF($O$9-SUM($N$11:N22)-N23<0,TEXT(-(($O$9-SUM($N$11:N22)-N23)/24),\"-[hh]:mm\"),TEXT(($O$9-SUM($N$11:N22)-N23)/24,\"[hh]:mm\")))","v":""},null,""]
["","",{"$f":"IF(OR($K$9=0,AND($K$9=2,A24<=14)),1,IF(IF(ISNA(INDEX(X!$W$7:$W$20,MATCH(DATE($D$4,$C$4,A24),X!$AC$7:$AC$20,0))),1,2)=2,2,IF(OR(B24=\"Sa\",B24=\"So\"),2,IF($K$9=1,SUMIFS($R$4:$R$8,$S$4:$S$8,B24),IF(AND($K$9=2,A24<15),SUMIFS($R$4:$R$8,$S$4:$S$8,B24),IF(AND($K$9=2,A24>14),SUMIFS($R$12:$R$16,$S$12:$S$16,B24),IF(AND($K$9=3,A24>14),SUMIFS($R$12:$R$16,$S$12:$S$16,B24),IF(AND($K$9=3,A24<15),SUMIFS($R$4:$R$8,$S$4:$S$8,B24),1))))))))","v":1},null,null,null,"","",{"$f":"IF($K$9>0,IF(SUM($K$11:$K24,$I$6)<0,TEXT(-(SUM($K$11:K24,$I$6)/60)/24,\"-[h]:mm\"),TEXT((SUM($K$11:K24,$I$6)/60)/24,\"[h]:mm\")),\"\")","v":""},null,"",0,0,null,{"$f":"IF(OR($O$3=\"\",$N$3=\"\",N24=\"\"),\"\",IF($O$9-SUM($N$11:N23)-N24<0,TEXT(-(($O$9-SUM($N$11:N23)-N24)/24),\"-[hh]:mm\"),TEXT(($O$9-SUM($N$11:N23)-N24)/24,\"[hh]:mm\")))","v":""},null,""]
["","",{"$f":"IF(OR($K$9=0,AND($K$9=2,A25<=14)),1,IF(IF(ISNA(INDEX(X!$W$7:$W$20,MATCH(DATE($D$4,$C$4,A25),X!$AC$7:$AC$20,0))),1,2)=2,2,IF(OR(B25=\"Sa\",B25=\"So\"),2,IF($K$9=1,SUMIFS($R$4:$R$8,$S$4:$S$8,B25),IF(AND($K$9=2,A25<15),SUMIFS($R$4:$R$8,$S$4:$S$8,B25),IF(AND($K$9=2,A25>14),SUMIFS($R$12:$R$16,$S$12:$S$16,B25),IF(AND($K$9=3,A25>14),SUMIFS($R$12:$R$16,$S$12:$S$16,B25),IF(AND($K$9=3,A25<15),SUMIFS($R$4:$R$8,$S$4:$S$8,B25),1))))))))","v":1},null,null,null,"","",{"$f":"IF($K$9>0,IF(SUM($K$11:$K25,$I$6)<0,TEXT(-(SUM($K$11:K25,$I$6)/60)/24,\"-[h]:mm\"),TEXT((SUM($K$11:K25,$I$6)/60)/24,\"[h]:mm\")),\"\")","v":""},null,"",0,0,null,{"$f":"IF(OR($O$3=\"\",$N$3=\"\",N25=\"\"),\"\",IF($O$9-SUM($N$11:N24)-N25<0,TEXT(-(($O$9-SUM($N$11:N24)-N25)/24),\"-[hh]:mm\"),TEXT(($O$9-SUM($N$11:N24)-N25)/24,\"[hh]:mm\")))","v":""},null,""]
["","",{"$f":"IF(OR($K$9=0,AND($K$9=2,A26<=14)),1,IF(IF(ISNA(INDEX(X!$W$7:$W$20,MATCH(DATE($D$4,$C$4,A26),X!$AC$7:$AC$20,0))),1,2)=2,2,IF(OR(B26=\"Sa\",B26=\"So\"),2,IF($K$9=1,SUMIFS($R$4:$R$8,$S$4:$S$8,B26),IF(AND($K$9=2,A26<15),SUMIFS($R$4:$R$8,$S$4:$S$8,B26),IF(AND($K$9=2,A26>14),SUMIFS($R$12:$R$16,$S$12:$S$16,B26),IF(AND($K$9=3,A26>14),SUMIFS($R$12:$R$16,$S$12:$S$16,B26),IF(AND($K$9=3,A26<15),SUMIFS($R$4:$R$8,$S$4:$S$8,B26),1))))))))","v":1},null,null,null,"","",{"$f":"IF($K$9>0,IF(SUM($K$11:$K26,$I$6)<0,TEXT(-(SUM($K$11:K26,$I$6)/60)/24,\"-[h]:mm\"),TEXT((SUM($K$11:K26,$I$6)/60)/24,\"[h]:mm\")),\"\")","v":""},null,"",0,0,null,{"$f":"IF(OR($O$3=\"\",$N$3=\"\",N26=\"\"),\"\",IF($O$9-SUM($N$11:N25)-N26<0,TEXT(-(($O$9-SUM($N$11:N25)-N26)/24),\"-[hh]:mm\"),TEXT(($O$9-SUM($N$11:N25)-N26)/24,\"[hh]:mm\")))","v":""},null,""]
["","",{"$f":"IF(OR($K$9=0,AND($K$9=2,A27<=14)),1,IF(IF(ISNA(INDEX(X!$W$7:$W$20,MATCH(DATE($D$4,$C$4,A27),X!$AC$7:$AC$20,0))),1,2)=2,2,IF(OR(B27=\"Sa\",B27=\"So\"),2,IF($K$9=1,SUMIFS($R$4:$R$8,$S$4:$S$8,B27),IF(AND($K$9=2,A27<15),SUMIFS($R$4:$R$8,$S$4:$S$8,B27),IF(AND($K$9=2,A27>14),SUMIFS($R$12:$R$16,$S$12:$S$16,B27),IF(AND($K$9=3,A27>14),SUMIFS($R$12:$R$16,$S$12:$S$16,B27),IF(AND($K$9=3,A27<15),SUMIFS($R$4:$R$8,$S$4:$S$8,B27),1))))))))","v":1},null,null,null,"","",{"$f":"IF($K$9>0,IF(SUM($K$11:$K27,$I$6)<0,TEXT(-(SUM($K$11:K27,$I$6)/60)/24,\"-[h]:mm\"),TEXT((SUM($K$11:K27,$I$6)/60)/24,\"[h]:mm\")),\"\")","v":""},null,"",0,0,null,{"$f":"IF(OR($O$3=\"\",$N$3=\"\",N27=\"\"),\"\",IF($O$9-SUM($N$11:N26)-N27<0,TEXT(-(($O$9-SUM($N$11:N26)-N27)/24),\"-[hh]:mm\"),TEXT(($O$9-SUM($N$11:N26)-N27)/24,\"[hh]:mm\")))","v":""},null,""]
["","",{"$f":"IF(OR($K$9=0,AND($K$9=2,A28<=14)),1,IF(IF(ISNA(INDEX(X!$W$7:$W$20,MATCH(DATE($D$4,$C$4,A28),X!$AC$7:$AC$20,0))),1,2)=2,2,IF(OR(B28=\"Sa\",B28=\"So\"),2,IF($K$9=1,SUMIFS($R$4:$R$8,$S$4:$S$8,B28),IF(AND($K$9=2,A28<15),SUMIFS($R$4:$R$8,$S$4:$S$8,B28),IF(AND($K$9=2,A28>14),SUMIFS($R$12:$R$16,$S$12:$S$16,B28),IF(AND($K$9=3,A28>14),SUMIFS($R$12:$R$16,$S$12:$S$16,B28),IF(AND($K$9=3,A28<15),SUMIFS($R$4:$R$8,$S$4:$S$8,B28),1))))))))","v":1},null,null,null,"","",{"$f":"IF($K$9>0,IF(SUM($K$11:$K28,$I$6)<0,TEXT(-(SUM($K$11:K28,$I$6)/60)/24,\"-[h]:mm\"),TEXT((SUM($K$11:K28,$I$6)/60)/24,\"[h]:mm\")),\"\")","v":""},null,"",0,0,null,{"$f":"IF(OR($O$3=\"\",$N$3=\"\",N28=\"\"),\"\",IF($O$9-SUM($N$11:N27)-N28<0,TEXT(-(($O$9-SUM($N$11:N27)-N28)/24),\"-[hh]:mm\"),TEXT(($O$9-SUM($N$11:N27)-N28)/24,\"[hh]:mm\")))","v":""},null,""]
["","",{"$f":"IF(OR($K$9=0,AND($K$9=2,A29<=14)),1,IF(IF(ISNA(INDEX(X!$W$7:$W$20,MATCH(DATE($D$4,$C$4,A29),X!$AC$7:$AC$20,0))),1,2)=2,2,IF(OR(B29=\"Sa\",B29=\"So\"),2,IF($K$9=1,SUMIFS($R$4:$R$8,$S$4:$S$8,B29),IF(AND($K$9=2,A29<15),SUMIFS($R$4:$R$8,$S$4:$S$8,B29),IF(AND($K$9=2,A29>14),SUMIFS($R$12:$R$16,$S$12:$S$16,B29),IF(AND($K$9=3,A29>14),SUMIFS($R$12:$R$16,$S$12:$S$16,B29),IF(AND($K$9=3,A29<15),SUMIFS($R$4:$R$8,$S$4:$S$8,B29),1))))))))","v":1},null,null,null,"","",{"$f":"IF($K$9>0,IF(SUM($K$11:$K29,$I$6)<0,TEXT(-(SUM($K$11:K29,$I$6)/60)/24,\"-[h]:mm\"),TEXT((SUM($K$11:K29,$I$6)/60)/24,\"[h]:mm\")),\"\")","v":""},null,"",0,0,null,{"$f":"IF(OR($O$3=\"\",$N$3=\"\",N29=\"\"),\"\",IF($O$9-SUM($N$11:N28)-N29<0,TEXT(-(($O$9-SUM($N$11:N28)-N29)/24),\"-[hh]:mm\"),TEXT(($O$9-SUM($N$11:N28)-N29)/24,\"[hh]:mm\")))","v":""},null,""]
["","",{"$f":"IF(OR($K$9=0,AND($K$9=2,A30<=14)),1,IF(IF(ISNA(INDEX(X!$W$7:$W$20,MATCH(DATE($D$4,$C$4,A30),X!$AC$7:$AC$20,0))),1,2)=2,2,IF(OR(B30=\"Sa\",B30=\"So\"),2,IF($K$9=1,SUMIFS($R$4:$R$8,$S$4:$S$8,B30),IF(AND($K$9=2,A30<15),SUMIFS($R$4:$R$8,$S$4:$S$8,B30),IF(AND($K$9=2,A30>14),SUMIFS($R$12:$R$16,$S$12:$S$16,B30),IF(AND($K$9=3,A30>14),SUMIFS($R$12:$R$16,$S$12:$S$16,B30),IF(AND($K$9=3,A30<15),SUMIFS($R$4:$R$8,$S$4:$S$8,B30),1))))))))","v":1},null,null,null,"","",{"$f":"IF($K$9>0,IF(SUM($K$11:$K30,$I$6)<0,TEXT(-(SUM($K$11:K30,$I$6)/60)/24,\"-[h]:mm\"),TEXT((SUM($K$11:K30,$I$6)/60)/24,\"[h]:mm\")),\"\")","v":""},null,"",0,0,null,{"$f":"IF(OR($O$3=\"\",$N$3=\"\",N30=\"\"),\"\",IF($O$9-SUM($N$11:N29)-N30<0,TEXT(-(($O$9-SUM($N$11:N29)-N30)/24),\"-[hh]:mm\"),TEXT(($O$9-SUM($N$11:N29)-N30)/24,\"[hh]:mm\")))","v":""},null,""]
["","",{"$f":"IF(OR($K$9=0,AND($K$9=2,A31<=14)),1,IF(IF(ISNA(INDEX(X!$W$7:$W$20,MATCH(DATE($D$4,$C$4,A31),X!$AC$7:$AC$20,0))),1,2)=2,2,IF(OR(B31=\"Sa\",B31=\"So\"),2,IF($K$9=1,SUMIFS($R$4:$R$8,$S$4:$S$8,B31),IF(AND($K$9=2,A31<15),SUMIFS($R$4:$R$8,$S$4:$S$8,B31),IF(AND($K$9=2,A31>14),SUMIFS($R$12:$R$16,$S$12:$S$16,B31),IF(AND($K$9=3,A31>14),SUMIFS($R$12:$R$16,$S$12:$S$16,B31),IF(AND($K$9=3,A31<15),SUMIFS($R$4:$R$8,$S$4:$S$8,B31),1))))))))","v":1},null,null,null,"","",{"$f":"IF($K$9>0,IF(SUM($K$11:$K31,$I$6)<0,TEXT(-(SUM($K$11:K31,$I$6)/60)/24,\"-[h]:mm\"),TEXT((SUM($K$11:K31,$I$6)/60)/24,\"[h]:mm\")),\"\")","v":""},null,"",0,0,null,{"$f":"IF(OR($O$3=\"\",$N$3=\"\",N31=\"\"),\"\",IF($O$9-SUM($N$11:N30)-N31<0,TEXT(-(($O$9-SUM($N$11:N30)-N31)/24),\"-[hh]:mm\"),TEXT(($O$9-SUM($N$11:N30)-N31)/24,\"[hh]:mm\")))","v":""},null,""]
["","",{"$f":"IF(OR($K$9=0,AND($K$9=2,A32<=14)),1,IF(IF(ISNA(INDEX(X!$W$7:$W$20,MATCH(DATE($D$4,$C$4,A32),X!$AC$7:$AC$20,0))),1,2)=2,2,IF(OR(B32=\"Sa\",B32=\"So\"),2,IF($K$9=1,SUMIFS($R$4:$R$8,$S$4:$S$8,B32),IF(AND($K$9=2,A32<15),SUMIFS($R$4:$R$8,$S$4:$S$8,B32),IF(AND($K$9=2,A32>14),SUMIFS($R$12:$R$16,$S$12:$S$16,B32),IF(AND($K$9=3,A32>14),SUMIFS($R$12:$R$16,$S$12:$S$16,B32),IF(AND($K$9=3,A32<15),SUMIFS($R$4:$R$8,$S$4:$S$8,B32),1))))))))","v":1},null,null,null,"","",{"$f":"IF($K$9>0,IF(SUM($K$11:$K32,$I$6)<0,TEXT(-(SUM($K$11:K32,$I$6)/60)/24,\"-[h]:mm\"),TEXT((SUM($K$11:K32,$I$6)/60)/24,\"[h]:mm\")),\"\")","v":""},null,"",0,0,null,{"$f":"IF(OR($O$3=\"\",$N$3=\"\",N32=\"\"),\"\",IF($O$9-SUM($N$11:N31)-N32<0,TEXT(-(($O$9-SUM($N$11:N31)-N32)/24),\"-[hh]:mm\"),TEXT(($O$9-SUM($N$11:N31)-N32)/24,\"[hh]:mm\")))","v":""},null,""]
["","",{"$f":"IF(OR($K$9=0,AND($K$9=2,A33<=14)),1,IF(IF(ISNA(INDEX(X!$W$7:$W$20,MATCH(DATE($D$4,$C$4,A33),X!$AC$7:$AC$20,0))),1,2)=2,2,IF(OR(B33=\"Sa\",B33=\"So\"),2,IF($K$9=1,SUMIFS($R$4:$R$8,$S$4:$S$8,B33),IF(AND($K$9=2,A33<15),SUMIFS($R$4:$R$8,$S$4:$S$8,B33),IF(AND($K$9=2,A33>14),SUMIFS($R$12:$R$16,$S$12:$S$16,B33),IF(AND($K$9=3,A33>14),SUMIFS($R$12:$R$16,$S$12:$S$16,B33),IF(AND($K$9=3,A33<15),SUMIFS($R$4:$R$8,$S$4:$S$8,B33),1))))))))","v":1},null,null,null,"","",{"$f":"IF($K$9>0,IF(SUM($K$11:$K33,$I$6)<0,TEXT(-(SUM($K$11:K33,$I$6)/60)/24,\"-[h]:mm\"),TEXT((SUM($K$11:K33,$I$6)/60)/24,\"[h]:mm\")),\"\")","v":""},null,"",0,0,null,{"$f":"IF(OR($O$3=\"\",$N$3=\"\",N33=\"\"),\"\",IF($O$9-SUM($N$11:N32)-N33<0,TEXT(-(($O$9-SUM($N$11:N32)-N33)/24),\"-[hh]:mm\"),TEXT(($O$9-SUM($N$11:N32)-N33)/24,\"[hh]:mm\")))","v":""},null,""]
["","",{"$f":"IF(OR($K$9=0,AND($K$9=2,A34<=14)),1,IF(IF(ISNA(INDEX(X!$W$7:$W$20,MATCH(DATE($D$4,$C$4,A34),X!$AC$7:$AC$20,0))),1,2)=2,2,IF(OR(B34=\"Sa\",B34=\"So\"),2,IF($K$9=1,SUMIFS($R$4:$R$8,$S$4:$S$8,B34),IF(AND($K$9=2,A34<15),SUMIFS($R$4:$R$8,$S$4:$S$8,B34),IF(AND($K$9=2,A34>14),SUMIFS($R$12:$R$16,$S$12:$S$16,B34),IF(AND($K$9=3,A34>14),SUMIFS($R$12:$R$16,$S$12:$S$16,B34),IF(AND($K$9=3,A34<15),SUMIFS($R$4:$R$8,$S$4:$S$8,B34),1))))))))","v":1},null,null,null,"","",{"$f":"IF($K$9>0,IF(SUM($K$11:$K34,$I$6)<0,TEXT(-(SUM($K$11:K34,$I$6)/60)/24,\"-[h]:mm\"),TEXT((SUM($K$11:K34,$I$6)/60)/24,\"[h]:mm\")),\"\")","v":""},null,"",0,0,null,{"$f":"IF(OR($O$3=\"\",$N$3=\"\",N34=\"\"),\"\",IF($O$9-SUM($N$11:N33)-N34<0,TEXT(-(($O$9-SUM($N$11:N33)-N34)/24),\"-[hh]:mm\"),TEXT(($O$9-SUM($N$11:N33)-N34)/24,\"[hh]:mm\")))","v":""},null,""]
["","",{"$f":"IF(OR($K$9=0,AND($K$9=2,A35<=14)),1,IF(IF(ISNA(INDEX(X!$W$7:$W$20,MATCH(DATE($D$4,$C$4,A35),X!$AC$7:$AC$20,0))),1,2)=2,2,IF(OR(B35=\"Sa\",B35=\"So\"),2,IF($K$9=1,SUMIFS($R$4:$R$8,$S$4:$S$8,B35),IF(AND($K$9=2,A35<15),SUMIFS($R$4:$R$8,$S$4:$S$8,B35),IF(AND($K$9=2,A35>14),SUMIFS($R$12:$R$16,$S$12:$S$16,B35),IF(AND($K$9=3,A35>14),SUMIFS($R$12:$R$16,$S$12:$S$16,B35),IF(AND($K$9=3,A35<15),SUMIFS($R$4:$R$8,$S$4:$S$8,B35),1))))))))","v":1},null,null,null,"","",{"$f":"IF($K$9>0,IF(SUM($K$11:$K35,$I$6)<0,TEXT(-(SUM($K$11:K35,$I$6)/60)/24,\"-[h]:mm\"),TEXT((SUM($K$11:K35,$I$6)/60)/24,\"[h]:mm\")),\"\")","v":""},null,"",0,0,null,{"$f":"IF(OR($O$3=\"\",$N$3=\"\",N35=\"\"),\"\",IF($O$9-SUM($N$11:N34)-N35<0,TEXT(-(($O$9-SUM($N$11:N34)-N35)/24),\"-[hh]:mm\"),TEXT(($O$9-SUM($N$11:N34)-N35)/24,\"[hh]:mm\")))","v":""},null,""]
["","",{"$f":"IF(OR($K$9=0,AND($K$9=2,A36<=14)),1,IF(IF(ISNA(INDEX(X!$W$7:$W$20,MATCH(DATE($D$4,$C$4,A36),X!$AC$7:$AC$20,0))),1,2)=2,2,IF(OR(B36=\"Sa\",B36=\"So\"),2,IF($K$9=1,SUMIFS($R$4:$R$8,$S$4:$S$8,B36),IF(AND($K$9=2,A36<15),SUMIFS($R$4:$R$8,$S$4:$S$8,B36),IF(AND($K$9=2,A36>14),SUMIFS($R$12:$R$16,$S$12:$S$16,B36),IF(AND($K$9=3,A36>14),SUMIFS($R$12:$R$16,$S$12:$S$16,B36),IF(AND($K$9=3,A36<15),SUMIFS($R$4:$R$8,$S$4:$S$8,B36),1))))))))","v":1},null,null,null,"","",{"$f":"IF($K$9>0,IF(SUM($K$11:$K36,$I$6)<0,TEXT(-(SUM($K$11:K36,$I$6)/60)/24,\"-[h]:mm\"),TEXT((SUM($K$11:K36,$I$6)/60)/24,\"[h]:mm\")),\"\")","v":""},null,"",0,0,null,{"$f":"IF(OR($O$3=\"\",$N$3=\"\",N36=\"\"),\"\",IF($O$9-SUM($N$11:N35)-N36<0,TEXT(-(($O$9-SUM($N$11:N35)-N36)/24),\"-[hh]:mm\"),TEXT(($O$9-SUM($N$11:N35)-N36)/24,\"[hh]:mm\")))","v":""},null,""]
["","",{"$f":"IF(OR($K$9=0,AND($K$9=2,A37<=14)),1,IF(IF(ISNA(INDEX(X!$W$7:$W$20,MATCH(DATE($D$4,$C$4,A37),X!$AC$7:$AC$20,0))),1,2)=2,2,IF(OR(B37=\"Sa\",B37=\"So\"),2,IF($K$9=1,SUMIFS($R$4:$R$8,$S$4:$S$8,B37),IF(AND($K$9=2,A37<15),SUMIFS($R$4:$R$8,$S$4:$S$8,B37),IF(AND($K$9=2,A37>14),SUMIFS($R$12:$R$16,$S$12:$S$16,B37),IF(AND($K$9=3,A37>14),SUMIFS($R$12:$R$16,$S$12:$S$16,B37),IF(AND($K$9=3,A37<15),SUMIFS($R$4:$R$8,$S$4:$S$8,B37),1))))))))","v":1},null,null,null,"","",{"$f":"IF($K$9>0,IF(SUM($K$11:$K37,$I$6)<0,TEXT(-(SUM($K$11:K37,$I$6)/60)/24,\"-[h]:mm\"),TEXT((SUM($K$11:K37,$I$6)/60)/24,\"[h]:mm\")),\"\")","v":""},null,"",0,0,null,{"$f":"IF(OR($O$3=\"\",$N$3=\"\",N37=\"\"),\"\",IF($O$9-SUM($N$11:N36)-N37<0,TEXT(-(($O$9-SUM($N$11:N36)-N37)/24),\"-[hh]:mm\"),TEXT(($O$9-SUM($N$11:N36)-N37)/24,\"[hh]:mm\")))","v":""},null,""]
["","",{"$f":"IF(OR($K$9=0,AND($K$9=2,A38<=14)),1,IF(IF(ISNA(INDEX(X!$W$7:$W$20,MATCH(DATE($D$4,$C$4,A38),X!$AC$7:$AC$20,0))),1,2)=2,2,IF(OR(B38=\"Sa\",B38=\"So\"),2,IF($K$9=1,SUMIFS($R$4:$R$8,$S$4:$S$8,B38),IF(AND($K$9=2,A38<15),SUMIFS($R$4:$R$8,$S$4:$S$8,B38),IF(AND($K$9=2,A38>14),SUMIFS($R$12:$R$16,$S$12:$S$16,B38),IF(AND($K$9=3,A38>14),SUMIFS($R$12:$R$16,$S$12:$S$16,B38),IF(AND($K$9=3,A38<15),SUMIFS($R$4:$R$8,$S$4:$S$8,B38),1))))))))","v":1},null,null,null,"","",{"$f":"IF($K$9>0,IF(SUM($K$11:$K38,$I$6)<0,TEXT(-(SUM($K$11:K38,$I$6)/60)/24,\"-[h]:mm\"),TEXT((SUM($K$11:K38,$I$6)/60)/24,\"[h]:mm\")),\"\")","v":""},null,"",0,0,null,{"$f":"IF(OR($O$3=\"\",$N$3=\"\",N38=\"\"),\"\",IF($O$9-SUM($N$11:N37)-N38<0,TEXT(-(($O$9-SUM($N$11:N37)-N38)/24),\"-[hh]:mm\"),TEXT(($O$9-SUM($N$11:N37)-N38)/24,\"[hh]:mm\")))","v":""},null,""]
["",{"$f":"IF(OR(A39=\"\",$D$4=\"\"),\"\",TEXT(DATE($D$4,$C$4,A39),\"ttt\"))","v":""},{"$f":"IF(OR($K$9=0,AND($K$9=2,A39<=14)),1,IF(IF(ISNA(INDEX(X!$W$7:$W$20,MATCH(DATE($D$4,$C$4,A39),X!$AC$7:$AC$20,0))),1,2)=2,2,IF(OR(B39=\"Sa\",B39=\"So\"),2,IF($K$9=1,SUMIFS($R$4:$R$8,$S$4:$S$8,B39),IF(AND($K$9=2,A39<15),SUMIFS($R$4:$R$8,$S$4:$S$8,B39),IF(AND($K$9=2,A39>14),SUMIFS($R$12:$R$16,$S$12:$S$16,B39),IF(AND($K$9=3,A39>14),SUMIFS($R$12:$R$16,$S$12:$S$16,B39),IF(AND($K$9=3,A39<15),SUMIFS($R$4:$R$8,$S$4:$S$8,B39),1))))))))","v":1},null,null,null,"","",{"$f":"IF($K$9>0,IF(SUM($K$11:$K39,$I$6)<0,TEXT(-(SUM($K$11:K39,$I$6)/60)/24,\"-[h]:mm\"),TEXT((SUM($K$11:K39,$I$6)/60)/24,\"[h]:mm\")),\"\")","v":""},null,"",0,0,null,{"$f":"IF(OR($O$3=\"\",$N$3=\"\",N39=\"\"),\"\",IF($O$9-SUM($N$11:N38)-N39<0,TEXT(-(($O$9-SUM($N$11:N38)-N39)/24),\"-[hh]:mm\"),TEXT(($O$9-SUM($N$11:N38)-N39)/24,\"[hh]:mm\")))","v":""},null,""]
["",{"$f":"IF(OR(A40=\"\",$D$4=\"\"),\"\",TEXT(DATE($D$4,$C$4,A40),\"ttt\"))","v":""},{"$f":"IF(OR($K$9=0,AND($K$9=2,A40<=14)),1,IF(IF(ISNA(INDEX(X!$W$7:$W$20,MATCH(DATE($D$4,$C$4,A40),X!$AC$7:$AC$20,0))),1,2)=2,2,IF(OR(B40=\"Sa\",B40=\"So\"),2,IF($K$9=1,SUMIFS($R$4:$R$8,$S$4:$S$8,B40),IF(AND($K$9=2,A40<15),SUMIFS($R$4:$R$8,$S$4:$S$8,B40),IF(AND($K$9=2,A40>14),SUMIFS($R$12:$R$16,$S$12:$S$16,B40),IF(AND($K$9=3,A40>14),SUMIFS($R$12:$R$16,$S$12:$S$16,B40),IF(AND($K$9=3,A40<15),SUMIFS($R$4:$R$8,$S$4:$S$8,B40),1))))))))","v":1},null,null,null,"","",{"$f":"IF($K$9>0,IF(SUM($K$11:$K40,$I$6)<0,TEXT(-(SUM($K$11:K40,$I$6)/60)/24,\"-[h]:mm\"),TEXT((SUM($K$11:K40,$I$6)/60)/24,\"[h]:mm\")),\"\")","v":""},null,"",0,0,null,{"$f":"IF(OR($O$3=\"\",$N$3=\"\",N40=\"\"),\"\",IF($O$9-SUM($N$11:N39)-N40<0,TEXT(-(($O$9-SUM($N$11:N39)-N40)/24),\"-[hh]:mm\"),TEXT(($O$9-SUM($N$11:N39)-N40)/24,\"[hh]:mm\")))","v":""},null,""]
["","",{"$f":"IF(OR($K$9=0,AND($K$9=2,A41<=14)),1,IF(IF(ISNA(INDEX(X!$W$7:$W$20,MATCH(DATE($D$4,$C$4,A41),X!$AC$7:$AC$20,0))),1,2)=2,2,IF(OR(B41=\"Sa\",B41=\"So\"),2,IF($K$9=1,SUMIFS($R$4:$R$8,$S$4:$S$8,B41),IF(AND($K$9=2,A41<15),SUMIFS($R$4:$R$8,$S$4:$S$8,B41),IF(AND($K$9=2,A41>14),SUMIFS($R$12:$R$16,$S$12:$S$16,B41),IF(AND($K$9=3,A41>14),SUMIFS($R$12:$R$16,$S$12:$S$16,B41),IF(AND($K$9=3,A41<15),SUMIFS($R$4:$R$8,$S$4:$S$8,B41),1))))))))","v":1},null,null,null,"","",{"$f":"IF($K$9>0,IF(SUM($K$11:$K41,$I$6)<0,TEXT(-(SUM($K$11:K41,$I$6)/60)/24,\"-[h]:mm\"),TEXT((SUM($K$11:K41,$I$6)/60)/24,\"[h]:mm\")),\"\")","v":""},null,"",0,0,null,{"$f":"IF(OR($O$3=\"\",$N$3=\"\",N41=\"\"),\"\",IF($O$9-SUM($N$11:N40)-N41<0,TEXT(-(($O$9-SUM($N$11:N40)-N41)/24),\"-[hh]:mm\"),TEXT(($O$9-SUM($N$11:N40)-N41)/24,\"[hh]:mm\")))","v":""},null,""]
[null,null,null,null,null,null,{"$f":"L42+K42","v":0},{"$f":"K42","v":0},null,null,{"$f":"SUM(K11:K41)","v":0},{"$f":"-SUM(L11:L41)","v":0},{"$f":"M41","v":0},{"$f":"SUM(N11:N41)*60","v":0},null,null,{"$f":"IF((G42/60)<0,TEXT(-((G42/60)/24),\"-[hh]:mm\"),TEXT((G42/60)/24,\"[hh]:mm\"))","v":"00:00"}]
[{"$f":"IF(G4=\"\",\"\",\"Ergebnis\")","v":""},null,null,null,null,null,{"$f":"IF(G4=\"\",0,IF(((G42-N42)/60)<0,TEXT(-(((G42-N42)/60)/24),\"-[hh]:mm\"),TEXT(((G42-N42)/60)/24,\"[hh]:mm\")))","v":0},{"$f":"IF(G4=0,\"\",IF(H42<0,TEXT(-((H42/60)/24),\"-[hh]:mm\"),IF((H42/60)>24,TEXT((((H42/60)-24)/24)+(24/24),\"[hh]:mm\"),(H42/60)/24)))","v":0},{"$f":"IF($K$9>0,IF(SUM(I6,K43)<0,TEXT(-(SUM(I6,K43)/60)/24,\"-[h]:mm\"),TEXT((SUM(I6,K43)/60)/24,\"[h]:mm\")),\"\")","v":""},null,{"$f":"IF(L42<>L43,G42-L43,K42)","v":0},{"$f":"IF(AND(K9=1,SUM(U4:U8)<>H9),((H9/5)*COUNTIFS(C11:C41,\"<>\"&2,F11:F41,\"\"))*60,IF(AND(K9=2,SUM(U12:U16)<>I9),((I9/5)*COUNTIFS(C11:C41,\"<>\"&2,F11:F41,\"\"))*60,IF(AND(K9=3,OR(SUM(U4:U8)<>H9,SUM(U12:U16)<>I9)),SUM(IF(SUM(U4:U8)<>H9,((H9/5)*COUNTIFS(C11:C41,\"<>\"&2,A11:A41,\"<\"&15,F11:F41,\"\"))*60,-SUMIFS(L11:L41,A11:A41,\"<\"&15,F11:F41,\"\")),IF(SUM(U12:U16)<>I9,((I9/5)*COUNTIFS(C11:C41,\"<>\"&2,A11:A41,\">\"&14,F11:F41,\"\"))*60,-SUMIFS(L11:L41,A11:A41,\">\"&14,F11:F41,\"\"))),-SUM(L11:L41))))","v":0},null,{"$f":"IF(N42<0,TEXT(-((N42/60)/24),\"-[hh]:mm\"),TEXT((N42/60)/24,\"[hh]:mm\"))","v":"00:00"},{"$f":"IF(O9-SUM(N11:N41)<0,TEXT(-(O9-SUM(N11:N41))/24,\"-[h]:mm\"),TEXT((O9-SUM(N11:N41))/24,\"[h]:mm\"))","v":{"$error":"#VALUE!"}},null,{"$f":"Q42","v":"00:00"}]
[{"$f":"IF(G4=\"\",\"\",\"Saldo / Übertrag:\")","v":""},null,null,null,null,null,null,null,{"$f":"I43","v":""},{"$f":"IF(K42<>K43,\"automatische Nachberechnung der Sollarbeitszeit, da wöchentlicher Stundenumfang nicht eingehalten wurde.\",\"\")","v":""},{"$f":"K43+I6","v":0},"Übertrag"]
[]
[{"$f":"IF(I46=\"\",\"\",\"Korrektur der Stunden\")","v":""},null,null,null,null,null,null,null,{"$f":"IF(K9>0,IF(K42-K43<>0,IF(K43-K42<0,TEXT(-((K43-K42)/60)/24,\"-[h]:mm\"),TEXT(((K43-K42)/60)/24,\"[h]:mm\")),\"\"),\"\")","v":""}]
[]
[]
[]
[]
[]
[]
[]
[]
[]
[]
[{"$f":"D4","v":""},{"$f":"C4","v":11},{"$f":"Uebersicht!A4","v":0},{"$f":"Uebersicht!B4","v":0},{"$f":"L43","v":0},{"$f":"K42","v":0},{"$f":"K43","v":0},{"$f":"M10","v":0},{"$f":"M42","v":0}]

{"sheet":"Dez","index":12,"n_rows":57,"n_cols":22,"rows_kept":57,"cut":false,"hidden":false,"merged":[[8,18,8,19],[9,18,9,20],[16,18,16,19],[42,0,42,5],[3,13,4,15],[5,13,5,15],[6,0,7,4],[6,5,7,5],[6,6,7,7],[6,8,7,8],[6,9,7,9],[6,13,7,15],[3,0,4,1],[3,2,4,2],[3,3,4,4],[3,5,4,5],[43,0,44,7],[43,8,44,8],[43,9,46,9],[45,0,45,7],[1,0,2,8],[3,6,4,9]]}
["Zeiterfassungsbogen für studentische Hilfskräfte | International Office",null,null,null,null,null,null,null,null,null,null,null,null,null,null,null,null,null,null,null,null,"\"nein\" auswählen, wenn keine festen Tage mehr gelten sollen!"]
[{"$f":"IF(Uebersicht!A4=\"\",\"\",CONCATENATE(Uebersicht!B4,\" \",Uebersicht!A4))","v":""}]
[null,null,null,null,null,null,null,null,null,null,null,null,null,{"$f":"INDEX(Uebersicht!AO5:AQ28,MATCH(C4,Uebersicht!AO5:AO28,0),3)","v":0},{"$f":"INDEX(Uebersicht!AO5:AQ28,MATCH(C4+0.5,Uebersicht!AO5:AO28,0),3)","v":0},null,null,null,"Tag","h"]
[{"$f":"IF(D4=\"\",\"\",TEXT(DATE(D4,C4,1),\"MMM\"))","v":""},null,12,{"$f":"Uebersicht!I1","v":""},null,null,{"$f":"IF(INDEX(Uebersicht!AO31:AQ42,MATCH(C4,Uebersicht!AO31:AO43,0),2)=0,\"\",INDEX(Uebersicht!AO31:AQ42,MATCH(C4,Uebersicht!AO31:AO43,0),2))","v":""},null,null,null,null,null,null,{"$f":"INDEX(Uebersicht!AO31:AQ42,MATCH(C4,Uebersicht!AO31:AO43,0),3)","v":0},null,null,null,{"$f":"IF(OR($K$9=2,$K$9=0),1,IF(AND(OR($K$9=1,$K$9=3),OR(SUM($U$4:$U$8)=0,$U$1=\"nein\")),3,IF(AND($U$1=\"\",SUM($U$4:$U$8)>0,U4>=1,OR($K$9=3,$K$9=1)),4,1)))","v":1},"Mo",null,{"$f":"IF(AND(H9=0,I9=0),0,IF(OR($K$9=0,INDIRECT(\"'\"&TEXT(DATE(D4,$C$4-1,1),\"MMM\")&\"'!$U$1\")=\"nein\",$U$1=\"nein\"),0,IF(T4>0,T4,INDEX(Uebersicht!$BA$3:$BE$14,$C$4,MATCH(S4,Uebersicht!$BA$2:$BE$2,0)))))","v":0}]
[null,null,null,null,null,null,null,null,null,null,null,null,null,null,null,null,null,{"$f":"IF(OR($K$9=2,$K$9=0),1,IF(AND(OR($K$9=1,$K$9=3),OR(SUM($U$4:$U$8)=0,$U$1=\"nein\")),3,IF(AND($U$1=\"\",SUM($U$4:$U$8)>0,U5>=1,OR($K$9=3,$K$9=1)),4,1)))","v":1},"Di",null,{"$f":"IF(OR($K$9=0,INDIRECT(\"'\"&TEXT(DATE(D5,$C$4-1,1),\"MMM\")&\"'!$U$1\")=\"nein\",$U$1=\"nein\"),0,IF(T5>0,T5,INDEX(Uebersicht!$BA$3:$BE$14,$C$4,MATCH(S5,Uebersicht!$BA$2:$BE$2,0))))","v":0}]
[null,null,{"$f":"DAY(DATE(D4,C4+1,1)-1)","v":{"$error":"#VALUE!"}},null,null,null,null,{"$f":"IF(N4=0,\"\",\"Arbeitsgebiet 1\")","v":""},{"$f":"IF(AND(I9=0,H9=0),0,IF(C4-1=0,Uebersicht!G4,INDIRECT(\"'\"&TEXT(DATE(D4,C4-1,1),\"MMM\")&\"'!K44\")))","v":0},null,"nein",null,null,{"$f":"IF(N4=\"\",\"\",\"Arbeitsgebiet 2\")","v":"Arbeitsgebiet 2"},null,null,null,{"$f":"IF(OR($K$9=2,$K$9=0),1,IF(AND(OR($K$9=1,$K$9=3),OR(SUM($U$4:$U$8)=0,$U$1=\"nein\")),3,IF(AND($U$1=\"\",SUM($U$4:$U$8)>0,U6>=1,OR($K$9=3,$K$9=1)),4,1)))","v":1},"Mi",null,{"$f":"IF(OR($K$9=0,INDIRECT(\"'\"&TEXT(DATE(D6,$C$4-1,1),\"MMM\")&\"'!$U$1\")=\"nein\",$U$1=\"nein\"),0,IF(T6>0,T6,INDEX(Uebersicht!$BA$3:$BE$14,$C$4,MATCH(S6,Uebersicht!$BA$2:$BE$2,0))))","v":0}]
[{"$f":"IF(AND(H9>0,I9=0),CONCATENATE(H9,\" Wochenarbeitszeit (h)\"),IF(AND(H9=0,I9>0),CONCATENATE(I9,\" Wochenarbeitszeit (h)\"),IF(AND(H9>0,I9>0,H9<>I9),CONCATENATE(H9,\" h, ab 15. \",TEXT(DATE(D4,C4,1),\"MMMM\"),\" \",I9,\"h\"),\"\")))","v":""},null,null,null,null,{"$f":"IF(G4=\"\",\"\",IF(M42/60>0,TEXT((M42/60)/24,\"[h]:mm\"),0))","v":""},{"$f":"IF(F7=\"\",\"\",\"Urlaubsrest\")","v":""},null,{"$f":"IF(AND(YEAR(TODAY())=D4,MONTH(TODAY())>=C4,K9>0),IF(OR(I6=0,I6=\"\"),0,IF(I6<0,TEXT(-(I6/60)/24,\"-[h]:mm\"),TEXT((I6/60)/24,\"[h]:mm\"))),\"\")","v":""},{"$f":"IF(I7=\"\",\"\",CONCATENATE(\"h Übertrag aus \",IF(C6=1,\"Vorjahr\",\"Vormonat\")))","v":""},"Urlaub",null,null,{"$f":"IF(AND(N3>0,O3=0),CONCATENATE(N3,\" Stunden - Anteil pro Woche\"),IF(AND(N3=0,O3>0),CONCATENATE(O3,\" Stunden - Anteil pro Woche\"),IF(AND(N3>0,O3>0,O3<>N3),CONCATENATE(N3,\" h, ab 15. \",TEXT(DATE(D4,C4,1),\"MMMM\"),\" \",O3,\"h\"),IF(N3=O3,CONCATENATE(N3,\" Stunden - Anteil pro Woche\"),\"\"))))","v":"0 Stunden - Anteil pro Woche"},null,null,null,{"$f":"IF(OR($K$9=2,$K$9=0),1,IF(AND(OR($K$9=1,$K$9=3),OR(SUM($U$4:$U$8)=0,$U$1=\"nein\")),3,IF(AND($U$1=\"\",SUM($U$4:$U$8)>0,U7>=1,OR($K$9=3,$K$9=1)),4,1)))","v":1},"Do",null,{"$f":"IF(OR($K$9=0,INDIRECT(\"'\"&TEXT(DATE(D7,$C$4-1,1),\"MMM\")&\"'!$U$1\")=\"nein\",$U$1=\"nein\"),0,IF(T7>0,T7,INDEX(Uebersicht!$BA$3:$BE$14,$C$4,MATCH(S7,Uebersicht!$BA$2:$BE$2,0))))","v":0}]
[null,null,null,null,null,null,null,null,null,null,"Krank",null,null,null,null,null,null,{"$f":"IF(OR($K$9=2,$K$9=0),1,IF(AND(OR($K$9=1,$K$9=3),OR(SUM($U$4:$U$8)=0,$U$1=\"nein\")),3,IF(AND($U$1=\"\",SUM($U$4:$U$8)>0,U8>=1,OR($K$9=3,$K$9=1)),4,1)))","v":1},"Fr",null,{"$f":"IF(OR($K$9=0,INDIRECT(\"'\"&TEXT(DATE(D8,$C$4-1,1),\"MMM\")&\"'!$U$1\")=\"nein\",$U$1=\"nein\"),0,IF(T8>0,T8,INDEX(Uebersicht!$BA$3:$BE$14,$C$4,MATCH(S8,Uebersicht!$BA$2:$BE$2,0))))","v":0}]
[null,null,null,null,null,null,null,{"$f":"INDEX(Uebersicht!AU3:AW14,C4,2)","v":0},{"$f":"IF(INDEX(Uebersicht!AU3:AW14,C4,3)=H9,0,INDEX(Uebersicht!AU3:AW14,C4,3))","v":0},null,{"$f":"IF(AND(H9>0,I9=0),1,IF(AND(H9=0,I9>0),2,IF(AND(H9=0,I9=0),0,IF(H9<>I9,3,\"\"))))","v":0},null,null,null,{"$f":"IF(OR(N3>0,O3>0),IF(OR(K9=1,K9=2),(IF(K9=1,N3,IF(K9=2,O2,0))/5)*NETWORKDAYS(IF(K9=1,DATE(D4,C4,1),IF(K9=2,DATE(D4,C4,15),0)),IF(OR(K9=1,K9=2),DATE(D4,C4,MAX(A11:A41)),0),COUNTIFS(C11:C41,\"<>\"&2)),IF(K9=3,SUM(IF(N3>0,(N3/5)*NETWORKDAYS(DATE(D4,C4,1),DATE(D4,C4,14),2),0),IF(O3>0,(O3/5)*NETWORKDAYS(DATE(D4,C4,15),DATE(D4,C4,MAX(A11:A41)),2),0)),0)),\"\")","v":""},null,null,null,{"$f":"IF(SUM(U4:U8)=0,\"\",IF(SUM(U4:U8)>H9,\"zu viel!\",IF(SUM(U4:U8)<H9,\"zu wenig!\",\"\")))","v":""},null,{"$f":"IF(OR(U1=\"nein\",SUM(U4:U8)=0),\"ja\",IF(OR(SUM(Uebersicht!C36:C40)>0,SUM(T4:T8)>0,SUM(U4:U8)>0),\"nein\",\"ja\"))","v":"ja"}]
["Tag",null,null,"Beginn","Ende","Urlaub\nKrank","Stunden","Mehr/\nMinder","Saldo\nsummiert","Bemerkungen","Differenz","Soll",{"$f":"IF(AND(I9=0,H9=0),0,IF(C4-1=0,IF(Uebersicht!E8=\"\",0,Uebersicht!E8*60),INDIRECT(\"'\"&TEXT(DATE(D4,C4-1,1),\"MMM\")&\"'!M42\")))","v":0},"Stunden","Rest","Bemerkungen","Gesamt",null,"Änderung im laufenden Monat"]
[1,{"$f":"IF(OR(A11=\"\",$D$4=\"\"),\"\",TEXT(DATE($D$4,$C$4,A11),\"ttt\"))","v":""},{"$f":"IF(OR($K$9=0,AND($K$9=2,A11<=14)),1,IF(IF(ISNA(INDEX(X!$W$7:$W$20,MATCH(DATE($D$4,$C$4,A11),X!$AC$7:$AC$20,0))),1,2)=2,2,IF(OR(B11=\"Sa\",B11=\"So\"),2,IF($K$9=1,SUMIFS($R$4:$R$8,$S$4:$S$8,B11),IF(AND($K$9=2,A11<15),SUMIFS($R$4:$R$8,$S$4:$S$8,B11),IF(AND($K$9=2,A11>14),SUMIFS($R$12:$R$16,$S$12:$S$16,B11),IF(AND($K$9=3,A11>14),SUMIFS($R$12:$R$16,$S$12:$S$16,B11),IF(AND($K$9=3,A11<15),SUMIFS($R$4:$R$8,$S$4:$S$8,B11),1))))))))","v":1},null,null,null,{"$f":"IF(AND(D11=\"\",E11=\"\"),\"\",IF(N11=\"\",IF(((HOUR(E11)*60+MINUTE(E11))-(HOUR(D11)*60+MINUTE(D11)))>360,TEXT(((((HOUR(E11)*60+MINUTE(E11))-(HOUR(D11)*60+MINUTE(D11)))-30)/60)/24,\"[h]:mm\"),TEXT((((HOUR(E11)*60+MINUTE(E11))-(HOUR(D11)*60+MINUTE(D11)))/60)/24,\"[h]:mm\")),IF((((HOUR(E11)*60+MINUTE(E11))-(HOUR(D11)*60+MINUTE(D11)))-N11)>360,TEXT(((((((HOUR(E11)*60+MINUTE(E11))-(HOUR(D11)*60+MINUTE(D11)))-30))/60)-N11)/24,\"[h]:mm\"),TEXT(((((HOUR(E11)*60+MINUTE(E11))-(HOUR(D11)*60+MINUTE(D11)))/60)-N11)/24,\"[h]:mm\"))))","v":""},{"$f":"IF(K11=\"\",\"\",IF(TODAY()<=DATE($D$4,$C$4,A11),0,IF(K11>0,TEXT((K11/60)/24,\"[h]:mm\"),TEXT(-(K11/60)/24,\"-[h]:mm\"))))","v":""},{"$f":"IF($K$9>0,IF(SUM($K$11:$K11,I6)<0,TEXT(-(SUM($K$11:K11,I6)/60)/24,\"-[h]:mm\"),TEXT((SUM($K$11:K11,I6)/60)/24,\"[h]:mm\")),\"\")","v":""},null,{"$f":"IF(F11=\"\",IF(L11<0,L11+IF(G11=\" \",0,IF(((HOUR(E11)*60+MINUTE(E11))-(HOUR(D11)*60+MINUTE(D11)))>360,(HOUR(E11)*60+MINUTE(E11))-(HOUR(D11)*60+MINUTE(D11))-30,(HOUR(E11)*60+MINUTE(E11))-(HOUR(D11)*60+MINUTE(D11)))),IF(Q11=\"\",\"\",(Q11*60)*24)),\"\")","v":""},{"$f":"IF(OR(F11=\"krank\",F11=\"Urlaub\",C11=1,C11=2),0,IF($K$9=1,IF(SUM($U$4:$U$8)=0,$H$9/5,INDEX($S$4:$U$8,MATCH(B11,$S$4:$S$8,0),3)),IF($K$9=2,IF(AND(A11>14,SUM($U$12:$U$16)=0),$I$9/5,INDEX($S$12:$U$16,MATCH(B11,$S$12:$S$16,0),3)),IF($K$9=3,IF(A11<15,IF(SUM($U$4:$U$8)=0,$H$9/5,INDEX($S$4:$U$8,MATCH(B11,$S$4:$S$8,0),3))),IF(A11>14,IF(SUM($U$12:$U$16)=0,$I$9/5,INDEX($S$12:$U$16,MATCH(B11,$S$12:$S$16,0),3))))))*-60)","v":0},{"$f":"M10-(IF(OR(C11=1,C11=2),0,IF(C11=3,IF(AND($K$9=1,F11=\"Urlaub\"),$H$9/5,IF($K$9=2,IF(AND(A11<15,F11=\"Urlaub\"),$I$9/5,IF(AND($K$9=3,A11<15,F11=\"Urlaub\"),$H$9/5,IF(AND($K$9=3,A11>14,F11=\"Urlaub\"),$I$9/5))))),IF(C11=4,IF(AND(F11=\"Urlaub\",$K$9=1),SUMIFS($U$4:$U$8,$S$4:$S$8,B11),IF(AND(F11=\"Urlaub\",$K$9=2,A11>14),SUMIFS($U$12:$U$16,$S$12:$S$16,B11),IF(AND(F11=\"Urlaub\",$K$9=3,A11<15),SUMIFS($U$4:$U$8,$S$4:$S$8,B11),IF(AND(F11=\"Urlaub\",$K$9=3,A11>14),SUMIFS($U$12:$U$16,$S$12:$S$16,B11),0)))))))*60)","v":0},null,{"$f":"IF(OR($O$3=\"\",$N$3=\"\",N11=\"\"),\"\",IF($O$9-SUM($N10:N$11)-N11<0,TEXT(-(($O$9-SUM($N10:N$11)-N11)/24),\"-[hh]:mm\"),TEXT(($O$9-SUM($N10:N$11)-N11)/24,\"[hh]:mm\")))","v":""},null,{"$f":"IF(AND(D11=\"\",E11=\"\"),\"\",IF(((HOUR(E11)*60+MINUTE(E11))-(HOUR(D11)*60+MINUTE(D11)))>360,TEXT(((((HOUR(E11)*60+MINUTE(E11))-(HOUR(D11)*60+MINUTE(D11)))-30)/60)/24,\"[h]:mm\"),TEXT((((HOUR(E11)*60+MINUTE(E11))-(HOUR(D11)*60+MINUTE(D11)))/60)/24,\"[h]:mm\")))","v":""}]
[{"$f":"IF(OR(A11=\"\",$D$4=\"\"),\"\",IF(A11+1<=$C$6,A11+1,\"\"))","v":""},"",{"$f":"IF(OR($K$9=0,AND($K$9=2,A12<=14)),1,IF(IF(ISNA(INDEX(X!$W$7:$W$20,MATCH(DATE($D$4,$C$4,A12),X!$AC$7:$AC$20,0))),1,2)=2,2,IF(OR(B12=\"Sa\",B12=\"So\"),2,IF($K$9=1,SUMIFS($R$4:$R$8,$S$4:$S$8,B12),IF(AND($K$9=2,A12<15),SUMIFS($R$4:$R$8,$S$4:$S$8,B12),IF(AND($K$9=2,A12>14),SUMIFS($R$12:$R$16,$S$12:$S$16,B12),IF(AND($K$9=3,A12>14),SUMIFS($R$12:$R$16,$S$12:$S$16,B12),IF(AND($K$9=3,A12<15),SUMIFS($R$4:$R$8,$S$4:$S$8,B12),1))))))))","v":1},null,null,null,"","",{"$f":"IF($K$9>0,IF(SUM($K$11:$K12,$I$6)<0,TEXT(-(SUM($K$11:K12,$I$6)/60)/24,\"-[h]:mm\"),TEXT((SUM($K$11:K12,$I$6)/60)/24,\"[h]:mm\")),\"\")","v":""},null,{"$f":"IF(F12=\"\",IF(L12<0,L12+IF(G12=\" \",0,IF(((HOUR(E12)*60+MINUTE(E12))-(HOUR(D12)*60+MINUTE(D12)))>360,(HOUR(E12)*60+MINUTE(E12))-(HOUR(D12)*60+MINUTE(D12))-30,(HOUR(E12)*60+MINUTE(E12))-(HOUR(D12)*60+MINUTE(D12)))),IF(Q12=\"\",\"\",(Q12*60)*24)),\"\")","v":""},{"$f":"IF(OR(F12=\"krank\",F12=\"Urlaub\",C12=1,C12=2),0,IF($K$9=1,IF(SUM($U$4:$U$8)=0,$H$9/5,INDEX($S$4:$U$8,MATCH(B12,$S$4:$S$8,0),3)),IF($K$9=2,IF(AND(A12>14,SUM($U$12:$U$16)=0),$I$9/5,INDEX($S$12:$U$16,MATCH(B12,$S$12:$S$16,0),3)),IF($K$9=3,IF(A12<15,IF(SUM($U$4:$U$8)=0,$H$9/5,INDEX($S$4:$U$8,MATCH(B12,$S$4:$S$8,0),3)),IF(SUM($U$12:$U$16)=0,$I$9/5,INDEX($S$12:$U$16,MATCH(B12,$S$12:$S$16,0),3)))))))*-60","v":0},0,null,{"$f":"IF(OR($O$3=\"\",$N$3=\"\",N12=\"\"),\"\",IF($O$9-SUM($N$11:N11)-N12<0,TEXT(-(($O$9-SUM($N$11:N11)-N12)/24),\"-[hh]:mm\"),TEXT(($O$9-SUM($N$11:N11)-N12)/24,\"[hh]:mm\")))","v":""},null,"",{"$f":"IF($K$9=0,1,IF($K$9=1,R4,IF(AND($K$9=3,OR(SUM($U$12:$U$16)=0,$U$1=\"nein\")),3,IF(AND($U$1=\"\",SUM($U$12:$U$16)>0,U12>=1,OR($K$9=3,$K$9=2)),4,1))))","v":1},"Mo",null,{"$f":"IF(AND(I9=0,H9=0),0,IF(OR($K$9=0,INDIRECT(\"'\"&TEXT(DATE(D4,$C$4-1,1),\"MMM\")&\"'!$U$1\")=\"nein\",$U$1=\"nein\"),0,IF(T12>0,T12,INDEX(Uebersicht!$BF$3:$BJ$14,$C$4,MATCH(S12,Uebersicht!$BF$2:$BJ$2,0)))))","v":0}]
[{"$f":"IF(OR(A12=\"\",$D$4=\"\"),\"\",IF(A12+1<=$C$6,A12+1,\"\"))","v":""},"",{"$f":"IF(OR($K$9=0,AND($K$9=2,A13<=14)),1,IF(IF(ISNA(INDEX(X!$W$7:$W$20,MATCH(DATE($D$4,$C$4,A13),X!$AC$7:$AC$20,0))),1,2)=2,2,IF(OR(B13=\"Sa\",B13=\"So\"),2,IF($K$9=1,SUMIFS($R$4:$R$8,$S$4:$S$8,B13),IF(AND($K$9=2,A13<15),SUMIFS($R$4:$R$8,$S$4:$S$8,B13),IF(AND($K$9=2,A13>14),SUMIFS($R$12:$R$16,$S$12:$S$16,B13),IF(AND($K$9=3,A13>14),SUMIFS($R$12:$R$16,$S$12:$S$16,B13),IF(AND($K$9=3,A13<15),SUMIFS($R$4:$R$8,$S$4:$S$8,B13),1))))))))","v":1},null,null,null,"","",{"$f":"IF($K$9>0,IF(SUM($K$11:$K13,$I$6)<0,TEXT(-(SUM($K$11:K13,$I$6)/60)/24,\"-[h]:mm\"),TEXT((SUM($K$11:K13,$I$6)/60)/24,\"[h]:mm\")),\"\")","v":""},null,"",0,0,null,{"$f":"IF(OR($O$3=\"\",$N$3=\"\",N13=\"\"),\"\",IF($O$9-SUM($N$11:N12)-N13<0,TEXT(-(($O$9-SUM($N$11:N12)-N13)/24),\"-[hh]:mm\"),TEXT(($O$9-SUM($N$11:N12)-N13)/24,\"[hh]:mm\")))","v":""},null,"",{"$f":"IF($K$9=0,1,IF($K$9=1,R5,IF(AND($K$9=3,OR(SUM($U$12:$U$16)=0,$U$1=\"nein\")),3,IF(AND($U$1=\"\",SUM($U$12:$U$16)>0,U13>=1,OR($K$9=3,$K$9=2)),4,1))))","v":1},"Di",null,{"$f":"IF(OR($K$9=0,INDIRECT(\"'\"&TEXT(DATE(D5,$C$4-1,1),\"MMM\")&\"'!$U$1\")=\"nein\",$U$1=\"nein\"),0,IF(T13>0,T13,INDEX(Uebersicht!$BF$3:$BJ$14,$C$4,MATCH(S13,Uebersicht!$BF$2:$BJ$2,0))))","v":0}]
["","",{"$f":"IF(OR($K$9=0,AND($K$9=2,A14<=14)),1,IF(IF(ISNA(INDEX(X!$W$7:$W$20,MATCH(DATE($D$4,$C$4,A14),X!$AC$7:$AC$20,0))),1,2)=2,2,IF(OR(B14=\"Sa\",B14=\"So\"),2,IF($K$9=1,SUMIFS($R$4:$R$8,$S$4:$S$8,B14),IF(AND($K$9=2,A14<15),SUMIFS($R$4:$R$8,$S$4:$S$8,B14),IF(AND($K$9=2,A14>14),SUMIFS($R$12:$R$16,$S$12:$S$16,B14),IF(AND($K$9=3,A14>14),SUMIFS($R$12:$R$16,$S$12:$S$16,B14),IF(AND($K$9=3,A14<15),SUMIFS($R$4:$R$8,$S$4:$S$8,B14),1))))))))","v":1},null,null,null,"","",{"$f":"IF($K$9>0,IF(SUM($K$11:$K14,$I$6)<0,TEXT(-(SUM($K$11:K14,$I$6)/60)/24,\"-[h]:mm\"),TEXT((SUM($K$11:K14,$I$6)/60)/24,\"[h]:mm\")),\"\")","v":""},null,"",0,0,null,{"$f":"IF(OR($O$3=\"\",$N$3=\"\",N14=\"\"),\"\",IF($O$9-SUM($N$11:N13)-N14<0,TEXT(-(($O$9-SUM($N$11:N13)-N14)/24),\"-[hh]:mm\"),TEXT(($O$9-SUM($N$11:N13)-N14)/24,\"[hh]:mm\")))","v":""},null,"",{"$f":"IF($K$9=0,1,IF($K$9=1,R6,IF(AND($K$9=3,OR(SUM($U$12:$U$16)=0,$U$1=\"nein\")),3,IF(AND($U$1=\"\",SUM($U$12:$U$16)>0,U14>=1,OR($K$9=3,$K$9=2)),4,1))))","v":1},"Mi",null,{"$f":"IF(OR($K$9=0,INDIRECT(\"'\"&TEXT(DATE(D6,$C$4-1,1),\"MMM\")&\"'!$U$1\")=\"nein\",$U$1=\"nein\"),0,IF(T14>0,T14,INDEX(Uebersicht!$BF$3:$BJ$14,$C$4,MATCH(S14,Uebersicht!$BF$2:$BJ$2,0))))","v":0}]
["","",{"$f":"IF(OR($K$9=0,AND($K$9=2,A15<=14)),1,IF(IF(ISNA(INDEX(X!$W$7:$W$20,MATCH(DATE($D$4,$C$4,A15),X!$AC$7:$AC$20,0))),1,2)=2,2,IF(OR(B15=\"Sa\",B15=\"So\"),2,IF($K$9=1,SUMIFS($R$4:$R$8,$S$4:$S$8,B15),IF(AND($K$9=2,A15<15),SUMIFS($R$4:$R$8,$S$4:$S$8,B15),IF(AND($K$9=2,A15>14),SUMIFS($R$12:$R$16,$S$12:$S$16,B15),IF(AND($K$9=3,A15>14),SUMIFS($R$12:$R$16,$S$12:$S$16,B15),IF(AND($K$9=3,A15<15),SUMIFS($R$4:$R$8,$S$4:$S$8,B15),1))))))))","v":1},null,null,null,"","",{"$f":"IF($K$9>0,IF(SUM($K$11:$K15,$I$6)<0,TEXT(-(SUM($K$11:K15,$I$6)/60)/24,\"-[h]:mm\"),TEXT((SUM($K$11:K15,$I$6)/60)/24,\"[h]:mm\")),\"\")","v":""},null,"",0,0,null,{"$f":"IF(OR($O$3=\"\",$N$3=\"\",N15=\"\"),\"\",IF($O$9-SUM($N$11:N14)-N15<0,TEXT(-(($O$9-SUM($N$11:N14)-N15)/24),\"-[hh]:mm\"),TEXT(($O$9-SUM($N$11:N14)-N15)/24,\"[hh]:mm\")))","v":""},null,"",{"$f":"IF($K$9=0,1,IF($K$9=1,R7,IF(AND($K$9=3,OR(SUM($U$12:$U$16)=0,$U$1=\"nein\")),3,IF(AND($U$1=\"\",SUM($U$12:$U$16)>0,U15>=1,OR($K$9=3,$K$9=2)),4,1))))","v":1},"Do",null,{"$f":"IF(OR($K$9=0,INDIRECT(\"'\"&TEXT(DATE(D7,$C$4-1,1),\"MMM\")&\"'!$U$1\")=\"nein\",$U$1=\"nein\"),0,IF(T15>0,T15,INDEX(Uebersicht!$BF$3:$BJ$14,$C$4,MATCH(S15,Uebersicht!$BF$2:$BJ$2,0))))","v":0}]
["","",{"$f":"IF(OR($K$9=0,AND($K$9=2,A16<=14)),1,IF(IF(ISNA(INDEX(X!$W$7:$W$20,MATCH(DATE($D$4,$C$4,A16),X!$AC$7:$AC$20,0))),1,2)=2,2,IF(OR(B16=\"Sa\",B16=\"So\"),2,IF($K$9=1,SUMIFS($R$4:$R$8,$S$4:$S$8,B16),IF(AND($K$9=2,A16<15),SUMIFS($R$4:$R$8,$S$4:$S$8,B16),IF(AND($K$9=2,A16>14),SUMIFS($R$12:$R$16,$S$12:$S$16,B16),IF(AND($K$9=3,A16>14),SUMIFS($R$12:$R$16,$S$12:$S$16,B16),IF(AND($K$9=3,A16<15),SUMIFS($R$4:$R$8,$S$4:$S$8,B16),1))))))))","v":1},null,null,null,"","",{"$f":"IF($K$9>0,IF(SUM($K$11:$K16,$I$6)<0,TEXT(-(SUM($K$11:K16,$I$6)/60)/24,\"-[h]:mm\"),TEXT((SUM($K$11:K16,$I$6)/60)/24,\"[h]:mm\")),\"\")","v":""},null,"",0,0,null,{"$f":"IF(OR($O$3=\"\",$N$3=\"\",N16=\"\"),\"\",IF($O$9-SUM($N$11:N15)-N16<0,TEXT(-(($O$9-SUM($N$11:N15)-N16)/24),\"-[hh]:mm\"),TEXT(($O$9-SUM($N$11:N15)-N16)/24,\"[hh]:mm\")))","v":""},null,"",{"$f":"IF($K$9=0,1,IF($K$9=1,R8,IF(AND($K$9=3,OR(SUM($U$12:$U$16)=0,$U$1=\"nein\")),3,IF(AND($U$1=\"\",SUM($U$12:$U$16)>0,U16>=1,OR($K$9=3,$K$9=2)),4,1))))","v":1},"Fr",null,{"$f":"IF(OR($K$9=0,INDIRECT(\"'\"&TEXT(DATE(D8,$C$4-1,1),\"MMM\")&\"'!$U$1\")=\"nein\",$U$1=\"nein\"),0,IF(T16>0,T16,INDEX(Uebersicht!$BF$3:$BJ$14,$C$4,MATCH(S16,Uebersicht!$BF$2:$BJ$2,0))))","v":0}]
["","",{"$f":"IF(OR($K$9=0,AND($K$9=2,A17<=14)),1,IF(IF(ISNA(INDEX(X!$W$7:$W$20,MATCH(DATE($D$4,$C$4,A17),X!$AC$7:$AC$20,0))),1,2)=2,2,IF(OR(B17=\"Sa\",B17=\"So\"),2,IF($K$9=1,SUMIFS($R$4:$R$8,$S$4:$S$8,B17),IF(AND($K$9=2,A17<15),SUMIFS($R$4:$R$8,$S$4:$S$8,B17),IF(AND($K$9=2,A17>14),SUMIFS($R$12:$R$16,$S$12:$S$16,B17),IF(AND($K$9=3,A17>14),SUMIFS($R$12:$R$16,$S$12:$S$16,B17),IF(AND($K$9=3,A17<15),SUMIFS($R$4:$R$8,$S$4:$S$8,B17),1))))))))","v":1},null,null,null,"","",{"$f":"IF($K$9>0,IF(SUM($K$11:$K17,$I$6)<0,TEXT(-(SUM($K$11:K17,$I$6)/60)/24,\"-[h]:mm\"),TEXT((SUM($K$11:K17,$I$6)/60)/24,\"[h]:mm\")),\"\")","v":""},null,"",0,0,null,{"$f":"IF(OR($O$3=\"\",$N$3=\"\",N17=\"\"),\"\",IF($O$9-SUM($N$11:N16)-N17<0,TEXT(-(($O$9-SUM($N$11:N16)-N17)/24),\"-[hh]:mm\"),TEXT(($O$9-SUM($N$11:N16)-N17)/24,\"[hh]:mm\")))","v":""},null,"",null,{"$f":"IF(I9=0,\"\",IF(SUM(U12:U16)>I9,\"zu viel!\",IF(SUM(U12:U16)<I9,\"zu wenig!\",\"\")))","v":""},null,{"$f":"IF(OR(U9=\"nein\",SUM(U12:U16)=0),\"ja\",IF(OR(SUM(Uebersicht!C43:C47)>0,SUM(T12:T16)>0,SUM(U12:U16)>0),\"nein\",\"ja\"))","v":"ja"}]
["","",{"$f":"IF(OR($K$9=0,AND($K$9=2,A18<=14)),1,IF(IF(ISNA(INDEX(X!$W$7:$W$20,MATCH(DATE($D$4,$C$4,A18),X!$AC$7:$AC$20,0))),1,2)=2,2,IF(OR(B18=\"Sa\",B18=\"So\"),2,IF($K$9=1,SUMIFS($R$4:$R$8,$S$4:$S$8,B18),IF(AND($K$9=2,A18<15),SUMIFS($R$4:$R$8,$S$4:$S$8,B18),IF(AND($K$9=2,A18>14),SUMIFS($R$12:$R$16,$S$12:$S$16,B18),IF(AND($K$9=3,A18>14),SUMIFS($R$12:$R$16,$S$12:$S$16,B18),IF(AND($K$9=3,A18<15),SUMIFS($R$4:$R$8,$S$4:$S$8,B18),1))))))))","v":1},null,null,null,"","",{"$f":"IF($K$9>0,IF(SUM($K$11:$K18,$I$6)<0,TEXT(-(SUM($K$11:K18,$I$6)/60)/24,\"-[h]:mm\"),TEXT((SUM($K$11:K18,$I$6)/60)/24,\"[h]:mm\")),\"\")","v":""},null,"",0,0,null,{"$f":"IF(OR($O$3=\"\",$N$3=\"\",N18=\"\"),\"\",IF($O$9-SUM($N$11:N17)-N18<0,TEXT(-(($O$9-SUM($N$11:N17)-N18)/24),\"-[hh]:mm\"),TEXT(($O$9-SUM($N$11:N17)-N18)/24,\"[hh]:mm\")))","v":""},null,""]
["","",{"$f":"IF(OR($K$9=0,AND($K$9=2,A19<=14)),1,IF(IF(ISNA(INDEX(X!$W$7:$W$20,MATCH(DATE($D$4,$C$4,A19),X!$AC$7:$AC$20,0))),1,2)=2,2,IF(OR(B19=\"Sa\",B19=\"So\"),2,IF($K$9=1,SUMIFS($R$4:$R$8,$S$4:$S$8,B19),IF(AND($K$9=2,A19<15),SUMIFS($R$4:$R$8,$S$4:$S$8,B19),IF(AND($K$9=2,A19>14),SUMIFS($R$12:$R$16,$S$12:$S$16,B19),IF(AND($K$9=3,A19>14),SUMIFS($R$12:$R$16,$S$12:$S$16,B19),IF(AND($K$9=3,A19<15),SUMIFS($R$4:$R$8,$S$4:$S$8,B19),1))))))))","v":1},null,null,null,"","",{"$f":"IF($K$9>0,IF(SUM($K$11:$K19,$I$6)<0,TEXT(-(SUM($K$11:K19,$I$6)/60)/24,\"-[h]:mm\"),TEXT((SUM($K$11:K19,$I$6)/60)/24,\"[h]:mm\")),\"\")","v":""},null,"",0,0,null,{"$f":"IF(OR($O$3=\"\",$N$3=\"\",N19=\"\"),\"\",IF($O$9-SUM($N$11:N18)-N19<0,TEXT(-(($O$9-SUM($N$11:N18)-N19)/24),\"-[hh]:mm\"),TEXT(($O$9-SUM($N$11:N18)-N19)/24,\"[hh]:mm\")))","v":""},null,""]
["","",{"$f":"IF(OR($K$9=0,AND($K$9=2,A20<=14)),1,IF(IF(ISNA(INDEX(X!$W$7:$W$20,MATCH(DATE($D$4,$C$4,A20),X!$AC$7:$AC$20,0))),1,2)=2,2,IF(OR(B20=\"Sa\",B20=\"So\"),2,IF($K$9=1,SUMIFS($R$4:$R$8,$S$4:$S$8,B20),IF(AND($K$9=2,A20<15),SUMIFS($R$4:$R$8,$S$4:$S$8,B20),IF(AND($K$9=2,A20>14),SUMIFS($R$12:$R$16,$S$12:$S$16,B20),IF(AND($K$9=3,A20>14),SUMIFS($R$12:$R$16,$S$12:$S$16,B20),IF(AND($K$9=3,A20<15),SUMIFS($R$4:$R$8,$S$4:$S$8,B20),1))))))))","v":1},null,null,null,"","",{"$f":"IF($K$9>0,IF(SUM($K$11:$K20,$I$6)<0,TEXT(-(SUM($K$11:K20,$I$6)/60)/24,\"-[h]:mm\"),TEXT((SUM($K$11:K20,$I$6)/60)/24,\"[h]:mm\")),\"\")","v":""},null,"",0,0,null,{"$f":"IF(OR($O$3=\"\",$N$3=\"\",N20=\"\"),\"\",IF($O$9-SUM($N$11:N19)-N20<0,TEXT(-(($O$9-SUM($N$11:N19)-N20)/24),\"-[hh]:mm\"),TEXT(($O$9-SUM($N$11:N19)-N20)/24,\"[hh]:mm\")))","v":""},null,""]
["","",{"$f":"IF(OR($K$9=0,AND($K$9=2,A21<=14)),1,IF(IF(ISNA(INDEX(X!$W$7:$W$20,MATCH(DATE($D$4,$C$4,A21),X!$AC$7:$AC$20,0))),1,2)=2,2,IF(OR(B21=\"Sa\",B21=\"So\"),2,IF($K$9=1,SUMIFS($R$4:$R$8,$S$4:$S$8,B21),IF(AND($K$9=2,A21<15),SUMIFS($R$4:$R$8,$S$4:$S$8,B21),IF(AND($K$9=2,A21>14),SUMIFS($R$12:$R$16,$S$12:$S$16,B21),IF(AND($K$9=3,A21>14),SUMIFS($R$12:$R$16,$S$12:$S$16,B21),IF(AND($K$9=3,A21<15),SUMIFS($R$4:$R$8,$S$4:$S$8,B21),1))))))))","v":1},null,null,null,"","",{"$f":"IF($K$9>0,IF(SUM($K$11:$K21,$I$6)<0,TEXT(-(SUM($K$11:K21,$I$6)/60)/24,\"-[h]:mm\"),TEXT((SUM($K$11:K21,$I$6)/60)/24,\"[h]:mm\")),\"\")","v":""},null,"",0,0,null,{"$f":"IF(OR($O$3=\"\",$N$3=\"\",N21=\"\"),\"\",IF($O$9-SUM($N$11:N20)-N21<0,TEXT(-(($O$9-SUM($N$11:N20)-N21)/24),\"-[hh]:mm\"),TEXT(($O$9-SUM($N$11:N20)-N21)/24,\"[hh]:mm\")))","v":""},null,""]
["","",{"$f":"IF(OR($K$9=0,AND($K$9=2,A22<=14)),1,IF(IF(ISNA(INDEX(X!$W$7:$W$20,MATCH(DATE($D$4,$C$4,A22),X!$AC$7:$AC$20,0))),1,2)=2,2,IF(OR(B22=\"Sa\",B22=\"So\"),2,IF($K$9=1,SUMIFS($R$4:$R$8,$S$4:$S$8,B22),IF(AND($K$9=2,A22<15),SUMIFS($R$4:$R$8,$S$4:$S$8,B22),IF(AND($K$9=2,A22>14),SUMIFS($R$12:$R$16,$S$12:$S$16,B22),IF(AND($K$9=3,A22>14),SUMIFS($R$12:$R$16,$S$12:$S$16,B22),IF(AND($K$9=3,A22<15),SUMIFS($R$4:$R$8,$S$4:$S$8,B22),1))))))))","v":1},null,null,null,"","",{"$f":"IF($K$9>0,IF(SUM($K$11:$K22,$I$6)<0,TEXT(-(SUM($K$11:K22,$I$6)/60)/24,\"-[h]:mm\"),TEXT((SUM($K$11:K22,$I$6)/60)/24,\"[h]:mm\")),\"\")","v":""},null,"",0,0,null,{"$f":"IF(OR($O$3=\"\",$N$3=\"\",N22=\"\"),\"\",IF($O$9-SUM($N$11:N21)-N22<0,TEXT(-(($O$9-SUM($N$11:N21)-N22)/24),\"-[hh]:mm\"),TEXT(($O$9-SUM($N$11:N21)-N22)/24,\"[hh]:mm\")))","v":""},null,""]
["","",{"$f":"IF(OR($K$9=0,AND($K$9=2,A23<=14)),1,IF(IF(ISNA(INDEX(X!$W$7:$W$20,MATCH(DATE($D$4,$C$4,A23),X!$AC$7:$AC$20,0))),1,2)=2,2,IF(OR(B23=\"Sa\",B23=\"So\"),2,IF($K$9=1,SUMIFS($R$4:$R$8,$S$4:$S$8,B23),IF(AND($K$9=2,A23<15),SUMIFS($R$4:$R$8,$S$4:$S$8,B23),IF(AND($K$9=2,A23>14),SUMIFS($R$12:$R$16,$S$12:$S$16,B23),IF(AND($K$9=3,A23>14),SUMIFS($R$12:$R$16,$S$12:$S$16,B23),IF(AND($K$9=3,A23<15),SUMIFS($R$4:$R$8,$S$4:$S$8,B23),1))))))))","v":1},null,null,null,"","",{"$f":"IF($K$9>0,IF(SUM($K$11:$K23,$I$6)<0,TEXT(-(SUM($K$11:K23,$I$6)/60)/24,\"-[h]:mm\"),TEXT((SUM($K$11:K23,$I$6)/60)/24,\"[h]:mm\")),\"\")","v":""},null,"",0,0,null,{"$f":"IF(OR($O$3=\"\",$N$3=\"\",N23=\"\"),\"\",IF($O$9-SUM($N$11:N22)-N23<0,TEXT(-(($O$9-SUM($N$11:N22)-N23)/24),\"-[hh]:mm\"),TEXT(($O$9-SUM($N$11:N22)-N23)/24,\"[hh]:mm\")))","v":""},null,""]
["","",{"$f":"IF(OR($K$9=0,AND($K$9=2,A24<=14)),1,IF(IF(ISNA(INDEX(X!$W$7:$W$20,MATCH(DATE($D$4,$C$4,A24),X!$AC$7:$AC$20,0))),1,2)=2,2,IF(OR(B24=\"Sa\",B24=\"So\"),2,IF($K$9=1,SUMIFS($R$4:$R$8,$S$4:$S$8,B24),IF(AND($K$9=2,A24<15),SUMIFS($R$4:$R$8,$S$4:$S$8,B24),IF(AND($K$9=2,A24>14),SUMIFS($R$12:$R$16,$S$12:$S$16,B24),IF(AND($K$9=3,A24>14),SUMIFS($R$12:$R$16,$S$12:$S$16,B24),IF(AND($K$9=3,A24<15),SUMIFS($R$4:$R$8,$S$4:$S$8,B24),1))))))))","v":1},null,null,null,"","",{"$f":"IF($K$9>0,IF(SUM($K$11:$K24,$I$6)<0,TEXT(-(SUM($K$11:K24,$I$6)/60)/24,\"-[h]:mm\"),TEXT((SUM($K$11:K24,$I$6)/60)/24,\"[h]:mm\")),\"\")","v":""},null,"",0,0,null,{"$f":"IF(OR($O$3=\"\",$N$3=\"\",N24=\"\"),\"\",IF($O$9-SUM($N$11:N23)-N24<0,TEXT(-(($O$9-SUM($N$11:N23)-N24)/24),\"-[hh]:mm\"),TEXT(($O$9-SUM($N$11:N23)-N24)/24,\"[hh]:mm\")))","v":""},null,""]
["","",{"$f":"IF(OR($K$9=0,AND($K$9=2,A25<=14)),1,IF(IF(ISNA(INDEX(X!$W$7:$W$20,MATCH(DATE($D$4,$C$4,A25),X!$AC$7:$AC$20,0))),1,2)=2,2,IF(OR(B25=\"Sa\",B25=\"So\"),2,IF($K$9=1,SUMIFS($R$4:$R$8,$S$4:$S$8,B25),IF(AND($K$9=2,A25<15),SUMIFS($R$4:$R$8,$S$4:$S$8,B25),IF(AND($K$9=2,A25>14),SUMIFS($R$12:$R$16,$S$12:$S$16,B25),IF(AND($K$9=3,A25>14),SUMIFS($R$12:$R$16,$S$12:$S$16,B25),IF(AND($K$9=3,A25<15),SUMIFS($R$4:$R$8,$S$4:$S$8,B25),1))))))))","v":1},null,null,null,"","",{"$f":"IF($K$9>0,IF(SUM($K$11:$K25,$I$6)<0,TEXT(-(SUM($K$11:K25,$I$6)/60)/24,\"-[h]:mm\"),TEXT((SUM($K$11:K25,$I$6)/60)/24,\"[h]:mm\")),\"\")","v":""},null,"",0,0,null,{"$f":"IF(OR($O$3=\"\",$N$3=\"\",N25=\"\"),\"\",IF($O$9-SUM($N$11:N24)-N25<0,TEXT(-(($O$9-SUM($N$11:N24)-N25)/24),\"-[hh]:mm\"),TEXT(($O$9-SUM($N$11:N24)-N25)/24,\"[hh]:mm\")))","v":""},null,""]
["","",{"$f":"IF(OR($K$9=0,AND($K$9=2,A26<=14)),1,IF(IF(ISNA(INDEX(X!$W$7:$W$20,MATCH(DATE($D$4,$C$4,A26),X!$AC$7:$AC$20,0))),1,2)=2,2,IF(OR(B26=\"Sa\",B26=\"So\"),2,IF($K$9=1,SUMIFS($R$4:$R$8,$S$4:$S$8,B26),IF(AND($K$9=2,A26<15),SUMIFS($R$4:$R$8,$S$4:$S$8,B26),IF(AND($K$9=2,A26>14),SUMIFS($R$12:$R$16,$S$12:$S$16,B26),IF(AND($K$9=3,A26>14),SUMIFS($R$12:$R$16,$S$12:$S$16,B26),IF(AND($K$9=3,A26<15),SUMIFS($R$4:$R$8,$S$4:$S$8,B26),1))))))))","v":1},null,null,null,"","",{"$f":"IF($K$9>0,IF(SUM($K$11:$K26,$I$6)<0,TEXT(-(SUM($K$11:K26,$I$6)/60)/24,\"-[h]:mm\"),TEXT((SUM($K$11:K26,$I$6)/60)/24,\"[h]:mm\")),\"\")","v":""},null,"",0,0,null,{"$f":"IF(OR($O$3=\"\",$N$3=\"\",N26=\"\"),\"\",IF($O$9-SUM($N$11:N25)-N26<0,TEXT(-(($O$9-SUM($N$11:N25)-N26)/24),\"-[hh]:mm\"),TEXT(($O$9-SUM($N$11:N25)-N26)/24,\"[hh]:mm\")))","v":""},null,""]
["","",{"$f":"IF(OR($K$9=0,AND($K$9=2,A27<=14)),1,IF(IF(ISNA(INDEX(X!$W$7:$W$20,MATCH(DATE($D$4,$C$4,A27),X!$AC$7:$AC$20,0))),1,2)=2,2,IF(OR(B27=\"Sa\",B27=\"So\"),2,IF($K$9=1,SUMIFS($R$4:$R$8,$S$4:$S$8,B27),IF(AND($K$9=2,A27<15),SUMIFS($R$4:$R$8,$S$4:$S$8,B27),IF(AND($K$9=2,A27>14),SUMIFS($R$12:$R$16,$S$12:$S$16,B27),IF(AND($K$9=3,A27>14),SUMIFS($R$12:$R$16,$S$12:$S$16,B27),IF(AND($K$9=3,A27<15),SUMIFS($R$4:$R$8,$S$4:$S$8,B27),1))))))))","v":1},null,null,null,"","",{"$f":"IF($K$9>0,IF(SUM($K$11:$K27,$I$6)<0,TEXT(-(SUM($K$11:K27,$I$6)/60)/24,\"-[h]:mm\"),TEXT((SUM($K$11:K27,$I$6)/60)/24,\"[h]:mm\")),\"\")","v":""},null,"",0,0,null,{"$f":"IF(OR($O$3=\"\",$N$3=\"\",N27=\"\"),\"\",IF($O$9-SUM($N$11:N26)-N27<0,TEXT(-(($O$9-SUM($N$11:N26)-N27)/24),\"-[hh]:mm\"),TEXT(($O$9-SUM($N$11:N26)-N27)/24,\"[hh]:mm\")))","v":""},null,""]
["","",{"$f":"IF(OR($K$9=0,AND($K$9=2,A28<=14)),1,IF(IF(ISNA(INDEX(X!$W$7:$W$20,MATCH(DATE($D$4,$C$4,A28),X!$AC$7:$AC$20,0))),1,2)=2,2,IF(OR(B28=\"Sa\",B28=\"So\"),2,IF($K$9=1,SUMIFS($R$4:$R$8,$S$4:$S$8,B28),IF(AND($K$9=2,A28<15),SUMIFS($R$4:$R$8,$S$4:$S$8,B28),IF(AND($K$9=2,A28>14),SUMIFS($R$12:$R$16,$S$12:$S$16,B28),IF(AND($K$9=3,A28>14),SUMIFS($R$12:$R$16,$S$12:$S$16,B28),IF(AND($K$9=3,A28<15),SUMIFS($R$4:$R$8,$S$4:$S$8,B28),1))))))))","v":1},null,null,null,"","",{"$f":"IF($K$9>0,IF(SUM($K$11:$K28,$I$6)<0,TEXT(-(SUM($K$11:K28,$I$6)/60)/24,\"-[h]:mm\"),TEXT((SUM($K$11:K28,$I$6)/60)/24,\"[h]:mm\")),\"\")","v":""},null,"",0,0,null,{"$f":"IF(OR($O$3=\"\",$N$3=\"\",N28=\"\"),\"\",IF($O$9-SUM($N$11:N27)-N28<0,TEXT(-(($O$9-SUM($N$11:N27)-N28)/24),\"-[hh]:mm\"),TEXT(($O$9-SUM($N$11:N27)-N28)/24,\"[hh]:mm\")))","v":""},null,""]
["","",{"$f":"IF(OR($K$9=0,AND($K$9=2,A29<=14)),1,IF(IF(ISNA(INDEX(X!$W$7:$W$20,MATCH(DATE($D$4,$C$4,A29),X!$AC$7:$AC$20,0))),1,2)=2,2,IF(OR(B29=\"Sa\",B29=\"So\"),2,IF($K$9=1,SUMIFS($R$4:$R$8,$S$4:$S$8,B29),IF(AND($K$9=2,A29<15),SUMIFS($R$4:$R$8,$S$4:$S$8,B29),IF(AND($K$9=2,A29>14),SUMIFS($R$12:$R$16,$S$12:$S$16,B29),IF(AND($K$9=3,A29>14),SUMIFS($R$12:$R$16,$S$12:$S$16,B29),IF(AND($K$9=3,A29<15),SUMIFS($R$4:$R$8,$S$4:$S$8,B29),1))))))))","v":1},null,null,null,"","",{"$f":"IF($K$9>0,IF(SUM($K$11:$K29,$I$6)<0,TEXT(-(SUM($K$11:K29,$I$6)/60)/24,\"-[h]:mm\"),TEXT((SUM($K$11:K29,$I$6)/60)/24,\"[h]:mm\")),\"\")","v":""},null,"",0,0,null,{"$f":"IF(OR($O$3=\"\",$N$3=\"\",N29=\"\"),\"\",IF($O$9-SUM($N$11:N28)-N29<0,TEXT(-(($O$9-SUM($N$11:N28)-N29)/24),\"-[hh]:mm\"),TEXT(($O$9-SUM($N$11:N28)-N29)/24,\"[hh]:mm\")))","v":""},null,""]
["","",{"$f":"IF(OR($K$9=0,AND($K$9=2,A30<=14)),1,IF(IF(ISNA(INDEX(X!$W$7:$W$20,MATCH(DATE($D$4,$C$4,A30),X!$AC$7:$AC$20,0))),1,2)=2,2,IF(OR(B30=\"Sa\",B30=\"So\"),2,IF($K$9=1,SUMIFS($R$4:$R$8,$S$4:$S$8,B30),IF(AND($K$9=2,A30<15),SUMIFS($R$4:$R$8,$S$4:$S$8,B30),IF(AND($K$9=2,A30>14),SUMIFS($R$12:$R$16,$S$12:$S$16,B30),IF(AND($K$9=3,A30>14),SUMIFS($R$12:$R$16,$S$12:$S$16,B30),IF(AND($K$9=3,A30<15),SUMIFS($R$4:$R$8,$S$4:$S$8,B30),1))))))))","v":1},null,null,null,"","",{"$f":"IF($K$9>0,IF(SUM($K$11:$K30,$I$6)<0,TEXT(-(SUM($K$11:K30,$I$6)/60)/24,\"-[h]:mm\"),TEXT((SUM($K$11:K30,$I$6)/60)/24,\"[h]:mm\")),\"\")","v":""},null,"",0,0,null,{"$f":"IF(OR($O$3=\"\",$N$3=\"\",N30=\"\"),\"\",IF($O$9-SUM($N$11:N29)-N30<0,TEXT(-(($O$9-SUM($N$11:N29)-N30)/24),\"-[hh]:mm\"),TEXT(($O$9-SUM($N$11:N29)-N30)/24,\"[hh]:mm\")))","v":""},null,""]
["","",{"$f":"IF(OR($K$9=0,AND($K$9=2,A31<=14)),1,IF(IF(ISNA(INDEX(X!$W$7:$W$20,MATCH(DATE($D$4,$C$4,A31),X!$AC$7:$AC$20,0))),1,2)=2,2,IF(OR(B31=\"Sa\",B31=\"So\"),2,IF($K$9=1,SUMIFS($R$4:$R$8,$S$4:$S$8,B31),IF(AND($K$9=2,A31<15),SUMIFS($R$4:$R$8,$S$4:$S$8,B31),IF(AND($K$9=2,A31>14),SUMIFS($R$12:$R$16,$S$12:$S$16,B31),IF(AND($K$9=3,A31>14),SUMIFS($R$12:$R$16,$S$12:$S$16,B31),IF(AND($K$9=3,A31<15),SUMIFS($R$4:$R$8,$S$4:$S$8,B31),1))))))))","v":1},null,null,null,"","",{"$f":"IF($K$9>0,IF(SUM($K$11:$K31,$I$6)<0,TEXT(-(SUM($K$11:K31,$I$6)/60)/24,\"-[h]:mm\"),TEXT((SUM($K$11:K31,$I$6)/60)/24,\"[h]:mm\")),\"\")","v":""},null,"",0,0,null,{"$f":"IF(OR($O$3=\"\",$N$3=\"\",N31=\"\"),\"\",IF($O$9-SUM($N$11:N30)-N31<0,TEXT(-(($O$9-SUM($N$11:N30)-N31)/24),\"-[hh]:mm\"),TEXT(($O$9-SUM($N$11:N30)-N31)/24,\"[hh]:mm\")))","v":""},null,""]
["","",{"$f":"IF(OR($K$9=0,AND($K$9=2,A32<=14)),1,IF(IF(ISNA(INDEX(X!$W$7:$W$20,MATCH(DATE($D$4,$C$4,A32),X!$AC$7:$AC$20,0))),1,2)=2,2,IF(OR(B32=\"Sa\",B32=\"So\"),2,IF($K$9=1,SUMIFS($R$4:$R$8,$S$4:$S$8,B32),IF(AND($K$9=2,A32<15),SUMIFS($R$4:$R$8,$S$4:$S$8,B32),IF(AND($K$9=2,A32>14),SUMIFS($R$12:$R$16,$S$12:$S$16,B32),IF(AND($K$9=3,A32>14),SUMIFS($R$12:$R$16,$S$12:$S$16,B32),IF(AND($K$9=3,A32<15),SUMIFS($R$4:$R$8,$S$4:$S$8,B32),1))))))))","v":1},null,null,null,"","",{"$f":"IF($K$9>0,IF(SUM($K$11:$K32,$I$6)<0,TEXT(-(SUM($K$11:K32,$I$6)/60)/24,\"-[h]:mm\"),TEXT((SUM($K$11:K32,$I$6)/60)/24,\"[h]:mm\")),\"\")","v":""},null,"",0,0,null,{"$f":"IF(OR($O$3=\"\",$N$3=\"\",N32=\"\"),\"\",IF($O$9-SUM($N$11:N31)-N32<0,TEXT(-(($O$9-SUM($N$11:N31)-N32)/24),\"-[hh]:mm\"),TEXT(($O$9-SUM($N$11:N31)-N32)/24,\"[hh]:mm\")))","v":""},null,""]
["","",{"$f":"IF(OR($K$9=0,AND($K$9=2,A33<=14)),1,IF(IF(ISNA(INDEX(X!$W$7:$W$20,MATCH(DATE($D$4,$C$4,A33),X!$AC$7:$AC$20,0))),1,2)=2,2,IF(OR(B33=\"Sa\",B33=\"So\"),2,IF($K$9=1,SUMIFS($R$4:$R$8,$S$4:$S$8,B33),IF(AND($K$9=2,A33<15),SUMIFS($R$4:$R$8,$S$4:$S$8,B33),IF(AND($K$9=2,A33>14),SUMIFS($R$12:$R$16,$S$12:$S$16,B33),IF(AND($K$9=3,A33>14),SUMIFS($R$12:$R$16,$S$12:$S$16,B33),IF(AND($K$9=3,A33<15),SUMIFS($R$4:$R$8,$S$4:$S$8,B33),1))))))))","v":1},null,null,null,"","",{"$f":"IF($K$9>0,IF(SUM($K$11:$K33,$I$6)<0,TEXT(-(SUM($K$11:K33,$I$6)/60)/24,\"-[h]:mm\"),TEXT((SUM($K$11:K33,$I$6)/60)/24,\"[h]:mm\")),\"\")","v":""},null,"",0,0,null,{"$f":"IF(OR($O$3=\"\",$N$3=\"\",N33=\"\"),\"\",IF($O$9-SUM($N$11:N32)-N33<0,TEXT(-(($O$9-SUM($N$11:N32)-N33)/24),\"-[hh]:mm\"),TEXT(($O$9-SUM($N$11:N32)-N33)/24,\"[hh]:mm\")))","v":""},null,""]
["","",{"$f":"IF(OR($K$9=0,AND($K$9=2,A34<=14)),1,IF(IF(ISNA(INDEX(X!$W$7:$W$20,MATCH(DATE($D$4,$C$4,A34),X!$AC$7:$AC$20,0))),1,2)=2,2,IF(OR(B34=\"Sa\",B34=\"So\"),2,IF($K$9=1,SUMIFS($R$4:$R$8,$S$4:$S$8,B34),IF(AND($K$9=2,A34<15),SUMIFS($R$4:$R$8,$S$4:$S$8,B34),IF(AND($K$9=2,A34>14),SUMIFS($R$12:$R$16,$S$12:$S$16,B34),IF(AND($K$9=3,A34>14),SUMIFS($R$12:$R$16,$S$12:$S$16,B34),IF(AND($K$9=3,A34<15),SUMIFS($R$4:$R$8,$S$4:$S$8,B34),1))))))))","v":1},null,null,null,"","",{"$f":"IF($K$9>0,IF(SUM($K$11:$K34,$I$6)<0,TEXT(-(SUM($K$11:K34,$I$6)/60)/24,\"-[h]:mm\"),TEXT((SUM($K$11:K34,$I$6)/60)/24,\"[h]:mm\")),\"\")","v":""},null,"",0,0,null,{"$f":"IF(OR($O$3=\"\",$N$3=\"\",N34=\"\"),\"\",IF($O$9-SUM($N$11:N33)-N34<0,TEXT(-(($O$9-SUM($N$11:N33)-N34)/24),\"-[hh]:mm\"),TEXT(($O$9-SUM($N$11:N33)-N34)/24,\"[hh]:mm\")))","v":""},null,""]
["","",{"$f":"IF(OR($K$9=0,AND($K$9=2,A35<=14)),1,IF(IF(ISNA(INDEX(X!$W$7:$W$20,MATCH(DATE($D$4,$C$4,A35),X!$AC$7:$AC$20,0))),1,2)=2,2,IF(OR(B35=\"Sa\",B35=\"So\"),2,IF($K$9=1,SUMIFS($R$4:$R$8,$S$4:$S$8,B35),IF(AND($K$9=2,A35<15),SUMIFS($R$4:$R$8,$S$4:$S$8,B35),IF(AND($K$9=2,A35>14),SUMIFS($R$12:$R$16,$S$12:$S$16,B35),IF(AND($K$9=3,A35>14),SUMIFS($R$12:$R$16,$S$12:$S$16,B35),IF(AND($K$9=3,A35<15),SUMIFS($R$4:$R$8,$S$4:$S$8,B35),1))))))))","v":1},null,null,null,"","",{"$f":"IF($K$9>0,IF(SUM($K$11:$K35,$I$6)<0,TEXT(-(SUM($K$11:K35,$I$6)/60)/24,\"-[h]:mm\"),TEXT((SUM($K$11:K35,$I$6)/60)/24,\"[h]:mm\")),\"\")","v":""},null,"",0,0,null,{"$f":"IF(OR($O$3=\"\",$N$3=\"\",N35=\"\"),\"\",IF($O$9-SUM($N$11:N34)-N35<0,TEXT(-(($O$9-SUM($N$11:N34)-N35)/24),\"-[hh]:mm\"),TEXT(($O$9-SUM($N$11:N34)-N35)/24,\"[hh]:mm\")))","v":""},null,""]
["","",{"$f":"IF(OR($K$9=0,AND($K$9=2,A36<=14)),1,IF(IF(ISNA(INDEX(X!$W$7:$W$20,MATCH(DATE($D$4,$C$4,A36),X!$AC$7:$AC$20,0))),1,2)=2,2,IF(OR(B36=\"Sa\",B36=\"So\"),2,IF($K$9=1,SUMIFS($R$4:$R$8,$S$4:$S$8,B36),IF(AND($K$9=2,A36<15),SUMIFS($R$4:$R$8,$S$4:$S$8,B36),IF(AND($K$9=2,A36>14),SUMIFS($R$12:$R$16,$S$12:$S$16,B36),IF(AND($K$9=3,A36>14),SUMIFS($R$12:$R$16,$S$12:$S$16,B36),IF(AND($K$9=3,A36<15),SUMIFS($R$4:$R$8,$S$4:$S$8,B36),1))))))))","v":1},null,null,null,"","",{"$f":"IF($K$9>0,IF(SUM($K$11:$K36,$I$6)<0,TEXT(-(SUM($K$11:K36,$I$6)/60)/24,\"-[h]:mm\"),TEXT((SUM($K$11:K36,$I$6)/60)/24,\"[h]:mm\")),\"\")","v":""},null,"",0,0,null,{"$f":"IF(OR($O$3=\"\",$N$3=\"\",N36=\"\"),\"\",IF($O$9-SUM($N$11:N35)-N36<0,TEXT(-(($O$9-SUM($N$11:N35)-N36)/24),\"-[hh]:mm\"),TEXT(($O$9-SUM($N$11:N35)-N36)/24,\"[hh]:mm\")))","v":""},null,""]
["","",{"$f":"IF(OR($K$9=0,AND($K$9=2,A37<=14)),1,IF(IF(ISNA(INDEX(X!$W$7:$W$20,MATCH(DATE($D$4,$C$4,A37),X!$AC$7:$AC$20,0))),1,2)=2,2,IF(OR(B37=\"Sa\",B37=\"So\"),2,IF($K$9=1,SUMIFS($R$4:$R$8,$S$4:$S$8,B37),IF(AND($K$9=2,A37<15),SUMIFS($R$4:$R$8,$S$4:$S$8,B37),IF(AND($K$9=2,A37>14),SUMIFS($R$12:$R$16,$S$12:$S$16,B37),IF(AND($K$9=3,A37>14),SUMIFS($R$12:$R$16,$S$12:$S$16,B37),IF(AND($K$9=3,A37<15),SUMIFS($R$4:$R$8,$S$4:$S$8,B37),1))))))))","v":1},null,null,null,"","",{"$f":"IF($K$9>0,IF(SUM($K$11:$K37,$I$6)<0,TEXT(-(SUM($K$11:K37,$I$6)/60)/24,\"-[h]:mm\"),TEXT((SUM($K$11:K37,$I$6)/60)/24,\"[h]:mm\")),\"\")","v":""},null,"",0,0,null,{"$f":"IF(OR($O$3=\"\",$N$3=\"\",N37=\"\"),\"\",IF($O$9-SUM($N$11:N36)-N37<0,TEXT(-(($O$9-SUM($N$11:N36)-N37)/24),\"-[hh]:mm\"),TEXT(($O$9-SUM($N$11:N36)-N37)/24,\"[hh]:mm\")))","v":""},null,""]
["","",{"$f":"IF(OR($K$9=0,AND($K$9=2,A38<=14)),1,IF(IF(ISNA(INDEX(X!$W$7:$W$20,MATCH(DATE($D$4,$C$4,A38),X!$AC$7:$AC$20,0))),1,2)=2,2,IF(OR(B38=\"Sa\",B38=\"So\"),2,IF($K$9=1,SUMIFS($R$4:$R$8,$S$4:$S$8,B38),IF(AND($K$9=2,A38<15),SUMIFS($R$4:$R$8,$S$4:$S$8,B38),IF(AND($K$9=2,A38>14),SUMIFS($R$12:$R$16,$S$12:$S$16,B38),IF(AND($K$9=3,A38>14),SUMIFS($R$12:$R$16,$S$12:$S$16,B38),IF(AND($K$9=3,A38<15),SUMIFS($R$4:$R$8,$S$4:$S$8,B38),1))))))))","v":1},null,null,null,"","",{"$f":"IF($K$9>0,IF(SUM($K$11:$K38,$I$6)<0,TEXT(-(SUM($K$11:K38,$I$6)/60)/24,\"-[h]:mm\"),TEXT((SUM($K$11:K38,$I$6)/60)/24,\"[h]:mm\")),\"\")","v":""},null,"",0,0,null,{"$f":"IF(OR($O$3=\"\",$N$3=\"\",N38=\"\"),\"\",IF($O$9-SUM($N$11:N37)-N38<0,TEXT(-(($O$9-SUM($N$11:N37)-N38)/24),\"-[hh]:mm\"),TEXT(($O$9-SUM($N$11:N37)-N38)/24,\"[hh]:mm\")))","v":""},null,""]
["",{"$f":"IF(OR(A39=\"\",$D$4=\"\"),\"\",TEXT(DATE($D$4,$C$4,A39),\"ttt\"))","v":""},{"$f":"IF(OR($K$9=0,AND($K$9=2,A39<=14)),1,IF(IF(ISNA(INDEX(X!$W$7:$W$20,MATCH(DATE($D$4,$C$4,A39),X!$AC$7:$AC$20,0))),1,2)=2,2,IF(OR(B39=\"Sa\",B39=\"So\"),2,IF($K$9=1,SUMIFS($R$4:$R$8,$S$4:$S$8,B39),IF(AND($K$9=2,A39<15),SUMIFS($R$4:$R$8,$S$4:$S$8,B39),IF(AND($K$9=2,A39>14),SUMIFS($R$12:$R$16,$S$12:$S$16,B39),IF(AND($K$9=3,A39>14),SUMIFS($R$12:$R$16,$S$12:$S$16,B39),IF(AND($K$9=3,A39<15),SUMIFS($R$4:$R$8,$S$4:$S$8,B39),1))))))))","v":1},null,null,null,"","",{"$f":"IF($K$9>0,IF(SUM($K$11:$K39,$I$6)<0,TEXT(-(SUM($K$11:K39,$I$6)/60)/24,\"-[h]:mm\"),TEXT((SUM($K$11:K39,$I$6)/60)/24,\"[h]:mm\")),\"\")","v":""},null,"",0,0,null,{"$f":"IF(OR($O$3=\"\",$N$3=\"\",N39=\"\"),\"\",IF($O$9-SUM($N$11:N38)-N39<0,TEXT(-(($O$9-SUM($N$11:N38)-N39)/24),\"-[hh]:mm\"),TEXT(($O$9-SUM($N$11:N38)-N39)/24,\"[hh]:mm\")))","v":""},null,""]
["",{"$f":"IF(OR(A40=\"\",$D$4=\"\"),\"\",TEXT(DATE($D$4,$C$4,A40),\"ttt\"))","v":""},{"$f":"IF(OR($K$9=0,AND($K$9=2,A40<=14)),1,IF(IF(ISNA(INDEX(X!$W$7:$W$20,MATCH(DATE($D$4,$C$4,A40),X!$AC$7:$AC$20,0))),1,2)=2,2,IF(OR(B40=\"Sa\",B40=\"So\"),2,IF($K$9=1,SUMIFS($R$4:$R$8,$S$4:$S$8,B40),IF(AND($K$9=2,A40<15),SUMIFS($R$4:$R$8,$S$4:$S$8,B40),IF(AND($K$9=2,A40>14),SUMIFS($R$12:$R$16,$S$12:$S$16,B40),IF(AND($K$9=3,A40>14),SUMIFS($R$12:$R$16,$S$12:$S$16,B40),IF(AND($K$9=3,A40<15),SUMIFS($R$4:$R$8,$S$4:$S$8,B40),1))))))))","v":1},null,null,null,"","",{"$f":"IF($K$9>0,IF(SUM($K$11:$K40,$I$6)<0,TEXT(-(SUM($K$11:K40,$I$6)/60)/24,\"-[h]:mm\"),TEXT((SUM($K$11:K40,$I$6)/60)/24,\"[h]:mm\")),\"\")","v":""},null,"",0,0,null,{"$f":"IF(OR($O$3=\"\",$N$3=\"\",N40=\"\"),\"\",IF($O$9-SUM($N$11:N39)-N40<0,TEXT(-(($O$9-SUM($N$11:N39)-N40)/24),\"-[hh]:mm\"),TEXT(($O$9-SUM($N$11:N39)-N40)/24,\"[hh]:mm\")))","v":""},null,""]
["","",{"$f":"IF(OR($K$9=0,AND($K$9=2,A41<=14)),1,IF(IF(ISNA(INDEX(X!$W$7:$W$20,MATCH(DATE($D$4,$C$4,A41),X!$AC$7:$AC$20,0))),1,2)=2,2,IF(OR(B41=\"Sa\",B41=\"So\"),2,IF($K$9=1,SUMIFS($R$4:$R$8,$S$4:$S$8,B41),IF(AND($K$9=2,A41<15),SUMIFS($R$4:$R$8,$S$4:$S$8,B41),IF(AND($K$9=2,A41>14),SUMIFS($R$12:$R$16,$S$12:$S$16,B41),IF(AND($K$9=3,A41>14),SUMIFS($R$12:$R$16,$S$12:$S$16,B41),IF(AND($K$9=3,A41<15),SUMIFS($R$4:$R$8,$S$4:$S$8,B41),1))))))))","v":1},null,null,null,"","",{"$f":"IF($K$9>0,IF(SUM($K$11:$K41,$I$6)<0,TEXT(-(SUM($K$11:K41,$I$6)/60)/24,\"-[h]:mm\"),TEXT((SUM($K$11:K41,$I$6)/60)/24,\"[h]:mm\")),\"\")","v":""},null,"",0,0,null,{"$f":"IF(OR($O$3=\"\",$N$3=\"\",N41=\"\"),\"\",IF($O$9-SUM($N$11:N40)-N41<0,TEXT(-(($O$9-SUM($N$11:N40)-N41)/24),\"-[hh]:mm\"),TEXT(($O$9-SUM($N$11:N40)-N41)/24,\"[hh]:mm\")))","v":""},null,""]
[null,null,null,null,null,null,{"$f":"L42+K42","v":0},{"$f":"K42","v":0},null,null,{"$f":"SUM(K11:K41)","v":0},{"$f":"-SUM(L11:L41)","v":0},{"$f":"M41","v":0},{"$f":"SUM(N11:N41)*60","v":0},null,null,{"$f":"IF((G42/60)<0,TEXT(-((G42/60)/24),\"-[hh]:mm\"),TEXT((G42/60)/24,\"[hh]:mm\"))","v":"00:00"}]
[{"$f":"IF(G4=\"\",\"\",\"Ergebnis\")","v":""},null,null,null,null,null,{"$f":"IF(G4=\"\",0,IF(((G42-N42)/60)<0,TEXT(-(((G42-N42)/60)/24),\"-[hh]:mm\"),TEXT(((G42-N42)/60)/24,\"[hh]:mm\")))","v":0},{"$f":"IF(G4=0,\"\",IF(H42<0,TEXT(-((H42/60)/24),\"-[hh]:mm\"),IF((H42/60)>24,TEXT((((H42/60)-24)/24)+(24/24),\"[hh]:mm\"),(H42/60)/24)))","v":0},{"$f":"IF($K$9>0,IF(SUM(I6,K43)<0,TEXT(-(SUM(I6,K43)/60)/24,\"-[h]:mm\"),TEXT((SUM(I6,K43)/60)/24,\"[h]:mm\")),\"\")","v":""},null,{"$f":"IF(L42<>L43,G42-L43,K42)","v":0},{"$f":"IF(AND(K9=1,SUM(U4:U8)<>H9),((H9/5)*COUNTIFS(C11:C41,\"<>\"&2,F11:F41,\"\"))*60,IF(AND(K9=2,SUM(U12:U16)<>I9),((I9/5)*COUNTIFS(C11:C41,\"<>\"&2,F11:F41,\"\"))*60,IF(AND(K9=3,OR(SUM(U4:U8)<>H9,SUM(U12:U16)<>I9)),SUM(IF(SUM(U4:U8)<>H9,((H9/5)*COUNTIFS(C11:C41,\"<>\"&2,A11:A41,\"<\"&15,F11:F41,\"\"))*60,-SUMIFS(L11:L41,A11:A41,\"<\"&15,F11:F41,\"\")),IF(SUM(U12:U16)<>I9,((I9/5)*COUNTIFS(C11:C41,\"<>\"&2,A11:A41,\">\"&14,F11:F41,\"\"))*60,-SUMIFS(L11:L41,A11:A41,\">\"&14,F11:F41,\"\"))),-SUM(L11:L41))))","v":0},null,{"$f":"IF(N42<0,TEXT(-((N42/60)/24),\"-[hh]:mm\"),TEXT((N42/60)/24,\"[hh]:mm\"))","v":"00:00"},{"$f":"IF(O9-SUM(N11:N41)<0,TEXT(-(O9-SUM(N11:N41))/24,\"-[h]:mm\"),TEXT((O9-SUM(N11:N41))/24,\"[h]:mm\"))","v":{"$error":"#VALUE!"}},null,{"$f":"Q42","v":"00:00"}]
[{"$f":"IF(G4=\"\",\"\",\"Saldo / Übertrag:\")","v":""},null,null,null,null,null,null,null,{"$f":"I43","v":""},{"$f":"IF(K42<>K43,\"automatische Nachberechnung der Sollarbeitszeit, da wöchentlicher Stundenumfang nicht eingehalten wurde.\",\"\")","v":""},{"$f":"K43+I6","v":0},"Übertrag"]
[]
[{"$f":"IF(I46=\"\",\"\",\"Korrektur der Stunden\")","v":""},null,null,null,null,null,null,null,{"$f":"IF(K9>0,IF(K42-K43<>0,IF(K43-K42<0,TEXT(-((K43-K42)/60)/24,\"-[h]:mm\"),TEXT(((K43-K42)/60)/24,\"[h]:mm\")),\"\"),\"\")","v":""}]
[]
[]
[]
[]
[]
[]
[]
[]
[]
[]
[{"$f":"D4","v":""},{"$f":"C4","v":12},{"$f":"Uebersicht!A4","v":0},{"$f":"Uebersicht!B4","v":0},{"$f":"L43","v":0},{"$f":"K42","v":0},{"$f":"K43","v":0},{"$f":"M10","v":0},{"$f":"M42","v":0}]

{"sheet":"X","index":13,"n_rows":651,"n_cols":29,"rows_kept":651,"cut":false,"hidden":false,"merged":[]}
[null,null,null,null,null,"2015-01-01",null,{"$f":"LEFT(RIGHT(0&LEFT(Q1,FIND(\".\",Q1)-1),2)&\".\"&RIGHT(0&MID(TRIM(LEFT(SUBSTITUTE(Q1,\".\",\"      \",2),5)),FIND(\".\",TRIM(LEFT(SUBSTITUTE(Q1,\".\",\"      \",2),5)))+1,3),2)&\".\",6)","v":"31.03."},2400,{"$f":"INT(I1/100)","v":24},{"$f":"MOD(19*MOD(I1,19)+J1-INT(J1/4)-INT((J1-INT((J1+8)/25)+1)/3)+15,30)","v":19},{"$f":"MOD(32+2*MOD(J1,4)+2*INT(MOD(I1,100)/4)-K1-MOD(MOD(I1,100),4),7)","v":6},{"$f":"K1+L1-7*INT((MOD(I1,19)+11*K1+22*L1)/451)+22","v":47},{"$f":"TEXT(IF(M1-31 < 1,M1,M1-31),\"0#\")&\".\"&IF(M1 > 31,\"04.\",\"03.\")&I1","v":"16.04.2400"},{"$f":"SUMPRODUCT((P3:P99<>\"\")*1)","v":30},"Ostersonntage am","31.3",null,{"$f":"HYPERLINK(\"#H4\",\"Anfang\")","v":"Anfang"},"Tabelle: 1750 - 2400","im Jahre",{"$f":"Uebersicht!I1","v":""}]
[null,null,null,null,null,{"$f":"MAX((TRUNC(DATE(ROW(INDIRECT(1900&\":\"&F1)),3,56-MOD(MOD(ROW(INDIRECT(1900&\":\"&F1)),19)*10.63+5,29))/7)*7+1=DATE(ROW(INDIRECT(1900 & \":\" & F1)),MONTH(D1),DAY(D1)))*(TRUNC(DATE(ROW(INDIRECT(1900&\":\"&F1)),3,56-MOD(MOD(ROW(INDIRECT(1900&\":\"&F1)),19)*10.63+5,29))/7)*7+1))","v":0},null,null,2399,23,1,5,28,"28.03.2399",null,null,{"$f":"IF(OR(ISNUMBER(FIND({\",\";\";\"},Q1)),ISERROR(FIND(\".\",Q1))),\"Punkte, Du Trottel\",IF(ISERROR(H3),\"außerhalb der Bandbreite\",\"\"))","v":""},null,null,"Bandbreite: 22.03. - 25.04."]
[null,null,null,null,null,null,null,{"$f":"SMALL(IF(LEFT(N$1:N$999,6)=H$1,ROW($1:$999)),ROW(I1))","v":5},2398,23,12,2,36,"05.04.2398",null,{"$f":"IF(ISNUMBER(H3),INDEX(N:N,H3),\"\")","v":"31.03.2396"},{"$f":"IF(ISNUMBER(P3*1),IF(AND(P3*1>=TODAY(),IF(ISNUMBER(P4*1),P4*1,TODAY()-1)<TODAY()),\"nächster\",\"\"),\"\")","v":""},null,null,null,null,{"$f":"IF(V1=\"\",\"\",IF(OR(V1*1<1750,V1*1>2400),\"1750 - 2400\",INDEX(N:N,MATCH(V1*1,I:I,0))))","v":""}]
[null,null,null,null,null,null,null,{"$f":"SMALL(IF(LEFT(N$1:N$999,6)=H$1,ROW($1:$999)),ROW(I2))","v":16},2397,23,23,6,51,"20.04.2397",null,"31.03.2385",{"$f":"IF(ISNUMBER(P4*1),IF(AND(P4*1>=TODAY(),IF(ISNUMBER(P5*1),P5*1,TODAY()-1)<TODAY()),\"nächster\",\"\"),\"\")","v":""}]
[null,null,null,null,null,{"$f":"ROUND((DAY(MINUTE(F1/38)/2+55)&\".4.\"&V7)/7,)*7-6","v":36982},null,{"$f":"SMALL(IF(LEFT(N$1:N$999,6)=H$1,ROW($1:$999)),ROW(I3))","v":27},2396,23,4,5,31,"31.03.2396",null,"31.03.2374",""]
[null,null,null,null,null,null,null,{"$f":"SMALL(IF(LEFT(N$1:N$999,6)=H$1,ROW($1:$999)),ROW(I4))","v":38},2395,23,15,3,40,"09.04.2395",null,"31.03.2363","",null,null,null,null,null,null,-52]
[null,null,null,null,null,{"$f":"V7","v":"1900-01-01"},null,{"$f":"SMALL(IF(LEFT(N$1:N$999,6)=H$1,ROW($1:$999)),ROW(I5))","v":89},2394,23,26,0,48,"17.04.2394",null,"31.03.2312","",null,null,null,null,{"$f":"DATE(YEAR(DATE(Uebersicht!F5,1,1)),1,1)","v":"1900-01-01"},"Neujahr",null,null,{"$f":"MONTH(V7)","v":1},{"$f":"DATE($V$1,Z7,1)","v":{"$error":"#VALUE!"}},{"$f":"DAY(V7)","v":1},{"$f":"DATE($V$1,Z7,AB7)","v":{"$error":"#VALUE!"}}]
[null,null,null,null,null,{"$f":"V8","v":{"$error":"#VALUE!"}},null,{"$f":"SMALL(IF(LEFT(N$1:N$999,6)=H$1,ROW($1:$999)),ROW(I6))","v":100},2393,23,8,5,35,"04.04.2393",null,"31.03.2301","",null,null,null,null,{"$f":"TEXT(DAY((LEFT(V$3,6)&RIGHT(V$3,4)+4000)+X8),\"00\")&\".\"&TEXT(MONTH((LEFT(V$3,6)&RIGHT(V$3,4)+4000)+X8),\"00\")&\".\"&RIGHT(V$3,4)","v":{"$error":"#VALUE!"}},"Karfreitag",-2,null,{"$f":"MONTH(V8)","v":{"$error":"#VALUE!"}},{"$f":"DATE($V$1,Z8,1)","v":{"$error":"#VALUE!"}},{"$f":"DAY(V8)","v":{"$error":"#VALUE!"}},{"$f":"DATE($V$1,Z8,AB8)","v":{"$error":"#VALUE!"}}]
[null,null,null,null,null,{"$f":"V9","v":{"$error":"#VALUE!"}},null,{"$f":"SMALL(IF(LEFT(N$1:N$999,6)=H$1,ROW($1:$999)),ROW(I7))","v":157},2392,23,19,2,43,"12.04.2392",null,"31.03.2244","",null,null,null,null,{"$f":"TEXT(DAY((LEFT(V$3,6)&RIGHT(V$3,4)+4000)+X9),\"00\")&\".\"&TEXT(MONTH((LEFT(V$3,6)&RIGHT(V$3,4)+4000)+X9),\"00\")&\".\"&RIGHT(V$3,4)","v":{"$error":"#VALUE!"}},"Ostersonntag",0,null,{"$f":"MONTH(V9)","v":{"$error":"#VALUE!"}},{"$error":"#VALUE!"},{"$error":"#VALUE!"},{"$error":"#VALUE!"}]
[null,null,null,null,null,{"$error":"#VALUE!"},null,{"$f":"SMALL(IF(LEFT(N$1:N$999,6)=H$1,ROW($1:$999)),ROW(I8))","v":168},2391,23,0,2,24,"24.03.2391",null,"31.03.2233","",null,null,null,null,{"$f":"TEXT(DAY((LEFT(V$3,6)&RIGHT(V$3,4)+4000)+X10),\"00\")&\".\"&TEXT(MONTH((LEFT(V$3,6)&RIGHT(V$3,4)+4000)+X10),\"00\")&\".\"&RIGHT(V$3,4)","v":{"$error":"#VALUE!"}},"Ostermontag",1,null,{"$f":"MONTH(V10)","v":{"$error":"#VALUE!"}},{"$f":"DATE($V$1,Z10,1)","v":{"$error":"#VALUE!"}},{"$error":"#VALUE!"},{"$error":"#VALUE!"}]
[null,null,null,null,null,{"$error":"#VALUE!"},null,{"$f":"SMALL(IF(LEFT(N$1:N$999,6)=H$1,ROW($1:$999)),ROW(I9))","v":179},2390,23,11,6,39,"08.04.2390",null,"31.03.2222","",null,null,null,null,{"$error":"#VALUE!"},"Christi Himmelfahrt",39,null,{"$error":"#VALUE!"},{"$error":"#VALUE!"},{"$error":"#VALUE!"},{"$error":"#VALUE!"}]
[null,null,null,null,null,{"$error":"#VALUE!"},null,{"$f":"SMALL(IF(LEFT(N$1:N$999,6)=H$1,ROW($1:$999)),ROW(I10))","v":190},2389,23,22,3,47,"16.04.2389",null,"31.03.2211","",null,null,null,null,{"$error":"#VALUE!"},"Pfingstsonntag",49,null,{"$error":"#VALUE!"},{"$error":"#VALUE!"},{"$error":"#VALUE!"},{"$error":"#VALUE!"}]
[null,null,null,null,null,{"$error":"#VALUE!"},null,{"$f":"SMALL(IF(LEFT(N$1:N$999,6)=H$1,ROW($1:$999)),ROW(I11))","v":225},2388,23,3,2,27,"27.03.2388",null,"31.03.2176","",null,null,null,null,{"$error":"#VALUE!"},"Pfingstmontag",50,null,{"$error":"#VALUE!"},{"$error":"#VALUE!"},{"$error":"#VALUE!"},{"$error":"#VALUE!"}]
[null,null,null,null,null,"1900-05-01",null,{"$f":"SMALL(IF(LEFT(N$1:N$999,6)=H$1,ROW($1:$999)),ROW(I12))","v":236},2387,23,14,0,36,"05.04.2387",null,"31.03.2165","",null,null,null,null,{"$f":"DATE(YEAR(DATE(Uebersicht!F5,1,1)),5,1)","v":"1900-05-01"},"Tag der Arbeit",null,null,5,{"$error":"#VALUE!"},1,{"$f":"DATE($V$1,Z14,AB14)","v":{"$error":"#VALUE!"}}]
[null,null,null,null,null,"1900-10-03",null,{"$f":"SMALL(IF(LEFT(N$1:N$999,6)=H$1,ROW($1:$999)),ROW(I13))","v":247},2386,23,25,4,51,"20.04.2386",null,"31.03.2154","",null,null,null,null,{"$f":"DATE(YEAR(DATE(Uebersicht!F5,1,1)),10,3)","v":"1900-10-03"},"Deutsche Einheit",null,null,10,{"$error":"#VALUE!"},3,{"$error":"#VALUE!"}]
[null,null,null,null,null,"1900-10-31",null,{"$f":"SMALL(IF(LEFT(N$1:N$999,6)=H$1,ROW($1:$999)),ROW(I14))","v":258},2385,23,6,3,31,"31.03.2385",null,"31.03.2143","",null,null,null,null,{"$f":"DATE(YEAR(DATE(Uebersicht!F5,1,1)),10,31)","v":"1900-10-31"},"Reformationstag",null,null,10,{"$error":"#VALUE!"},31,{"$error":"#VALUE!"}]
[null,null,null,null,null,"1900-12-24",null,{"$f":"SMALL(IF(LEFT(N$1:N$999,6)=H$1,ROW($1:$999)),ROW(I15))","v":304},2384,23,17,0,39,"08.04.2384",null,"31.03.2097","",null,null,null,null,{"$f":"DATE(YEAR(DATE(Uebersicht!F5,1,1)),12,24)","v":"1900-12-24"},"Heiligabend",null,null,12,{"$error":"#VALUE!"},24,{"$error":"#VALUE!"}]
[null,null,null,null,null,"1900-12-25",null,{"$f":"SMALL(IF(LEFT(N$1:N$999,6)=H$1,ROW($1:$999)),ROW(I16))","v":315},2383,23,28,5,55,"24.04.2383",null,"31.03.2086","",null,null,null,null,{"$f":"DATE(YEAR(DATE(Uebersicht!F5,1,1)),12,25)","v":"1900-12-25"},"1. Weihnachtsfeiertag",null,null,12,{"$error":"#VALUE!"},25,{"$error":"#VALUE!"}]
[null,null,null,null,null,"1900-12-26",null,{"$f":"SMALL(IF(LEFT(N$1:N$999,6)=H$1,ROW($1:$999)),ROW(I17))","v":377},2382,23,9,4,35,"04.04.2382",null,"31.03.2024","nächster",null,null,null,null,{"$f":"DATE(YEAR(DATE(Uebersicht!F5,1,1)),12,26)","v":"1900-12-26"},"2. Weihnachtsfeiertag",null,null,12,{"$error":"#VALUE!"},26,{"$error":"#VALUE!"}]
[null,null,null,null,null,"1900-12-31",null,{"$f":"SMALL(IF(LEFT(N$1:N$999,6)=H$1,ROW($1:$999)),ROW(I18))","v":388},2381,23,20,1,43,"12.04.2381",null,"31.03.2013","",null,null,null,null,{"$f":"DATE(YEAR(DATE(Uebersicht!F5,1,1)),12,31)","v":"1900-12-31"},"Silvester",null,null,12,{"$error":"#VALUE!"},31,{"$error":"#VALUE!"}]
[null,null,null,null,null,null,null,{"$f":"SMALL(IF(LEFT(N$1:N$999,6)=H$1,ROW($1:$999)),ROW(I19))","v":399},2380,23,1,0,23,"23.03.2380",null,"31.03.2002",""]
[null,null,null,null,null,null,null,{"$f":"SMALL(IF(LEFT(N$1:N$999,6)=H$1,ROW($1:$999)),ROW(I20))","v":410},2379,23,12,5,39,"08.04.2379",null,"31.03.1991",""]
[null,null,null,null,null,null,null,{"$f":"SMALL(IF(LEFT(N$1:N$999,6)=H$1,ROW($1:$999)),ROW(I21))","v":472},2378,23,23,2,47,"16.04.2378",null,"31.03.1929",""]
[null,null,null,null,null,null,null,{"$f":"SMALL(IF(LEFT(N$1:N$999,6)=H$1,ROW($1:$999)),ROW(I22))","v":483},2377,23,4,1,27,"27.03.2377",null,"31.03.1918",""]
[null,null,null,null,null,null,null,{"$f":"SMALL(IF(LEFT(N$1:N$999,6)=H$1,ROW($1:$999)),ROW(I23))","v":494},2376,23,15,5,42,"11.04.2376",null,"31.03.1907",""]
[null,null,null,null,null,null,null,{"$f":"SMALL(IF(LEFT(N$1:N$999,6)=H$1,ROW($1:$999)),ROW(I24))","v":529},2375,23,26,3,51,"20.04.2375",null,"31.03.1872",""]
[null,null,null,null,null,null,null,{"$f":"SMALL(IF(LEFT(N$1:N$999,6)=H$1,ROW($1:$999)),ROW(I25))","v":540},2374,23,8,1,31,"31.03.2374",null,"31.03.1861",""]
[null,null,null,null,null,null,null,{"$f":"SMALL(IF(LEFT(N$1:N$999,6)=H$1,ROW($1:$999)),ROW(I26))","v":551},2373,23,19,5,46,"15.04.2373",null,"31.03.1850",""]
[null,null,null,null,null,null,null,{"$f":"SMALL(IF(LEFT(N$1:N$999,6)=H$1,ROW($1:$999)),ROW(I27))","v":562},2372,23,0,4,26,"26.03.2372",null,"31.03.1839",""]
[null,null,null,null,null,null,null,{"$f":"SMALL(IF(LEFT(N$1:N$999,6)=H$1,ROW($1:$999)),ROW(I28))","v":608},2371,23,11,2,35,"04.04.2371",null,"31.03.1793",""]
[null,null,null,null,null,null,null,{"$f":"SMALL(IF(LEFT(N$1:N$999,6)=H$1,ROW($1:$999)),ROW(I29))","v":619},2370,23,22,6,50,"19.04.2370",null,"31.03.1782",""]
[null,null,null,null,null,null,null,{"$f":"SMALL(IF(LEFT(N$1:N$999,6)=H$1,ROW($1:$999)),ROW(I30))","v":630},2369,23,3,5,30,"30.03.2369",null,"31.03.1771",""]
[null,null,null,null,null,null,null,{"$f":"SMALL(IF(LEFT(N$1:N$999,6)=H$1,ROW($1:$999)),ROW(I31))","v":{"$error":"#NUM!"}},2368,23,14,2,38,"07.04.2368",null,"",""]
[null,null,null,null,null,null,null,{"$f":"SMALL(IF(LEFT(N$1:N$999,6)=H$1,ROW($1:$999)),ROW(I32))","v":{"$error":"#NUM!"}},2367,23,25,0,47,"16.04.2367",null,"",""]
[null,null,null,null,null,null,null,{"$f":"SMALL(IF(LEFT(N$1:N$999,6)=H$1,ROW($1:$999)),ROW(I33))","v":{"$error":"#NUM!"}},2366,23,6,6,34,"03.04.2366",null,"",""]
[null,null,null,null,null,null,null,{"$f":"SMALL(IF(LEFT(N$1:N$999,6)=H$1,ROW($1:$999)),ROW(I34))","v":{"$error":"#NUM!"}},2365,23,17,3,42,"11.04.2365",null,"",""]
[null,null,null,null,null,null,null,{"$f":"SMALL(IF(LEFT(N$1:N$999,6)=H$1,ROW($1:$999)),ROW(I35))","v":{"$error":"#NUM!"}},2364,23,28,0,50,"19.04.2364",null,"",""]
[null,null,null,null,null,null,null,{"$f":"SMALL(IF(LEFT(N$1:N$999,6)=H$1,ROW($1:$999)),ROW(I36))","v":{"$error":"#NUM!"}},2363,23,9,0,31,"31.03.2363",null,"",""]
[null,null,null,null,null,null,null,{"$f":"SMALL(IF(LEFT(N$1:N$999,6)=H$1,ROW($1:$999)),ROW(I37))","v":{"$error":"#NUM!"}},2362,23,20,4,46,"15.04.2362",null,"",""]
[null,null,null,null,null,null,null,{"$f":"SMALL(IF(LEFT(N$1:N$999,6)=H$1,ROW($1:$999)),ROW(I38))","v":{"$error":"#NUM!"}},2361,23,1,3,26,"26.03.2361",null,"",""]
[null,null,null,null,null,null,null,null,2360,23,12,0,34,"03.04.2360"]
[null,null,null,null,null,null,null,null,2359,23,23,5,50,"19.04.2359"]
[null,null,null,null,null,null,null,null,2358,23,4,4,30,"30.03.2358"]
[null,null,null,null,null,null,null,null,2357,23,15,1,38,{"$f":"IF(Q1=\"WF\",\"Walter Fricke, Derendorf (WF) 24.02.1949 in Bremerhaven                                  \",TEXT(IF(M44-31 < 1,M44,M44-31),\"0#\")&\".\"&IF(M44 > 31,\"04.\",\"03.\")&I44)","v":"07.04.2357"}]
[null,null,null,null,null,null,null,null,2356,23,26,5,53,"22.04.2356"]
[null,null,null,null,null,null,null,null,2355,23,8,4,34,"03.04.2355"]
[null,null,null,null,null,null,null,null,2354,23,19,1,42,"11.04.2354"]
[null,null,null,null,null,null,null,null,2353,23,0,0,22,"22.03.2353"]
[null,null,null,null,null,null,null,null,2352,23,11,4,37,"06.04.2352"]
[null,null,null,null,null,null,null,null,2351,23,22,2,46,"15.04.2351"]
[null,null,null,null,null,null,null,null,2350,23,3,1,26,"26.03.2350"]
[null,null,null,null,null,null,null,null,2349,23,14,5,41,"10.04.2349"]
[null,null,null,null,null,null,null,null,2348,23,25,2,49,"18.04.2348"]
[null,null,null,null,null,null,null,null,2347,23,6,2,30,"30.03.2347"]
[null,null,null,null,null,null,null,null,2346,23,17,6,45,"14.04.2346"]
[null,null,null,null,null,null,null,null,2345,23,28,3,53,"22.04.2345"]
[null,null,null,null,null,null,null,null,2344,23,9,2,33,"02.04.2344"]
[null,null,null,null,null,null,null,null,2343,23,20,0,42,"11.04.2343"]
[null,null,null,null,null,null,null,null,2342,23,1,6,29,"29.03.2342"]
[null,null,null,null,null,null,null,null,2341,23,12,3,37,"06.04.2341"]
[null,null,null,null,null,null,null,null,2340,23,23,0,45,"14.04.2340"]
[null,null,null,null,null,null,null,null,2339,23,4,0,26,"26.03.2339"]
[null,null,null,null,null,null,null,null,2338,23,15,4,41,"10.04.2338"]
[null,null,null,null,null,null,null,null,2337,23,26,1,49,"18.04.2337"]
[null,null,null,null,null,null,null,null,2336,{"$f":"INT(I65/100)","v":23},{"$f":"MOD(19*MOD(I65,19)+J65-INT(J65/4)-INT((J65-INT((J65+8)/25)+1)/3)+15,30)","v":8},{"$f":"MOD(32+2*MOD(J65,4)+2*INT(MOD(I65,100)/4)-K65-MOD(MOD(I65,100),4),7)","v":6},{"$f":"K65+L65-7*INT((MOD(I65,19)+11*K65+22*L65)/451)+22","v":36},{"$f":"TEXT(IF(M65-31 < 1,M65,M65-31),\"0#\")&\".\"&IF(M65 > 31,\"04.\",\"03.\")&I65","v":"05.04.2336"}]
[null,null,null,null,null,null,null,null,2335,23,19,4,45,"14.04.2335"]
[null,null,null,null,null,null,null,null,2334,23,0,3,25,"25.03.2334"]
[null,null,null,null,null,null,null,null,2333,23,11,0,33,"02.04.2333"]
[null,null,null,null,null,null,null,null,2332,23,22,4,48,"17.04.2332"]
[null,null,null,null,null,null,null,null,2331,23,3,4,29,"29.03.2331"]
[null,null,null,null,null,null,null,null,2330,23,14,1,37,"06.04.2330"]
[null,null,null,null,null,null,null,null,2329,23,25,5,52,"21.04.2329"]
[null,null,null,null,null,null,null,null,2328,23,6,4,32,"01.04.2328"]
[null,null,null,null,null,null,null,null,2327,23,17,2,41,"10.04.2327"]
[null,null,null,null,null,null,null,null,2326,23,28,6,56,"25.04.2326"]
[null,null,null,null,null,null,null,null,2325,23,9,5,36,"05.04.2325"]
[null,null,null,null,null,null,null,null,2324,23,20,2,44,"13.04.2324"]
[null,null,null,null,null,null,null,null,2323,23,1,2,25,"25.03.2323"]
[null,null,null,null,null,null,null,null,2322,23,12,6,40,"09.04.2322"]
[null,null,null,null,null,null,null,null,2321,23,23,3,48,"17.04.2321"]
[null,null,null,null,null,null,null,null,2320,23,4,2,28,"28.03.2320"]
[null,null,null,null,null,null,null,null,2319,23,15,0,37,"06.04.2319"]
[null,null,null,null,null,null,null,null,2318,23,26,4,52,"21.04.2318"]
[null,null,null,null,null,null,null,null,2317,23,8,2,32,"01.04.2317"]
[null,null,null,null,null,null,null,null,2316,23,19,6,47,"16.04.2316"]
[null,null,null,null,null,null,null,null,2315,23,0,6,28,"28.03.2315"]
[null,null,null,null,null,null,null,null,2314,23,11,3,36,"05.04.2314"]
[null,null,null,null,null,null,null,null,2313,23,22,0,44,"13.04.2313"]
[null,null,null,null,null,null,null,null,2312,23,3,6,31,"31.03.2312"]
[null,null,null,null,null,null,null,null,2311,23,14,4,40,"09.04.2311"]
[null,null,null,null,null,null,null,null,2310,23,25,1,48,"17.04.2310"]
[null,null,null,null,null,null,null,null,2309,23,6,0,28,"28.03.2309"]
[null,null,null,null,null,null,null,null,2308,23,17,4,43,"12.04.2308"]
[null,null,null,null,null,null,null,null,2307,23,28,2,52,"21.04.2307"]
[null,null,null,null,null,null,null,null,2306,23,9,1,32,"01.04.2306"]
[null,null,null,null,null,null,null,null,2305,23,20,5,47,"16.04.2305"]
[null,null,null,null,null,null,null,null,2304,23,1,4,27,"27.03.2304"]
[null,null,null,null,null,null,null,null,2303,23,12,2,36,"05.04.2303"]
[null,null,null,null,null,null,null,null,2302,23,23,6,51,"20.04.2302"]
[null,null,null,null,null,null,null,null,2301,23,4,5,31,"31.03.2301"]
[null,null,null,null,null,null,null,null,2300,{"$f":"INT(I101/100)","v":23},{"$f":"MOD(19*MOD(I101,19)+J101-INT(J101/4)-INT((J101-INT((J101+8)/25)+1)/3)+15,30)","v":15},{"$f":"MOD(32+2*MOD(J101,4)+2*INT(MOD(I101,100)/4)-K101-MOD(MOD(I101,100),4),7)","v":2},{"$f":"K101+L101-7*INT((MOD(I101,19)+11*K101+22*L101)/451)+22","v":39},{"$f":"TEXT(IF(M101-31 < 1,M101,M101-31),\"0#\")&\".\"&IF(M101 > 31,\"04.\",\"03.\")&I101","v":"08.04.2300"}]
[null,null,null,null,null,null,null,null,2299,{"$f":"INT(I102/100)","v":22},{"$f":"MOD(19*MOD(I102,19)+J102-INT(J102/4)-INT((J102-INT((J102+8)/25)+1)/3)+15,30)","v":25},{"$f":"MOD(32+2*MOD(J102,4)+2*INT(MOD(I102,100)/4)-K102-MOD(MOD(I102,100),4),7)","v":0},{"$f":"K102+L102-7*INT((MOD(I102,19)+11*K102+22*L102)/451)+22","v":47},{"$f":"TEXT(IF(M102-31 < 1,M102,M102-31),\"0#\")&\".\"&IF(M102 > 31,\"04.\",\"03.\")&I102","v":"16.04.2299"}]
[null,null,null,null,null,null,null,null,2298,22,7,5,34,"03.04.2298"]
[null,null,null,null,null,null,null,null,2297,22,18,2,42,"11.04.2297"]
[null,null,null,null,null,null,null,null,2296,22,29,6,50,"19.04.2296"]
[null,null,null,null,null,null,null,null,2295,22,10,6,38,"07.04.2295"]
[null,null,null,null,null,null,null,null,2294,22,21,3,46,"15.04.2294"]
[null,null,null,null,null,null,null,null,2293,22,2,2,26,"26.03.2293"]
[null,null,null,null,null,null,null,null,2292,22,13,6,41,"10.04.2292"]
[null,null,null,null,null,null,null,null,2291,22,24,4,50,"19.04.2291"]
[null,null,null,null,null,null,null,null,2290,22,5,3,30,"30.03.2290"]
[null,null,null,null,null,null,null,null,2289,22,16,0,38,"07.04.2289"]
[null,null,null,null,null,null,null,null,2288,22,27,4,53,"22.04.2288"]
[null,null,null,null,null,null,null,null,2287,22,8,4,34,"03.04.2287"]
[null,null,null,null,null,null,null,null,2286,22,19,1,42,"11.04.2286"]
[null,null,null,null,null,null,null,null,2285,22,0,0,22,"22.03.2285"]
[null,null,null,null,null,null,null,null,2284,22,11,4,37,"06.04.2284"]
[null,null,null,null,null,null,null,null,2283,22,22,2,46,"15.04.2283"]
[null,null,null,null,null,null,null,null,2282,22,3,1,26,"26.03.2282"]
[null,null,null,null,null,null,null,null,2281,22,14,5,41,"10.04.2281"]
[null,null,null,null,null,null,null,null,2280,22,25,2,49,"18.04.2280"]
[null,null,null,null,null,null,null,null,2279,22,7,1,30,"30.03.2279"]
[null,null,null,null,null,null,null,null,2278,22,18,5,45,"14.04.2278"]
[null,null,null,null,null,null,null,null,2277,22,29,2,53,"22.04.2277"]
[null,null,null,null,null,null,null,null,2276,22,10,1,33,"02.04.2276"]
[null,null,null,null,null,null,null,null,2275,22,21,6,49,"18.04.2275"]
[null,null,null,null,null,null,null,null,2274,22,2,5,29,"29.03.2274"]
[null,null,null,null,null,null,null,null,2273,22,13,2,37,"06.04.2273"]
[null,null,null,null,null,null,null,null,2272,22,24,6,52,{"$f":"IF(Q1=\"WF\",\"W a l t e r   F r i c k e   (W F),   D e r e n d o r f\",TEXT(IF(M129-31 < 1,M129,M129-31),\"0#\")&\".\"&IF(M129 > 31,\"04.\",\"03.\")&I129)","v":"21.04.2272"}]
[null,null,null,null,null,null,null,null,2271,22,5,6,33,"02.04.2271"]
[null,null,null,null,null,null,null,null,2270,22,16,3,41,"10.04.2270"]
[null,null,null,null,null,null,null,null,2269,22,27,0,49,"18.04.2269"]
[null,null,null,null,null,null,null,null,2268,22,8,6,36,"05.04.2268"]
[null,null,null,null,null,null,null,null,2267,22,19,4,45,"14.04.2267"]
[null,null,null,null,null,null,null,null,2266,22,0,3,25,"25.03.2266"]
[null,null,null,null,null,null,null,null,2265,22,11,0,33,"02.04.2265"]
[null,null,null,null,null,null,null,null,2264,22,22,4,48,"17.04.2264"]
[null,null,null,null,null,null,null,null,2263,22,3,4,29,"29.03.2263"]
[null,null,null,null,null,null,null,null,2262,22,14,1,37,"06.04.2262"]
[null,null,null,null,null,null,null,null,2261,22,25,5,52,"21.04.2261"]
[null,null,null,null,null,null,null,null,2260,22,7,3,32,"01.04.2260"]
[null,null,null,null,null,null,null,null,2259,22,18,1,41,"10.04.2259"]
[null,null,null,null,null,null,null,null,2258,22,29,5,56,"25.04.2258"]
[null,null,null,null,null,null,null,null,2257,22,10,4,36,"05.04.2257"]
[null,null,null,null,null,null,null,null,2256,22,21,1,44,"13.04.2256"]
[null,null,null,null,null,null,null,null,2255,22,2,1,25,"25.03.2255"]
[null,null,null,null,null,null,null,null,2254,22,13,5,40,"09.04.2254"]
[null,null,null,null,null,null,null,null,2253,22,24,2,48,"17.04.2253"]
[null,null,null,null,null,null,null,null,2252,22,5,1,28,"28.03.2252"]
[null,null,null,null,null,null,null,null,2251,22,16,6,44,"13.04.2251"]
[null,null,null,null,null,null,null,null,2250,22,27,3,52,"21.04.2250"]
[null,null,null,null,null,null,null,null,2249,22,8,2,32,"01.04.2249"]
[null,null,null,null,null,null,null,null,2248,22,19,6,47,"16.04.2248"]
[null,null,null,null,null,null,null,null,2247,22,0,6,28,"28.03.2247"]
[null,null,null,null,null,null,null,null,2246,22,11,3,36,"05.04.2246"]
[null,null,null,null,null,null,null,null,2245,22,22,0,44,"13.04.2245"]
[null,null,null,null,null,null,null,null,2244,22,3,6,31,"31.03.2244"]
[null,null,null,null,null,null,null,null,2243,22,14,4,40,"09.04.2243"]
[null,null,null,null,null,null,null,null,2242,22,25,1,48,"17.04.2242"]
[null,null,null,null,null,null,null,null,2241,22,7,6,35,"04.04.2241"]
[null,null,null,null,null,null,null,null,2240,22,18,3,43,"12.04.2240"]
[null,null,null,null,null,null,null,null,2239,22,29,1,52,"21.04.2239"]
[null,null,null,null,null,null,null,null,2238,22,10,0,32,"01.04.2238"]
[null,null,null,null,null,null,null,null,2237,22,21,4,47,"16.04.2237"]
[null,null,null,null,null,null,null,null,2236,22,2,3,27,"27.03.2236"]
[null,null,null,null,null,null,null,null,2235,{"$f":"INT(I166/100)","v":22},{"$f":"MOD(19*MOD(I166,19)+J166-INT(J166/4)-INT((J166-INT((J166+8)/25)+1)/3)+15,30)","v":13},{"$f":"MOD(32+2*MOD(J166,4)+2*INT(MOD(I166,100)/4)-K166-MOD(MOD(I166,100),4),7)","v":1},{"$f":"K166+L166-7*INT((MOD(I166,19)+11*K166+22*L166)/451)+22","v":36},{"$f":"TEXT(IF(M166-31 < 1,M166,M166-31),\"0#\")&\".\"&IF(M166 > 31,\"04.\",\"03.\")&I166","v":"05.04.2235"}]
[null,null,null,null,null,null,null,null,2234,22,24,5,51,"20.04.2234"]
[null,null,null,null,null,null,null,null,2233,22,5,4,31,"31.03.2233"]
[null,null,null,null,null,null,null,null,2232,22,16,1,39,"08.04.2232"]
[null,null,null,null,null,null,null,null,2231,22,27,6,55,"24.04.2231"]
[null,null,null,null,null,null,null,null,2230,22,8,5,35,"04.04.2230"]
[null,null,null,null,null,null,null,null,2229,22,19,2,43,"12.04.2229"]
[null,null,null,null,null,null,null,null,2228,22,0,1,23,"23.03.2228"]
[null,null,null,null,null,null,null,null,2227,22,11,6,39,"08.04.2227"]
[null,null,null,null,null,null,null,null,2226,22,22,3,47,"16.04.2226"]
[null,null,null,null,null,null,null,null,2225,22,3,2,27,"27.03.2225"]
[null,null,null,null,null,null,null,null,2224,22,14,6,42,"11.04.2224"]
[null,null,null,null,null,null,null,null,2223,22,25,4,51,"20.04.2223"]
[null,null,null,null,null,null,null,null,2222,22,7,2,31,"31.03.2222"]
[null,null,null,null,null,null,null,null,2221,22,18,6,46,"15.04.2221"]
[null,null,null,null,null,null,null,null,2220,22,29,3,54,"23.04.2220"]
[null,null,null,null,null,null,null,null,2219,22,10,3,35,"04.04.2219"]
[null,null,null,null,null,null,null,null,2218,22,21,0,43,"12.04.2218"]
[null,null,null,null,null,null,null,null,2217,22,2,6,30,"30.03.2217"]
[null,null,null,null,null,null,null,null,2216,22,13,3,38,"07.04.2216"]
[null,null,null,null,null,null,null,null,2215,22,24,1,47,"16.04.2215"]
[null,null,null,null,null,null,null,null,2214,22,5,0,27,"27.03.2214"]
[null,null,null,null,null,null,null,null,2213,22,16,4,42,"11.04.2213"]
[null,null,null,null,null,null,null,null,2212,22,27,1,50,"19.04.2212"]
[null,null,null,null,null,null,null,null,2211,22,8,1,31,"31.03.2211"]
[null,null,null,null,null,null,null,null,2210,22,19,5,46,"15.04.2210"]
[null,null,null,null,null,null,null,null,2209,22,0,4,26,"26.03.2209"]
[null,null,null,null,null,null,null,null,2208,22,11,1,34,"03.04.2208"]
[null,null,null,null,null,null,null,null,2207,22,22,6,50,"19.04.2207"]
[null,null,null,null,null,null,null,null,2206,22,3,5,30,"30.03.2206"]
[null,null,null,null,null,null,null,null,2205,22,14,2,38,"07.04.2205"]
[null,null,null,null,null,null,null,null,2204,22,25,6,53,"22.04.2204"]
[null,null,null,null,null,null,null,null,2203,22,7,5,34,"03.04.2203"]
[null,null,null,null,null,null,null,null,2202,22,18,2,42,"11.04.2202"]
[null,null,null,null,null,null,null,null,2201,22,29,6,50,"19.04.2201"]
[null,null,null,null,null,null,null,null,2200,22,10,5,37,"06.04.2200"]
[null,null,null,null,null,null,null,null,2199,21,20,3,45,"14.04.2199"]
[null,null,null,null,null,null,null,null,2198,21,1,2,25,"25.03.2198"]
[null,null,null,null,null,null,null,null,2197,21,12,6,40,"09.04.2197"]
[null,null,null,null,null,null,null,null,2196,21,23,3,48,"17.04.2196"]
[null,null,null,null,null,null,null,null,2195,21,4,3,29,"29.03.2195"]
[null,null,null,null,null,null,null,null,2194,21,15,0,37,"06.04.2194"]
[null,null,null,null,null,null,null,null,2193,21,26,4,52,"21.04.2193"]
[null,null,null,null,null,null,null,null,2192,21,7,3,32,"01.04.2192"]
[null,null,null,null,null,null,null,null,2191,21,18,1,41,"10.04.2191"]
[null,null,null,null,null,null,null,null,2190,21,29,5,56,"25.04.2190"]
[null,null,null,null,null,null,null,null,2189,21,10,4,36,"05.04.2189"]
[null,null,null,null,null,null,null,null,2188,21,21,1,44,"13.04.2188"]
[null,null,null,null,null,null,null,null,2187,21,2,1,25,"25.03.2187"]
[null,null,null,null,null,null,null,null,2186,21,13,5,40,"09.04.2186"]
[null,null,null,null,null,null,null,null,2185,21,24,2,48,"17.04.2185"]
[null,null,null,null,null,null,null,null,2184,21,6,0,28,"28.03.2184"]
[null,null,null,null,null,null,null,null,2183,21,17,5,44,"13.04.2183"]
[null,null,null,null,null,null,null,null,2182,21,28,2,52,"21.04.2182"]
[null,null,null,null,null,null,null,null,2181,21,9,1,32,"01.04.2181"]
[null,null,null,null,null,null,null,null,2180,21,20,5,47,"16.04.2180"]
[null,null,null,null,null,null,null,null,2179,21,1,5,28,"28.03.2179"]
[null,null,null,null,null,null,null,null,2178,21,12,2,36,"05.04.2178"]
[null,null,null,null,null,null,null,null,2177,21,23,6,51,"20.04.2177"]
[null,null,null,null,null,null,null,null,2176,21,4,5,31,"31.03.2176"]
[null,null,null,null,null,null,null,null,2175,21,15,3,40,"09.04.2175"]
[null,null,null,null,null,null,null,null,2174,21,26,0,48,"17.04.2174"]
[null,null,null,null,null,null,null,null,2173,21,7,6,35,"04.04.2173"]
[null,null,null,null,null,null,null,null,2172,21,18,3,43,"12.04.2172"]
[null,null,null,null,null,null,null,null,2171,{"$f":"INT(I230/100)","v":21},{"$f":"MOD(19*MOD(I230,19)+J230-INT(J230/4)-INT((J230-INT((J230+8)/25)+1)/3)+15,30)","v":29},{"$f":"MOD(32+2*MOD(J230,4)+2*INT(MOD(I230,100)/4)-K230-MOD(MOD(I230,100),4),7)","v":1},{"$f":"K230+L230-7*INT((MOD(I230,19)+11*K230+22*L230)/451)+22","v":52},{"$f":"TEXT(IF(M230-31 < 1,M230,M230-31),\"0#\")&\".\"&IF(M230 > 31,\"04.\",\"03.\")&I230","v":"21.04.2171"}]
[null,null,null,null,null,null,null,null,2170,21,10,0,32,"01.04.2170"]
[null,null,null,null,null,null,null,null,2169,21,21,4,47,"16.04.2169"]
[null,null,null,null,null,null,null,null,2168,21,2,3,27,"27.03.2168"]
[null,null,null,null,null,null,null,null,2167,21,13,1,36,"05.04.2167"]
[null,null,null,null,null,null,null,null,2166,21,24,5,51,"20.04.2166"]
[null,null,null,null,null,null,null,null,2165,21,6,3,31,"31.03.2165"]
[null,null,null,null,null,null,null,null,2164,21,17,0,39,"08.04.2164"]
[null,null,null,null,null,null,null,null,2163,21,28,5,55,"24.04.2163"]
[null,null,null,null,null,null,null,null,2162,21,9,4,35,"04.04.2162"]
[null,null,null,null,null,null,null,null,2161,21,20,1,43,"12.04.2161"]
[null,null,null,null,null,null,null,null,2160,21,1,0,23,"23.03.2160"]
[null,null,null,null,null,null,null,null,2159,21,12,5,39,"08.04.2159"]
[null,null,null,null,null,null,null,null,2158,21,23,2,47,"16.04.2158"]
[null,null,null,null,null,null,null,null,2157,21,4,1,27,"27.03.2157"]
[null,null,null,null,null,null,null,null,2156,21,15,5,42,"11.04.2156"]
[null,null,null,null,null,null,null,null,2155,21,26,3,51,"20.04.2155"]
[null,null,null,null,null,null,null,null,2154,21,7,2,31,"31.03.2154"]
[null,null,null,null,null,null,null,null,2153,21,18,6,46,"15.04.2153"]
[null,null,null,null,null,null,null,null,2152,21,29,3,54,"23.04.2152"]
[null,null,null,null,null,null,null,null,2151,21,10,3,35,"04.04.2151"]
[null,null,null,null,null,null,null,null,2150,21,21,0,43,"12.04.2150"]
[null,null,null,null,null,null,null,null,2149,21,2,6,30,"30.03.2149"]
[null,null,null,null,null,null,null,null,2148,21,13,3,38,"07.04.2148"]
[null,null,null,null,null,null,null,null,2147,21,24,1,47,"16.04.2147"]
[null,null,null,null,null,null,null,null,2146,21,6,6,34,"03.04.2146"]
[null,null,null,null,null,null,null,null,2145,21,17,3,42,"11.04.2145"]
[null,null,null,null,null,null,null,null,2144,21,28,0,50,"19.04.2144"]
[null,null,null,null,null,null,null,null,2143,21,9,0,31,"31.03.2143"]
[null,null,null,null,null,null,null,null,2142,21,20,4,46,"15.04.2142"]
[null,null,null,null,null,null,null,null,2141,21,1,3,26,"26.03.2141"]
[null,null,null,null,null,null,null,null,2140,21,12,0,34,"03.04.2140"]
[null,null,null,null,null,null,null,null,2139,21,23,5,50,"19.04.2139"]
[null,null,null,null,null,null,null,null,2138,21,4,4,30,"30.03.2138"]
[null,null,null,null,null,null,null,null,2137,21,15,1,38,"07.04.2137"]
[null,null,null,null,null,null,null,null,2136,21,26,5,53,"22.04.2136"]
[null,null,null,null,null,null,null,null,2135,21,7,5,34,"03.04.2135"]
[null,null,null,null,null,null,null,null,2134,21,18,2,42,"11.04.2134"]
[null,null,null,null,null,null,null,null,2133,21,29,6,50,"19.04.2133"]
[null,null,null,null,null,null,null,null,2132,21,10,5,37,"06.04.2132"]
[null,null,null,null,null,null,null,null,2131,21,21,3,46,"15.04.2131"]
[null,null,null,null,null,null,null,null,2130,21,2,2,26,"26.03.2130"]
[null,null,null,null,null,null,null,null,2129,21,13,6,41,"10.04.2129"]
[null,null,null,null,null,null,null,null,2128,21,24,3,49,"18.04.2128"]
[null,null,null,null,null,null,null,null,2127,21,6,2,30,"30.03.2127"]
[null,null,null,null,null,null,null,null,2126,21,17,6,45,"14.04.2126"]
[null,null,null,null,null,null,null,null,2125,21,28,3,53,"22.04.2125"]
[null,null,null,null,null,null,null,null,2124,21,9,2,33,"02.04.2124"]
[null,null,null,null,null,null,null,null,2123,21,20,0,42,"11.04.2123"]
[null,null,null,null,null,null,null,null,2122,21,1,6,29,"29.03.2122"]
[null,null,null,null,null,null,null,null,2121,21,12,3,37,"06.04.2121"]
[null,null,null,null,null,null,null,null,2120,21,23,0,45,"14.04.2120"]
[null,null,null,null,null,null,null,null,2119,21,4,0,26,"26.03.2119"]
[null,null,null,null,null,null,null,null,2118,21,15,4,41,"10.04.2118"]
[null,null,null,null,null,null,null,null,2117,21,26,1,49,"18.04.2117"]
[null,null,null,null,null,null,null,null,2116,21,7,0,29,"29.03.2116"]
[null,null,null,null,null,null,null,null,2115,21,18,5,45,"14.04.2115"]
[null,null,null,null,null,null,null,null,2114,21,29,2,53,"22.04.2114"]
[null,null,null,null,null,null,null,null,2113,21,10,1,33,"02.04.2113"]
[null,null,null,null,null,null,null,null,2112,21,21,5,48,"17.04.2112"]
[null,null,null,null,null,null,null,null,2111,21,2,5,29,"29.03.2111"]
[null,null,null,null,null,null,null,null,2110,21,13,2,37,"06.04.2110"]
[null,null,null,null,null,null,null,null,2109,21,24,6,52,"21.04.2109"]
[null,null,null,null,null,null,null,null,2108,21,6,4,32,"01.04.2108"]
[null,null,null,null,null,null,null,null,2107,{"$f":"INT(I294/100)","v":21},{"$f":"MOD(19*MOD(I294,19)+J294-INT(J294/4)-INT((J294-INT((J294+8)/25)+1)/3)+15,30)","v":17},{"$f":"MOD(32+2*MOD(J294,4)+2*INT(MOD(I294,100)/4)-K294-MOD(MOD(I294,100),4),7)","v":2},{"$f":"K294+L294-7*INT((MOD(I294,19)+11*K294+22*L294)/451)+22","v":41},{"$f":"TEXT(IF(M294-31 < 1,M294,M294-31),\"0#\")&\".\"&IF(M294 > 31,\"04.\",\"03.\")&I294","v":"10.04.2107"}]
[null,null,null,null,null,null,null,null,2106,21,28,6,49,"18.04.2106"]
[null,null,null,null,null,null,null,null,2105,21,9,5,36,"05.04.2105"]
[null,null,null,null,null,null,null,null,2104,21,20,2,44,"13.04.2104"]
[null,null,null,null,null,null,null,null,2103,21,1,2,25,"25.03.2103"]
[null,null,null,null,null,null,null,null,2102,21,12,6,40,"09.04.2102"]
[null,null,null,null,null,null,null,null,2101,21,23,3,48,"17.04.2101"]
[null,null,null,null,null,null,null,null,2100,21,4,2,28,"28.03.2100"]
[null,null,null,null,null,null,null,null,2099,20,15,6,43,"12.04.2099"]
[null,null,null,null,null,null,null,null,2098,20,26,3,51,"20.04.2098"]
[null,null,null,null,null,null,null,null,2097,20,7,2,31,"31.03.2097"]
[null,null,null,null,null,null,null,null,2096,20,18,6,46,"15.04.2096"]
[null,null,null,null,null,null,null,null,2095,20,29,4,55,"24.04.2095"]
[null,null,null,null,null,null,null,null,2094,20,10,3,35,"04.04.2094"]
[null,null,null,null,null,null,null,null,2093,20,21,0,43,"12.04.2093"]
[null,null,null,null,null,null,null,null,2092,20,2,6,30,"30.03.2092"]
[null,null,null,null,null,null,null,null,2091,20,13,4,39,"08.04.2091"]
[null,null,null,null,null,null,null,null,2090,20,24,1,47,"16.04.2090"]
[null,null,null,null,null,null,null,null,2089,20,6,6,34,"03.04.2089"]
[null,null,null,null,null,null,null,null,2088,20,17,3,42,"11.04.2088"]
[null,null,null,null,null,null,null,null,2087,20,28,1,51,"20.04.2087"]
[null,null,null,null,null,null,null,null,2086,20,9,0,31,"31.03.2086"]
[null,null,null,null,null,null,null,null,2085,20,20,4,46,"15.04.2085"]
[null,null,null,null,null,null,null,null,2084,20,1,3,26,"26.03.2084"]
[null,null,null,null,null,null,null,null,2083,20,12,1,35,"04.04.2083"]
[null,null,null,null,null,null,null,null,2082,20,23,5,50,"19.04.2082"]
[null,null,null,null,null,null,null,null,2081,20,4,4,30,"30.03.2081"]
[null,null,null,null,null,null,null,null,2080,20,15,1,38,"07.04.2080"]
[null,null,null,null,null,null,null,null,2079,20,26,6,54,"23.04.2079"]
[null,null,null,null,null,null,null,null,2078,20,7,5,34,"03.04.2078"]
[null,null,null,null,null,null,null,null,2077,20,18,2,42,"11.04.2077"]
[null,null,null,null,null,null,null,null,2076,20,29,6,50,"19.04.2076"]
[null,null,null,null,null,null,null,null,2075,20,10,6,38,"07.04.2075"]
[null,null,null,null,null,null,null,null,2074,20,21,3,46,"15.04.2074"]
[null,null,null,null,null,null,null,null,2073,20,2,2,26,"26.03.2073"]
[null,null,null,null,null,null,null,null,2072,20,13,6,41,"10.04.2072"]
[null,null,null,null,null,null,null,null,2071,20,24,4,50,"19.04.2071"]
[null,null,null,null,null,null,null,null,2070,20,6,2,30,"30.03.2070"]
[null,null,null,null,null,null,null,null,2069,20,17,6,45,"14.04.2069"]
[null,null,null,null,null,null,null,null,2068,20,28,3,53,"22.04.2068"]
[null,null,null,null,null,null,null,null,2067,20,9,3,34,"03.04.2067"]
[null,null,null,null,null,null,null,null,2066,20,20,0,42,"11.04.2066"]
[null,null,null,null,null,null,null,null,2065,20,1,6,29,"29.03.2065"]
[null,null,null,null,null,null,null,null,2064,20,12,3,37,"06.04.2064"]
[null,null,null,null,null,null,null,null,2063,20,23,1,46,"15.04.2063"]
[null,null,null,null,null,null,null,null,2062,20,4,0,26,"26.03.2062"]
[null,null,null,null,null,null,null,null,2061,20,15,4,41,"10.04.2061"]
[null,null,null,null,null,null,null,null,2060,20,26,1,49,"18.04.2060"]
[null,null,null,null,null,null,null,null,2059,20,7,1,30,"30.03.2059"]
[null,null,null,null,null,null,null,null,2058,20,18,5,45,"14.04.2058"]
[null,null,null,null,null,null,null,null,2057,20,29,2,53,"22.04.2057"]
[null,null,null,null,null,null,null,null,2056,20,10,1,33,"02.04.2056"]
[null,null,null,null,null,null,null,null,2055,20,21,6,49,"18.04.2055"]
[null,null,null,null,null,null,null,null,2054,20,2,5,29,"29.03.2054"]
[null,null,null,null,null,null,null,null,2053,20,13,2,37,"06.04.2053"]
[null,null,null,null,null,null,null,null,2052,20,24,6,52,"21.04.2052"]
[null,null,null,null,null,null,null,null,2051,20,6,5,33,"02.04.2051"]
[null,null,null,null,null,null,null,null,2050,20,17,2,41,"10.04.2050"]
[null,null,null,null,null,null,null,null,2049,20,28,6,49,"18.04.2049"]
[null,null,null,null,null,null,null,null,2048,20,9,5,36,"05.04.2048"]
[null,null,null,null,null,null,null,null,2047,20,20,3,45,"14.04.2047"]
[null,null,null,null,null,null,null,null,2046,20,1,2,25,"25.03.2046"]
[null,null,null,null,null,null,null,null,2045,20,12,6,40,"09.04.2045"]
[null,null,null,null,null,null,null,null,2044,20,23,3,48,"17.04.2044"]
[null,null,null,null,null,null,null,null,2043,{"$f":"INT(I358/100)","v":20},{"$f":"MOD(19*MOD(I358,19)+J358-INT(J358/4)-INT((J358-INT((J358+8)/25)+1)/3)+15,30)","v":4},{"$f":"MOD(32+2*MOD(J358,4)+2*INT(MOD(I358,100)/4)-K358-MOD(MOD(I358,100),4),7)","v":3},{"$f":"K358+L358-7*INT((MOD(I358,19)+11*K358+22*L358)/451)+22","v":29},{"$f":"TEXT(IF(M358-31 < 1,M358,M358-31),\"0#\")&\".\"&IF(M358 > 31,\"04.\",\"03.\")&I358","v":"29.03.2043"}]
[null,null,null,null,null,null,null,null,2042,20,15,0,37,"06.04.2042"]
[null,null,null,null,null,null,null,null,2041,20,26,4,52,"21.04.2041"]
[null,null,null,null,null,null,null,null,2040,20,7,3,32,"01.04.2040"]
[null,null,null,null,null,null,null,null,2039,20,18,1,41,"10.04.2039"]
[null,null,null,null,null,null,null,null,2038,20,29,5,56,"25.04.2038"]
[null,null,null,null,null,null,null,null,2037,20,10,4,36,"05.04.2037"]
[null,null,null,null,null,null,null,null,2036,20,21,1,44,"13.04.2036"]
[null,null,null,null,null,null,null,null,2035,20,2,1,25,"25.03.2035"]
[null,null,null,null,null,null,null,null,2034,20,13,5,40,"09.04.2034"]
[null,null,null,null,null,null,null,null,2033,20,24,2,48,"17.04.2033"]
[null,null,null,null,null,null,null,null,2032,20,6,0,28,"28.03.2032"]
[null,null,null,null,null,null,null,null,2031,20,17,5,44,"13.04.2031"]
[null,null,null,null,null,null,null,null,2030,20,28,2,52,"21.04.2030"]
[null,null,null,null,null,null,null,null,2029,20,9,1,32,"01.04.2029"]
[null,null,null,null,null,null,null,null,2028,20,20,5,47,"16.04.2028"]
[null,null,null,null,null,null,null,null,2027,20,1,5,28,"28.03.2027"]
[null,null,null,null,null,null,null,null,2026,20,12,2,36,"05.04.2026"]
[null,null,null,null,null,null,null,null,2025,20,23,6,51,"20.04.2025"]
[null,null,null,null,null,null,null,null,2024,20,4,5,31,"31.03.2024"]
[null,null,null,null,null,null,null,null,2023,20,15,3,40,"09.04.2023"]
[null,null,null,null,null,null,null,null,2022,20,26,0,48,"17.04.2022"]
[null,null,null,null,null,null,null,null,2021,20,7,6,35,"04.04.2021"]
[null,null,null,null,null,null,null,null,2020,20,18,3,43,"12.04.2020"]
[null,null,null,null,null,null,null,null,2019,20,29,1,52,"21.04.2019"]
[null,null,null,null,null,null,null,null,2018,20,10,0,32,"01.04.2018"]
[null,null,null,null,null,null,null,null,2017,20,21,4,47,"16.04.2017"]
[null,null,null,null,null,null,null,null,2016,20,2,3,27,"27.03.2016"]
[null,null,null,null,null,null,null,null,2015,20,13,1,36,"05.04.2015"]
[null,null,null,null,null,null,null,null,2014,20,24,5,51,"20.04.2014"]
[null,null,null,null,null,null,null,null,2013,20,6,3,31,"31.03.2013"]
[null,null,null,null,null,null,null,null,2012,20,17,0,39,"08.04.2012"]
[null,null,null,null,null,null,null,null,2011,20,28,5,55,"24.04.2011"]
[null,null,null,null,null,null,null,null,2010,20,9,4,35,"04.04.2010"]
[null,null,null,null,null,null,null,null,2009,20,20,1,43,"12.04.2009"]
[null,null,null,null,null,null,null,null,2008,20,1,0,23,"23.03.2008"]
[null,null,null,null,null,null,null,null,2007,20,12,5,39,"08.04.2007"]
[null,null,null,null,null,null,null,null,2006,20,23,2,47,"16.04.2006"]
[null,null,null,null,null,null,null,null,2005,20,4,1,27,"27.03.2005"]
[null,null,null,null,null,null,null,null,2004,20,15,5,42,"11.04.2004"]
[null,null,null,null,null,null,null,null,2003,20,26,3,51,"20.04.2003"]
[null,null,null,null,null,null,null,null,2002,20,7,2,31,"31.03.2002"]
[null,null,null,null,null,null,null,null,2001,20,18,6,46,"15.04.2001"]
[null,null,null,null,null,null,null,null,2000,20,29,3,54,"23.04.2000"]
[null,null,null,null,null,null,null,null,1999,19,10,3,35,"04.04.1999"]
[null,null,null,null,null,null,null,null,1998,19,21,0,43,"12.04.1998"]
[null,null,null,null,null,null,null,null,1997,19,2,6,30,"30.03.1997"]
[null,null,null,null,null,null,null,null,1996,19,13,3,38,"07.04.1996"]
[null,null,null,null,null,null,null,null,1995,19,24,1,47,"16.04.1995"]
[null,null,null,null,null,null,null,null,1994,19,6,6,34,"03.04.1994"]
[null,null,null,null,null,null,null,null,1993,19,17,3,42,"11.04.1993"]
[null,null,null,null,null,null,null,null,1992,19,28,0,50,"19.04.1992"]
[null,null,null,null,null,null,null,null,1991,19,9,0,31,"31.03.1991"]
[null,null,null,null,null,null,null,null,1990,19,20,4,46,"15.04.1990"]
[null,null,null,null,null,null,null,null,1989,19,1,3,26,"26.03.1989"]
[null,null,null,null,null,null,null,null,1988,19,12,0,34,"03.04.1988"]
[null,null,null,null,null,null,null,null,1987,19,23,5,50,"19.04.1987"]
[null,null,null,null,null,null,null,null,1986,19,4,4,30,"30.03.1986"]
[null,null,null,null,null,null,null,null,1985,19,15,1,38,"07.04.1985"]
[null,null,null,null,null,null,null,null,1984,19,26,5,53,"22.04.1984"]
[null,null,null,null,null,null,null,null,1983,19,7,5,34,"03.04.1983"]
[null,null,null,null,null,null,null,null,1982,19,18,2,42,"11.04.1982"]
[null,null,null,null,null,null,null,null,1981,19,29,6,50,"19.04.1981"]
[null,null,null,null,null,null,null,null,1980,19,10,5,37,"06.04.1980"]
[null,null,null,null,null,null,null,null,1979,{"$f":"INT(I422/100)","v":19},{"$f":"MOD(19*MOD(I422,19)+J422-INT(J422/4)-INT((J422-INT((J422+8)/25)+1)/3)+15,30)","v":21},{"$f":"MOD(32+2*MOD(J422,4)+2*INT(MOD(I422,100)/4)-K422-MOD(MOD(I422,100),4),7)","v":3},{"$f":"K422+L422-7*INT((MOD(I422,19)+11*K422+22*L422)/451)+22","v":46},{"$f":"TEXT(IF(M422-31 < 1,M422,M422-31),\"0#\")&\".\"&IF(M422 > 31,\"04.\",\"03.\")&I422","v":"15.04.1979"}]
[null,null,null,null,null,null,null,null,1978,19,2,2,26,"26.03.1978"]
[null,null,null,null,null,null,null,null,1977,19,13,6,41,"10.04.1977"]
[null,null,null,null,null,null,null,null,1976,19,24,3,49,"18.04.1976"]
[null,null,null,null,null,null,null,null,1975,19,6,2,30,"30.03.1975"]
[null,null,null,null,null,null,null,null,1974,19,17,6,45,"14.04.1974"]
[null,null,null,null,null,null,null,null,1973,19,28,3,53,"22.04.1973"]
[null,null,null,null,null,null,null,null,1972,19,9,2,33,"02.04.1972"]
[null,null,null,null,null,null,null,null,1971,19,20,0,42,"11.04.1971"]
[null,null,null,null,null,null,null,null,1970,19,1,6,29,"29.03.1970"]
[null,null,null,null,null,null,null,null,1969,19,12,3,37,"06.04.1969"]
[null,null,null,null,null,null,null,null,1968,19,23,0,45,"14.04.1968"]
[null,null,null,null,null,null,null,null,1967,19,4,0,26,"26.03.1967"]
[null,null,null,null,null,null,null,null,1966,19,15,4,41,"10.04.1966"]
[null,null,null,null,null,null,null,null,1965,19,26,1,49,"18.04.1965"]
[null,null,null,null,null,null,null,null,1964,19,7,0,29,"29.03.1964"]
[null,null,null,null,null,null,null,null,1963,19,18,5,45,"14.04.1963"]
[null,null,null,null,null,null,null,null,1962,19,29,2,53,"22.04.1962"]
[null,null,null,null,null,null,null,null,1961,19,10,1,33,"02.04.1961"]
[null,null,null,null,null,null,null,null,1960,19,21,5,48,"17.04.1960"]
[null,null,null,null,null,null,null,null,1959,19,2,5,29,"29.03.1959"]
[null,null,null,null,null,null,null,null,1958,19,13,2,37,"06.04.1958"]
[null,null,null,null,null,null,null,null,1957,19,24,6,52,"21.04.1957"]
[null,null,null,null,null,null,null,null,1956,19,6,4,32,"01.04.1956"]
[null,null,null,null,null,null,null,null,1955,19,17,2,41,"10.04.1955"]
[null,null,null,null,null,null,null,null,1954,19,28,6,49,"18.04.1954"]
[null,null,null,null,null,null,null,null,1953,19,9,5,36,"05.04.1953"]
[null,null,null,null,null,null,null,null,1952,19,20,2,44,"13.04.1952"]
[null,null,null,null,null,null,null,null,1951,19,1,2,25,"25.03.1951"]
[null,null,null,null,null,null,null,null,1950,19,12,6,40,"09.04.1950"]
[null,null,null,null,null,null,null,null,1949,19,23,3,48,"17.04.1949"]
[null,null,null,null,null,null,null,null,1948,19,4,2,28,"28.03.1948"]
[null,null,null,null,null,null,null,null,1947,19,15,0,37,"06.04.1947"]
[null,null,null,null,null,null,null,null,1946,19,26,4,52,"21.04.1946"]
[null,null,null,null,null,null,null,null,1945,19,7,3,32,"01.04.1945"]
[null,null,null,null,null,null,null,null,1944,19,18,0,40,"09.04.1944"]
[null,null,null,null,null,null,null,null,1943,19,29,5,56,"25.04.1943"]
[null,null,null,null,null,null,null,null,1942,19,10,4,36,"05.04.1942"]
[null,null,null,null,null,null,null,null,1941,19,21,1,44,"13.04.1941"]
[null,null,null,null,null,null,null,null,1940,19,2,0,24,"24.03.1940"]
[null,null,null,null,null,null,null,null,1939,19,13,5,40,"09.04.1939"]
[null,null,null,null,null,null,null,null,1938,19,24,2,48,"17.04.1938"]
[null,null,null,null,null,null,null,null,1937,19,6,0,28,"28.03.1937"]
[null,null,null,null,null,null,null,null,1936,19,17,4,43,"12.04.1936"]
[null,null,null,null,null,null,null,null,1935,19,28,2,52,"21.04.1935"]
[null,null,null,null,null,null,null,null,1934,19,9,1,32,"01.04.1934"]
[null,null,null,null,null,null,null,null,1933,19,20,5,47,"16.04.1933"]
[null,null,null,null,null,null,null,null,1932,19,1,4,27,"27.03.1932"]
[null,null,null,null,null,null,null,null,1931,19,12,2,36,"05.04.1931"]
[null,null,null,null,null,null,null,null,1930,19,23,6,51,"20.04.1930"]
[null,null,null,null,null,null,null,null,1929,19,4,5,31,"31.03.1929"]
[null,null,null,null,null,null,null,null,1928,19,15,2,39,"08.04.1928"]
[null,null,null,null,null,null,null,null,1927,19,26,0,48,"17.04.1927"]
[null,null,null,null,null,null,null,null,1926,19,7,6,35,"04.04.1926"]
[null,null,null,null,null,null,null,null,1925,19,18,3,43,"12.04.1925"]
[null,null,null,null,null,null,null,null,1924,19,29,0,51,"20.04.1924"]
[null,null,null,null,null,null,null,null,1923,19,10,0,32,"01.04.1923"]
[null,null,null,null,null,null,null,null,1922,19,21,4,47,"16.04.1922"]
[null,null,null,null,null,null,null,null,1921,19,2,3,27,"27.03.1921"]
[null,null,null,null,null,null,null,null,1920,19,13,0,35,"04.04.1920"]
[null,null,null,null,null,null,null,null,1919,19,24,5,51,"20.04.1919"]
[null,null,null,null,null,null,null,null,1918,19,6,3,31,"31.03.1918"]
[null,null,null,null,null,null,null,null,1917,19,17,0,39,"08.04.1917"]
[null,null,null,null,null,null,null,null,1916,19,28,4,54,"23.04.1916"]
[null,null,null,null,null,null,null,null,1915,{"$f":"INT(I486/100)","v":19},{"$f":"MOD(19*MOD(I486,19)+J486-INT(J486/4)-INT((J486-INT((J486+8)/25)+1)/3)+15,30)","v":9},{"$f":"MOD(32+2*MOD(J486,4)+2*INT(MOD(I486,100)/4)-K486-MOD(MOD(I486,100),4),7)","v":4},{"$f":"K486+L486-7*INT((MOD(I486,19)+11*K486+22*L486)/451)+22","v":35},{"$f":"TEXT(IF(M486-31 < 1,M486,M486-31),\"0#\")&\".\"&IF(M486 > 31,\"04.\",\"03.\")&I486","v":"04.04.1915"}]
[null,null,null,null,null,null,null,null,1914,19,20,1,43,"12.04.1914"]
[null,null,null,null,null,null,null,null,1913,19,1,0,23,"23.03.1913"]
[null,null,null,null,null,null,null,null,1912,19,12,4,38,"07.04.1912"]
[null,null,null,null,null,null,null,null,1911,19,23,2,47,"16.04.1911"]
[null,null,null,null,null,null,null,null,1910,19,4,1,27,"27.03.1910"]
[null,null,null,null,null,null,null,null,1909,19,15,5,42,"11.04.1909"]
[null,null,null,null,null,null,null,null,1908,19,26,2,50,"19.04.1908"]
[null,null,null,null,null,null,null,null,1907,19,7,2,31,"31.03.1907"]
[null,null,null,null,null,null,null,null,1906,19,18,6,46,"15.04.1906"]
[null,null,null,null,null,null,null,null,1905,19,29,3,54,"23.04.1905"]
[null,null,null,null,null,null,null,null,1904,19,10,2,34,"03.04.1904"]
[null,null,null,null,null,null,null,null,1903,19,21,0,43,"12.04.1903"]
[null,null,null,null,null,null,null,null,1902,19,2,6,30,"30.03.1902"]
[null,null,null,null,null,null,null,null,1901,19,13,3,38,"07.04.1901"]
[null,null,null,null,null,null,null,null,1900,19,24,0,46,"15.04.1900"]
[null,null,null,null,null,null,null,null,1899,18,5,6,33,"02.04.1899"]
[null,null,null,null,null,null,null,null,1898,18,16,3,41,"10.04.1898"]
[null,null,null,null,null,null,null,null,1897,18,27,0,49,"18.04.1897"]
[null,null,null,null,null,null,null,null,1896,18,8,6,36,"05.04.1896"]
[null,null,null,null,null,null,null,null,1895,18,19,4,45,"14.04.1895"]
[null,null,null,null,null,null,null,null,1894,18,0,3,25,"25.03.1894"]
[null,null,null,null,null,null,null,null,1893,18,11,0,33,"02.04.1893"]
[null,null,null,null,null,null,null,null,1892,18,22,4,48,"17.04.1892"]
[null,null,null,null,null,null,null,null,1891,18,3,4,29,"29.03.1891"]
[null,null,null,null,null,null,null,null,1890,18,14,1,37,"06.04.1890"]
[null,null,null,null,null,null,null,null,1889,18,25,5,52,"21.04.1889"]
[null,null,null,null,null,null,null,null,1888,18,6,4,32,"01.04.1888"]
[null,null,null,null,null,null,null,null,1887,18,17,2,41,"10.04.1887"]
[null,null,null,null,null,null,null,null,1886,18,28,6,56,"25.04.1886"]
[null,null,null,null,null,null,null,null,1885,18,9,5,36,"05.04.1885"]
[null,null,null,null,null,null,null,null,1884,18,20,2,44,"13.04.1884"]
[null,null,null,null,null,null,null,null,1883,18,1,2,25,"25.03.1883"]
[null,null,null,null,null,null,null,null,1882,18,12,6,40,"09.04.1882"]
[null,null,null,null,null,null,null,null,1881,18,23,3,48,"17.04.1881"]
[null,null,null,null,null,null,null,null,1880,18,5,1,28,"28.03.1880"]
[null,null,null,null,null,null,null,null,1879,18,16,6,44,"13.04.1879"]
[null,null,null,null,null,null,null,null,1878,18,27,3,52,"21.04.1878"]
[null,null,null,null,null,null,null,null,1877,18,8,2,32,"01.04.1877"]
[null,null,null,null,null,null,null,null,1876,18,19,6,47,"16.04.1876"]
[null,null,null,null,null,null,null,null,1875,18,0,6,28,"28.03.1875"]
[null,null,null,null,null,null,null,null,1874,18,11,3,36,"05.04.1874"]
[null,null,null,null,null,null,null,null,1873,18,22,0,44,"13.04.1873"]
[null,null,null,null,null,null,null,null,1872,18,3,6,31,"31.03.1872"]
[null,null,null,null,null,null,null,null,1871,18,14,4,40,"09.04.1871"]
[null,null,null,null,null,null,null,null,1870,18,25,1,48,"17.04.1870"]
[null,null,null,null,null,null,null,null,1869,18,6,0,28,"28.03.1869"]
[null,null,null,null,null,null,null,null,1868,18,17,4,43,"12.04.1868"]
[null,null,null,null,null,null,null,null,1867,18,28,2,52,"21.04.1867"]
[null,null,null,null,null,null,null,null,1866,18,9,1,32,"01.04.1866"]
[null,null,null,null,null,null,null,null,1865,18,20,5,47,"16.04.1865"]
[null,null,null,null,null,null,null,null,1864,18,1,4,27,"27.03.1864"]
[null,null,null,null,null,null,null,null,1863,18,12,2,36,"05.04.1863"]
[null,null,null,null,null,null,null,null,1862,18,23,6,51,"20.04.1862"]
[null,null,null,null,null,null,null,null,1861,18,5,4,31,"31.03.1861"]
[null,null,null,null,null,null,null,null,1860,18,16,1,39,"08.04.1860"]
[null,null,null,null,null,null,null,null,1859,18,27,6,55,"24.04.1859"]
[null,null,null,null,null,null,null,null,1858,18,8,5,35,"04.04.1858"]
[null,null,null,null,null,null,null,null,1857,18,19,2,43,"12.04.1857"]
[null,null,null,null,null,null,null,null,1856,18,0,1,23,"23.03.1856"]
[null,null,null,null,null,null,null,null,1855,18,11,6,39,"08.04.1855"]
[null,null,null,null,null,null,null,null,1854,18,22,3,47,"16.04.1854"]
[null,null,null,null,null,null,null,null,1853,18,3,2,27,"27.03.1853"]
[null,null,null,null,null,null,null,null,1852,18,14,6,42,"11.04.1852"]
[null,null,null,null,null,null,null,null,1851,{"$f":"INT(I550/100)","v":18},{"$f":"MOD(19*MOD(I550,19)+J550-INT(J550/4)-INT((J550-INT((J550+8)/25)+1)/3)+15,30)","v":25},{"$f":"MOD(32+2*MOD(J550,4)+2*INT(MOD(I550,100)/4)-K550-MOD(MOD(I550,100),4),7)","v":4},{"$f":"K550+L550-7*INT((MOD(I550,19)+11*K550+22*L550)/451)+22","v":51},{"$f":"TEXT(IF(M550-31 < 1,M550,M550-31),\"0#\")&\".\"&IF(M550 > 31,\"04.\",\"03.\")&I550","v":"20.04.1851"}]
[null,null,null,null,null,null,null,null,1850,18,6,3,31,"31.03.1850"]
[null,null,null,null,null,null,null,null,1849,18,17,0,39,"08.04.1849"]
[null,null,null,null,null,null,null,null,1848,18,28,4,54,"23.04.1848"]
[null,null,null,null,null,null,null,null,1847,18,9,4,35,"04.04.1847"]
[null,null,null,null,null,null,null,null,1846,18,20,1,43,"12.04.1846"]
[null,null,null,null,null,null,null,null,1845,18,1,0,23,"23.03.1845"]
[null,null,null,null,null,null,null,null,1844,18,12,4,38,"07.04.1844"]
[null,null,null,null,null,null,null,null,1843,18,23,2,47,"16.04.1843"]
[null,null,null,null,null,null,null,null,1842,18,5,0,27,"27.03.1842"]
[null,null,null,null,null,null,null,null,1841,18,16,4,42,"11.04.1841"]
[null,null,null,null,null,null,null,null,1840,18,27,1,50,"19.04.1840"]
[null,null,null,null,null,null,null,null,1839,18,8,1,31,"31.03.1839"]
[null,null,null,null,null,null,null,null,1838,18,19,5,46,"15.04.1838"]
[null,null,null,null,null,null,null,null,1837,18,0,4,26,"26.03.1837"]
[null,null,null,null,null,null,null,null,1836,18,11,1,34,"03.04.1836"]
[null,null,null,null,null,null,null,null,1835,18,22,6,50,"19.04.1835"]
[null,null,null,null,null,null,null,null,1834,18,3,5,30,"30.03.1834"]
[null,null,null,null,null,null,null,null,1833,18,14,2,38,"07.04.1833"]
[null,null,null,null,null,null,null,null,1832,18,25,6,53,"22.04.1832"]
[null,null,null,null,null,null,null,null,1831,18,6,6,34,"03.04.1831"]
[null,null,null,null,null,null,null,null,1830,18,17,3,42,"11.04.1830"]
[null,null,null,null,null,null,null,null,1829,18,28,0,50,"19.04.1829"]
[null,null,null,null,null,null,null,null,1828,18,9,6,37,"06.04.1828"]
[null,null,null,null,null,null,null,null,1827,18,20,4,46,"15.04.1827"]
[null,null,null,null,null,null,null,null,1826,18,1,3,26,"26.03.1826"]
[null,null,null,null,null,null,null,null,1825,18,12,0,34,"03.04.1825"]
[null,null,null,null,null,null,null,null,1824,18,23,4,49,"18.04.1824"]
[null,null,null,null,null,null,null,null,1823,18,5,3,30,"30.03.1823"]
[null,null,null,null,null,null,null,null,1822,18,16,0,38,"07.04.1822"]
[null,null,null,null,null,null,null,null,1821,18,27,4,53,"22.04.1821"]
[null,null,null,null,null,null,null,null,1820,18,8,3,33,"02.04.1820"]
[null,null,null,null,null,null,null,null,1819,18,19,1,42,"11.04.1819"]
[null,null,null,null,null,null,null,null,1818,18,0,0,22,"22.03.1818"]
[null,null,null,null,null,null,null,null,1817,18,11,4,37,"06.04.1817"]
[null,null,null,null,null,null,null,null,1816,18,22,1,45,"14.04.1816"]
[null,null,null,null,null,null,null,null,1815,18,3,1,26,"26.03.1815"]
[null,null,null,null,null,null,null,null,1814,18,14,5,41,"10.04.1814"]
[null,null,null,null,null,null,null,null,1813,18,25,2,49,"18.04.1813"]
[null,null,null,null,null,null,null,null,1812,18,6,1,29,"29.03.1812"]
[null,null,null,null,null,null,null,null,1811,18,17,6,45,"14.04.1811"]
[null,null,null,null,null,null,null,null,1810,18,28,3,53,"22.04.1810"]
[null,null,null,null,null,null,null,null,1809,18,9,2,33,"02.04.1809"]
[null,null,null,null,null,null,null,null,1808,18,20,6,48,"17.04.1808"]
[null,null,null,null,null,null,null,null,1807,18,1,6,29,"29.03.1807"]
[null,null,null,null,null,null,null,null,1806,18,12,3,37,"06.04.1806"]
[null,null,null,null,null,null,null,null,1805,18,23,0,45,"14.04.1805"]
[null,null,null,null,null,null,null,null,1804,18,5,5,32,"01.04.1804"]
[null,null,null,null,null,null,null,null,1803,18,16,3,41,"10.04.1803"]
[null,null,null,null,null,null,null,null,1802,18,27,0,49,"18.04.1802"]
[null,null,null,null,null,null,null,null,1801,18,8,6,36,"05.04.1801"]
[null,null,null,null,null,null,null,null,1800,18,19,3,44,"13.04.1800"]
[null,null,null,null,null,null,null,null,1799,17,0,2,24,"24.03.1799"]
[null,null,null,null,null,null,null,null,1798,17,11,6,39,"08.04.1798"]
[null,null,null,null,null,null,null,null,1797,17,22,3,47,"16.04.1797"]
[null,null,null,null,null,null,null,null,1796,17,3,2,27,"27.03.1796"]
[null,null,null,null,null,null,null,null,1795,17,14,0,36,"05.04.1795"]
[null,null,null,null,null,null,null,null,1794,17,25,4,51,"20.04.1794"]
[null,null,null,null,null,null,null,null,1793,17,6,3,31,"31.03.1793"]
[null,null,null,null,null,null,null,null,1792,17,17,0,39,"08.04.1792"]
[null,null,null,null,null,null,null,null,1791,17,28,5,55,"24.04.1791"]
[null,null,null,null,null,null,null,null,1790,17,9,4,35,"04.04.1790"]
[null,null,null,null,null,null,null,null,1789,17,20,1,43,"12.04.1789"]
[null,null,null,null,null,null,null,null,1788,17,1,0,23,"23.03.1788"]
[null,null,null,null,null,null,null,null,1787,{"$f":"INT(I614/100)","v":17},{"$f":"MOD(19*MOD(I614,19)+J614-INT(J614/4)-INT((J614-INT((J614+8)/25)+1)/3)+15,30)","v":12},{"$f":"MOD(32+2*MOD(J614,4)+2*INT(MOD(I614,100)/4)-K614-MOD(MOD(I614,100),4),7)","v":5},{"$f":"K614+L614-7*INT((MOD(I614,19)+11*K614+22*L614)/451)+22","v":39},{"$f":"TEXT(IF(M614-31 < 1,M614,M614-31),\"0#\")&\".\"&IF(M614 > 31,\"04.\",\"03.\")&I614","v":"08.04.1787"}]
[null,null,null,null,null,null,null,null,1786,17,23,2,47,"16.04.1786"]
[null,null,null,null,null,null,null,null,1785,17,5,0,27,"27.03.1785"]
[null,null,null,null,null,null,null,null,1784,17,16,4,42,"11.04.1784"]
[null,null,null,null,null,null,null,null,1783,17,27,2,51,"20.04.1783"]
[null,null,null,null,null,null,null,null,1782,17,8,1,31,"31.03.1782"]
[null,null,null,null,null,null,null,null,1781,17,19,5,46,"15.04.1781"]
[null,null,null,null,null,null,null,null,1780,17,0,4,26,"26.03.1780"]
[null,null,null,null,null,null,null,null,1779,17,11,2,35,"04.04.1779"]
[null,null,null,null,null,null,null,null,1778,17,22,6,50,"19.04.1778"]
[null,null,null,null,null,null,null,null,1777,17,3,5,30,"30.03.1777"]
[null,null,null,null,null,null,null,null,1776,17,14,2,38,"07.04.1776"]
[null,null,null,null,null,null,null,null,1775,17,25,0,47,"16.04.1775"]
[null,null,null,null,null,null,null,null,1774,17,6,6,34,"03.04.1774"]
[null,null,null,null,null,null,null,null,1773,17,17,3,42,"11.04.1773"]
[null,null,null,null,null,null,null,null,1772,17,28,0,50,"19.04.1772"]
[null,null,null,null,null,null,null,null,1771,17,9,0,31,"31.03.1771"]
[null,null,null,null,null,null,null,null,1770,17,20,4,46,"15.04.1770"]
[null,null,null,null,null,null,null,null,1769,17,1,3,26,"26.03.1769"]
[null,null,null,null,null,null,null,null,1768,17,12,0,34,"03.04.1768"]
[null,null,null,null,null,null,null,null,1767,17,23,5,50,"19.04.1767"]
[null,null,null,null,null,null,null,null,1766,17,5,3,30,"30.03.1766"]
[null,null,null,null,null,null,null,null,1765,17,16,0,38,"07.04.1765"]
[null,null,null,null,null,null,null,null,1764,17,27,4,53,"22.04.1764"]
[null,null,null,null,null,null,null,null,1763,17,8,4,34,"03.04.1763"]
[null,null,null,null,null,null,null,null,1762,17,19,1,42,"11.04.1762"]
[null,null,null,null,null,null,null,null,1761,17,0,0,22,"22.03.1761"]
[null,null,null,null,null,null,null,null,1760,17,11,4,37,"06.04.1760"]
[null,null,null,null,null,null,null,null,1759,17,22,2,46,"15.04.1759"]
[null,null,null,null,null,null,null,null,1758,17,3,1,26,"26.03.1758"]
[null,null,null,null,null,null,null,null,1757,17,14,5,41,"10.04.1757"]
[null,null,null,null,null,null,null,null,1756,17,25,2,49,"18.04.1756"]
[null,null,null,null,null,null,null,null,1755,17,6,2,30,"30.03.1755"]
[null,null,null,null,null,null,null,null,1754,17,17,6,45,"14.04.1754"]
[null,null,null,null,null,null,null,null,1753,17,28,3,53,"22.04.1753"]
[null,null,null,null,null,null,null,null,1752,17,9,2,33,"02.04.1752"]
[null,null,null,null,null,null,null,null,1751,17,20,0,42,"11.04.1751"]
[null,null,null,null,null,null,null,null,1750,17,1,6,29,"29.03.1750"]